{"text_format":"1","workbook":"xlsx","n_sheets":11,"sheets":["Data","Dekor 1","Dekor 2","Dekor 3","Dekor 4","Dekor 5","CSV 1","CSV 2","CSV 3","CSV 4","CSV 5"],"not_rendered":{"charts":0,"images":2,"macros":1,"external_links":0,"defined_names":0,"comments":0,"pivot_tables":0},"unopened":[],"bounds":{"document_bytes":16777216,"sheet_cells":100000,"rows_first":2000,"rows_last":500,"rows_between":2000,"halvings":0,"cell_chars":16384,"cell_head_chars":4096},"cells_cut":0,"cells_raw":0,"read":"whole","date_system":"1900"}

{"sheet":"Data","index":0,"n_rows":7,"n_cols":3,"rows_kept":7,"cut":false,"hidden":true,"merged":[]}
[]
[]
[1,null,"ANO"]
[2]
[0.5]
["42/1"]
["42/2"]

{"sheet":"Dekor 1","index":1,"n_rows":117,"n_cols":36,"rows_kept":117,"cut":false,"hidden":false,"merged":[[24,30,24,32],[17,30,17,32],[17,33,17,35],[5,2,5,6],[6,2,6,6],[17,10,17,17],[18,25,18,26],[18,30,18,32],[9,2,11,2],[9,4,11,4],[9,6,11,6],[9,8,11,8],[17,20,17,23]]}
[]
[]
[]
[null,null,null,null,null,null,null,null,null,{"$f":"G13-30","v":2770},{"$f":"I13-30","v":2040}]
[]
[]
[]
[]
[]
[null,null,"Materiál a dekor",null,"Tloušťka materiálu mm",null,"Rozměr desky \"X\"    mm",null,"Rozměr desky \"Y\"     mm"]
[]
[]
[null,null,"110 SM",null,18,null,2800,null,2070]
[]
[]
[]
[]
[null,null,null,null,null,null,null,null,null,null,"ABS hrany",null,null,null,null,null,null,null,null,null,"Automatické doplnění",null,null,null,null,null,null,null,null,null,"Hrany",null,null,"Plošný materiál"]
["CestaSouboru","nazev","Název dílce",null,"Délka   mm",null,"Šířka    mm",null,"Tloušťka automatické doplnění","pocet","X1 - délka","pozn.","X2 - délka","pozn.","Y1 - šířka","pozn.","Y2 - šířka","pozn.","Rozměr automatické doplnění","Tupl  ANO/","delka tupl","šířka tupl","počet jednotl. Desek","Vysledny rozměr tuplu","Poznámka","výpočet ABS",null,"plocha","delka řezu",null,"počet m ABS",null,null,"Plocha     m2","Orientační počet desek","Délka řezu  m"]
[{"$f":"IF(ISNUMBER(E20),\"LICOMDIR\\EPS\\PANEL.aeps\",\"\")","v":""},{"$f":"StripAccent(C20)","v":{"$error":"#NAME?"}},null,{"$f":"IF(ISNUMBER(E20),\"delka\",\"\")","v":""},null,{"$f":"IF(ISNUMBER(G20),\"sirka\",\"\")","v":""},null,{"$f":"IF(ISNUMBER(I20),\"tloustka\",\"\")","v":""},{"$f":"IF(ISNUMBER(E20),$E$13,\"\")","v":""},null,null,null,null,null,null,null,null,null,{"$f":"IF(ISNUMBER(E20),(E20& \"x\" & G20),\"\")","v":""},null,{"$f":"IF(T20=\"ANO\",E20+20,E20)","v":0},{"$f":"IF(T20=\"ANO\",G20+20,G20)","v":0},{"$f":"IF(T20=\"ANO\",J20*2,J20)","v":0},{"$f":"IF(T20=\"ANO\",S20,0)","v":0},null,{"$f":"IF(ISNUMBER(E20),(E20+60)*J20,\"-\")","v":"-"},{"$f":"IF(ISNUMBER(E20),(G20+60)*J20,\"-\")","v":"-"},{"$f":"IF(ISNUMBER(E20),((U20*V20)*W20)/1000000,\"\")","v":""},{"$f":"IF(ISNUMBER(E20),(((U20+V20)*2)*W20)/1000,\"\")","v":""},null,"22_1",{"$f":"CEILING(((SUMIF(K20:K132,1,Z20:Z132)+SUMIF(M20:M132,1,Z20:Z132)+SUMIF(O20:O132,1,AA20:AA132)+SUMIF(Q20:Q132,1,AA20:AA132))/1000),1)","v":0},"m",{"$f":"SUM(AB20:AB106)","v":0},{"$f":"(AH20/((G13)*(I13)*0.000001))*1.1","v":0},{"$f":"SUM(AC20:AC106)","v":0}]
[{"$f":"IF(ISNUMBER(E21),\"LICOMDIR\\EPS\\PANEL.aeps\",\"\")","v":""},{"$f":"StripAccent(C21)","v":{"$error":"#NAME?"}},null,{"$f":"IF(ISNUMBER(E21),\"delka\",\"\")","v":""},null,{"$f":"IF(ISNUMBER(G21),\"sirka\",\"\")","v":""},null,{"$f":"IF(ISNUMBER(I21),\"tloustka\",\"\")","v":""},{"$f":"IF(ISNUMBER(E21),$E$13,\"\")","v":""},null,null,null,null,null,null,null,null,null,{"$f":"IF(ISNUMBER(E21),(E21& \"x\" & G21),\"\")","v":""},null,{"$f":"IF(T21=\"ANO\",E21+20,E21)","v":0},{"$f":"IF(T21=\"ANO\",G21+20,G21)","v":0},{"$f":"IF(T21=\"ANO\",J21*2,J21)","v":0},{"$f":"IF(T21=\"ANO\",S21,0)","v":0},null,"-","-",{"$f":"IF(ISNUMBER(E21),((U21*V21)*W21)/1000000,\"\")","v":""},{"$f":"IF(ISNUMBER(E21),(((U21+V21)*2)*W21)/1000,\"\")","v":""},null,"22_05",{"$f":"CEILING(((SUMIF(K20:K132,0.5,Z20:Z132)+SUMIF(M20:M132,0.5,Z20:Z132)+SUMIF(O20:O132,0.5,AA20:AA132)+SUMIF(Q20:Q132,0.5,AA20:AA132))/1000),1)","v":0},"m"]
["",{"$error":"#NAME?"},null,"",null,"",null,"","",null,null,null,null,null,null,null,null,null,{"$f":"IF(ISNUMBER(E22),(E22& \"x\" & G22),\"\")","v":""},null,0,0,0,0,null,"-","-","","",null,"22_2",{"$f":"CEILING(((SUMIF(K20:K132,2,Z20:Z132)+SUMIF(M20:M132,2,Z20:Z132)+SUMIF(O20:O132,2,AA20:AA132)+SUMIF(Q20:Q132,2,AA20:AA132))/1000),1)","v":0},"m"]
["",{"$error":"#NAME?"},null,"",null,"",null,"","",null,null,null,null,null,null,null,null,null,"",null,0,0,0,0,null,"-","-","","",null,"42_1",{"$f":"(CEILING(((SUMIF(K20:K132,\"42/1\",Z20:Z132)+SUMIF(M20:M132,\"42/1\",Z20:Z132)+SUMIF(O20:O132,\"42/1\",AA20:AA132)+SUMIF(Q20:Q132,\"42/1\",AA20:AA132))/1000),1))","v":0},"m"]
["",{"$error":"#NAME?"},null,"",null,"",null,"","",null,null,null,null,null,null,null,null,null,"",null,0,0,0,0,null,"-","-","","",null,"42/2",{"$f":"(CEILING(((SUMIF(K20:K132,\"42/2\",Z20:Z132)+SUMIF(M20:M132,\"42/2\",Z20:Z132)+SUMIF(O20:O132,\"42/2\",AA20:AA130)+SUMIF(Q20:Q132,\"42/2\",AA20:AA132))/1000),1))","v":0},"m"]
["",{"$error":"#NAME?"},null,"",null,"",null,"","",null,null,null,null,null,null,null,null,null,"",null,0,0,0,0,null,"-","-","",""]
["",{"$error":"#NAME?"},null,"",null,"",null,"","",null,null,null,null,null,null,null,null,null,"",null,0,0,0,0,null,"-","-","",""]
["",{"$error":"#NAME?"},null,"",null,"",null,"","",null,null,null,null,null,null,null,null,null,"",null,0,0,0,0,null,"-","-","",""]
["",{"$error":"#NAME?"},null,"",null,"",null,"","",null,null,null,null,null,null,null,null,null,"",null,0,0,0,0,null,"-","-","",""]
["",{"$error":"#NAME?"},null,"",null,"",null,"","",null,null,null,null,null,null,null,null,null,"",null,0,0,0,0,null,"-","-","",""]
["",{"$error":"#NAME?"},null,"",null,"",null,"","",null,null,null,null,null,null,null,null,null,"",null,0,0,0,0,null,"-","-","",""]
["",{"$error":"#NAME?"},null,"",null,"",null,"","",null,null,null,null,null,null,null,null,null,"",null,0,0,0,0,null,"-","-","",""]
["",{"$error":"#NAME?"},null,"",null,"",null,"","",null,null,null,null,null,null,null,null,null,"",null,0,0,0,0,null,"-","-","",""]
["",{"$error":"#NAME?"},null,"",null,"",null,"","",null,null,null,null,null,null,null,null,null,"",null,0,0,0,0,null,"-","-","",""]
["",{"$error":"#NAME?"},null,"",null,"",null,"","",null,null,null,null,null,null,null,null,null,"",null,0,0,0,0,null,"-","-","",""]
["",{"$error":"#NAME?"},null,"",null,"",null,"","",null,null,null,null,null,null,null,null,null,"",null,0,0,0,0,null,"-","-","",""]
["",{"$error":"#NAME?"},null,"",null,"",null,"","",null,null,null,null,null,null,null,null,null,"",null,0,0,0,0,null,"-","-","",""]
["",{"$error":"#NAME?"},null,"",null,"",null,"","",null,null,null,null,null,null,null,null,null,"",null,0,0,0,0,null,"-","-","",""]
["",{"$error":"#NAME?"},null,"",null,"",null,"","",null,null,null,null,null,null,null,null,null,"",null,0,0,0,0,null,"-","-","",""]
["",{"$error":"#NAME?"},null,"",null,"",null,"","",null,null,null,null,null,null,null,null,null,"",null,0,0,0,0,null,"-","-","",""]
["",{"$error":"#NAME?"},null,"",null,"",null,"","",null,null,null,null,null,null,null,null,null,"",null,0,0,0,0,null,"-","-","",""]
["",{"$error":"#NAME?"},null,"",null,"",null,"","",null,null,null,null,null,null,null,null,null,"",null,0,0,0,0,null,"-","-","",""]
["",{"$error":"#NAME?"},null,"",null,"",null,"","",null,null,null,null,null,null,null,null,null,"",null,0,0,0,0,null,"-","-","",""]
["",{"$error":"#NAME?"},null,"",null,"",null,"","",null,null,null,null,null,null,null,null,null,"",null,0,0,0,0,null,"-","-","",""]
["",{"$error":"#NAME?"},null,"",null,"",null,"","",null,null,null,null,null,null,null,null,null,"",null,0,0,0,0,null,"-","-","",""]
["",{"$error":"#NAME?"},null,"",null,"",null,"","",null,null,null,null,null,null,null,null,null,"",null,0,0,0,0,null,"-","-","",""]
["",{"$error":"#NAME?"},null,"",null,"",null,"","",null,null,null,null,null,null,null,null,null,"",null,0,0,0,0,null,"-","-","",""]
["",{"$error":"#NAME?"},null,"",null,"",null,"","",null,null,null,null,null,null,null,null,null,"",null,0,0,0,0,null,"-","-","",""]
["",{"$error":"#NAME?"},null,"",null,"",null,"","",null,null,null,null,null,null,null,null,null,"",null,0,0,0,0,null,"-","-","",""]
["",{"$error":"#NAME?"},null,"",null,"",null,"","",null,null,null,null,null,null,null,null,null,"",null,0,0,0,0,null,"-","-","",""]
["",{"$error":"#NAME?"},null,"",null,"",null,"","",null,null,null,null,null,null,null,null,null,"",null,0,0,0,0,null,"-","-","",""]
["",{"$error":"#NAME?"},null,"",null,"",null,"","",null,null,null,null,null,null,null,null,null,"",null,0,0,0,0,null,"-","-","",""]
["",{"$error":"#NAME?"},null,"",null,"",null,"","",null,null,null,null,null,null,null,null,null,"",null,0,0,0,0,null,{"$f":"IF(ISNUMBER(E52),(E52+60)*J52,\"-\")","v":"-"},{"$f":"IF(ISNUMBER(E52),(G52+60)*J52,\"-\")","v":"-"},"",""]
["",{"$error":"#NAME?"},null,"",null,"",null,"","",null,null,null,null,null,null,null,null,null,"",null,0,0,0,0,null,"-","-","",""]
["",{"$error":"#NAME?"},null,"",null,"",null,"","",null,null,null,null,null,null,null,null,null,"",null,0,0,0,0,null,"-","-","",""]
["",{"$error":"#NAME?"},null,"",null,"",null,"","",null,null,null,null,null,null,null,null,null,"",null,0,0,0,0,null,"-","-","",""]
["",{"$error":"#NAME?"},null,"",null,"",null,"","",null,null,null,null,null,null,null,null,null,"",null,0,0,0,0,null,"-","-","",""]
["",{"$error":"#NAME?"},null,"",null,"",null,"","",null,null,null,null,null,null,null,null,null,"",null,0,0,0,0,null,"-","-","",""]
["",{"$error":"#NAME?"},null,"",null,"",null,"","",null,null,null,null,null,null,null,null,null,"",null,0,0,0,0,null,"-","-","",""]
["",{"$error":"#NAME?"},null,"",null,"",null,"","",null,null,null,null,null,null,null,null,null,"",null,0,0,0,0,null,"-","-","",""]
["",{"$error":"#NAME?"},null,"",null,"",null,"","",null,null,null,null,null,null,null,null,null,"",null,0,0,0,0,null,"-","-","",""]
["",{"$error":"#NAME?"},null,"",null,"",null,"","",null,null,null,null,null,null,null,null,null,"",null,0,0,0,0,null,"-","-","",""]
["",{"$error":"#NAME?"},null,"",null,"",null,"","",null,null,null,null,null,null,null,null,null,"",null,0,0,0,0,null,"-","-","",""]
["",{"$error":"#NAME?"},null,"",null,"",null,"","",null,null,null,null,null,null,null,null,null,"",null,0,0,0,0,null,"-","-","",""]
["",{"$error":"#NAME?"},null,"",null,"",null,"","",null,null,null,null,null,null,null,null,null,"",null,0,0,0,0,null,"-","-","",""]
["",{"$error":"#NAME?"},null,"",null,"",null,"","",null,null,null,null,null,null,null,null,null,"",null,0,0,0,0,null,"-","-","",""]
["",{"$error":"#NAME?"},null,"",null,"",null,"","",null,null,null,null,null,null,null,null,null,"",null,0,0,0,0,null,"-","-","",""]
["",{"$error":"#NAME?"},null,"",null,"",null,"","",null,null,null,null,null,null,null,null,null,"",null,0,0,0,0,null,"-","-","",""]
["",{"$error":"#NAME?"},null,"",null,"",null,"","",null,null,null,null,null,null,null,null,null,"",null,0,0,0,0,null,"-","-","",""]
["",{"$error":"#NAME?"},null,"",null,"",null,"","",null,null,null,null,null,null,null,null,null,"",null,0,0,0,0,null,"-","-","",""]
["",{"$error":"#NAME?"},null,"",null,"",null,"","",null,null,null,null,null,null,null,null,null,"",null,0,0,0,0,null,"-","-","",""]
["",{"$error":"#NAME?"},null,"",null,"",null,"","",null,null,null,null,null,null,null,null,null,"",null,0,0,0,0,null,"-","-","",""]
["",{"$error":"#NAME?"},null,"",null,"",null,"","",null,null,null,null,null,null,null,null,null,"",null,0,0,0,0,null,"-","-","",""]
["",{"$error":"#NAME?"},null,"",null,"",null,"","",null,null,null,null,null,null,null,null,null,"",null,0,0,0,0,null,"-","-","",""]
["",{"$error":"#NAME?"},null,"",null,"",null,"","",null,null,null,null,null,null,null,null,null,"",null,0,0,0,0,null,"-","-","",""]
["",{"$error":"#NAME?"},null,"",null,"",null,"","",null,null,null,null,null,null,null,null,null,"",null,0,0,0,0,null,"-","-","",""]
["",{"$error":"#NAME?"},null,"",null,"",null,"","",null,null,null,null,null,null,null,null,null,"",null,0,0,0,0,null,"-","-","",""]
["",{"$error":"#NAME?"},null,"",null,"",null,"","",null,null,null,null,null,null,null,null,null,"",null,0,0,0,0,null,"-","-","",""]
["",{"$error":"#NAME?"},null,"",null,"",null,"","",null,null,null,null,null,null,null,null,null,"",null,0,0,0,0,null,"-","-","",""]
["",{"$error":"#NAME?"},null,"",null,"",null,"","",null,null,null,null,null,null,null,null,null,"",null,0,0,0,0,null,"-","-","",""]
["",{"$error":"#NAME?"},null,"",null,"",null,"","",null,null,null,null,null,null,null,null,null,"",null,0,0,0,0,null,"-","-","",""]
["",{"$error":"#NAME?"},null,"",null,"",null,"","",null,null,null,null,null,null,null,null,null,"",null,0,0,0,0,null,"-","-","",""]
["",{"$error":"#NAME?"},null,"",null,"",null,"","",null,null,null,null,null,null,null,null,null,"",null,0,0,0,0,null,"-","-","",""]
["",{"$error":"#NAME?"},null,"",null,"",null,"","",null,null,null,null,null,null,null,null,null,"",null,0,0,0,0,null,"-","-","",""]
["",{"$error":"#NAME?"},null,"",null,"",null,"","",null,null,null,null,null,null,null,null,null,"",null,0,0,0,0,null,{"$f":"IF(ISNUMBER(E84),(E84+60)*J84,\"-\")","v":"-"},{"$f":"IF(ISNUMBER(E84),(G84+60)*J84,\"-\")","v":"-"},"",""]
[{"$f":"IF(ISNUMBER(E85),\"LICOMDIR\\EPS\\PANEL.aeps\",\"\")","v":""},{"$f":"StripAccent(C85)","v":{"$error":"#NAME?"}},null,{"$f":"IF(ISNUMBER(E85),\"delka\",\"\")","v":""},null,{"$f":"IF(ISNUMBER(G85),\"sirka\",\"\")","v":""},null,{"$f":"IF(ISNUMBER(I85),\"tloustka\",\"\")","v":""},{"$f":"IF(ISNUMBER(E85),$E$13,\"\")","v":""},null,null,null,null,null,null,null,null,null,{"$f":"IF(ISNUMBER(E85),(E85& \"x\" & G85),\"\")","v":""},null,{"$f":"IF(T85=\"ANO\",E85+20,E85)","v":0},{"$f":"IF(T85=\"ANO\",G85+20,G85)","v":0},{"$f":"IF(T85=\"ANO\",J85*2,J85)","v":0},{"$f":"IF(T85=\"ANO\",S85,0)","v":0},null,"-","-",{"$f":"IF(ISNUMBER(E85),((U85*V85)*W85)/1000000,\"\")","v":""},{"$f":"IF(ISNUMBER(E85),(((U85+V85)*2)*W85)/1000,\"\")","v":""}]
["",{"$error":"#NAME?"},null,"",null,"",null,"","",null,null,null,null,null,null,null,null,null,"",null,0,0,0,0,null,"-","-","",""]
["",{"$error":"#NAME?"},null,"",null,"",null,"","",null,null,null,null,null,null,null,null,null,"",null,0,0,0,0,null,"-","-","",""]
["",{"$error":"#NAME?"},null,"",null,"",null,"","",null,null,null,null,null,null,null,null,null,"",null,0,0,0,0,null,"-","-","",""]
["",{"$error":"#NAME?"},null,"",null,"",null,"","",null,null,null,null,null,null,null,null,null,"",null,0,0,0,0,null,"-","-","",""]
["",{"$error":"#NAME?"},null,"",null,"",null,"","",null,null,null,null,null,null,null,null,null,"",null,0,0,0,0,null,"-","-","",""]
["",{"$error":"#NAME?"},null,"",null,"",null,"","",null,null,null,null,null,null,null,null,null,"",null,0,0,0,0,null,"-","-","",""]
["",{"$error":"#NAME?"},null,"",null,"",null,"","",null,null,null,null,null,null,null,null,null,"",null,0,0,0,0,null,"-","-","",""]
["",{"$error":"#NAME?"},null,"",null,"",null,"","",null,null,null,null,null,null,null,null,null,"",null,0,0,0,0,null,"-","-","",""]
["",{"$error":"#NAME?"},null,"",null,"",null,"","",null,null,null,null,null,null,null,null,null,"",null,0,0,0,0,null,"-","-","",""]
["",{"$error":"#NAME?"},null,"",null,"",null,"","",null,null,null,null,null,null,null,null,null,"",null,0,0,0,0,null,"-","-","",""]
["",{"$error":"#NAME?"},null,"",null,"",null,"","",null,null,null,null,null,null,null,null,null,"",null,0,0,0,0,null,"-","-","",""]
["",{"$error":"#NAME?"},null,"",null,"",null,"","",null,null,null,null,null,null,null,null,null,"",null,0,0,0,0,null,"-","-","",""]
["",{"$error":"#NAME?"},null,"",null,"",null,"","",null,null,null,null,null,null,null,null,null,"",null,0,0,0,0,null,"-","-","",""]
["",{"$error":"#NAME?"},null,"",null,"",null,"","",null,null,null,null,null,null,null,null,null,"",null,0,0,0,0,null,"-","-","",""]
["",{"$error":"#NAME?"},null,"",null,"",null,"","",null,null,null,null,null,null,null,null,null,"",null,0,0,0,0,null,"-","-","",""]
["",{"$error":"#NAME?"},null,"",null,"",null,"","",null,null,null,null,null,null,null,null,null,"",null,0,0,0,0,null,"-","-","",""]
["",{"$error":"#NAME?"},null,"",null,"",null,"","",null,null,null,null,null,null,null,null,null,"",null,0,0,0,0,null,"-","-","",""]
["",{"$error":"#NAME?"},null,"",null,"",null,"","",null,null,null,null,null,null,null,null,null,"",null,0,0,0,0,null,"-","-","",""]
["",{"$error":"#NAME?"},null,"",null,"",null,"","",null,null,null,null,null,null,null,null,null,"",null,0,0,0,0,null,"-","-","",""]
["",{"$error":"#NAME?"},null,"",null,"",null,"","",null,null,null,null,null,null,null,null,null,"",null,0,0,0,0,null,"-","-","",""]
["",{"$error":"#NAME?"},null,"",null,"",null,"","",null,null,null,null,null,null,null,null,null,"",null,0,0,0,0,null,"-","-","",""]
["",{"$error":"#NAME?"},null,"",null,"",null,"","",null,null,null,null,null,null,null,null,null,"",null,0,0,0,0]
["",{"$error":"#NAME?"},null,"",null,"",null,"","",null,null,null,null,null,null,null,null,null,"",null,0,0,0,0]
["",{"$error":"#NAME?"},null,"",null,"",null,"","",null,null,null,null,null,null,null,null,null,"",null,0,0,0,0]
["",{"$error":"#NAME?"},null,"",null,"",null,"","",null,null,null,null,null,null,null,null,null,"",null,0,0,0,0]
["",{"$error":"#NAME?"},null,"",null,"",null,"","",null,null,null,null,null,null,null,null,null,"",null,0,0,0,0]
["",{"$error":"#NAME?"},null,"",null,"",null,"","",null,null,null,null,null,null,null,null,null,"",null,0,0,0,0]
["",{"$error":"#NAME?"},null,"",null,"",null,"","",null,null,null,null,null,null,null,null,null,"",null,0,0,0,0]
["",{"$error":"#NAME?"},null,"",null,"",null,"","",null,null,null,null,null,null,null,null,null,"",null,0,0,0,0]
["",{"$error":"#NAME?"},null,"",null,"",null,"","",null,null,null,null,null,null,null,null,null,"",null,0,0,0,0]
["",{"$error":"#NAME?"},null,"",null,"",null,"","",null,null,null,null,null,null,null,null,null,"",null,0,0,0,0]
["",{"$error":"#NAME?"},null,"",null,"",null,"","",null,null,null,null,null,null,null,null,null,"",null,0,0,0,0]

{"sheet":"Dekor 2","index":2,"n_rows":117,"n_cols":36,"rows_kept":117,"cut":false,"hidden":false,"merged":[[9,8,11,8],[17,30,17,32],[5,2,5,6],[6,2,6,6],[9,2,11,2],[9,4,11,4],[9,6,11,6],[17,33,17,35],[18,30,18,32],[24,30,24,32],[17,10,17,17],[17,20,17,23],[18,25,18,26]]}
[]
[]
[]
[null,null,null,null,null,null,null,null,null,{"$f":"G13-30","v":2770},{"$f":"I13-30","v":2040}]
[]
[]
[]
[]
[]
[null,null,"Materiál a dekor",null,"Tloušťka materiálu mm",null,"Rozměr desky \"X\"    mm",null,"Rozměr desky \"Y\"     mm"]
[]
[]
[null,null,"110 SM",null,18,null,2800,null,2070]
[]
[]
[]
[]
[null,null,null,null,null,null,null,null,null,null,"ABS hrany",null,null,null,null,null,null,null,null,null,"Automatické doplnění",null,null,null,null,null,null,null,null,null,"Hrany",null,null,"Plošný materiál"]
["CestaSouboru","nazev","Název dílce",null,"Délka   mm",null,"Šířka    mm",null,"Tloušťka automatické doplnění","pocet","X1 - délka","pozn.","X2 - délka","pozn.","Y1 - šířka","pozn.","Y2 - šířka","pozn.","Rozměr automatické doplnění","Tupl  ANO/","delka tupl","šířka tupl","počet jednotl. Desek","Vysledny rozměr tuplu","Poznámka","výpočet ABS",null,"plocha","delka řezu",null,"počet m ABS",null,null,"Plocha     m2","Orientační počet desek","Délka řezu  m"]
[{"$f":"IF(ISNUMBER(E20),\"LICOMDIR\\EPS\\PANEL.aeps\",\"\")","v":""},{"$f":"StripAccent(C20)","v":{"$error":"#NAME?"}},null,{"$f":"IF(ISNUMBER(E20),\"delka\",\"\")","v":""},null,{"$f":"IF(ISNUMBER(G20),\"sirka\",\"\")","v":""},null,{"$f":"IF(ISNUMBER(I20),\"tloustka\",\"\")","v":""},{"$f":"IF(ISNUMBER(E20),$E$13,\"\")","v":""},null,null,null,null,null,null,null,null,null,{"$f":"IF(ISNUMBER(E20),(E20& \"x\" & G20),\"\")","v":""},null,{"$f":"IF(T20=\"ANO\",E20+20,E20)","v":0},{"$f":"IF(T20=\"ANO\",G20+20,G20)","v":0},{"$f":"IF(T20=\"ANO\",J20*2,J20)","v":0},{"$f":"IF(T20=\"ANO\",S20,0)","v":0},null,{"$f":"IF(ISNUMBER(E20),(E20+60)*J20,\"-\")","v":"-"},{"$f":"IF(ISNUMBER(E20),(G20+60)*J20,\"-\")","v":"-"},{"$f":"IF(ISNUMBER(E20),((U20*V20)*W20)/1000000,\"\")","v":""},{"$f":"IF(ISNUMBER(E20),(((U20+V20)*2)*W20)/1000,\"\")","v":""},null,"22_1",{"$f":"CEILING(((SUMIF(K20:K132,1,Z20:Z132)+SUMIF(M20:M132,1,Z20:Z132)+SUMIF(O20:O132,1,AA20:AA132)+SUMIF(Q20:Q132,1,AA20:AA132))/1000),1)","v":0},"m",{"$f":"SUM(AB20:AB106)","v":0},{"$f":"(AH20/((G13)*(I13)*0.000001))*1.1","v":0},{"$f":"SUM(AC20:AC106)","v":0}]
[{"$f":"IF(ISNUMBER(E21),\"LICOMDIR\\EPS\\PANEL.aeps\",\"\")","v":""},{"$f":"StripAccent(C21)","v":{"$error":"#NAME?"}},null,{"$f":"IF(ISNUMBER(E21),\"delka\",\"\")","v":""},null,{"$f":"IF(ISNUMBER(G21),\"sirka\",\"\")","v":""},null,{"$f":"IF(ISNUMBER(I21),\"tloustka\",\"\")","v":""},{"$f":"IF(ISNUMBER(E21),$E$13,\"\")","v":""},null,null,null,null,null,null,null,null,null,{"$f":"IF(ISNUMBER(E21),(E21& \"x\" & G21),\"\")","v":""},null,{"$f":"IF(T21=\"ANO\",E21+20,E21)","v":0},{"$f":"IF(T21=\"ANO\",G21+20,G21)","v":0},{"$f":"IF(T21=\"ANO\",J21*2,J21)","v":0},{"$f":"IF(T21=\"ANO\",S21,0)","v":0},null,"-","-",{"$f":"IF(ISNUMBER(E21),((U21*V21)*W21)/1000000,\"\")","v":""},{"$f":"IF(ISNUMBER(E21),(((U21+V21)*2)*W21)/1000,\"\")","v":""},null,"22_05",{"$f":"CEILING(((SUMIF(K20:K132,0.5,Z20:Z132)+SUMIF(M20:M132,0.5,Z20:Z132)+SUMIF(O20:O132,0.5,AA20:AA132)+SUMIF(Q20:Q132,0.5,AA20:AA132))/1000),1)","v":0},"m"]
["",{"$error":"#NAME?"},null,"",null,"",null,"","",null,null,null,null,null,null,null,null,null,"",null,0,0,0,0,null,"-","-","","",null,"22_2",{"$f":"CEILING(((SUMIF(K20:K132,2,Z20:Z132)+SUMIF(M20:M132,2,Z20:Z132)+SUMIF(O20:O132,2,AA20:AA132)+SUMIF(Q20:Q132,2,AA20:AA132))/1000),1)","v":0},"m"]
["",{"$error":"#NAME?"},null,"",null,"",null,"","",null,null,null,null,null,null,null,null,null,"",null,0,0,0,0,null,"-","-","","",null,"42_1",{"$f":"(CEILING(((SUMIF(K20:K132,\"42/1\",Z20:Z132)+SUMIF(M20:M132,\"42/1\",Z20:Z132)+SUMIF(O20:O132,\"42/1\",AA20:AA132)+SUMIF(Q20:Q132,\"42/1\",AA20:AA132))/1000),1))","v":0},"m"]
["",{"$error":"#NAME?"},null,"",null,"",null,"","",null,null,null,null,null,null,null,null,null,"",null,0,0,0,0,null,"-","-","","",null,"42/2",{"$f":"(CEILING(((SUMIF(K20:K132,\"42/2\",Z20:Z132)+SUMIF(M20:M132,\"42/2\",Z20:Z132)+SUMIF(O20:O132,\"42/2\",AA20:AA130)+SUMIF(Q20:Q132,\"42/2\",AA20:AA132))/1000),1))","v":0},"m"]
["",{"$error":"#NAME?"},null,"",null,"",null,"","",null,null,null,null,null,null,null,null,null,"",null,0,0,0,0,null,"-","-","",""]
["",{"$error":"#NAME?"},null,"",null,"",null,"","",null,null,null,null,null,null,null,null,null,"",null,0,0,0,0,null,"-","-","",""]
["",{"$error":"#NAME?"},null,"",null,"",null,"","",null,null,null,null,null,null,null,null,null,"",null,0,0,0,0,null,"-","-","",""]
["",{"$error":"#NAME?"},null,"",null,"",null,"","",null,null,null,null,null,null,null,null,null,"",null,0,0,0,0,null,"-","-","",""]
["",{"$error":"#NAME?"},null,"",null,"",null,"","",null,null,null,null,null,null,null,null,null,"",null,0,0,0,0,null,"-","-","",""]
["",{"$error":"#NAME?"},null,"",null,"",null,"","",null,null,null,null,null,null,null,null,null,"",null,0,0,0,0,null,"-","-","",""]
["",{"$error":"#NAME?"},null,"",null,"",null,"","",null,null,null,null,null,null,null,null,null,"",null,0,0,0,0,null,"-","-","",""]
["",{"$error":"#NAME?"},null,"",null,"",null,"","",null,null,null,null,null,null,null,null,null,"",null,0,0,0,0,null,"-","-","",""]
["",{"$error":"#NAME?"},null,"",null,"",null,"","",null,null,null,null,null,null,null,null,null,"",null,0,0,0,0,null,"-","-","",""]
["",{"$error":"#NAME?"},null,"",null,"",null,"","",null,null,null,null,null,null,null,null,null,"",null,0,0,0,0,null,"-","-","",""]
["",{"$error":"#NAME?"},null,"",null,"",null,"","",null,null,null,null,null,null,null,null,null,"",null,0,0,0,0,null,"-","-","",""]
["",{"$error":"#NAME?"},null,"",null,"",null,"","",null,null,null,null,null,null,null,null,null,"",null,0,0,0,0,null,"-","-","",""]
["",{"$error":"#NAME?"},null,"",null,"",null,"","",null,null,null,null,null,null,null,null,null,"",null,0,0,0,0,null,"-","-","",""]
["",{"$error":"#NAME?"},null,"",null,"",null,"","",null,null,null,null,null,null,null,null,null,"",null,0,0,0,0,null,"-","-","",""]
["",{"$error":"#NAME?"},null,"",null,"",null,"","",null,null,null,null,null,null,null,null,null,"",null,0,0,0,0,null,"-","-","",""]
["",{"$error":"#NAME?"},null,"",null,"",null,"","",null,null,null,null,null,null,null,null,null,"",null,0,0,0,0,null,"-","-","",""]
["",{"$error":"#NAME?"},null,"",null,"",null,"","",null,null,null,null,null,null,null,null,null,"",null,0,0,0,0,null,"-","-","",""]
["",{"$error":"#NAME?"},null,"",null,"",null,"","",null,null,null,null,null,null,null,null,null,"",null,0,0,0,0,null,"-","-","",""]
["",{"$error":"#NAME?"},null,"",null,"",null,"","",null,null,null,null,null,null,null,null,null,"",null,0,0,0,0,null,"-","-","",""]
["",{"$error":"#NAME?"},null,"",null,"",null,"","",null,null,null,null,null,null,null,null,null,"",null,0,0,0,0,null,"-","-","",""]
["",{"$error":"#NAME?"},null,"",null,"",null,"","",null,null,null,null,null,null,null,null,null,"",null,0,0,0,0,null,"-","-","",""]
["",{"$error":"#NAME?"},null,"",null,"",null,"","",null,null,null,null,null,null,null,null,null,"",null,0,0,0,0,null,"-","-","",""]
["",{"$error":"#NAME?"},null,"",null,"",null,"","",null,null,null,null,null,null,null,null,null,"",null,0,0,0,0,null,"-","-","",""]
["",{"$error":"#NAME?"},null,"",null,"",null,"","",null,null,null,null,null,null,null,null,null,"",null,0,0,0,0,null,"-","-","",""]
["",{"$error":"#NAME?"},null,"",null,"",null,"","",null,null,null,null,null,null,null,null,null,"",null,0,0,0,0,null,"-","-","",""]
["",{"$error":"#NAME?"},null,"",null,"",null,"","",null,null,null,null,null,null,null,null,null,"",null,0,0,0,0,null,"-","-","",""]
["",{"$error":"#NAME?"},null,"",null,"",null,"","",null,null,null,null,null,null,null,null,null,"",null,0,0,0,0,null,"-","-","",""]
["",{"$error":"#NAME?"},null,"",null,"",null,"","",null,null,null,null,null,null,null,null,null,"",null,0,0,0,0,null,"-","-","",""]
["",{"$error":"#NAME?"},null,"",null,"",null,"","",null,null,null,null,null,null,null,null,null,"",null,0,0,0,0,null,"-","-","",""]
["",{"$error":"#NAME?"},null,"",null,"",null,"","",null,null,null,null,null,null,null,null,null,"",null,0,0,0,0,null,"-","-","",""]
["",{"$error":"#NAME?"},null,"",null,"",null,"","",null,null,null,null,null,null,null,null,null,"",null,0,0,0,0,null,"-","-","",""]
["",{"$error":"#NAME?"},null,"",null,"",null,"","",null,null,null,null,null,null,null,null,null,"",null,0,0,0,0,null,"-","-","",""]
["",{"$error":"#NAME?"},null,"",null,"",null,"","",null,null,null,null,null,null,null,null,null,"",null,0,0,0,0,null,"-","-","",""]
["",{"$error":"#NAME?"},null,"",null,"",null,"","",null,null,null,null,null,null,null,null,null,"",null,0,0,0,0,null,"-","-","",""]
["",{"$error":"#NAME?"},null,"",null,"",null,"","",null,null,null,null,null,null,null,null,null,"",null,0,0,0,0,null,"-","-","",""]
["",{"$error":"#NAME?"},null,"",null,"",null,"","",null,null,null,null,null,null,null,null,null,"",null,0,0,0,0,null,"-","-","",""]
["",{"$error":"#NAME?"},null,"",null,"",null,"","",null,null,null,null,null,null,null,null,null,"",null,0,0,0,0,null,"-","-","",""]
["",{"$error":"#NAME?"},null,"",null,"",null,"","",null,null,null,null,null,null,null,null,null,"",null,0,0,0,0,null,"-","-","",""]
["",{"$error":"#NAME?"},null,"",null,"",null,"","",null,null,null,null,null,null,null,null,null,"",null,0,0,0,0,null,"-","-","",""]
["",{"$error":"#NAME?"},null,"",null,"",null,"","",null,null,null,null,null,null,null,null,null,"",null,0,0,0,0,null,"-","-","",""]
["",{"$error":"#NAME?"},null,"",null,"",null,"","",null,null,null,null,null,null,null,null,null,"",null,0,0,0,0,null,"-","-","",""]
["",{"$error":"#NAME?"},null,"",null,"",null,"","",null,null,null,null,null,null,null,null,null,"",null,0,0,0,0,null,"-","-","",""]
["",{"$error":"#NAME?"},null,"",null,"",null,"","",null,null,null,null,null,null,null,null,null,"",null,0,0,0,0,null,"-","-","",""]
["",{"$error":"#NAME?"},null,"",null,"",null,"","",null,null,null,null,null,null,null,null,null,"",null,0,0,0,0,null,"-","-","",""]
["",{"$error":"#NAME?"},null,"",null,"",null,"","",null,null,null,null,null,null,null,null,null,"",null,0,0,0,0,null,"-","-","",""]
["",{"$error":"#NAME?"},null,"",null,"",null,"","",null,null,null,null,null,null,null,null,null,"",null,0,0,0,0,null,"-","-","",""]
["",{"$error":"#NAME?"},null,"",null,"",null,"","",null,null,null,null,null,null,null,null,null,"",null,0,0,0,0,null,"-","-","",""]
["",{"$error":"#NAME?"},null,"",null,"",null,"","",null,null,null,null,null,null,null,null,null,"",null,0,0,0,0,null,"-","-","",""]
["",{"$error":"#NAME?"},null,"",null,"",null,"","",null,null,null,null,null,null,null,null,null,"",null,0,0,0,0,null,"-","-","",""]
["",{"$error":"#NAME?"},null,"",null,"",null,"","",null,null,null,null,null,null,null,null,null,"",null,0,0,0,0,null,"-","-","",""]
["",{"$error":"#NAME?"},null,"",null,"",null,"","",null,null,null,null,null,null,null,null,null,"",null,0,0,0,0,null,"-","-","",""]
["",{"$error":"#NAME?"},null,"",null,"",null,"","",null,null,null,null,null,null,null,null,null,"",null,0,0,0,0,null,"-","-","",""]
["",{"$error":"#NAME?"},null,"",null,"",null,"","",null,null,null,null,null,null,null,null,null,"",null,0,0,0,0,null,"-","-","",""]
["",{"$error":"#NAME?"},null,"",null,"",null,"","",null,null,null,null,null,null,null,null,null,"",null,0,0,0,0,null,"-","-","",""]
["",{"$error":"#NAME?"},null,"",null,"",null,"","",null,null,null,null,null,null,null,null,null,"",null,0,0,0,0,null,"-","-","",""]
["",{"$error":"#NAME?"},null,"",null,"",null,"","",null,null,null,null,null,null,null,null,null,"",null,0,0,0,0,null,"-","-","",""]
["",{"$error":"#NAME?"},null,"",null,"",null,"","",null,null,null,null,null,null,null,null,null,"",null,0,0,0,0,null,"-","-","",""]
["",{"$error":"#NAME?"},null,"",null,"",null,"","",null,null,null,null,null,null,null,null,null,"",null,0,0,0,0,null,"-","-","",""]
["",{"$error":"#NAME?"},null,"",null,"",null,"","",null,null,null,null,null,null,null,null,null,"",null,0,0,0,0,null,"-","-","",""]
["",{"$error":"#NAME?"},null,"",null,"",null,"","",null,null,null,null,null,null,null,null,null,"",null,0,0,0,0,null,{"$f":"IF(ISNUMBER(E84),(E84+60)*J84,\"-\")","v":"-"},{"$f":"IF(ISNUMBER(E84),(G84+60)*J84,\"-\")","v":"-"},"",""]
[{"$f":"IF(ISNUMBER(E85),\"LICOMDIR\\EPS\\PANEL.aeps\",\"\")","v":""},{"$f":"StripAccent(C85)","v":{"$error":"#NAME?"}},null,{"$f":"IF(ISNUMBER(E85),\"delka\",\"\")","v":""},null,{"$f":"IF(ISNUMBER(G85),\"sirka\",\"\")","v":""},null,{"$f":"IF(ISNUMBER(I85),\"tloustka\",\"\")","v":""},{"$f":"IF(ISNUMBER(E85),$E$13,\"\")","v":""},null,null,null,null,null,null,null,null,null,{"$f":"IF(ISNUMBER(E85),(E85& \"x\" & G85),\"\")","v":""},null,{"$f":"IF(T85=\"ANO\",E85+20,E85)","v":0},{"$f":"IF(T85=\"ANO\",G85+20,G85)","v":0},{"$f":"IF(T85=\"ANO\",J85*2,J85)","v":0},{"$f":"IF(T85=\"ANO\",S85,0)","v":0},null,"-","-",{"$f":"IF(ISNUMBER(E85),((U85*V85)*W85)/1000000,\"\")","v":""},{"$f":"IF(ISNUMBER(E85),(((U85+V85)*2)*W85)/1000,\"\")","v":""}]
["",{"$error":"#NAME?"},null,"",null,"",null,"","",null,null,null,null,null,null,null,null,null,"",null,0,0,0,0,null,"-","-","",""]
["",{"$error":"#NAME?"},null,"",null,"",null,"","",null,null,null,null,null,null,null,null,null,"",null,0,0,0,0,null,"-","-","",""]
["",{"$error":"#NAME?"},null,"",null,"",null,"","",null,null,null,null,null,null,null,null,null,"",null,0,0,0,0,null,"-","-","",""]
["",{"$error":"#NAME?"},null,"",null,"",null,"","",null,null,null,null,null,null,null,null,null,"",null,0,0,0,0,null,"-","-","",""]
["",{"$error":"#NAME?"},null,"",null,"",null,"","",null,null,null,null,null,null,null,null,null,"",null,0,0,0,0,null,"-","-","",""]
["",{"$error":"#NAME?"},null,"",null,"",null,"","",null,null,null,null,null,null,null,null,null,"",null,0,0,0,0,null,"-","-","",""]
["",{"$error":"#NAME?"},null,"",null,"",null,"","",null,null,null,null,null,null,null,null,null,"",null,0,0,0,0,null,"-","-","",""]
["",{"$error":"#NAME?"},null,"",null,"",null,"","",null,null,null,null,null,null,null,null,null,"",null,0,0,0,0,null,"-","-","",""]
["",{"$error":"#NAME?"},null,"",null,"",null,"","",null,null,null,null,null,null,null,null,null,"",null,0,0,0,0,null,"-","-","",""]
["",{"$error":"#NAME?"},null,"",null,"",null,"","",null,null,null,null,null,null,null,null,null,"",null,0,0,0,0,null,"-","-","",""]
["",{"$error":"#NAME?"},null,"",null,"",null,"","",null,null,null,null,null,null,null,null,null,"",null,0,0,0,0,null,"-","-","",""]
["",{"$error":"#NAME?"},null,"",null,"",null,"","",null,null,null,null,null,null,null,null,null,"",null,0,0,0,0,null,"-","-","",""]
["",{"$error":"#NAME?"},null,"",null,"",null,"","",null,null,null,null,null,null,null,null,null,"",null,0,0,0,0,null,"-","-","",""]
["",{"$error":"#NAME?"},null,"",null,"",null,"","",null,null,null,null,null,null,null,null,null,"",null,0,0,0,0,null,"-","-","",""]
["",{"$error":"#NAME?"},null,"",null,"",null,"","",null,null,null,null,null,null,null,null,null,"",null,0,0,0,0,null,"-","-","",""]
["",{"$error":"#NAME?"},null,"",null,"",null,"","",null,null,null,null,null,null,null,null,null,"",null,0,0,0,0,null,"-","-","",""]
["",{"$error":"#NAME?"},null,"",null,"",null,"","",null,null,null,null,null,null,null,null,null,"",null,0,0,0,0,null,"-","-","",""]
["",{"$error":"#NAME?"},null,"",null,"",null,"","",null,null,null,null,null,null,null,null,null,"",null,0,0,0,0,null,"-","-","",""]
["",{"$error":"#NAME?"},null,"",null,"",null,"","",null,null,null,null,null,null,null,null,null,"",null,0,0,0,0,null,"-","-","",""]
["",{"$error":"#NAME?"},null,"",null,"",null,"","",null,null,null,null,null,null,null,null,null,"",null,0,0,0,0,null,"-","-","",""]
["",{"$error":"#NAME?"},null,"",null,"",null,"","",null,null,null,null,null,null,null,null,null,"",null,0,0,0,0,null,"-","-","",""]
["",{"$error":"#NAME?"},null,"",null,"",null,"","",null,null,null,null,null,null,null,null,null,"",null,0,0,0,0]
["",{"$error":"#NAME?"},null,"",null,"",null,"","",null,null,null,null,null,null,null,null,null,"",null,0,0,0,0]
["",{"$error":"#NAME?"},null,"",null,"",null,"","",null,null,null,null,null,null,null,null,null,"",null,0,0,0,0]
["",{"$error":"#NAME?"},null,"",null,"",null,"","",null,null,null,null,null,null,null,null,null,"",null,0,0,0,0]
["",{"$error":"#NAME?"},null,"",null,"",null,"","",null,null,null,null,null,null,null,null,null,"",null,0,0,0,0]
["",{"$error":"#NAME?"},null,"",null,"",null,"","",null,null,null,null,null,null,null,null,null,"",null,0,0,0,0]
["",{"$error":"#NAME?"},null,"",null,"",null,"","",null,null,null,null,null,null,null,null,null,"",null,0,0,0,0]
["",{"$error":"#NAME?"},null,"",null,"",null,"","",null,null,null,null,null,null,null,null,null,"",null,0,0,0,0]
["",{"$error":"#NAME?"},null,"",null,"",null,"","",null,null,null,null,null,null,null,null,null,"",null,0,0,0,0]
["",{"$error":"#NAME?"},null,"",null,"",null,"","",null,null,null,null,null,null,null,null,null,"",null,0,0,0,0]
["",{"$error":"#NAME?"},null,"",null,"",null,"","",null,null,null,null,null,null,null,null,null,"",null,0,0,0,0]

{"sheet":"Dekor 3","index":3,"n_rows":117,"n_cols":36,"rows_kept":117,"cut":false,"hidden":false,"merged":[[9,8,11,8],[17,30,17,32],[5,2,5,6],[6,2,6,6],[9,2,11,2],[9,4,11,4],[9,6,11,6],[17,33,17,35],[18,30,18,32],[24,30,24,32],[17,10,17,17],[17,20,17,23],[18,25,18,26]]}
[]
[]
[]
[null,null,null,null,null,null,null,null,null,{"$f":"G13-30","v":2770},{"$f":"I13-30","v":2040}]
[]
[]
[]
[]
[]
[null,null,"Materiál a dekor",null,"Tloušťka materiálu mm",null,"Rozměr desky \"X\"    mm",null,"Rozměr desky \"Y\"     mm"]
[]
[]
[null,null,"H1180",null,18,null,2800,null,2070]
[]
[]
[]
[]
[null,null,null,null,null,null,null,null,null,null,"ABS hrany",null,null,null,null,null,null,null,null,null,"Automatické doplnění",null,null,null,null,null,null,null,null,null,"Hrany",null,null,"Plošný materiál"]
["CestaSouboru","nazev","Název dílce",null,"Délka   mm",null,"Šířka    mm",null,"Tloušťka automatické doplnění","pocet","X1 - délka","pozn.","X2 - délka","pozn.","Y1 - šířka","pozn.","Y2 - šířka","pozn.","Rozměr automatické doplnění","Tupl  ANO/","delka tupl","šířka tupl","počet jednotl. Desek","Vysledny rozměr tuplu","Poznámka","výpočet ABS",null,"plocha","delka řezu",null,"počet m ABS",null,null,"Plocha     m2","Orientační počet desek","Délka řezu  m"]
[{"$f":"IF(ISNUMBER(E20),\"LICOMDIR\\EPS\\PANEL.aeps\",\"\")","v":""},{"$f":"StripAccent(C20)","v":{"$error":"#NAME?"}},null,{"$f":"IF(ISNUMBER(E20),\"delka\",\"\")","v":""},null,{"$f":"IF(ISNUMBER(G20),\"sirka\",\"\")","v":""},null,{"$f":"IF(ISNUMBER(I20),\"tloustka\",\"\")","v":""},{"$f":"IF(ISNUMBER(E20),$E$13,\"\")","v":""},null,null,null,null,null,null,null,null,null,{"$f":"IF(ISNUMBER(E20),(E20& \"x\" & G20),\"\")","v":""},null,{"$f":"IF(T20=\"ANO\",E20+20,E20)","v":0},{"$f":"IF(T20=\"ANO\",G20+20,G20)","v":0},{"$f":"IF(T20=\"ANO\",J20*2,J20)","v":0},{"$f":"IF(T20=\"ANO\",S20,0)","v":0},null,{"$f":"IF(ISNUMBER(E20),(E20+60)*J20,\"-\")","v":"-"},{"$f":"IF(ISNUMBER(E20),(G20+60)*J20,\"-\")","v":"-"},{"$f":"IF(ISNUMBER(E20),((U20*V20)*W20)/1000000,\"\")","v":""},{"$f":"IF(ISNUMBER(E20),(((U20+V20)*2)*W20)/1000,\"\")","v":""},null,"22_1",{"$f":"CEILING(((SUMIF(K20:K132,1,Z20:Z132)+SUMIF(M20:M132,1,Z20:Z132)+SUMIF(O20:O132,1,AA20:AA132)+SUMIF(Q20:Q132,1,AA20:AA132))/1000),1)","v":0},"m",{"$f":"SUM(AB20:AB106)","v":0},{"$f":"(AH20/((G13)*(I13)*0.000001))*1.1","v":0},{"$f":"SUM(AC20:AC106)","v":0}]
[{"$f":"IF(ISNUMBER(E21),\"LICOMDIR\\EPS\\PANEL.aeps\",\"\")","v":""},{"$f":"StripAccent(C21)","v":{"$error":"#NAME?"}},null,{"$f":"IF(ISNUMBER(E21),\"delka\",\"\")","v":""},null,{"$f":"IF(ISNUMBER(G21),\"sirka\",\"\")","v":""},null,{"$f":"IF(ISNUMBER(I21),\"tloustka\",\"\")","v":""},{"$f":"IF(ISNUMBER(E21),$E$13,\"\")","v":""},null,null,null,null,null,null,null,null,null,{"$f":"IF(ISNUMBER(E21),(E21& \"x\" & G21),\"\")","v":""},null,{"$f":"IF(T21=\"ANO\",E21+20,E21)","v":0},{"$f":"IF(T21=\"ANO\",G21+20,G21)","v":0},{"$f":"IF(T21=\"ANO\",J21*2,J21)","v":0},{"$f":"IF(T21=\"ANO\",S21,0)","v":0},null,"-","-",{"$f":"IF(ISNUMBER(E21),((U21*V21)*W21)/1000000,\"\")","v":""},{"$f":"IF(ISNUMBER(E21),(((U21+V21)*2)*W21)/1000,\"\")","v":""},null,"22_05",{"$f":"CEILING(((SUMIF(K20:K132,0.5,Z20:Z132)+SUMIF(M20:M132,0.5,Z20:Z132)+SUMIF(O20:O132,0.5,AA20:AA132)+SUMIF(Q20:Q132,0.5,AA20:AA132))/1000),1)","v":0},"m"]
["",{"$error":"#NAME?"},null,"",null,"",null,"","",null,null,null,null,null,null,null,null,null,"",null,0,0,0,0,null,"-","-","","",null,"22_2",{"$f":"CEILING(((SUMIF(K20:K132,2,Z20:Z132)+SUMIF(M20:M132,2,Z20:Z132)+SUMIF(O20:O132,2,AA20:AA132)+SUMIF(Q20:Q132,2,AA20:AA132))/1000),1)","v":0},"m"]
["",{"$error":"#NAME?"},null,"",null,"",null,"","",null,null,null,null,null,null,null,null,null,"",null,0,0,0,0,null,"-","-","","",null,"42_1",{"$f":"(CEILING(((SUMIF(K20:K132,\"42/1\",Z20:Z132)+SUMIF(M20:M132,\"42/1\",Z20:Z132)+SUMIF(O20:O132,\"42/1\",AA20:AA132)+SUMIF(Q20:Q132,\"42/1\",AA20:AA132))/1000),1))","v":0},"m"]
["",{"$error":"#NAME?"},null,"",null,"",null,"","",null,null,null,null,null,null,null,null,null,"",null,0,0,0,0,null,"-","-","","",null,"42/2",{"$f":"(CEILING(((SUMIF(K20:K132,\"42/2\",Z20:Z132)+SUMIF(M20:M132,\"42/2\",Z20:Z132)+SUMIF(O20:O132,\"42/2\",AA20:AA130)+SUMIF(Q20:Q132,\"42/2\",AA20:AA132))/1000),1))","v":0},"m"]
["",{"$error":"#NAME?"},null,"",null,"",null,"","",null,null,null,null,null,null,null,null,null,"",null,0,0,0,0,null,"-","-","",""]
["",{"$error":"#NAME?"},null,"",null,"",null,"","",null,null,null,null,null,null,null,null,null,"",null,0,0,0,0,null,"-","-","",""]
["",{"$error":"#NAME?"},null,"",null,"",null,"","",null,null,null,null,null,null,null,null,null,"",null,0,0,0,0,null,"-","-","",""]
["",{"$error":"#NAME?"},null,"",null,"",null,"","",null,null,null,null,null,null,null,null,null,"",null,0,0,0,0,null,"-","-","",""]
["",{"$error":"#NAME?"},null,"",null,"",null,"","",null,null,null,null,null,null,null,null,null,"",null,0,0,0,0,null,"-","-","",""]
["",{"$error":"#NAME?"},null,"",null,"",null,"","",null,null,null,null,null,null,null,null,null,"",null,0,0,0,0,null,"-","-","",""]
["",{"$error":"#NAME?"},null,"",null,"",null,"","",null,null,null,null,null,null,null,null,null,"",null,0,0,0,0,null,"-","-","",""]
["",{"$error":"#NAME?"},null,"",null,"",null,"","",null,null,null,null,null,null,null,null,null,"",null,0,0,0,0,null,"-","-","",""]
["",{"$error":"#NAME?"},null,"",null,"",null,"","",null,null,null,null,null,null,null,null,null,"",null,0,0,0,0,null,"-","-","",""]
["",{"$error":"#NAME?"},null,"",null,"",null,"","",null,null,null,null,null,null,null,null,null,"",null,0,0,0,0,null,"-","-","",""]
["",{"$error":"#NAME?"},null,"",null,"",null,"","",null,null,null,null,null,null,null,null,null,"",null,0,0,0,0,null,"-","-","",""]
["",{"$error":"#NAME?"},null,"",null,"",null,"","",null,null,null,null,null,null,null,null,null,"",null,0,0,0,0,null,"-","-","",""]
["",{"$error":"#NAME?"},null,"",null,"",null,"","",null,null,null,null,null,null,null,null,null,"",null,0,0,0,0,null,"-","-","",""]
["",{"$error":"#NAME?"},null,"",null,"",null,"","",null,null,null,null,null,null,null,null,null,"",null,0,0,0,0,null,"-","-","",""]
["",{"$error":"#NAME?"},null,"",null,"",null,"","",null,null,null,null,null,null,null,null,null,"",null,0,0,0,0,null,"-","-","",""]
["",{"$error":"#NAME?"},null,"",null,"",null,"","",null,null,null,null,null,null,null,null,null,"",null,0,0,0,0,null,"-","-","",""]
["",{"$error":"#NAME?"},null,"",null,"",null,"","",null,null,null,null,null,null,null,null,null,"",null,0,0,0,0,null,"-","-","",""]
["",{"$error":"#NAME?"},null,"",null,"",null,"","",null,null,null,null,null,null,null,null,null,"",null,0,0,0,0,null,"-","-","",""]
["",{"$error":"#NAME?"},null,"",null,"",null,"","",null,null,null,null,null,null,null,null,null,"",null,0,0,0,0,null,"-","-","",""]
["",{"$error":"#NAME?"},null,"",null,"",null,"","",null,null,null,null,null,null,null,null,null,"",null,0,0,0,0,null,"-","-","",""]
["",{"$error":"#NAME?"},null,"",null,"",null,"","",null,null,null,null,null,null,null,null,null,"",null,0,0,0,0,null,"-","-","",""]
["",{"$error":"#NAME?"},null,"",null,"",null,"","",null,null,null,null,null,null,null,null,null,"",null,0,0,0,0,null,"-","-","",""]
["",{"$error":"#NAME?"},null,"",null,"",null,"","",null,null,null,null,null,null,null,null,null,"",null,0,0,0,0,null,"-","-","",""]
["",{"$error":"#NAME?"},null,"",null,"",null,"","",null,null,null,null,null,null,null,null,null,"",null,0,0,0,0,null,"-","-","",""]
["",{"$error":"#NAME?"},null,"",null,"",null,"","",null,null,null,null,null,null,null,null,null,"",null,0,0,0,0,null,"-","-","",""]
["",{"$error":"#NAME?"},null,"",null,"",null,"","",null,null,null,null,null,null,null,null,null,"",null,0,0,0,0,null,"-","-","",""]
["",{"$error":"#NAME?"},null,"",null,"",null,"","",null,null,null,null,null,null,null,null,null,"",null,0,0,0,0,null,"-","-","",""]
["",{"$error":"#NAME?"},null,"",null,"",null,"","",null,null,null,null,null,null,null,null,null,"",null,0,0,0,0,null,"-","-","",""]
["",{"$error":"#NAME?"},null,"",null,"",null,"","",null,null,null,null,null,null,null,null,null,"",null,0,0,0,0,null,"-","-","",""]
["",{"$error":"#NAME?"},null,"",null,"",null,"","",null,null,null,null,null,null,null,null,null,"",null,0,0,0,0,null,"-","-","",""]
["",{"$error":"#NAME?"},null,"",null,"",null,"","",null,null,null,null,null,null,null,null,null,"",null,0,0,0,0,null,"-","-","",""]
["",{"$error":"#NAME?"},null,"",null,"",null,"","",null,null,null,null,null,null,null,null,null,"",null,0,0,0,0,null,"-","-","",""]
["",{"$error":"#NAME?"},null,"",null,"",null,"","",null,null,null,null,null,null,null,null,null,"",null,0,0,0,0,null,"-","-","",""]
["",{"$error":"#NAME?"},null,"",null,"",null,"","",null,null,null,null,null,null,null,null,null,"",null,0,0,0,0,null,"-","-","",""]
["",{"$error":"#NAME?"},null,"",null,"",null,"","",null,null,null,null,null,null,null,null,null,"",null,0,0,0,0,null,"-","-","",""]
["",{"$error":"#NAME?"},null,"",null,"",null,"","",null,null,null,null,null,null,null,null,null,"",null,0,0,0,0,null,"-","-","",""]
["",{"$error":"#NAME?"},null,"",null,"",null,"","",null,null,null,null,null,null,null,null,null,"",null,0,0,0,0,null,"-","-","",""]
["",{"$error":"#NAME?"},null,"",null,"",null,"","",null,null,null,null,null,null,null,null,null,"",null,0,0,0,0,null,"-","-","",""]
["",{"$error":"#NAME?"},null,"",null,"",null,"","",null,null,null,null,null,null,null,null,null,"",null,0,0,0,0,null,"-","-","",""]
["",{"$error":"#NAME?"},null,"",null,"",null,"","",null,null,null,null,null,null,null,null,null,"",null,0,0,0,0,null,"-","-","",""]
["",{"$error":"#NAME?"},null,"",null,"",null,"","",null,null,null,null,null,null,null,null,null,"",null,0,0,0,0,null,"-","-","",""]
["",{"$error":"#NAME?"},null,"",null,"",null,"","",null,null,null,null,null,null,null,null,null,"",null,0,0,0,0,null,"-","-","",""]
["",{"$error":"#NAME?"},null,"",null,"",null,"","",null,null,null,null,null,null,null,null,null,"",null,0,0,0,0,null,"-","-","",""]
["",{"$error":"#NAME?"},null,"",null,"",null,"","",null,null,null,null,null,null,null,null,null,"",null,0,0,0,0,null,"-","-","",""]
["",{"$error":"#NAME?"},null,"",null,"",null,"","",null,null,null,null,null,null,null,null,null,"",null,0,0,0,0,null,"-","-","",""]
["",{"$error":"#NAME?"},null,"",null,"",null,"","",null,null,null,null,null,null,null,null,null,"",null,0,0,0,0,null,"-","-","",""]
["",{"$error":"#NAME?"},null,"",null,"",null,"","",null,null,null,null,null,null,null,null,null,"",null,0,0,0,0,null,"-","-","",""]
["",{"$error":"#NAME?"},null,"",null,"",null,"","",null,null,null,null,null,null,null,null,null,"",null,0,0,0,0,null,"-","-","",""]
["",{"$error":"#NAME?"},null,"",null,"",null,"","",null,null,null,null,null,null,null,null,null,"",null,0,0,0,0,null,"-","-","",""]
["",{"$error":"#NAME?"},null,"",null,"",null,"","",null,null,null,null,null,null,null,null,null,"",null,0,0,0,0,null,"-","-","",""]
["",{"$error":"#NAME?"},null,"",null,"",null,"","",null,null,null,null,null,null,null,null,null,"",null,0,0,0,0,null,"-","-","",""]
["",{"$error":"#NAME?"},null,"",null,"",null,"","",null,null,null,null,null,null,null,null,null,"",null,0,0,0,0,null,"-","-","",""]
["",{"$error":"#NAME?"},null,"",null,"",null,"","",null,null,null,null,null,null,null,null,null,"",null,0,0,0,0,null,"-","-","",""]
["",{"$error":"#NAME?"},null,"",null,"",null,"","",null,null,null,null,null,null,null,null,null,"",null,0,0,0,0,null,"-","-","",""]
["",{"$error":"#NAME?"},null,"",null,"",null,"","",null,null,null,null,null,null,null,null,null,"",null,0,0,0,0,null,"-","-","",""]
["",{"$error":"#NAME?"},null,"",null,"",null,"","",null,null,null,null,null,null,null,null,null,"",null,0,0,0,0,null,"-","-","",""]
["",{"$error":"#NAME?"},null,"",null,"",null,"","",null,null,null,null,null,null,null,null,null,"",null,0,0,0,0,null,"-","-","",""]
["",{"$error":"#NAME?"},null,"",null,"",null,"","",null,null,null,null,null,null,null,null,null,"",null,0,0,0,0,null,"-","-","",""]
["",{"$error":"#NAME?"},null,"",null,"",null,"","",null,null,null,null,null,null,null,null,null,"",null,0,0,0,0,null,"-","-","",""]
["",{"$error":"#NAME?"},null,"",null,"",null,"","",null,null,null,null,null,null,null,null,null,"",null,0,0,0,0,null,{"$f":"IF(ISNUMBER(E84),(E84+60)*J84,\"-\")","v":"-"},{"$f":"IF(ISNUMBER(E84),(G84+60)*J84,\"-\")","v":"-"},"",""]
[{"$f":"IF(ISNUMBER(E85),\"LICOMDIR\\EPS\\PANEL.aeps\",\"\")","v":""},{"$f":"StripAccent(C85)","v":{"$error":"#NAME?"}},null,{"$f":"IF(ISNUMBER(E85),\"delka\",\"\")","v":""},null,{"$f":"IF(ISNUMBER(G85),\"sirka\",\"\")","v":""},null,{"$f":"IF(ISNUMBER(I85),\"tloustka\",\"\")","v":""},{"$f":"IF(ISNUMBER(E85),$E$13,\"\")","v":""},null,null,null,null,null,null,null,null,null,{"$f":"IF(ISNUMBER(E85),(E85& \"x\" & G85),\"\")","v":""},null,{"$f":"IF(T85=\"ANO\",E85+20,E85)","v":0},{"$f":"IF(T85=\"ANO\",G85+20,G85)","v":0},{"$f":"IF(T85=\"ANO\",J85*2,J85)","v":0},{"$f":"IF(T85=\"ANO\",S85,0)","v":0},null,"-","-",{"$f":"IF(ISNUMBER(E85),((U85*V85)*W85)/1000000,\"\")","v":""},{"$f":"IF(ISNUMBER(E85),(((U85+V85)*2)*W85)/1000,\"\")","v":""}]
["",{"$error":"#NAME?"},null,"",null,"",null,"","",null,null,null,null,null,null,null,null,null,"",null,0,0,0,0,null,"-","-","",""]
["",{"$error":"#NAME?"},null,"",null,"",null,"","",null,null,null,null,null,null,null,null,null,"",null,0,0,0,0,null,"-","-","",""]
["",{"$error":"#NAME?"},null,"",null,"",null,"","",null,null,null,null,null,null,null,null,null,"",null,0,0,0,0,null,"-","-","",""]
["",{"$error":"#NAME?"},null,"",null,"",null,"","",null,null,null,null,null,null,null,null,null,"",null,0,0,0,0,null,"-","-","",""]
["",{"$error":"#NAME?"},null,"",null,"",null,"","",null,null,null,null,null,null,null,null,null,"",null,0,0,0,0,null,"-","-","",""]
["",{"$error":"#NAME?"},null,"",null,"",null,"","",null,null,null,null,null,null,null,null,null,"",null,0,0,0,0,null,"-","-","",""]
["",{"$error":"#NAME?"},null,"",null,"",null,"","",null,null,null,null,null,null,null,null,null,"",null,0,0,0,0,null,"-","-","",""]
["",{"$error":"#NAME?"},null,"",null,"",null,"","",null,null,null,null,null,null,null,null,null,"",null,0,0,0,0,null,"-","-","",""]
["",{"$error":"#NAME?"},null,"",null,"",null,"","",null,null,null,null,null,null,null,null,null,"",null,0,0,0,0,null,"-","-","",""]
["",{"$error":"#NAME?"},null,"",null,"",null,"","",null,null,null,null,null,null,null,null,null,"",null,0,0,0,0,null,"-","-","",""]
["",{"$error":"#NAME?"},null,"",null,"",null,"","",null,null,null,null,null,null,null,null,null,"",null,0,0,0,0,null,"-","-","",""]
["",{"$error":"#NAME?"},null,"",null,"",null,"","",null,null,null,null,null,null,null,null,null,"",null,0,0,0,0,null,"-","-","",""]
["",{"$error":"#NAME?"},null,"",null,"",null,"","",null,null,null,null,null,null,null,null,null,"",null,0,0,0,0,null,"-","-","",""]
["",{"$error":"#NAME?"},null,"",null,"",null,"","",null,null,null,null,null,null,null,null,null,"",null,0,0,0,0,null,"-","-","",""]
["",{"$error":"#NAME?"},null,"",null,"",null,"","",null,null,null,null,null,null,null,null,null,"",null,0,0,0,0,null,"-","-","",""]
["",{"$error":"#NAME?"},null,"",null,"",null,"","",null,null,null,null,null,null,null,null,null,"",null,0,0,0,0,null,"-","-","",""]
["",{"$error":"#NAME?"},null,"",null,"",null,"","",null,null,null,null,null,null,null,null,null,"",null,0,0,0,0,null,"-","-","",""]
["",{"$error":"#NAME?"},null,"",null,"",null,"","",null,null,null,null,null,null,null,null,null,"",null,0,0,0,0,null,"-","-","",""]
["",{"$error":"#NAME?"},null,"",null,"",null,"","",null,null,null,null,null,null,null,null,null,"",null,0,0,0,0,null,"-","-","",""]
["",{"$error":"#NAME?"},null,"",null,"",null,"","",null,null,null,null,null,null,null,null,null,"",null,0,0,0,0,null,"-","-","",""]
["",{"$error":"#NAME?"},null,"",null,"",null,"","",null,null,null,null,null,null,null,null,null,"",null,0,0,0,0,null,"-","-","",""]
["",{"$error":"#NAME?"},null,"",null,"",null,"","",null,null,null,null,null,null,null,null,null,"",null,0,0,0,0]
["",{"$error":"#NAME?"},null,"",null,"",null,"","",null,null,null,null,null,null,null,null,null,"",null,0,0,0,0]
["",{"$error":"#NAME?"},null,"",null,"",null,"","",null,null,null,null,null,null,null,null,null,"",null,0,0,0,0]
["",{"$error":"#NAME?"},null,"",null,"",null,"","",null,null,null,null,null,null,null,null,null,"",null,0,0,0,0]
["",{"$error":"#NAME?"},null,"",null,"",null,"","",null,null,null,null,null,null,null,null,null,"",null,0,0,0,0]
["",{"$error":"#NAME?"},null,"",null,"",null,"","",null,null,null,null,null,null,null,null,null,"",null,0,0,0,0]
["",{"$error":"#NAME?"},null,"",null,"",null,"","",null,null,null,null,null,null,null,null,null,"",null,0,0,0,0]
["",{"$error":"#NAME?"},null,"",null,"",null,"","",null,null,null,null,null,null,null,null,null,"",null,0,0,0,0]
["",{"$error":"#NAME?"},null,"",null,"",null,"","",null,null,null,null,null,null,null,null,null,"",null,0,0,0,0]
["",{"$error":"#NAME?"},null,"",null,"",null,"","",null,null,null,null,null,null,null,null,null,"",null,0,0,0,0]
["",{"$error":"#NAME?"},null,"",null,"",null,"","",null,null,null,null,null,null,null,null,null,"",null,0,0,0,0]

{"sheet":"Dekor 4","index":4,"n_rows":117,"n_cols":36,"rows_kept":117,"cut":false,"hidden":false,"merged":[[9,8,11,8],[17,30,17,32],[5,2,5,6],[6,2,6,6],[9,2,11,2],[9,4,11,4],[9,6,11,6],[17,33,17,35],[18,30,18,32],[24,30,24,32],[17,10,17,17],[17,20,17,23],[18,25,18,26]]}
[]
[]
[]
[null,null,null,null,null,null,null,null,null,{"$f":"G13-30","v":2770},{"$f":"I13-30","v":2040}]
[]
[]
[]
[]
[]
[null,null,"Materiál a dekor",null,"Tloušťka materiálu mm",null,"Rozměr desky \"X\"    mm",null,"Rozměr desky \"Y\"     mm"]
[]
[]
[null,null,"H1180",null,18,null,2800,null,2070]
[]
[]
[]
[]
[null,null,null,null,null,null,null,null,null,null,"ABS hrany",null,null,null,null,null,null,null,null,null,"Automatické doplnění",null,null,null,null,null,null,null,null,null,"Hrany",null,null,"Plošný materiál"]
["CestaSouboru","nazev","Název dílce",null,"Délka   mm",null,"Šířka    mm",null,"Tloušťka automatické doplnění","pocet","X1 - délka","pozn.","X2 - délka","pozn.","Y1 - šířka","pozn.","Y2 - šířka","pozn.","Rozměr automatické doplnění","Tupl  ANO/","delka tupl","šířka tupl","počet jednotl. Desek","Vysledny rozměr tuplu","Poznámka","výpočet ABS",null,"plocha","delka řezu",null,"počet m ABS",null,null,"Plocha     m2","Orientační počet desek","Délka řezu  m"]
[{"$f":"IF(ISNUMBER(E20),\"LICOMDIR\\EPS\\PANEL.aeps\",\"\")","v":""},{"$f":"StripAccent(C20)","v":{"$error":"#NAME?"}},null,{"$f":"IF(ISNUMBER(E20),\"delka\",\"\")","v":""},null,{"$f":"IF(ISNUMBER(G20),\"sirka\",\"\")","v":""},null,{"$f":"IF(ISNUMBER(I20),\"tloustka\",\"\")","v":""},{"$f":"IF(ISNUMBER(E20),$E$13,\"\")","v":""},null,null,null,null,null,null,null,null,null,{"$f":"IF(ISNUMBER(E20),(E20& \"x\" & G20),\"\")","v":""},null,{"$f":"IF(T20=\"ANO\",E20+20,E20)","v":0},{"$f":"IF(T20=\"ANO\",G20+20,G20)","v":0},{"$f":"IF(T20=\"ANO\",J20*2,J20)","v":0},{"$f":"IF(T20=\"ANO\",S20,0)","v":0},null,{"$f":"IF(ISNUMBER(E20),(E20+60)*J20,\"-\")","v":"-"},{"$f":"IF(ISNUMBER(E20),(G20+60)*J20,\"-\")","v":"-"},{"$f":"IF(ISNUMBER(E20),((U20*V20)*W20)/1000000,\"\")","v":""},{"$f":"IF(ISNUMBER(E20),(((U20+V20)*2)*W20)/1000,\"\")","v":""},null,"22_1",{"$f":"CEILING(((SUMIF(K20:K132,1,Z20:Z132)+SUMIF(M20:M132,1,Z20:Z132)+SUMIF(O20:O132,1,AA20:AA132)+SUMIF(Q20:Q132,1,AA20:AA132))/1000),1)","v":0},"m",{"$f":"SUM(AB20:AB106)","v":0},{"$f":"(AH20/((G13)*(I13)*0.000001))*1.1","v":0},{"$f":"SUM(AC20:AC106)","v":0}]
[{"$f":"IF(ISNUMBER(E21),\"LICOMDIR\\EPS\\PANEL.aeps\",\"\")","v":""},{"$f":"StripAccent(C21)","v":{"$error":"#NAME?"}},null,{"$f":"IF(ISNUMBER(E21),\"delka\",\"\")","v":""},null,{"$f":"IF(ISNUMBER(G21),\"sirka\",\"\")","v":""},null,{"$f":"IF(ISNUMBER(I21),\"tloustka\",\"\")","v":""},{"$f":"IF(ISNUMBER(E21),$E$13,\"\")","v":""},null,null,null,null,null,null,null,null,null,{"$f":"IF(ISNUMBER(E21),(E21& \"x\" & G21),\"\")","v":""},null,{"$f":"IF(T21=\"ANO\",E21+20,E21)","v":0},{"$f":"IF(T21=\"ANO\",G21+20,G21)","v":0},{"$f":"IF(T21=\"ANO\",J21*2,J21)","v":0},{"$f":"IF(T21=\"ANO\",S21,0)","v":0},null,"-","-",{"$f":"IF(ISNUMBER(E21),((U21*V21)*W21)/1000000,\"\")","v":""},{"$f":"IF(ISNUMBER(E21),(((U21+V21)*2)*W21)/1000,\"\")","v":""},null,"22_05",{"$f":"CEILING(((SUMIF(K20:K132,0.5,Z20:Z132)+SUMIF(M20:M132,0.5,Z20:Z132)+SUMIF(O20:O132,0.5,AA20:AA132)+SUMIF(Q20:Q132,0.5,AA20:AA132))/1000),1)","v":0},"m"]
["",{"$error":"#NAME?"},null,"",null,"",null,"","",null,null,null,null,null,null,null,null,null,"",null,0,0,0,0,null,"-","-","","",null,"22_2",{"$f":"CEILING(((SUMIF(K20:K132,2,Z20:Z132)+SUMIF(M20:M132,2,Z20:Z132)+SUMIF(O20:O132,2,AA20:AA132)+SUMIF(Q20:Q132,2,AA20:AA132))/1000),1)","v":0},"m"]
["",{"$error":"#NAME?"},null,"",null,"",null,"","",null,null,null,null,null,null,null,null,null,"",null,0,0,0,0,null,"-","-","","",null,"42_1",{"$f":"(CEILING(((SUMIF(K20:K132,\"42/1\",Z20:Z132)+SUMIF(M20:M132,\"42/1\",Z20:Z132)+SUMIF(O20:O132,\"42/1\",AA20:AA132)+SUMIF(Q20:Q132,\"42/1\",AA20:AA132))/1000),1))","v":0},"m"]
["",{"$error":"#NAME?"},null,"",null,"",null,"","",null,null,null,null,null,null,null,null,null,"",null,0,0,0,0,null,"-","-","","",null,"42/2",{"$f":"(CEILING(((SUMIF(K20:K132,\"42/2\",Z20:Z132)+SUMIF(M20:M132,\"42/2\",Z20:Z132)+SUMIF(O20:O132,\"42/2\",AA20:AA130)+SUMIF(Q20:Q132,\"42/2\",AA20:AA132))/1000),1))","v":0},"m"]
["",{"$error":"#NAME?"},null,"",null,"",null,"","",null,null,null,null,null,null,null,null,null,"",null,0,0,0,0,null,"-","-","",""]
["",{"$error":"#NAME?"},null,"",null,"",null,"","",null,null,null,null,null,null,null,null,null,"",null,0,0,0,0,null,"-","-","",""]
["",{"$error":"#NAME?"},null,"",null,"",null,"","",null,null,null,null,null,null,null,null,null,"",null,0,0,0,0,null,"-","-","",""]
["",{"$error":"#NAME?"},null,"",null,"",null,"","",null,null,null,null,null,null,null,null,null,"",null,0,0,0,0,null,"-","-","",""]
["",{"$error":"#NAME?"},null,"",null,"",null,"","",null,null,null,null,null,null,null,null,null,"",null,0,0,0,0,null,"-","-","",""]
["",{"$error":"#NAME?"},null,"",null,"",null,"","",null,null,null,null,null,null,null,null,null,"",null,0,0,0,0,null,"-","-","",""]
["",{"$error":"#NAME?"},null,"",null,"",null,"","",null,null,null,null,null,null,null,null,null,"",null,0,0,0,0,null,"-","-","",""]
["",{"$error":"#NAME?"},null,"",null,"",null,"","",null,null,null,null,null,null,null,null,null,"",null,0,0,0,0,null,"-","-","",""]
["",{"$error":"#NAME?"},null,"",null,"",null,"","",null,null,null,null,null,null,null,null,null,"",null,0,0,0,0,null,"-","-","",""]
["",{"$error":"#NAME?"},null,"",null,"",null,"","",null,null,null,null,null,null,null,null,null,"",null,0,0,0,0,null,"-","-","",""]
["",{"$error":"#NAME?"},null,"",null,"",null,"","",null,null,null,null,null,null,null,null,null,"",null,0,0,0,0,null,"-","-","",""]
["",{"$error":"#NAME?"},null,"",null,"",null,"","",null,null,null,null,null,null,null,null,null,"",null,0,0,0,0,null,"-","-","",""]
["",{"$error":"#NAME?"},null,"",null,"",null,"","",null,null,null,null,null,null,null,null,null,"",null,0,0,0,0,null,"-","-","",""]
["",{"$error":"#NAME?"},null,"",null,"",null,"","",null,null,null,null,null,null,null,null,null,"",null,0,0,0,0,null,"-","-","",""]
["",{"$error":"#NAME?"},null,"",null,"",null,"","",null,null,null,null,null,null,null,null,null,"",null,0,0,0,0,null,"-","-","",""]
["",{"$error":"#NAME?"},null,"",null,"",null,"","",null,null,null,null,null,null,null,null,null,"",null,0,0,0,0,null,"-","-","",""]
["",{"$error":"#NAME?"},null,"",null,"",null,"","",null,null,null,null,null,null,null,null,null,"",null,0,0,0,0,null,"-","-","",""]
["",{"$error":"#NAME?"},null,"",null,"",null,"","",null,null,null,null,null,null,null,null,null,"",null,0,0,0,0,null,"-","-","",""]
["",{"$error":"#NAME?"},null,"",null,"",null,"","",null,null,null,null,null,null,null,null,null,"",null,0,0,0,0,null,"-","-","",""]
["",{"$error":"#NAME?"},null,"",null,"",null,"","",null,null,null,null,null,null,null,null,null,"",null,0,0,0,0,null,"-","-","",""]
["",{"$error":"#NAME?"},null,"",null,"",null,"","",null,null,null,null,null,null,null,null,null,"",null,0,0,0,0,null,"-","-","",""]
["",{"$error":"#NAME?"},null,"",null,"",null,"","",null,null,null,null,null,null,null,null,null,"",null,0,0,0,0,null,"-","-","",""]
["",{"$error":"#NAME?"},null,"",null,"",null,"","",null,null,null,null,null,null,null,null,null,"",null,0,0,0,0,null,"-","-","",""]
["",{"$error":"#NAME?"},null,"",null,"",null,"","",null,null,null,null,null,null,null,null,null,"",null,0,0,0,0,null,"-","-","",""]
["",{"$error":"#NAME?"},null,"",null,"",null,"","",null,null,null,null,null,null,null,null,null,"",null,0,0,0,0,null,"-","-","",""]
["",{"$error":"#NAME?"},null,"",null,"",null,"","",null,null,null,null,null,null,null,null,null,"",null,0,0,0,0,null,"-","-","",""]
["",{"$error":"#NAME?"},null,"",null,"",null,"","",null,null,null,null,null,null,null,null,null,"",null,0,0,0,0,null,"-","-","",""]
["",{"$error":"#NAME?"},null,"",null,"",null,"","",null,null,null,null,null,null,null,null,null,"",null,0,0,0,0,null,"-","-","",""]
["",{"$error":"#NAME?"},null,"",null,"",null,"","",null,null,null,null,null,null,null,null,null,"",null,0,0,0,0,null,"-","-","",""]
["",{"$error":"#NAME?"},null,"",null,"",null,"","",null,null,null,null,null,null,null,null,null,"",null,0,0,0,0,null,"-","-","",""]
["",{"$error":"#NAME?"},null,"",null,"",null,"","",null,null,null,null,null,null,null,null,null,"",null,0,0,0,0,null,"-","-","",""]
["",{"$error":"#NAME?"},null,"",null,"",null,"","",null,null,null,null,null,null,null,null,null,"",null,0,0,0,0,null,"-","-","",""]
["",{"$error":"#NAME?"},null,"",null,"",null,"","",null,null,null,null,null,null,null,null,null,"",null,0,0,0,0,null,"-","-","",""]
["",{"$error":"#NAME?"},null,"",null,"",null,"","",null,null,null,null,null,null,null,null,null,"",null,0,0,0,0,null,"-","-","",""]
["",{"$error":"#NAME?"},null,"",null,"",null,"","",null,null,null,null,null,null,null,null,null,"",null,0,0,0,0,null,"-","-","",""]
["",{"$error":"#NAME?"},null,"",null,"",null,"","",null,null,null,null,null,null,null,null,null,"",null,0,0,0,0,null,"-","-","",""]
["",{"$error":"#NAME?"},null,"",null,"",null,"","",null,null,null,null,null,null,null,null,null,"",null,0,0,0,0,null,"-","-","",""]
["",{"$error":"#NAME?"},null,"",null,"",null,"","",null,null,null,null,null,null,null,null,null,"",null,0,0,0,0,null,"-","-","",""]
["",{"$error":"#NAME?"},null,"",null,"",null,"","",null,null,null,null,null,null,null,null,null,"",null,0,0,0,0,null,"-","-","",""]
["",{"$error":"#NAME?"},null,"",null,"",null,"","",null,null,null,null,null,null,null,null,null,"",null,0,0,0,0,null,"-","-","",""]
["",{"$error":"#NAME?"},null,"",null,"",null,"","",null,null,null,null,null,null,null,null,null,"",null,0,0,0,0,null,"-","-","",""]
["",{"$error":"#NAME?"},null,"",null,"",null,"","",null,null,null,null,null,null,null,null,null,"",null,0,0,0,0,null,"-","-","",""]
["",{"$error":"#NAME?"},null,"",null,"",null,"","",null,null,null,null,null,null,null,null,null,"",null,0,0,0,0,null,"-","-","",""]
["",{"$error":"#NAME?"},null,"",null,"",null,"","",null,null,null,null,null,null,null,null,null,"",null,0,0,0,0,null,"-","-","",""]
["",{"$error":"#NAME?"},null,"",null,"",null,"","",null,null,null,null,null,null,null,null,null,"",null,0,0,0,0,null,"-","-","",""]
["",{"$error":"#NAME?"},null,"",null,"",null,"","",null,null,null,null,null,null,null,null,null,"",null,0,0,0,0,null,"-","-","",""]
["",{"$error":"#NAME?"},null,"",null,"",null,"","",null,null,null,null,null,null,null,null,null,"",null,0,0,0,0,null,"-","-","",""]
["",{"$error":"#NAME?"},null,"",null,"",null,"","",null,null,null,null,null,null,null,null,null,"",null,0,0,0,0,null,"-","-","",""]
["",{"$error":"#NAME?"},null,"",null,"",null,"","",null,null,null,null,null,null,null,null,null,"",null,0,0,0,0,null,"-","-","",""]
["",{"$error":"#NAME?"},null,"",null,"",null,"","",null,null,null,null,null,null,null,null,null,"",null,0,0,0,0,null,"-","-","",""]
["",{"$error":"#NAME?"},null,"",null,"",null,"","",null,null,null,null,null,null,null,null,null,"",null,0,0,0,0,null,"-","-","",""]
["",{"$error":"#NAME?"},null,"",null,"",null,"","",null,null,null,null,null,null,null,null,null,"",null,0,0,0,0,null,"-","-","",""]
["",{"$error":"#NAME?"},null,"",null,"",null,"","",null,null,null,null,null,null,null,null,null,"",null,0,0,0,0,null,"-","-","",""]
["",{"$error":"#NAME?"},null,"",null,"",null,"","",null,null,null,null,null,null,null,null,null,"",null,0,0,0,0,null,"-","-","",""]
["",{"$error":"#NAME?"},null,"",null,"",null,"","",null,null,null,null,null,null,null,null,null,"",null,0,0,0,0,null,"-","-","",""]
["",{"$error":"#NAME?"},null,"",null,"",null,"","",null,null,null,null,null,null,null,null,null,"",null,0,0,0,0,null,"-","-","",""]
["",{"$error":"#NAME?"},null,"",null,"",null,"","",null,null,null,null,null,null,null,null,null,"",null,0,0,0,0,null,"-","-","",""]
["",{"$error":"#NAME?"},null,"",null,"",null,"","",null,null,null,null,null,null,null,null,null,"",null,0,0,0,0,null,"-","-","",""]
["",{"$error":"#NAME?"},null,"",null,"",null,"","",null,null,null,null,null,null,null,null,null,"",null,0,0,0,0,null,"-","-","",""]
["",{"$error":"#NAME?"},null,"",null,"",null,"","",null,null,null,null,null,null,null,null,null,"",null,0,0,0,0,null,{"$f":"IF(ISNUMBER(E84),(E84+60)*J84,\"-\")","v":"-"},{"$f":"IF(ISNUMBER(E84),(G84+60)*J84,\"-\")","v":"-"},"",""]
[{"$f":"IF(ISNUMBER(E85),\"LICOMDIR\\EPS\\PANEL.aeps\",\"\")","v":""},{"$f":"StripAccent(C85)","v":{"$error":"#NAME?"}},null,{"$f":"IF(ISNUMBER(E85),\"delka\",\"\")","v":""},null,{"$f":"IF(ISNUMBER(G85),\"sirka\",\"\")","v":""},null,{"$f":"IF(ISNUMBER(I85),\"tloustka\",\"\")","v":""},{"$f":"IF(ISNUMBER(E85),$E$13,\"\")","v":""},null,null,null,null,null,null,null,null,null,{"$f":"IF(ISNUMBER(E85),(E85& \"x\" & G85),\"\")","v":""},null,{"$f":"IF(T85=\"ANO\",E85+20,E85)","v":0},{"$f":"IF(T85=\"ANO\",G85+20,G85)","v":0},{"$f":"IF(T85=\"ANO\",J85*2,J85)","v":0},{"$f":"IF(T85=\"ANO\",S85,0)","v":0},null,"-","-",{"$f":"IF(ISNUMBER(E85),((U85*V85)*W85)/1000000,\"\")","v":""},{"$f":"IF(ISNUMBER(E85),(((U85+V85)*2)*W85)/1000,\"\")","v":""}]
["",{"$error":"#NAME?"},null,"",null,"",null,"","",null,null,null,null,null,null,null,null,null,"",null,0,0,0,0,null,"-","-","",""]
["",{"$error":"#NAME?"},null,"",null,"",null,"","",null,null,null,null,null,null,null,null,null,"",null,0,0,0,0,null,"-","-","",""]
["",{"$error":"#NAME?"},null,"",null,"",null,"","",null,null,null,null,null,null,null,null,null,"",null,0,0,0,0,null,"-","-","",""]
["",{"$error":"#NAME?"},null,"",null,"",null,"","",null,null,null,null,null,null,null,null,null,"",null,0,0,0,0,null,"-","-","",""]
["",{"$error":"#NAME?"},null,"",null,"",null,"","",null,null,null,null,null,null,null,null,null,"",null,0,0,0,0,null,"-","-","",""]
["",{"$error":"#NAME?"},null,"",null,"",null,"","",null,null,null,null,null,null,null,null,null,"",null,0,0,0,0,null,"-","-","",""]
["",{"$error":"#NAME?"},null,"",null,"",null,"","",null,null,null,null,null,null,null,null,null,"",null,0,0,0,0,null,"-","-","",""]
["",{"$error":"#NAME?"},null,"",null,"",null,"","",null,null,null,null,null,null,null,null,null,"",null,0,0,0,0,null,"-","-","",""]
["",{"$error":"#NAME?"},null,"",null,"",null,"","",null,null,null,null,null,null,null,null,null,"",null,0,0,0,0,null,"-","-","",""]
["",{"$error":"#NAME?"},null,"",null,"",null,"","",null,null,null,null,null,null,null,null,null,"",null,0,0,0,0,null,"-","-","",""]
["",{"$error":"#NAME?"},null,"",null,"",null,"","",null,null,null,null,null,null,null,null,null,"",null,0,0,0,0,null,"-","-","",""]
["",{"$error":"#NAME?"},null,"",null,"",null,"","",null,null,null,null,null,null,null,null,null,"",null,0,0,0,0,null,"-","-","",""]
["",{"$error":"#NAME?"},null,"",null,"",null,"","",null,null,null,null,null,null,null,null,null,"",null,0,0,0,0,null,"-","-","",""]
["",{"$error":"#NAME?"},null,"",null,"",null,"","",null,null,null,null,null,null,null,null,null,"",null,0,0,0,0,null,"-","-","",""]
["",{"$error":"#NAME?"},null,"",null,"",null,"","",null,null,null,null,null,null,null,null,null,"",null,0,0,0,0,null,"-","-","",""]
["",{"$error":"#NAME?"},null,"",null,"",null,"","",null,null,null,null,null,null,null,null,null,"",null,0,0,0,0,null,"-","-","",""]
["",{"$error":"#NAME?"},null,"",null,"",null,"","",null,null,null,null,null,null,null,null,null,"",null,0,0,0,0,null,"-","-","",""]
["",{"$error":"#NAME?"},null,"",null,"",null,"","",null,null,null,null,null,null,null,null,null,"",null,0,0,0,0,null,"-","-","",""]
["",{"$error":"#NAME?"},null,"",null,"",null,"","",null,null,null,null,null,null,null,null,null,"",null,0,0,0,0,null,"-","-","",""]
["",{"$error":"#NAME?"},null,"",null,"",null,"","",null,null,null,null,null,null,null,null,null,"",null,0,0,0,0,null,"-","-","",""]
["",{"$error":"#NAME?"},null,"",null,"",null,"","",null,null,null,null,null,null,null,null,null,"",null,0,0,0,0,null,"-","-","",""]
["",{"$error":"#NAME?"},null,"",null,"",null,"","",null,null,null,null,null,null,null,null,null,"",null,0,0,0,0]
["",{"$error":"#NAME?"},null,"",null,"",null,"","",null,null,null,null,null,null,null,null,null,"",null,0,0,0,0]
["",{"$error":"#NAME?"},null,"",null,"",null,"","",null,null,null,null,null,null,null,null,null,"",null,0,0,0,0]
["",{"$error":"#NAME?"},null,"",null,"",null,"","",null,null,null,null,null,null,null,null,null,"",null,0,0,0,0]
["",{"$error":"#NAME?"},null,"",null,"",null,"","",null,null,null,null,null,null,null,null,null,"",null,0,0,0,0]
["",{"$error":"#NAME?"},null,"",null,"",null,"","",null,null,null,null,null,null,null,null,null,"",null,0,0,0,0]
["",{"$error":"#NAME?"},null,"",null,"",null,"","",null,null,null,null,null,null,null,null,null,"",null,0,0,0,0]
["",{"$error":"#NAME?"},null,"",null,"",null,"","",null,null,null,null,null,null,null,null,null,"",null,0,0,0,0]
["",{"$error":"#NAME?"},null,"",null,"",null,"","",null,null,null,null,null,null,null,null,null,"",null,0,0,0,0]
["",{"$error":"#NAME?"},null,"",null,"",null,"","",null,null,null,null,null,null,null,null,null,"",null,0,0,0,0]
["",{"$error":"#NAME?"},null,"",null,"",null,"","",null,null,null,null,null,null,null,null,null,"",null,0,0,0,0]

{"sheet":"Dekor 5","index":5,"n_rows":117,"n_cols":36,"rows_kept":117,"cut":false,"hidden":false,"merged":[[9,8,11,8],[17,30,17,32],[5,2,5,6],[6,2,6,6],[9,2,11,2],[9,4,11,4],[9,6,11,6],[17,33,17,35],[18,30,18,32],[24,30,24,32],[17,10,17,17],[17,20,17,23],[18,25,18,26]]}
[]
[]
[]
[null,null,null,null,null,null,null,null,null,{"$f":"G13-30","v":2770},{"$f":"I13-30","v":2040}]
[]
[]
[]
[]
[]
[null,null,"Materiál a dekor",null,"Tloušťka materiálu mm",null,"Rozměr desky \"X\"    mm",null,"Rozměr desky \"Y\"     mm"]
[]
[]
[null,null,"H1180",null,18,null,2800,null,2070]
[]
[]
[]
[]
[null,null,null,null,null,null,null,null,null,null,"ABS hrany",null,null,null,null,null,null,null,null,null,"Automatické doplnění",null,null,null,null,null,null,null,null,null,"Hrany",null,null,"Plošný materiál"]
["CestaSouboru","nazev","Název dílce",null,"Délka   mm",null,"Šířka    mm",null,"Tloušťka automatické doplnění","pocet","X1 - délka","pozn.","X2 - délka","pozn.","Y1 - šířka","pozn.","Y2 - šířka","pozn.","Rozměr automatické doplnění","Tupl  ANO/","delka tupl","šířka tupl","počet jednotl. Desek","Vysledny rozměr tuplu","Poznámka","výpočet ABS",null,"plocha","delka řezu",null,"počet m ABS",null,null,"Plocha     m2","Orientační počet desek","Délka řezu  m"]
[{"$f":"IF(ISNUMBER(E20),\"LICOMDIR\\EPS\\PANEL.aeps\",\"\")","v":""},{"$f":"StripAccent(C20)","v":{"$error":"#NAME?"}},null,{"$f":"IF(ISNUMBER(E20),\"delka\",\"\")","v":""},null,{"$f":"IF(ISNUMBER(G20),\"sirka\",\"\")","v":""},null,{"$f":"IF(ISNUMBER(I20),\"tloustka\",\"\")","v":""},{"$f":"IF(ISNUMBER(E20),$E$13,\"\")","v":""},null,null,null,null,null,null,null,null,null,{"$f":"IF(ISNUMBER(E20),(E20& \"x\" & G20),\"\")","v":""},null,{"$f":"IF(T20=\"ANO\",E20+20,E20)","v":0},{"$f":"IF(T20=\"ANO\",G20+20,G20)","v":0},{"$f":"IF(T20=\"ANO\",J20*2,J20)","v":0},{"$f":"IF(T20=\"ANO\",S20,0)","v":0},null,{"$f":"IF(ISNUMBER(E20),(E20+60)*J20,\"-\")","v":"-"},{"$f":"IF(ISNUMBER(E20),(G20+60)*J20,\"-\")","v":"-"},{"$f":"IF(ISNUMBER(E20),((U20*V20)*W20)/1000000,\"\")","v":""},{"$f":"IF(ISNUMBER(E20),(((U20+V20)*2)*W20)/1000,\"\")","v":""},null,"22_1",{"$f":"CEILING(((SUMIF(K20:K132,1,Z20:Z132)+SUMIF(M20:M132,1,Z20:Z132)+SUMIF(O20:O132,1,AA20:AA132)+SUMIF(Q20:Q132,1,AA20:AA132))/1000),1)","v":0},"m",{"$f":"SUM(AB20:AB106)","v":0},{"$f":"(AH20/((G13)*(I13)*0.000001))*1.1","v":0},{"$f":"SUM(AC20:AC106)","v":0}]
[{"$f":"IF(ISNUMBER(E21),\"LICOMDIR\\EPS\\PANEL.aeps\",\"\")","v":""},{"$f":"StripAccent(C21)","v":{"$error":"#NAME?"}},null,{"$f":"IF(ISNUMBER(E21),\"delka\",\"\")","v":""},null,{"$f":"IF(ISNUMBER(G21),\"sirka\",\"\")","v":""},null,{"$f":"IF(ISNUMBER(I21),\"tloustka\",\"\")","v":""},{"$f":"IF(ISNUMBER(E21),$E$13,\"\")","v":""},null,null,null,null,null,null,null,null,null,{"$f":"IF(ISNUMBER(E21),(E21& \"x\" & G21),\"\")","v":""},null,{"$f":"IF(T21=\"ANO\",E21+20,E21)","v":0},{"$f":"IF(T21=\"ANO\",G21+20,G21)","v":0},{"$f":"IF(T21=\"ANO\",J21*2,J21)","v":0},{"$f":"IF(T21=\"ANO\",S21,0)","v":0},null,"-","-",{"$f":"IF(ISNUMBER(E21),((U21*V21)*W21)/1000000,\"\")","v":""},{"$f":"IF(ISNUMBER(E21),(((U21+V21)*2)*W21)/1000,\"\")","v":""},null,"22_05",{"$f":"CEILING(((SUMIF(K20:K132,0.5,Z20:Z132)+SUMIF(M20:M132,0.5,Z20:Z132)+SUMIF(O20:O132,0.5,AA20:AA132)+SUMIF(Q20:Q132,0.5,AA20:AA132))/1000),1)","v":0},"m"]
["",{"$error":"#NAME?"},null,"",null,"",null,"","",null,null,null,null,null,null,null,null,null,"",null,0,0,0,0,null,"-","-","","",null,"22_2",{"$f":"CEILING(((SUMIF(K20:K132,2,Z20:Z132)+SUMIF(M20:M132,2,Z20:Z132)+SUMIF(O20:O132,2,AA20:AA132)+SUMIF(Q20:Q132,2,AA20:AA132))/1000),1)","v":0},"m"]
["",{"$error":"#NAME?"},null,"",null,"",null,"","",null,null,null,null,null,null,null,null,null,"",null,0,0,0,0,null,"-","-","","",null,"42_1",{"$f":"(CEILING(((SUMIF(K20:K132,\"42/1\",Z20:Z132)+SUMIF(M20:M132,\"42/1\",Z20:Z132)+SUMIF(O20:O132,\"42/1\",AA20:AA132)+SUMIF(Q20:Q132,\"42/1\",AA20:AA132))/1000),1))","v":0},"m"]
["",{"$error":"#NAME?"},null,"",null,"",null,"","",null,null,null,null,null,null,null,null,null,"",null,0,0,0,0,null,"-","-","","",null,"42/2",{"$f":"(CEILING(((SUMIF(K20:K132,\"42/2\",Z20:Z132)+SUMIF(M20:M132,\"42/2\",Z20:Z132)+SUMIF(O20:O132,\"42/2\",AA20:AA130)+SUMIF(Q20:Q132,\"42/2\",AA20:AA132))/1000),1))","v":0},"m"]
["",{"$error":"#NAME?"},null,"",null,"",null,"","",null,null,null,null,null,null,null,null,null,"",null,0,0,0,0,null,"-","-","",""]
["",{"$error":"#NAME?"},null,"",null,"",null,"","",null,null,null,null,null,null,null,null,null,"",null,0,0,0,0,null,"-","-","",""]
["",{"$error":"#NAME?"},null,"",null,"",null,"","",null,null,null,null,null,null,null,null,null,"",null,0,0,0,0,null,"-","-","",""]
["",{"$error":"#NAME?"},null,"",null,"",null,"","",null,null,null,null,null,null,null,null,null,"",null,0,0,0,0,null,"-","-","",""]
["",{"$error":"#NAME?"},null,"",null,"",null,"","",null,null,null,null,null,null,null,null,null,"",null,0,0,0,0,null,"-","-","",""]
["",{"$error":"#NAME?"},null,"",null,"",null,"","",null,null,null,null,null,null,null,null,null,"",null,0,0,0,0,null,"-","-","",""]
["",{"$error":"#NAME?"},null,"",null,"",null,"","",null,null,null,null,null,null,null,null,null,"",null,0,0,0,0,null,"-","-","",""]
["",{"$error":"#NAME?"},null,"",null,"",null,"","",null,null,null,null,null,null,null,null,null,"",null,0,0,0,0,null,"-","-","",""]
["",{"$error":"#NAME?"},null,"",null,"",null,"","",null,null,null,null,null,null,null,null,null,"",null,0,0,0,0,null,"-","-","",""]
["",{"$error":"#NAME?"},null,"",null,"",null,"","",null,null,null,null,null,null,null,null,null,"",null,0,0,0,0,null,"-","-","",""]
["",{"$error":"#NAME?"},null,"",null,"",null,"","",null,null,null,null,null,null,null,null,null,"",null,0,0,0,0,null,"-","-","",""]
["",{"$error":"#NAME?"},null,"",null,"",null,"","",null,null,null,null,null,null,null,null,null,"",null,0,0,0,0,null,"-","-","",""]
["",{"$error":"#NAME?"},null,"",null,"",null,"","",null,null,null,null,null,null,null,null,null,"",null,0,0,0,0,null,"-","-","",""]
["",{"$error":"#NAME?"},null,"",null,"",null,"","",null,null,null,null,null,null,null,null,null,"",null,0,0,0,0,null,"-","-","",""]
["",{"$error":"#NAME?"},null,"",null,"",null,"","",null,null,null,null,null,null,null,null,null,"",null,0,0,0,0,null,"-","-","",""]
["",{"$error":"#NAME?"},null,"",null,"",null,"","",null,null,null,null,null,null,null,null,null,"",null,0,0,0,0,null,"-","-","",""]
["",{"$error":"#NAME?"},null,"",null,"",null,"","",null,null,null,null,null,null,null,null,null,"",null,0,0,0,0,null,"-","-","",""]
["",{"$error":"#NAME?"},null,"",null,"",null,"","",null,null,null,null,null,null,null,null,null,"",null,0,0,0,0,null,"-","-","",""]
["",{"$error":"#NAME?"},null,"",null,"",null,"","",null,null,null,null,null,null,null,null,null,"",null,0,0,0,0,null,"-","-","",""]
["",{"$error":"#NAME?"},null,"",null,"",null,"","",null,null,null,null,null,null,null,null,null,"",null,0,0,0,0,null,"-","-","",""]
["",{"$error":"#NAME?"},null,"",null,"",null,"","",null,null,null,null,null,null,null,null,null,"",null,0,0,0,0,null,"-","-","",""]
["",{"$error":"#NAME?"},null,"",null,"",null,"","",null,null,null,null,null,null,null,null,null,"",null,0,0,0,0,null,"-","-","",""]
["",{"$error":"#NAME?"},null,"",null,"",null,"","",null,null,null,null,null,null,null,null,null,"",null,0,0,0,0,null,"-","-","",""]
["",{"$error":"#NAME?"},null,"",null,"",null,"","",null,null,null,null,null,null,null,null,null,"",null,0,0,0,0,null,"-","-","",""]
["",{"$error":"#NAME?"},null,"",null,"",null,"","",null,null,null,null,null,null,null,null,null,"",null,0,0,0,0,null,"-","-","",""]
["",{"$error":"#NAME?"},null,"",null,"",null,"","",null,null,null,null,null,null,null,null,null,"",null,0,0,0,0,null,"-","-","",""]
["",{"$error":"#NAME?"},null,"",null,"",null,"","",null,null,null,null,null,null,null,null,null,"",null,0,0,0,0,null,"-","-","",""]
["",{"$error":"#NAME?"},null,"",null,"",null,"","",null,null,null,null,null,null,null,null,null,"",null,0,0,0,0,null,"-","-","",""]
["",{"$error":"#NAME?"},null,"",null,"",null,"","",null,null,null,null,null,null,null,null,null,"",null,0,0,0,0,null,"-","-","",""]
["",{"$error":"#NAME?"},null,"",null,"",null,"","",null,null,null,null,null,null,null,null,null,"",null,0,0,0,0,null,"-","-","",""]
["",{"$error":"#NAME?"},null,"",null,"",null,"","",null,null,null,null,null,null,null,null,null,"",null,0,0,0,0,null,"-","-","",""]
["",{"$error":"#NAME?"},null,"",null,"",null,"","",null,null,null,null,null,null,null,null,null,"",null,0,0,0,0,null,"-","-","",""]
["",{"$error":"#NAME?"},null,"",null,"",null,"","",null,null,null,null,null,null,null,null,null,"",null,0,0,0,0,null,"-","-","",""]
["",{"$error":"#NAME?"},null,"",null,"",null,"","",null,null,null,null,null,null,null,null,null,"",null,0,0,0,0,null,"-","-","",""]
["",{"$error":"#NAME?"},null,"",null,"",null,"","",null,null,null,null,null,null,null,null,null,"",null,0,0,0,0,null,"-","-","",""]
["",{"$error":"#NAME?"},null,"",null,"",null,"","",null,null,null,null,null,null,null,null,null,"",null,0,0,0,0,null,"-","-","",""]
["",{"$error":"#NAME?"},null,"",null,"",null,"","",null,null,null,null,null,null,null,null,null,"",null,0,0,0,0,null,"-","-","",""]
["",{"$error":"#NAME?"},null,"",null,"",null,"","",null,null,null,null,null,null,null,null,null,"",null,0,0,0,0,null,"-","-","",""]
["",{"$error":"#NAME?"},null,"",null,"",null,"","",null,null,null,null,null,null,null,null,null,"",null,0,0,0,0,null,"-","-","",""]
["",{"$error":"#NAME?"},null,"",null,"",null,"","",null,null,null,null,null,null,null,null,null,"",null,0,0,0,0,null,"-","-","",""]
["",{"$error":"#NAME?"},null,"",null,"",null,"","",null,null,null,null,null,null,null,null,null,"",null,0,0,0,0,null,"-","-","",""]
["",{"$error":"#NAME?"},null,"",null,"",null,"","",null,null,null,null,null,null,null,null,null,"",null,0,0,0,0,null,"-","-","",""]
["",{"$error":"#NAME?"},null,"",null,"",null,"","",null,null,null,null,null,null,null,null,null,"",null,0,0,0,0,null,"-","-","",""]
["",{"$error":"#NAME?"},null,"",null,"",null,"","",null,null,null,null,null,null,null,null,null,"",null,0,0,0,0,null,"-","-","",""]
["",{"$error":"#NAME?"},null,"",null,"",null,"","",null,null,null,null,null,null,null,null,null,"",null,0,0,0,0,null,"-","-","",""]
["",{"$error":"#NAME?"},null,"",null,"",null,"","",null,null,null,null,null,null,null,null,null,"",null,0,0,0,0,null,"-","-","",""]
["",{"$error":"#NAME?"},null,"",null,"",null,"","",null,null,null,null,null,null,null,null,null,"",null,0,0,0,0,null,"-","-","",""]
["",{"$error":"#NAME?"},null,"",null,"",null,"","",null,null,null,null,null,null,null,null,null,"",null,0,0,0,0,null,"-","-","",""]
["",{"$error":"#NAME?"},null,"",null,"",null,"","",null,null,null,null,null,null,null,null,null,"",null,0,0,0,0,null,"-","-","",""]
["",{"$error":"#NAME?"},null,"",null,"",null,"","",null,null,null,null,null,null,null,null,null,"",null,0,0,0,0,null,"-","-","",""]
["",{"$error":"#NAME?"},null,"",null,"",null,"","",null,null,null,null,null,null,null,null,null,"",null,0,0,0,0,null,"-","-","",""]
["",{"$error":"#NAME?"},null,"",null,"",null,"","",null,null,null,null,null,null,null,null,null,"",null,0,0,0,0,null,"-","-","",""]
["",{"$error":"#NAME?"},null,"",null,"",null,"","",null,null,null,null,null,null,null,null,null,"",null,0,0,0,0,null,"-","-","",""]
["",{"$error":"#NAME?"},null,"",null,"",null,"","",null,null,null,null,null,null,null,null,null,"",null,0,0,0,0,null,"-","-","",""]
["",{"$error":"#NAME?"},null,"",null,"",null,"","",null,null,null,null,null,null,null,null,null,"",null,0,0,0,0,null,"-","-","",""]
["",{"$error":"#NAME?"},null,"",null,"",null,"","",null,null,null,null,null,null,null,null,null,"",null,0,0,0,0,null,"-","-","",""]
["",{"$error":"#NAME?"},null,"",null,"",null,"","",null,null,null,null,null,null,null,null,null,"",null,0,0,0,0,null,"-","-","",""]
["",{"$error":"#NAME?"},null,"",null,"",null,"","",null,null,null,null,null,null,null,null,null,"",null,0,0,0,0,null,"-","-","",""]
["",{"$error":"#NAME?"},null,"",null,"",null,"","",null,null,null,null,null,null,null,null,null,"",null,0,0,0,0,null,"-","-","",""]
["",{"$error":"#NAME?"},null,"",null,"",null,"","",null,null,null,null,null,null,null,null,null,"",null,0,0,0,0,null,{"$f":"IF(ISNUMBER(E84),(E84+60)*J84,\"-\")","v":"-"},{"$f":"IF(ISNUMBER(E84),(G84+60)*J84,\"-\")","v":"-"},"",""]
[{"$f":"IF(ISNUMBER(E85),\"LICOMDIR\\EPS\\PANEL.aeps\",\"\")","v":""},{"$f":"StripAccent(C85)","v":{"$error":"#NAME?"}},null,{"$f":"IF(ISNUMBER(E85),\"delka\",\"\")","v":""},null,{"$f":"IF(ISNUMBER(G85),\"sirka\",\"\")","v":""},null,{"$f":"IF(ISNUMBER(I85),\"tloustka\",\"\")","v":""},{"$f":"IF(ISNUMBER(E85),$E$13,\"\")","v":""},null,null,null,null,null,null,null,null,null,{"$f":"IF(ISNUMBER(E85),(E85& \"x\" & G85),\"\")","v":""},null,{"$f":"IF(T85=\"ANO\",E85+20,E85)","v":0},{"$f":"IF(T85=\"ANO\",G85+20,G85)","v":0},{"$f":"IF(T85=\"ANO\",J85*2,J85)","v":0},{"$f":"IF(T85=\"ANO\",S85,0)","v":0},null,"-","-",{"$f":"IF(ISNUMBER(E85),((U85*V85)*W85)/1000000,\"\")","v":""},{"$f":"IF(ISNUMBER(E85),(((U85+V85)*2)*W85)/1000,\"\")","v":""}]
["",{"$error":"#NAME?"},null,"",null,"",null,"","",null,null,null,null,null,null,null,null,null,"",null,0,0,0,0,null,"-","-","",""]
["",{"$error":"#NAME?"},null,"",null,"",null,"","",null,null,null,null,null,null,null,null,null,"",null,0,0,0,0,null,"-","-","",""]
["",{"$error":"#NAME?"},null,"",null,"",null,"","",null,null,null,null,null,null,null,null,null,"",null,0,0,0,0,null,"-","-","",""]
["",{"$error":"#NAME?"},null,"",null,"",null,"","",null,null,null,null,null,null,null,null,null,"",null,0,0,0,0,null,"-","-","",""]
["",{"$error":"#NAME?"},null,"",null,"",null,"","",null,null,null,null,null,null,null,null,null,"",null,0,0,0,0,null,"-","-","",""]
["",{"$error":"#NAME?"},null,"",null,"",null,"","",null,null,null,null,null,null,null,null,null,"",null,0,0,0,0,null,"-","-","",""]
["",{"$error":"#NAME?"},null,"",null,"",null,"","",null,null,null,null,null,null,null,null,null,"",null,0,0,0,0,null,"-","-","",""]
["",{"$error":"#NAME?"},null,"",null,"",null,"","",null,null,null,null,null,null,null,null,null,"",null,0,0,0,0,null,"-","-","",""]
["",{"$error":"#NAME?"},null,"",null,"",null,"","",null,null,null,null,null,null,null,null,null,"",null,0,0,0,0,null,"-","-","",""]
["",{"$error":"#NAME?"},null,"",null,"",null,"","",null,null,null,null,null,null,null,null,null,"",null,0,0,0,0,null,"-","-","",""]
["",{"$error":"#NAME?"},null,"",null,"",null,"","",null,null,null,null,null,null,null,null,null,"",null,0,0,0,0,null,"-","-","",""]
["",{"$error":"#NAME?"},null,"",null,"",null,"","",null,null,null,null,null,null,null,null,null,"",null,0,0,0,0,null,"-","-","",""]
["",{"$error":"#NAME?"},null,"",null,"",null,"","",null,null,null,null,null,null,null,null,null,"",null,0,0,0,0,null,"-","-","",""]
["",{"$error":"#NAME?"},null,"",null,"",null,"","",null,null,null,null,null,null,null,null,null,"",null,0,0,0,0,null,"-","-","",""]
["",{"$error":"#NAME?"},null,"",null,"",null,"","",null,null,null,null,null,null,null,null,null,"",null,0,0,0,0,null,"-","-","",""]
["",{"$error":"#NAME?"},null,"",null,"",null,"","",null,null,null,null,null,null,null,null,null,"",null,0,0,0,0,null,"-","-","",""]
["",{"$error":"#NAME?"},null,"",null,"",null,"","",null,null,null,null,null,null,null,null,null,"",null,0,0,0,0,null,"-","-","",""]
["",{"$error":"#NAME?"},null,"",null,"",null,"","",null,null,null,null,null,null,null,null,null,"",null,0,0,0,0,null,"-","-","",""]
["",{"$error":"#NAME?"},null,"",null,"",null,"","",null,null,null,null,null,null,null,null,null,"",null,0,0,0,0,null,"-","-","",""]
["",{"$error":"#NAME?"},null,"",null,"",null,"","",null,null,null,null,null,null,null,null,null,"",null,0,0,0,0,null,"-","-","",""]
["",{"$error":"#NAME?"},null,"",null,"",null,"","",null,null,null,null,null,null,null,null,null,"",null,0,0,0,0,null,"-","-","",""]
["",{"$error":"#NAME?"},null,"",null,"",null,"","",null,null,null,null,null,null,null,null,null,"",null,0,0,0,0]
["",{"$error":"#NAME?"},null,"",null,"",null,"","",null,null,null,null,null,null,null,null,null,"",null,0,0,0,0]
["",{"$error":"#NAME?"},null,"",null,"",null,"","",null,null,null,null,null,null,null,null,null,"",null,0,0,0,0]
["",{"$error":"#NAME?"},null,"",null,"",null,"","",null,null,null,null,null,null,null,null,null,"",null,0,0,0,0]
["",{"$error":"#NAME?"},null,"",null,"",null,"","",null,null,null,null,null,null,null,null,null,"",null,0,0,0,0]
["",{"$error":"#NAME?"},null,"",null,"",null,"","",null,null,null,null,null,null,null,null,null,"",null,0,0,0,0]
["",{"$error":"#NAME?"},null,"",null,"",null,"","",null,null,null,null,null,null,null,null,null,"",null,0,0,0,0]
["",{"$error":"#NAME?"},null,"",null,"",null,"","",null,null,null,null,null,null,null,null,null,"",null,0,0,0,0]
["",{"$error":"#NAME?"},null,"",null,"",null,"","",null,null,null,null,null,null,null,null,null,"",null,0,0,0,0]
["",{"$error":"#NAME?"},null,"",null,"",null,"","",null,null,null,null,null,null,null,null,null,"",null,0,0,0,0]
["",{"$error":"#NAME?"},null,"",null,"",null,"","",null,null,null,null,null,null,null,null,null,"",null,0,0,0,0]

{"sheet":"CSV 1","index":6,"n_rows":106,"n_cols":20,"rows_kept":106,"cut":false,"hidden":true,"merged":[]}
[{"$f":"'Dekor 1'!A19","v":"CestaSouboru"},{"$f":"'Dekor 1'!B19","v":"nazev"},"Parametricka pravidla",{"$f":"'Dekor 1'!J19","v":"pocet"},"ohr x1","ohr x2","ohr y1","ohr y2","rozměr","Pozn X1","Pozn X2","Pozn Y1","Pozn Y2","Vysledny rozmer tuplu","22/1","22/0.5","22/2","42/1","42/2","Poznámka"]
[{"$f":"'Dekor 1'!A20","v":""},{"$f":"'Dekor 1'!B20","v":{"$error":"#NAME?"}},{"$f":"IF(ISNUMBER('Dekor 1'!J20),('Dekor 1'!D20 & \".\" & 'Dekor 1'!U20 & \".\" & 'Dekor 1'!F20 & \".\" & 'Dekor 1'!V20 & \".\" & 'Dekor 1'!H20 & \".\" & 'Dekor 1'!I20),\"\")","v":""},{"$f":"'Dekor 1'!W20","v":0},{"$f":"'Dekor 1'!K20","v":0},{"$f":"'Dekor 1'!M20","v":0},{"$f":"'Dekor 1'!O20","v":0},{"$f":"'Dekor 1'!Q20","v":0},{"$f":"IF(ISNUMBER('Dekor 1'!J20),'Dekor 1'!E20 & \"x\" & 'Dekor 1'!G20,\"\")","v":""},{"$f":"'Dekor 1'!L20","v":0},{"$f":"'Dekor 1'!N20","v":0},{"$f":"'Dekor 1'!P20","v":0},{"$f":"'Dekor 1'!R20","v":0},{"$f":"'Dekor 1'!X20","v":0},{"$f":"IF(ISNUMBER('Dekor 1'!J20),'Dekor 1'!$AF$20,\"\")","v":""},{"$f":"IF(ISNUMBER('Dekor 1'!J20),'Dekor 1'!$AF$21,\"\")","v":""},{"$f":"IF(ISNUMBER('Dekor 1'!J20),'Dekor 1'!$AF$22,\"\")","v":""},{"$f":"IF(ISNUMBER('Dekor 1'!J20),'Dekor 1'!$AF$23,\"\")","v":""},{"$f":"IF(ISNUMBER('Dekor 1'!J20),'Dekor 1'!$AF$24,\"\")","v":""},{"$f":"'Dekor 1'!Y20","v":0}]
[{"$f":"'Dekor 1'!A21","v":""},{"$f":"'Dekor 1'!B21","v":{"$error":"#NAME?"}},{"$f":"IF(ISNUMBER('Dekor 1'!J21),('Dekor 1'!D21 & \".\" & 'Dekor 1'!U21 & \".\" & 'Dekor 1'!F21 & \".\" & 'Dekor 1'!V21 & \".\" & 'Dekor 1'!H21 & \".\" & 'Dekor 1'!I21),\"\")","v":""},{"$f":"'Dekor 1'!W21","v":0},{"$f":"'Dekor 1'!K21","v":0},{"$f":"'Dekor 1'!M21","v":0},{"$f":"'Dekor 1'!O21","v":0},{"$f":"'Dekor 1'!Q21","v":0},{"$f":"IF(ISNUMBER('Dekor 1'!J21),'Dekor 1'!E21 & \"x\" & 'Dekor 1'!G21,\"\")","v":""},{"$f":"'Dekor 1'!L21","v":0},{"$f":"'Dekor 1'!N21","v":0},{"$f":"'Dekor 1'!P21","v":0},{"$f":"'Dekor 1'!R21","v":0},{"$f":"'Dekor 1'!X21","v":0},{"$f":"IF(ISNUMBER('Dekor 1'!J21),'Dekor 1'!$AF$20,\"\")","v":""},{"$f":"IF(ISNUMBER('Dekor 1'!J21),'Dekor 1'!$AF$21,\"\")","v":""},{"$f":"IF(ISNUMBER('Dekor 1'!J21),'Dekor 1'!$AF$22,\"\")","v":""},{"$f":"IF(ISNUMBER('Dekor 1'!J21),'Dekor 1'!$AF$23,\"\")","v":""},{"$f":"IF(ISNUMBER('Dekor 1'!J21),'Dekor 1'!$AF$24,\"\")","v":""},{"$f":"'Dekor 1'!Y21","v":0}]
[{"$f":"'Dekor 1'!A22","v":""},{"$f":"'Dekor 1'!B22","v":{"$error":"#NAME?"}},{"$f":"IF(ISNUMBER('Dekor 1'!J22),('Dekor 1'!D22 & \".\" & 'Dekor 1'!U22 & \".\" & 'Dekor 1'!F22 & \".\" & 'Dekor 1'!V22 & \".\" & 'Dekor 1'!H22 & \".\" & 'Dekor 1'!I22),\"\")","v":""},{"$f":"'Dekor 1'!W22","v":0},{"$f":"'Dekor 1'!K22","v":0},{"$f":"'Dekor 1'!M22","v":0},{"$f":"'Dekor 1'!O22","v":0},{"$f":"'Dekor 1'!Q22","v":0},{"$f":"IF(ISNUMBER('Dekor 1'!J22),'Dekor 1'!E22 & \"x\" & 'Dekor 1'!G22,\"\")","v":""},{"$f":"'Dekor 1'!L22","v":0},{"$f":"'Dekor 1'!N22","v":0},{"$f":"'Dekor 1'!P22","v":0},{"$f":"'Dekor 1'!R22","v":0},{"$f":"'Dekor 1'!X22","v":0},{"$f":"IF(ISNUMBER('Dekor 1'!J22),'Dekor 1'!$AF$20,\"\")","v":""},{"$f":"IF(ISNUMBER('Dekor 1'!J22),'Dekor 1'!$AF$21,\"\")","v":""},{"$f":"IF(ISNUMBER('Dekor 1'!J22),'Dekor 1'!$AF$22,\"\")","v":""},{"$f":"IF(ISNUMBER('Dekor 1'!J22),'Dekor 1'!$AF$23,\"\")","v":""},{"$f":"IF(ISNUMBER('Dekor 1'!J22),'Dekor 1'!$AF$24,\"\")","v":""},{"$f":"'Dekor 1'!Y22","v":0}]
[{"$f":"'Dekor 1'!A23","v":""},{"$f":"'Dekor 1'!B23","v":{"$error":"#NAME?"}},{"$f":"IF(ISNUMBER('Dekor 1'!J23),('Dekor 1'!D23 & \".\" & 'Dekor 1'!U23 & \".\" & 'Dekor 1'!F23 & \".\" & 'Dekor 1'!V23 & \".\" & 'Dekor 1'!H23 & \".\" & 'Dekor 1'!I23),\"\")","v":""},{"$f":"'Dekor 1'!W23","v":0},{"$f":"'Dekor 1'!K23","v":0},{"$f":"'Dekor 1'!M23","v":0},{"$f":"'Dekor 1'!O23","v":0},{"$f":"'Dekor 1'!Q23","v":0},{"$f":"IF(ISNUMBER('Dekor 1'!J23),'Dekor 1'!E23 & \"x\" & 'Dekor 1'!G23,\"\")","v":""},{"$f":"'Dekor 1'!L23","v":0},{"$f":"'Dekor 1'!N23","v":0},{"$f":"'Dekor 1'!P23","v":0},{"$f":"'Dekor 1'!R23","v":0},{"$f":"'Dekor 1'!X23","v":0},{"$f":"IF(ISNUMBER('Dekor 1'!J23),'Dekor 1'!$AF$20,\"\")","v":""},{"$f":"IF(ISNUMBER('Dekor 1'!J23),'Dekor 1'!$AF$21,\"\")","v":""},{"$f":"IF(ISNUMBER('Dekor 1'!J23),'Dekor 1'!$AF$22,\"\")","v":""},{"$f":"IF(ISNUMBER('Dekor 1'!J23),'Dekor 1'!$AF$23,\"\")","v":""},{"$f":"IF(ISNUMBER('Dekor 1'!J23),'Dekor 1'!$AF$24,\"\")","v":""},{"$f":"'Dekor 1'!Y23","v":0}]
[{"$f":"'Dekor 1'!A24","v":""},{"$f":"'Dekor 1'!B24","v":{"$error":"#NAME?"}},{"$f":"IF(ISNUMBER('Dekor 1'!J24),('Dekor 1'!D24 & \".\" & 'Dekor 1'!U24 & \".\" & 'Dekor 1'!F24 & \".\" & 'Dekor 1'!V24 & \".\" & 'Dekor 1'!H24 & \".\" & 'Dekor 1'!I24),\"\")","v":""},{"$f":"'Dekor 1'!W24","v":0},{"$f":"'Dekor 1'!K24","v":0},{"$f":"'Dekor 1'!M24","v":0},{"$f":"'Dekor 1'!O24","v":0},{"$f":"'Dekor 1'!Q24","v":0},{"$f":"IF(ISNUMBER('Dekor 1'!J24),'Dekor 1'!E24 & \"x\" & 'Dekor 1'!G24,\"\")","v":""},{"$f":"'Dekor 1'!L24","v":0},{"$f":"'Dekor 1'!N24","v":0},{"$f":"'Dekor 1'!P24","v":0},{"$f":"'Dekor 1'!R24","v":0},{"$f":"'Dekor 1'!X24","v":0},{"$f":"IF(ISNUMBER('Dekor 1'!J24),'Dekor 1'!$AF$20,\"\")","v":""},{"$f":"IF(ISNUMBER('Dekor 1'!J24),'Dekor 1'!$AF$21,\"\")","v":""},{"$f":"IF(ISNUMBER('Dekor 1'!J24),'Dekor 1'!$AF$22,\"\")","v":""},{"$f":"IF(ISNUMBER('Dekor 1'!J24),'Dekor 1'!$AF$23,\"\")","v":""},{"$f":"IF(ISNUMBER('Dekor 1'!J24),'Dekor 1'!$AF$24,\"\")","v":""},{"$f":"'Dekor 1'!Y24","v":0}]
[{"$f":"'Dekor 1'!A25","v":""},{"$f":"'Dekor 1'!B25","v":{"$error":"#NAME?"}},{"$f":"IF(ISNUMBER('Dekor 1'!J25),('Dekor 1'!D25 & \".\" & 'Dekor 1'!U25 & \".\" & 'Dekor 1'!F25 & \".\" & 'Dekor 1'!V25 & \".\" & 'Dekor 1'!H25 & \".\" & 'Dekor 1'!I25),\"\")","v":""},{"$f":"'Dekor 1'!W25","v":0},{"$f":"'Dekor 1'!K25","v":0},{"$f":"'Dekor 1'!M25","v":0},{"$f":"'Dekor 1'!O25","v":0},{"$f":"'Dekor 1'!Q25","v":0},{"$f":"IF(ISNUMBER('Dekor 1'!J25),'Dekor 1'!E25 & \"x\" & 'Dekor 1'!G25,\"\")","v":""},{"$f":"'Dekor 1'!L25","v":0},{"$f":"'Dekor 1'!N25","v":0},{"$f":"'Dekor 1'!P25","v":0},{"$f":"'Dekor 1'!R25","v":0},{"$f":"'Dekor 1'!X25","v":0},{"$f":"IF(ISNUMBER('Dekor 1'!J25),'Dekor 1'!$AF$20,\"\")","v":""},{"$f":"IF(ISNUMBER('Dekor 1'!J25),'Dekor 1'!$AF$21,\"\")","v":""},{"$f":"IF(ISNUMBER('Dekor 1'!J25),'Dekor 1'!$AF$22,\"\")","v":""},{"$f":"IF(ISNUMBER('Dekor 1'!J25),'Dekor 1'!$AF$23,\"\")","v":""},{"$f":"IF(ISNUMBER('Dekor 1'!J25),'Dekor 1'!$AF$24,\"\")","v":""},{"$f":"'Dekor 1'!Y25","v":0}]
[{"$f":"'Dekor 1'!A26","v":""},{"$f":"'Dekor 1'!B26","v":{"$error":"#NAME?"}},{"$f":"IF(ISNUMBER('Dekor 1'!J26),('Dekor 1'!D26 & \".\" & 'Dekor 1'!U26 & \".\" & 'Dekor 1'!F26 & \".\" & 'Dekor 1'!V26 & \".\" & 'Dekor 1'!H26 & \".\" & 'Dekor 1'!I26),\"\")","v":""},{"$f":"'Dekor 1'!W26","v":0},{"$f":"'Dekor 1'!K26","v":0},{"$f":"'Dekor 1'!M26","v":0},{"$f":"'Dekor 1'!O26","v":0},{"$f":"'Dekor 1'!Q26","v":0},{"$f":"IF(ISNUMBER('Dekor 1'!J26),'Dekor 1'!E26 & \"x\" & 'Dekor 1'!G26,\"\")","v":""},{"$f":"'Dekor 1'!L26","v":0},{"$f":"'Dekor 1'!N26","v":0},{"$f":"'Dekor 1'!P26","v":0},{"$f":"'Dekor 1'!R26","v":0},{"$f":"'Dekor 1'!X26","v":0},{"$f":"IF(ISNUMBER('Dekor 1'!J26),'Dekor 1'!$AF$20,\"\")","v":""},{"$f":"IF(ISNUMBER('Dekor 1'!J26),'Dekor 1'!$AF$21,\"\")","v":""},{"$f":"IF(ISNUMBER('Dekor 1'!J26),'Dekor 1'!$AF$22,\"\")","v":""},{"$f":"IF(ISNUMBER('Dekor 1'!J26),'Dekor 1'!$AF$23,\"\")","v":""},{"$f":"IF(ISNUMBER('Dekor 1'!J26),'Dekor 1'!$AF$24,\"\")","v":""},{"$f":"'Dekor 1'!Y26","v":0}]
[{"$f":"'Dekor 1'!A27","v":""},{"$f":"'Dekor 1'!B27","v":{"$error":"#NAME?"}},{"$f":"IF(ISNUMBER('Dekor 1'!J27),('Dekor 1'!D27 & \".\" & 'Dekor 1'!U27 & \".\" & 'Dekor 1'!F27 & \".\" & 'Dekor 1'!V27 & \".\" & 'Dekor 1'!H27 & \".\" & 'Dekor 1'!I27),\"\")","v":""},{"$f":"'Dekor 1'!W27","v":0},{"$f":"'Dekor 1'!K27","v":0},{"$f":"'Dekor 1'!M27","v":0},{"$f":"'Dekor 1'!O27","v":0},{"$f":"'Dekor 1'!Q27","v":0},{"$f":"IF(ISNUMBER('Dekor 1'!J27),'Dekor 1'!E27 & \"x\" & 'Dekor 1'!G27,\"\")","v":""},{"$f":"'Dekor 1'!L27","v":0},{"$f":"'Dekor 1'!N27","v":0},{"$f":"'Dekor 1'!P27","v":0},{"$f":"'Dekor 1'!R27","v":0},{"$f":"'Dekor 1'!X27","v":0},{"$f":"IF(ISNUMBER('Dekor 1'!J27),'Dekor 1'!$AF$20,\"\")","v":""},{"$f":"IF(ISNUMBER('Dekor 1'!J27),'Dekor 1'!$AF$21,\"\")","v":""},{"$f":"IF(ISNUMBER('Dekor 1'!J27),'Dekor 1'!$AF$22,\"\")","v":""},{"$f":"IF(ISNUMBER('Dekor 1'!J27),'Dekor 1'!$AF$23,\"\")","v":""},{"$f":"IF(ISNUMBER('Dekor 1'!J27),'Dekor 1'!$AF$24,\"\")","v":""},{"$f":"'Dekor 1'!Y27","v":0}]
[{"$f":"'Dekor 1'!A28","v":""},{"$f":"'Dekor 1'!B28","v":{"$error":"#NAME?"}},{"$f":"IF(ISNUMBER('Dekor 1'!J28),('Dekor 1'!D28 & \".\" & 'Dekor 1'!U28 & \".\" & 'Dekor 1'!F28 & \".\" & 'Dekor 1'!V28 & \".\" & 'Dekor 1'!H28 & \".\" & 'Dekor 1'!I28),\"\")","v":""},{"$f":"'Dekor 1'!W28","v":0},{"$f":"'Dekor 1'!K28","v":0},{"$f":"'Dekor 1'!M28","v":0},{"$f":"'Dekor 1'!O28","v":0},{"$f":"'Dekor 1'!Q28","v":0},{"$f":"IF(ISNUMBER('Dekor 1'!J28),'Dekor 1'!E28 & \"x\" & 'Dekor 1'!G28,\"\")","v":""},{"$f":"'Dekor 1'!L28","v":0},{"$f":"'Dekor 1'!N28","v":0},{"$f":"'Dekor 1'!P28","v":0},{"$f":"'Dekor 1'!R28","v":0},{"$f":"'Dekor 1'!X28","v":0},{"$f":"IF(ISNUMBER('Dekor 1'!J28),'Dekor 1'!$AF$20,\"\")","v":""},{"$f":"IF(ISNUMBER('Dekor 1'!J28),'Dekor 1'!$AF$21,\"\")","v":""},{"$f":"IF(ISNUMBER('Dekor 1'!J28),'Dekor 1'!$AF$22,\"\")","v":""},{"$f":"IF(ISNUMBER('Dekor 1'!J28),'Dekor 1'!$AF$23,\"\")","v":""},{"$f":"IF(ISNUMBER('Dekor 1'!J28),'Dekor 1'!$AF$24,\"\")","v":""},{"$f":"'Dekor 1'!Y28","v":0}]
[{"$f":"'Dekor 1'!A29","v":""},{"$f":"'Dekor 1'!B29","v":{"$error":"#NAME?"}},{"$f":"IF(ISNUMBER('Dekor 1'!J29),('Dekor 1'!D29 & \".\" & 'Dekor 1'!U29 & \".\" & 'Dekor 1'!F29 & \".\" & 'Dekor 1'!V29 & \".\" & 'Dekor 1'!H29 & \".\" & 'Dekor 1'!I29),\"\")","v":""},{"$f":"'Dekor 1'!W29","v":0},{"$f":"'Dekor 1'!K29","v":0},{"$f":"'Dekor 1'!M29","v":0},{"$f":"'Dekor 1'!O29","v":0},{"$f":"'Dekor 1'!Q29","v":0},{"$f":"IF(ISNUMBER('Dekor 1'!J29),'Dekor 1'!E29 & \"x\" & 'Dekor 1'!G29,\"\")","v":""},{"$f":"'Dekor 1'!L29","v":0},{"$f":"'Dekor 1'!N29","v":0},{"$f":"'Dekor 1'!P29","v":0},{"$f":"'Dekor 1'!R29","v":0},{"$f":"'Dekor 1'!X29","v":0},{"$f":"IF(ISNUMBER('Dekor 1'!J29),'Dekor 1'!$AF$20,\"\")","v":""},{"$f":"IF(ISNUMBER('Dekor 1'!J29),'Dekor 1'!$AF$21,\"\")","v":""},{"$f":"IF(ISNUMBER('Dekor 1'!J29),'Dekor 1'!$AF$22,\"\")","v":""},{"$f":"IF(ISNUMBER('Dekor 1'!J29),'Dekor 1'!$AF$23,\"\")","v":""},{"$f":"IF(ISNUMBER('Dekor 1'!J29),'Dekor 1'!$AF$24,\"\")","v":""},{"$f":"'Dekor 1'!Y29","v":0}]
[{"$f":"'Dekor 1'!A30","v":""},{"$f":"'Dekor 1'!B30","v":{"$error":"#NAME?"}},{"$f":"IF(ISNUMBER('Dekor 1'!J30),('Dekor 1'!D30 & \".\" & 'Dekor 1'!U30 & \".\" & 'Dekor 1'!F30 & \".\" & 'Dekor 1'!V30 & \".\" & 'Dekor 1'!H30 & \".\" & 'Dekor 1'!I30),\"\")","v":""},{"$f":"'Dekor 1'!W30","v":0},{"$f":"'Dekor 1'!K30","v":0},{"$f":"'Dekor 1'!M30","v":0},{"$f":"'Dekor 1'!O30","v":0},{"$f":"'Dekor 1'!Q30","v":0},{"$f":"IF(ISNUMBER('Dekor 1'!J30),'Dekor 1'!E30 & \"x\" & 'Dekor 1'!G30,\"\")","v":""},{"$f":"'Dekor 1'!L30","v":0},{"$f":"'Dekor 1'!N30","v":0},{"$f":"'Dekor 1'!P30","v":0},{"$f":"'Dekor 1'!R30","v":0},{"$f":"'Dekor 1'!X30","v":0},{"$f":"IF(ISNUMBER('Dekor 1'!J30),'Dekor 1'!$AF$20,\"\")","v":""},{"$f":"IF(ISNUMBER('Dekor 1'!J30),'Dekor 1'!$AF$21,\"\")","v":""},{"$f":"IF(ISNUMBER('Dekor 1'!J30),'Dekor 1'!$AF$22,\"\")","v":""},{"$f":"IF(ISNUMBER('Dekor 1'!J30),'Dekor 1'!$AF$23,\"\")","v":""},{"$f":"IF(ISNUMBER('Dekor 1'!J30),'Dekor 1'!$AF$24,\"\")","v":""},{"$f":"'Dekor 1'!Y30","v":0}]
[{"$f":"'Dekor 1'!A31","v":""},{"$f":"'Dekor 1'!B31","v":{"$error":"#NAME?"}},{"$f":"IF(ISNUMBER('Dekor 1'!J31),('Dekor 1'!D31 & \".\" & 'Dekor 1'!U31 & \".\" & 'Dekor 1'!F31 & \".\" & 'Dekor 1'!V31 & \".\" & 'Dekor 1'!H31 & \".\" & 'Dekor 1'!I31),\"\")","v":""},{"$f":"'Dekor 1'!W31","v":0},{"$f":"'Dekor 1'!K31","v":0},{"$f":"'Dekor 1'!M31","v":0},{"$f":"'Dekor 1'!O31","v":0},{"$f":"'Dekor 1'!Q31","v":0},{"$f":"IF(ISNUMBER('Dekor 1'!J31),'Dekor 1'!E31 & \"x\" & 'Dekor 1'!G31,\"\")","v":""},{"$f":"'Dekor 1'!L31","v":0},{"$f":"'Dekor 1'!N31","v":0},{"$f":"'Dekor 1'!P31","v":0},{"$f":"'Dekor 1'!R31","v":0},{"$f":"'Dekor 1'!X31","v":0},{"$f":"IF(ISNUMBER('Dekor 1'!J31),'Dekor 1'!$AF$20,\"\")","v":""},{"$f":"IF(ISNUMBER('Dekor 1'!J31),'Dekor 1'!$AF$21,\"\")","v":""},{"$f":"IF(ISNUMBER('Dekor 1'!J31),'Dekor 1'!$AF$22,\"\")","v":""},{"$f":"IF(ISNUMBER('Dekor 1'!J31),'Dekor 1'!$AF$23,\"\")","v":""},{"$f":"IF(ISNUMBER('Dekor 1'!J31),'Dekor 1'!$AF$24,\"\")","v":""},{"$f":"'Dekor 1'!Y31","v":0}]
[{"$f":"'Dekor 1'!A32","v":""},{"$f":"'Dekor 1'!B32","v":{"$error":"#NAME?"}},{"$f":"IF(ISNUMBER('Dekor 1'!J32),('Dekor 1'!D32 & \".\" & 'Dekor 1'!U32 & \".\" & 'Dekor 1'!F32 & \".\" & 'Dekor 1'!V32 & \".\" & 'Dekor 1'!H32 & \".\" & 'Dekor 1'!I32),\"\")","v":""},{"$f":"'Dekor 1'!W32","v":0},{"$f":"'Dekor 1'!K32","v":0},{"$f":"'Dekor 1'!M32","v":0},{"$f":"'Dekor 1'!O32","v":0},{"$f":"'Dekor 1'!Q32","v":0},{"$f":"IF(ISNUMBER('Dekor 1'!J32),'Dekor 1'!E32 & \"x\" & 'Dekor 1'!G32,\"\")","v":""},{"$f":"'Dekor 1'!L32","v":0},{"$f":"'Dekor 1'!N32","v":0},{"$f":"'Dekor 1'!P32","v":0},{"$f":"'Dekor 1'!R32","v":0},{"$f":"'Dekor 1'!X32","v":0},{"$f":"IF(ISNUMBER('Dekor 1'!J32),'Dekor 1'!$AF$20,\"\")","v":""},{"$f":"IF(ISNUMBER('Dekor 1'!J32),'Dekor 1'!$AF$21,\"\")","v":""},{"$f":"IF(ISNUMBER('Dekor 1'!J32),'Dekor 1'!$AF$22,\"\")","v":""},{"$f":"IF(ISNUMBER('Dekor 1'!J32),'Dekor 1'!$AF$23,\"\")","v":""},{"$f":"IF(ISNUMBER('Dekor 1'!J32),'Dekor 1'!$AF$24,\"\")","v":""},{"$f":"'Dekor 1'!Y32","v":0}]
[{"$f":"'Dekor 1'!A33","v":""},{"$f":"'Dekor 1'!B33","v":{"$error":"#NAME?"}},{"$f":"IF(ISNUMBER('Dekor 1'!J33),('Dekor 1'!D33 & \".\" & 'Dekor 1'!U33 & \".\" & 'Dekor 1'!F33 & \".\" & 'Dekor 1'!V33 & \".\" & 'Dekor 1'!H33 & \".\" & 'Dekor 1'!I33),\"\")","v":""},{"$f":"'Dekor 1'!W33","v":0},{"$f":"'Dekor 1'!K33","v":0},{"$f":"'Dekor 1'!M33","v":0},{"$f":"'Dekor 1'!O33","v":0},{"$f":"'Dekor 1'!Q33","v":0},{"$f":"IF(ISNUMBER('Dekor 1'!J33),'Dekor 1'!E33 & \"x\" & 'Dekor 1'!G33,\"\")","v":""},{"$f":"'Dekor 1'!L33","v":0},{"$f":"'Dekor 1'!N33","v":0},{"$f":"'Dekor 1'!P33","v":0},{"$f":"'Dekor 1'!R33","v":0},{"$f":"'Dekor 1'!X33","v":0},{"$f":"IF(ISNUMBER('Dekor 1'!J33),'Dekor 1'!$AF$20,\"\")","v":""},{"$f":"IF(ISNUMBER('Dekor 1'!J33),'Dekor 1'!$AF$21,\"\")","v":""},{"$f":"IF(ISNUMBER('Dekor 1'!J33),'Dekor 1'!$AF$22,\"\")","v":""},{"$f":"IF(ISNUMBER('Dekor 1'!J33),'Dekor 1'!$AF$23,\"\")","v":""},{"$f":"IF(ISNUMBER('Dekor 1'!J33),'Dekor 1'!$AF$24,\"\")","v":""},{"$f":"'Dekor 1'!Y33","v":0}]
[{"$f":"'Dekor 1'!A34","v":""},{"$f":"'Dekor 1'!B34","v":{"$error":"#NAME?"}},{"$f":"IF(ISNUMBER('Dekor 1'!J34),('Dekor 1'!D34 & \".\" & 'Dekor 1'!U34 & \".\" & 'Dekor 1'!F34 & \".\" & 'Dekor 1'!V34 & \".\" & 'Dekor 1'!H34 & \".\" & 'Dekor 1'!I34),\"\")","v":""},{"$f":"'Dekor 1'!W34","v":0},{"$f":"'Dekor 1'!K34","v":0},{"$f":"'Dekor 1'!M34","v":0},{"$f":"'Dekor 1'!O34","v":0},{"$f":"'Dekor 1'!Q34","v":0},{"$f":"IF(ISNUMBER('Dekor 1'!J34),'Dekor 1'!E34 & \"x\" & 'Dekor 1'!G34,\"\")","v":""},{"$f":"'Dekor 1'!L34","v":0},{"$f":"'Dekor 1'!N34","v":0},{"$f":"'Dekor 1'!P34","v":0},{"$f":"'Dekor 1'!R34","v":0},{"$f":"'Dekor 1'!X34","v":0},{"$f":"IF(ISNUMBER('Dekor 1'!J34),'Dekor 1'!$AF$20,\"\")","v":""},{"$f":"IF(ISNUMBER('Dekor 1'!J34),'Dekor 1'!$AF$21,\"\")","v":""},{"$f":"IF(ISNUMBER('Dekor 1'!J34),'Dekor 1'!$AF$22,\"\")","v":""},{"$f":"IF(ISNUMBER('Dekor 1'!J34),'Dekor 1'!$AF$23,\"\")","v":""},{"$f":"IF(ISNUMBER('Dekor 1'!J34),'Dekor 1'!$AF$24,\"\")","v":""},{"$f":"'Dekor 1'!Y34","v":0}]
[{"$f":"'Dekor 1'!A35","v":""},{"$f":"'Dekor 1'!B35","v":{"$error":"#NAME?"}},{"$f":"IF(ISNUMBER('Dekor 1'!J35),('Dekor 1'!D35 & \".\" & 'Dekor 1'!U35 & \".\" & 'Dekor 1'!F35 & \".\" & 'Dekor 1'!V35 & \".\" & 'Dekor 1'!H35 & \".\" & 'Dekor 1'!I35),\"\")","v":""},{"$f":"'Dekor 1'!W35","v":0},{"$f":"'Dekor 1'!K35","v":0},{"$f":"'Dekor 1'!M35","v":0},{"$f":"'Dekor 1'!O35","v":0},{"$f":"'Dekor 1'!Q35","v":0},{"$f":"IF(ISNUMBER('Dekor 1'!J35),'Dekor 1'!E35 & \"x\" & 'Dekor 1'!G35,\"\")","v":""},{"$f":"'Dekor 1'!L35","v":0},{"$f":"'Dekor 1'!N35","v":0},{"$f":"'Dekor 1'!P35","v":0},{"$f":"'Dekor 1'!R35","v":0},{"$f":"'Dekor 1'!X35","v":0},{"$f":"IF(ISNUMBER('Dekor 1'!J35),'Dekor 1'!$AF$20,\"\")","v":""},{"$f":"IF(ISNUMBER('Dekor 1'!J35),'Dekor 1'!$AF$21,\"\")","v":""},{"$f":"IF(ISNUMBER('Dekor 1'!J35),'Dekor 1'!$AF$22,\"\")","v":""},{"$f":"IF(ISNUMBER('Dekor 1'!J35),'Dekor 1'!$AF$23,\"\")","v":""},{"$f":"IF(ISNUMBER('Dekor 1'!J35),'Dekor 1'!$AF$24,\"\")","v":""},{"$f":"'Dekor 1'!Y35","v":0}]
[{"$f":"'Dekor 1'!A36","v":""},{"$f":"'Dekor 1'!B36","v":{"$error":"#NAME?"}},{"$f":"IF(ISNUMBER('Dekor 1'!J36),('Dekor 1'!D36 & \".\" & 'Dekor 1'!U36 & \".\" & 'Dekor 1'!F36 & \".\" & 'Dekor 1'!V36 & \".\" & 'Dekor 1'!H36 & \".\" & 'Dekor 1'!I36),\"\")","v":""},{"$f":"'Dekor 1'!W36","v":0},{"$f":"'Dekor 1'!K36","v":0},{"$f":"'Dekor 1'!M36","v":0},{"$f":"'Dekor 1'!O36","v":0},{"$f":"'Dekor 1'!Q36","v":0},{"$f":"IF(ISNUMBER('Dekor 1'!J36),'Dekor 1'!E36 & \"x\" & 'Dekor 1'!G36,\"\")","v":""},{"$f":"'Dekor 1'!L36","v":0},{"$f":"'Dekor 1'!N36","v":0},{"$f":"'Dekor 1'!P36","v":0},{"$f":"'Dekor 1'!R36","v":0},{"$f":"'Dekor 1'!X36","v":0},{"$f":"IF(ISNUMBER('Dekor 1'!J36),'Dekor 1'!$AF$20,\"\")","v":""},{"$f":"IF(ISNUMBER('Dekor 1'!J36),'Dekor 1'!$AF$21,\"\")","v":""},{"$f":"IF(ISNUMBER('Dekor 1'!J36),'Dekor 1'!$AF$22,\"\")","v":""},{"$f":"IF(ISNUMBER('Dekor 1'!J36),'Dekor 1'!$AF$23,\"\")","v":""},{"$f":"IF(ISNUMBER('Dekor 1'!J36),'Dekor 1'!$AF$24,\"\")","v":""},{"$f":"'Dekor 1'!Y36","v":0}]
[{"$f":"'Dekor 1'!A37","v":""},{"$f":"'Dekor 1'!B37","v":{"$error":"#NAME?"}},{"$f":"IF(ISNUMBER('Dekor 1'!J37),('Dekor 1'!D37 & \".\" & 'Dekor 1'!U37 & \".\" & 'Dekor 1'!F37 & \".\" & 'Dekor 1'!V37 & \".\" & 'Dekor 1'!H37 & \".\" & 'Dekor 1'!I37),\"\")","v":""},{"$f":"'Dekor 1'!W37","v":0},{"$f":"'Dekor 1'!K37","v":0},{"$f":"'Dekor 1'!M37","v":0},{"$f":"'Dekor 1'!O37","v":0},{"$f":"'Dekor 1'!Q37","v":0},{"$f":"IF(ISNUMBER('Dekor 1'!J37),'Dekor 1'!E37 & \"x\" & 'Dekor 1'!G37,\"\")","v":""},{"$f":"'Dekor 1'!L37","v":0},{"$f":"'Dekor 1'!N37","v":0},{"$f":"'Dekor 1'!P37","v":0},{"$f":"'Dekor 1'!R37","v":0},{"$f":"'Dekor 1'!X37","v":0},{"$f":"IF(ISNUMBER('Dekor 1'!J37),'Dekor 1'!$AF$20,\"\")","v":""},{"$f":"IF(ISNUMBER('Dekor 1'!J37),'Dekor 1'!$AF$21,\"\")","v":""},{"$f":"IF(ISNUMBER('Dekor 1'!J37),'Dekor 1'!$AF$22,\"\")","v":""},{"$f":"IF(ISNUMBER('Dekor 1'!J37),'Dekor 1'!$AF$23,\"\")","v":""},{"$f":"IF(ISNUMBER('Dekor 1'!J37),'Dekor 1'!$AF$24,\"\")","v":""},{"$f":"'Dekor 1'!Y37","v":0}]
[{"$f":"'Dekor 1'!A38","v":""},{"$f":"'Dekor 1'!B38","v":{"$error":"#NAME?"}},{"$f":"IF(ISNUMBER('Dekor 1'!J38),('Dekor 1'!D38 & \".\" & 'Dekor 1'!U38 & \".\" & 'Dekor 1'!F38 & \".\" & 'Dekor 1'!V38 & \".\" & 'Dekor 1'!H38 & \".\" & 'Dekor 1'!I38),\"\")","v":""},{"$f":"'Dekor 1'!W38","v":0},{"$f":"'Dekor 1'!K38","v":0},{"$f":"'Dekor 1'!M38","v":0},{"$f":"'Dekor 1'!O38","v":0},{"$f":"'Dekor 1'!Q38","v":0},{"$f":"IF(ISNUMBER('Dekor 1'!J38),'Dekor 1'!E38 & \"x\" & 'Dekor 1'!G38,\"\")","v":""},{"$f":"'Dekor 1'!L38","v":0},{"$f":"'Dekor 1'!N38","v":0},{"$f":"'Dekor 1'!P38","v":0},{"$f":"'Dekor 1'!R38","v":0},{"$f":"'Dekor 1'!X38","v":0},{"$f":"IF(ISNUMBER('Dekor 1'!J38),'Dekor 1'!$AF$20,\"\")","v":""},{"$f":"IF(ISNUMBER('Dekor 1'!J38),'Dekor 1'!$AF$21,\"\")","v":""},{"$f":"IF(ISNUMBER('Dekor 1'!J38),'Dekor 1'!$AF$22,\"\")","v":""},{"$f":"IF(ISNUMBER('Dekor 1'!J38),'Dekor 1'!$AF$23,\"\")","v":""},{"$f":"IF(ISNUMBER('Dekor 1'!J38),'Dekor 1'!$AF$24,\"\")","v":""},{"$f":"'Dekor 1'!Y38","v":0}]
[{"$f":"'Dekor 1'!A39","v":""},{"$f":"'Dekor 1'!B39","v":{"$error":"#NAME?"}},{"$f":"IF(ISNUMBER('Dekor 1'!J39),('Dekor 1'!D39 & \".\" & 'Dekor 1'!U39 & \".\" & 'Dekor 1'!F39 & \".\" & 'Dekor 1'!V39 & \".\" & 'Dekor 1'!H39 & \".\" & 'Dekor 1'!I39),\"\")","v":""},{"$f":"'Dekor 1'!W39","v":0},{"$f":"'Dekor 1'!K39","v":0},{"$f":"'Dekor 1'!M39","v":0},{"$f":"'Dekor 1'!O39","v":0},{"$f":"'Dekor 1'!Q39","v":0},{"$f":"IF(ISNUMBER('Dekor 1'!J39),'Dekor 1'!E39 & \"x\" & 'Dekor 1'!G39,\"\")","v":""},{"$f":"'Dekor 1'!L39","v":0},{"$f":"'Dekor 1'!N39","v":0},{"$f":"'Dekor 1'!P39","v":0},{"$f":"'Dekor 1'!R39","v":0},{"$f":"'Dekor 1'!X39","v":0},{"$f":"IF(ISNUMBER('Dekor 1'!J39),'Dekor 1'!$AF$20,\"\")","v":""},{"$f":"IF(ISNUMBER('Dekor 1'!J39),'Dekor 1'!$AF$21,\"\")","v":""},{"$f":"IF(ISNUMBER('Dekor 1'!J39),'Dekor 1'!$AF$22,\"\")","v":""},{"$f":"IF(ISNUMBER('Dekor 1'!J39),'Dekor 1'!$AF$23,\"\")","v":""},{"$f":"IF(ISNUMBER('Dekor 1'!J39),'Dekor 1'!$AF$24,\"\")","v":""},{"$f":"'Dekor 1'!Y39","v":0}]
[{"$f":"'Dekor 1'!A40","v":""},{"$f":"'Dekor 1'!B40","v":{"$error":"#NAME?"}},{"$f":"IF(ISNUMBER('Dekor 1'!J40),('Dekor 1'!D40 & \".\" & 'Dekor 1'!U40 & \".\" & 'Dekor 1'!F40 & \".\" & 'Dekor 1'!V40 & \".\" & 'Dekor 1'!H40 & \".\" & 'Dekor 1'!I40),\"\")","v":""},{"$f":"'Dekor 1'!W40","v":0},{"$f":"'Dekor 1'!K40","v":0},{"$f":"'Dekor 1'!M40","v":0},{"$f":"'Dekor 1'!O40","v":0},{"$f":"'Dekor 1'!Q40","v":0},{"$f":"IF(ISNUMBER('Dekor 1'!J40),'Dekor 1'!E40 & \"x\" & 'Dekor 1'!G40,\"\")","v":""},{"$f":"'Dekor 1'!L40","v":0},{"$f":"'Dekor 1'!N40","v":0},{"$f":"'Dekor 1'!P40","v":0},{"$f":"'Dekor 1'!R40","v":0},{"$f":"'Dekor 1'!X40","v":0},{"$f":"IF(ISNUMBER('Dekor 1'!J40),'Dekor 1'!$AF$20,\"\")","v":""},{"$f":"IF(ISNUMBER('Dekor 1'!J40),'Dekor 1'!$AF$21,\"\")","v":""},{"$f":"IF(ISNUMBER('Dekor 1'!J40),'Dekor 1'!$AF$22,\"\")","v":""},{"$f":"IF(ISNUMBER('Dekor 1'!J40),'Dekor 1'!$AF$23,\"\")","v":""},{"$f":"IF(ISNUMBER('Dekor 1'!J40),'Dekor 1'!$AF$24,\"\")","v":""},{"$f":"'Dekor 1'!Y40","v":0}]
[{"$f":"'Dekor 1'!A41","v":""},{"$f":"'Dekor 1'!B41","v":{"$error":"#NAME?"}},{"$f":"IF(ISNUMBER('Dekor 1'!J41),('Dekor 1'!D41 & \".\" & 'Dekor 1'!U41 & \".\" & 'Dekor 1'!F41 & \".\" & 'Dekor 1'!V41 & \".\" & 'Dekor 1'!H41 & \".\" & 'Dekor 1'!I41),\"\")","v":""},{"$f":"'Dekor 1'!W41","v":0},{"$f":"'Dekor 1'!K41","v":0},{"$f":"'Dekor 1'!M41","v":0},{"$f":"'Dekor 1'!O41","v":0},{"$f":"'Dekor 1'!Q41","v":0},{"$f":"IF(ISNUMBER('Dekor 1'!J41),'Dekor 1'!E41 & \"x\" & 'Dekor 1'!G41,\"\")","v":""},{"$f":"'Dekor 1'!L41","v":0},{"$f":"'Dekor 1'!N41","v":0},{"$f":"'Dekor 1'!P41","v":0},{"$f":"'Dekor 1'!R41","v":0},{"$f":"'Dekor 1'!X41","v":0},{"$f":"IF(ISNUMBER('Dekor 1'!J41),'Dekor 1'!$AF$20,\"\")","v":""},{"$f":"IF(ISNUMBER('Dekor 1'!J41),'Dekor 1'!$AF$21,\"\")","v":""},{"$f":"IF(ISNUMBER('Dekor 1'!J41),'Dekor 1'!$AF$22,\"\")","v":""},{"$f":"IF(ISNUMBER('Dekor 1'!J41),'Dekor 1'!$AF$23,\"\")","v":""},{"$f":"IF(ISNUMBER('Dekor 1'!J41),'Dekor 1'!$AF$24,\"\")","v":""},{"$f":"'Dekor 1'!Y41","v":0}]
[{"$f":"'Dekor 1'!A42","v":""},{"$f":"'Dekor 1'!B42","v":{"$error":"#NAME?"}},{"$f":"IF(ISNUMBER('Dekor 1'!J42),('Dekor 1'!D42 & \".\" & 'Dekor 1'!U42 & \".\" & 'Dekor 1'!F42 & \".\" & 'Dekor 1'!V42 & \".\" & 'Dekor 1'!H42 & \".\" & 'Dekor 1'!I42),\"\")","v":""},{"$f":"'Dekor 1'!W42","v":0},{"$f":"'Dekor 1'!K42","v":0},{"$f":"'Dekor 1'!M42","v":0},{"$f":"'Dekor 1'!O42","v":0},{"$f":"'Dekor 1'!Q42","v":0},{"$f":"IF(ISNUMBER('Dekor 1'!J42),'Dekor 1'!E42 & \"x\" & 'Dekor 1'!G42,\"\")","v":""},{"$f":"'Dekor 1'!L42","v":0},{"$f":"'Dekor 1'!N42","v":0},{"$f":"'Dekor 1'!P42","v":0},{"$f":"'Dekor 1'!R42","v":0},{"$f":"'Dekor 1'!X42","v":0},{"$f":"IF(ISNUMBER('Dekor 1'!J42),'Dekor 1'!$AF$20,\"\")","v":""},{"$f":"IF(ISNUMBER('Dekor 1'!J42),'Dekor 1'!$AF$21,\"\")","v":""},{"$f":"IF(ISNUMBER('Dekor 1'!J42),'Dekor 1'!$AF$22,\"\")","v":""},{"$f":"IF(ISNUMBER('Dekor 1'!J42),'Dekor 1'!$AF$23,\"\")","v":""},{"$f":"IF(ISNUMBER('Dekor 1'!J42),'Dekor 1'!$AF$24,\"\")","v":""},{"$f":"'Dekor 1'!Y42","v":0}]
[{"$f":"'Dekor 1'!A43","v":""},{"$f":"'Dekor 1'!B43","v":{"$error":"#NAME?"}},{"$f":"IF(ISNUMBER('Dekor 1'!J43),('Dekor 1'!D43 & \".\" & 'Dekor 1'!U43 & \".\" & 'Dekor 1'!F43 & \".\" & 'Dekor 1'!V43 & \".\" & 'Dekor 1'!H43 & \".\" & 'Dekor 1'!I43),\"\")","v":""},{"$f":"'Dekor 1'!W43","v":0},{"$f":"'Dekor 1'!K43","v":0},{"$f":"'Dekor 1'!M43","v":0},{"$f":"'Dekor 1'!O43","v":0},{"$f":"'Dekor 1'!Q43","v":0},{"$f":"IF(ISNUMBER('Dekor 1'!J43),'Dekor 1'!E43 & \"x\" & 'Dekor 1'!G43,\"\")","v":""},{"$f":"'Dekor 1'!L43","v":0},{"$f":"'Dekor 1'!N43","v":0},{"$f":"'Dekor 1'!P43","v":0},{"$f":"'Dekor 1'!R43","v":0},{"$f":"'Dekor 1'!X43","v":0},{"$f":"IF(ISNUMBER('Dekor 1'!J43),'Dekor 1'!$AF$20,\"\")","v":""},{"$f":"IF(ISNUMBER('Dekor 1'!J43),'Dekor 1'!$AF$21,\"\")","v":""},{"$f":"IF(ISNUMBER('Dekor 1'!J43),'Dekor 1'!$AF$22,\"\")","v":""},{"$f":"IF(ISNUMBER('Dekor 1'!J43),'Dekor 1'!$AF$23,\"\")","v":""},{"$f":"IF(ISNUMBER('Dekor 1'!J43),'Dekor 1'!$AF$24,\"\")","v":""},{"$f":"'Dekor 1'!Y43","v":0}]
[{"$f":"'Dekor 1'!A44","v":""},{"$f":"'Dekor 1'!B44","v":{"$error":"#NAME?"}},{"$f":"IF(ISNUMBER('Dekor 1'!J44),('Dekor 1'!D44 & \".\" & 'Dekor 1'!U44 & \".\" & 'Dekor 1'!F44 & \".\" & 'Dekor 1'!V44 & \".\" & 'Dekor 1'!H44 & \".\" & 'Dekor 1'!I44),\"\")","v":""},{"$f":"'Dekor 1'!W44","v":0},{"$f":"'Dekor 1'!K44","v":0},{"$f":"'Dekor 1'!M44","v":0},{"$f":"'Dekor 1'!O44","v":0},{"$f":"'Dekor 1'!Q44","v":0},{"$f":"IF(ISNUMBER('Dekor 1'!J44),'Dekor 1'!E44 & \"x\" & 'Dekor 1'!G44,\"\")","v":""},{"$f":"'Dekor 1'!L44","v":0},{"$f":"'Dekor 1'!N44","v":0},{"$f":"'Dekor 1'!P44","v":0},{"$f":"'Dekor 1'!R44","v":0},{"$f":"'Dekor 1'!X44","v":0},{"$f":"IF(ISNUMBER('Dekor 1'!J44),'Dekor 1'!$AF$20,\"\")","v":""},{"$f":"IF(ISNUMBER('Dekor 1'!J44),'Dekor 1'!$AF$21,\"\")","v":""},{"$f":"IF(ISNUMBER('Dekor 1'!J44),'Dekor 1'!$AF$22,\"\")","v":""},{"$f":"IF(ISNUMBER('Dekor 1'!J44),'Dekor 1'!$AF$23,\"\")","v":""},{"$f":"IF(ISNUMBER('Dekor 1'!J44),'Dekor 1'!$AF$24,\"\")","v":""},{"$f":"'Dekor 1'!Y44","v":0}]
[{"$f":"'Dekor 1'!A45","v":""},{"$f":"'Dekor 1'!B45","v":{"$error":"#NAME?"}},{"$f":"IF(ISNUMBER('Dekor 1'!J45),('Dekor 1'!D45 & \".\" & 'Dekor 1'!U45 & \".\" & 'Dekor 1'!F45 & \".\" & 'Dekor 1'!V45 & \".\" & 'Dekor 1'!H45 & \".\" & 'Dekor 1'!I45),\"\")","v":""},{"$f":"'Dekor 1'!W45","v":0},{"$f":"'Dekor 1'!K45","v":0},{"$f":"'Dekor 1'!M45","v":0},{"$f":"'Dekor 1'!O45","v":0},{"$f":"'Dekor 1'!Q45","v":0},{"$f":"IF(ISNUMBER('Dekor 1'!J45),'Dekor 1'!E45 & \"x\" & 'Dekor 1'!G45,\"\")","v":""},{"$f":"'Dekor 1'!L45","v":0},{"$f":"'Dekor 1'!N45","v":0},{"$f":"'Dekor 1'!P45","v":0},{"$f":"'Dekor 1'!R45","v":0},{"$f":"'Dekor 1'!X45","v":0},{"$f":"IF(ISNUMBER('Dekor 1'!J45),'Dekor 1'!$AF$20,\"\")","v":""},{"$f":"IF(ISNUMBER('Dekor 1'!J45),'Dekor 1'!$AF$21,\"\")","v":""},{"$f":"IF(ISNUMBER('Dekor 1'!J45),'Dekor 1'!$AF$22,\"\")","v":""},{"$f":"IF(ISNUMBER('Dekor 1'!J45),'Dekor 1'!$AF$23,\"\")","v":""},{"$f":"IF(ISNUMBER('Dekor 1'!J45),'Dekor 1'!$AF$24,\"\")","v":""},{"$f":"'Dekor 1'!Y45","v":0}]
[{"$f":"'Dekor 1'!A46","v":""},{"$f":"'Dekor 1'!B46","v":{"$error":"#NAME?"}},{"$f":"IF(ISNUMBER('Dekor 1'!J46),('Dekor 1'!D46 & \".\" & 'Dekor 1'!U46 & \".\" & 'Dekor 1'!F46 & \".\" & 'Dekor 1'!V46 & \".\" & 'Dekor 1'!H46 & \".\" & 'Dekor 1'!I46),\"\")","v":""},{"$f":"'Dekor 1'!W46","v":0},{"$f":"'Dekor 1'!K46","v":0},{"$f":"'Dekor 1'!M46","v":0},{"$f":"'Dekor 1'!O46","v":0},{"$f":"'Dekor 1'!Q46","v":0},{"$f":"IF(ISNUMBER('Dekor 1'!J46),'Dekor 1'!E46 & \"x\" & 'Dekor 1'!G46,\"\")","v":""},{"$f":"'Dekor 1'!L46","v":0},{"$f":"'Dekor 1'!N46","v":0},{"$f":"'Dekor 1'!P46","v":0},{"$f":"'Dekor 1'!R46","v":0},{"$f":"'Dekor 1'!X46","v":0},{"$f":"IF(ISNUMBER('Dekor 1'!J46),'Dekor 1'!$AF$20,\"\")","v":""},{"$f":"IF(ISNUMBER('Dekor 1'!J46),'Dekor 1'!$AF$21,\"\")","v":""},{"$f":"IF(ISNUMBER('Dekor 1'!J46),'Dekor 1'!$AF$22,\"\")","v":""},{"$f":"IF(ISNUMBER('Dekor 1'!J46),'Dekor 1'!$AF$23,\"\")","v":""},{"$f":"IF(ISNUMBER('Dekor 1'!J46),'Dekor 1'!$AF$24,\"\")","v":""},{"$f":"'Dekor 1'!Y46","v":0}]
[{"$f":"'Dekor 1'!A47","v":""},{"$f":"'Dekor 1'!B47","v":{"$error":"#NAME?"}},{"$f":"IF(ISNUMBER('Dekor 1'!J47),('Dekor 1'!D47 & \".\" & 'Dekor 1'!U47 & \".\" & 'Dekor 1'!F47 & \".\" & 'Dekor 1'!V47 & \".\" & 'Dekor 1'!H47 & \".\" & 'Dekor 1'!I47),\"\")","v":""},{"$f":"'Dekor 1'!W47","v":0},{"$f":"'Dekor 1'!K47","v":0},{"$f":"'Dekor 1'!M47","v":0},{"$f":"'Dekor 1'!O47","v":0},{"$f":"'Dekor 1'!Q47","v":0},{"$f":"IF(ISNUMBER('Dekor 1'!J47),'Dekor 1'!E47 & \"x\" & 'Dekor 1'!G47,\"\")","v":""},{"$f":"'Dekor 1'!L47","v":0},{"$f":"'Dekor 1'!N47","v":0},{"$f":"'Dekor 1'!P47","v":0},{"$f":"'Dekor 1'!R47","v":0},{"$f":"'Dekor 1'!X47","v":0},{"$f":"IF(ISNUMBER('Dekor 1'!J47),'Dekor 1'!$AF$20,\"\")","v":""},{"$f":"IF(ISNUMBER('Dekor 1'!J47),'Dekor 1'!$AF$21,\"\")","v":""},{"$f":"IF(ISNUMBER('Dekor 1'!J47),'Dekor 1'!$AF$22,\"\")","v":""},{"$f":"IF(ISNUMBER('Dekor 1'!J47),'Dekor 1'!$AF$23,\"\")","v":""},{"$f":"IF(ISNUMBER('Dekor 1'!J47),'Dekor 1'!$AF$24,\"\")","v":""},{"$f":"'Dekor 1'!Y47","v":0}]
[{"$f":"'Dekor 1'!A48","v":""},{"$f":"'Dekor 1'!B48","v":{"$error":"#NAME?"}},{"$f":"IF(ISNUMBER('Dekor 1'!J48),('Dekor 1'!D48 & \".\" & 'Dekor 1'!U48 & \".\" & 'Dekor 1'!F48 & \".\" & 'Dekor 1'!V48 & \".\" & 'Dekor 1'!H48 & \".\" & 'Dekor 1'!I48),\"\")","v":""},{"$f":"'Dekor 1'!W48","v":0},{"$f":"'Dekor 1'!K48","v":0},{"$f":"'Dekor 1'!M48","v":0},{"$f":"'Dekor 1'!O48","v":0},{"$f":"'Dekor 1'!Q48","v":0},{"$f":"IF(ISNUMBER('Dekor 1'!J48),'Dekor 1'!E48 & \"x\" & 'Dekor 1'!G48,\"\")","v":""},{"$f":"'Dekor 1'!L48","v":0},{"$f":"'Dekor 1'!N48","v":0},{"$f":"'Dekor 1'!P48","v":0},{"$f":"'Dekor 1'!R48","v":0},{"$f":"'Dekor 1'!X48","v":0},{"$f":"IF(ISNUMBER('Dekor 1'!J48),'Dekor 1'!$AF$20,\"\")","v":""},{"$f":"IF(ISNUMBER('Dekor 1'!J48),'Dekor 1'!$AF$21,\"\")","v":""},{"$f":"IF(ISNUMBER('Dekor 1'!J48),'Dekor 1'!$AF$22,\"\")","v":""},{"$f":"IF(ISNUMBER('Dekor 1'!J48),'Dekor 1'!$AF$23,\"\")","v":""},{"$f":"IF(ISNUMBER('Dekor 1'!J48),'Dekor 1'!$AF$24,\"\")","v":""},{"$f":"'Dekor 1'!Y48","v":0}]
[{"$f":"'Dekor 1'!A49","v":""},{"$f":"'Dekor 1'!B49","v":{"$error":"#NAME?"}},{"$f":"IF(ISNUMBER('Dekor 1'!J49),('Dekor 1'!D49 & \".\" & 'Dekor 1'!U49 & \".\" & 'Dekor 1'!F49 & \".\" & 'Dekor 1'!V49 & \".\" & 'Dekor 1'!H49 & \".\" & 'Dekor 1'!I49),\"\")","v":""},{"$f":"'Dekor 1'!W49","v":0},{"$f":"'Dekor 1'!K49","v":0},{"$f":"'Dekor 1'!M49","v":0},{"$f":"'Dekor 1'!O49","v":0},{"$f":"'Dekor 1'!Q49","v":0},{"$f":"IF(ISNUMBER('Dekor 1'!J49),'Dekor 1'!E49 & \"x\" & 'Dekor 1'!G49,\"\")","v":""},{"$f":"'Dekor 1'!L49","v":0},{"$f":"'Dekor 1'!N49","v":0},{"$f":"'Dekor 1'!P49","v":0},{"$f":"'Dekor 1'!R49","v":0},{"$f":"'Dekor 1'!X49","v":0},{"$f":"IF(ISNUMBER('Dekor 1'!J49),'Dekor 1'!$AF$20,\"\")","v":""},{"$f":"IF(ISNUMBER('Dekor 1'!J49),'Dekor 1'!$AF$21,\"\")","v":""},{"$f":"IF(ISNUMBER('Dekor 1'!J49),'Dekor 1'!$AF$22,\"\")","v":""},{"$f":"IF(ISNUMBER('Dekor 1'!J49),'Dekor 1'!$AF$23,\"\")","v":""},{"$f":"IF(ISNUMBER('Dekor 1'!J49),'Dekor 1'!$AF$24,\"\")","v":""},{"$f":"'Dekor 1'!Y49","v":0}]
[{"$f":"'Dekor 1'!A50","v":""},{"$f":"'Dekor 1'!B50","v":{"$error":"#NAME?"}},{"$f":"IF(ISNUMBER('Dekor 1'!J50),('Dekor 1'!D50 & \".\" & 'Dekor 1'!U50 & \".\" & 'Dekor 1'!F50 & \".\" & 'Dekor 1'!V50 & \".\" & 'Dekor 1'!H50 & \".\" & 'Dekor 1'!I50),\"\")","v":""},{"$f":"'Dekor 1'!W50","v":0},{"$f":"'Dekor 1'!K50","v":0},{"$f":"'Dekor 1'!M50","v":0},{"$f":"'Dekor 1'!O50","v":0},{"$f":"'Dekor 1'!Q50","v":0},{"$f":"IF(ISNUMBER('Dekor 1'!J50),'Dekor 1'!E50 & \"x\" & 'Dekor 1'!G50,\"\")","v":""},{"$f":"'Dekor 1'!L50","v":0},{"$f":"'Dekor 1'!N50","v":0},{"$f":"'Dekor 1'!P50","v":0},{"$f":"'Dekor 1'!R50","v":0},{"$f":"'Dekor 1'!X50","v":0},{"$f":"IF(ISNUMBER('Dekor 1'!J50),'Dekor 1'!$AF$20,\"\")","v":""},{"$f":"IF(ISNUMBER('Dekor 1'!J50),'Dekor 1'!$AF$21,\"\")","v":""},{"$f":"IF(ISNUMBER('Dekor 1'!J50),'Dekor 1'!$AF$22,\"\")","v":""},{"$f":"IF(ISNUMBER('Dekor 1'!J50),'Dekor 1'!$AF$23,\"\")","v":""},{"$f":"IF(ISNUMBER('Dekor 1'!J50),'Dekor 1'!$AF$24,\"\")","v":""},{"$f":"'Dekor 1'!Y50","v":0}]
[{"$f":"'Dekor 1'!A51","v":""},{"$f":"'Dekor 1'!B51","v":{"$error":"#NAME?"}},{"$f":"IF(ISNUMBER('Dekor 1'!J51),('Dekor 1'!D51 & \".\" & 'Dekor 1'!U51 & \".\" & 'Dekor 1'!F51 & \".\" & 'Dekor 1'!V51 & \".\" & 'Dekor 1'!H51 & \".\" & 'Dekor 1'!I51),\"\")","v":""},{"$f":"'Dekor 1'!W51","v":0},{"$f":"'Dekor 1'!K51","v":0},{"$f":"'Dekor 1'!M51","v":0},{"$f":"'Dekor 1'!O51","v":0},{"$f":"'Dekor 1'!Q51","v":0},{"$f":"IF(ISNUMBER('Dekor 1'!J51),'Dekor 1'!E51 & \"x\" & 'Dekor 1'!G51,\"\")","v":""},{"$f":"'Dekor 1'!L51","v":0},{"$f":"'Dekor 1'!N51","v":0},{"$f":"'Dekor 1'!P51","v":0},{"$f":"'Dekor 1'!R51","v":0},{"$f":"'Dekor 1'!X51","v":0},{"$f":"IF(ISNUMBER('Dekor 1'!J51),'Dekor 1'!$AF$20,\"\")","v":""},{"$f":"IF(ISNUMBER('Dekor 1'!J51),'Dekor 1'!$AF$21,\"\")","v":""},{"$f":"IF(ISNUMBER('Dekor 1'!J51),'Dekor 1'!$AF$22,\"\")","v":""},{"$f":"IF(ISNUMBER('Dekor 1'!J51),'Dekor 1'!$AF$23,\"\")","v":""},{"$f":"IF(ISNUMBER('Dekor 1'!J51),'Dekor 1'!$AF$24,\"\")","v":""},{"$f":"'Dekor 1'!Y51","v":0}]
[{"$f":"'Dekor 1'!A52","v":""},{"$f":"'Dekor 1'!B52","v":{"$error":"#NAME?"}},{"$f":"IF(ISNUMBER('Dekor 1'!J52),('Dekor 1'!D52 & \".\" & 'Dekor 1'!U52 & \".\" & 'Dekor 1'!F52 & \".\" & 'Dekor 1'!V52 & \".\" & 'Dekor 1'!H52 & \".\" & 'Dekor 1'!I52),\"\")","v":""},{"$f":"'Dekor 1'!W52","v":0},{"$f":"'Dekor 1'!K52","v":0},{"$f":"'Dekor 1'!M52","v":0},{"$f":"'Dekor 1'!O52","v":0},{"$f":"'Dekor 1'!Q52","v":0},{"$f":"IF(ISNUMBER('Dekor 1'!J52),'Dekor 1'!E52 & \"x\" & 'Dekor 1'!G52,\"\")","v":""},{"$f":"'Dekor 1'!L52","v":0},{"$f":"'Dekor 1'!N52","v":0},{"$f":"'Dekor 1'!P52","v":0},{"$f":"'Dekor 1'!R52","v":0},{"$f":"'Dekor 1'!X52","v":0},{"$f":"IF(ISNUMBER('Dekor 1'!J52),'Dekor 1'!$AF$20,\"\")","v":""},{"$f":"IF(ISNUMBER('Dekor 1'!J52),'Dekor 1'!$AF$21,\"\")","v":""},{"$f":"IF(ISNUMBER('Dekor 1'!J52),'Dekor 1'!$AF$22,\"\")","v":""},{"$f":"IF(ISNUMBER('Dekor 1'!J52),'Dekor 1'!$AF$23,\"\")","v":""},{"$f":"IF(ISNUMBER('Dekor 1'!J52),'Dekor 1'!$AF$24,\"\")","v":""},{"$f":"'Dekor 1'!Y52","v":0}]
[{"$f":"'Dekor 1'!A53","v":""},{"$f":"'Dekor 1'!B53","v":{"$error":"#NAME?"}},{"$f":"IF(ISNUMBER('Dekor 1'!J53),('Dekor 1'!D53 & \".\" & 'Dekor 1'!U53 & \".\" & 'Dekor 1'!F53 & \".\" & 'Dekor 1'!V53 & \".\" & 'Dekor 1'!H53 & \".\" & 'Dekor 1'!I53),\"\")","v":""},{"$f":"'Dekor 1'!W53","v":0},{"$f":"'Dekor 1'!K53","v":0},{"$f":"'Dekor 1'!M53","v":0},{"$f":"'Dekor 1'!O53","v":0},{"$f":"'Dekor 1'!Q53","v":0},{"$f":"IF(ISNUMBER('Dekor 1'!J53),'Dekor 1'!E53 & \"x\" & 'Dekor 1'!G53,\"\")","v":""},{"$f":"'Dekor 1'!L53","v":0},{"$f":"'Dekor 1'!N53","v":0},{"$f":"'Dekor 1'!P53","v":0},{"$f":"'Dekor 1'!R53","v":0},{"$f":"'Dekor 1'!X53","v":0},{"$f":"IF(ISNUMBER('Dekor 1'!J53),'Dekor 1'!$AF$20,\"\")","v":""},{"$f":"IF(ISNUMBER('Dekor 1'!J53),'Dekor 1'!$AF$21,\"\")","v":""},{"$f":"IF(ISNUMBER('Dekor 1'!J53),'Dekor 1'!$AF$22,\"\")","v":""},{"$f":"IF(ISNUMBER('Dekor 1'!J53),'Dekor 1'!$AF$23,\"\")","v":""},{"$f":"IF(ISNUMBER('Dekor 1'!J53),'Dekor 1'!$AF$24,\"\")","v":""},{"$f":"'Dekor 1'!Y53","v":0}]
[{"$f":"'Dekor 1'!A54","v":""},{"$f":"'Dekor 1'!B54","v":{"$error":"#NAME?"}},{"$f":"IF(ISNUMBER('Dekor 1'!J54),('Dekor 1'!D54 & \".\" & 'Dekor 1'!U54 & \".\" & 'Dekor 1'!F54 & \".\" & 'Dekor 1'!V54 & \".\" & 'Dekor 1'!H54 & \".\" & 'Dekor 1'!I54),\"\")","v":""},{"$f":"'Dekor 1'!W54","v":0},{"$f":"'Dekor 1'!K54","v":0},{"$f":"'Dekor 1'!M54","v":0},{"$f":"'Dekor 1'!O54","v":0},{"$f":"'Dekor 1'!Q54","v":0},{"$f":"IF(ISNUMBER('Dekor 1'!J54),'Dekor 1'!E54 & \"x\" & 'Dekor 1'!G54,\"\")","v":""},{"$f":"'Dekor 1'!L54","v":0},{"$f":"'Dekor 1'!N54","v":0},{"$f":"'Dekor 1'!P54","v":0},{"$f":"'Dekor 1'!R54","v":0},{"$f":"'Dekor 1'!X54","v":0},{"$f":"IF(ISNUMBER('Dekor 1'!J54),'Dekor 1'!$AF$20,\"\")","v":""},{"$f":"IF(ISNUMBER('Dekor 1'!J54),'Dekor 1'!$AF$21,\"\")","v":""},{"$f":"IF(ISNUMBER('Dekor 1'!J54),'Dekor 1'!$AF$22,\"\")","v":""},{"$f":"IF(ISNUMBER('Dekor 1'!J54),'Dekor 1'!$AF$23,\"\")","v":""},{"$f":"IF(ISNUMBER('Dekor 1'!J54),'Dekor 1'!$AF$24,\"\")","v":""},{"$f":"'Dekor 1'!Y54","v":0}]
[{"$f":"'Dekor 1'!A55","v":""},{"$f":"'Dekor 1'!B55","v":{"$error":"#NAME?"}},{"$f":"IF(ISNUMBER('Dekor 1'!J55),('Dekor 1'!D55 & \".\" & 'Dekor 1'!U55 & \".\" & 'Dekor 1'!F55 & \".\" & 'Dekor 1'!V55 & \".\" & 'Dekor 1'!H55 & \".\" & 'Dekor 1'!I55),\"\")","v":""},{"$f":"'Dekor 1'!W55","v":0},{"$f":"'Dekor 1'!K55","v":0},{"$f":"'Dekor 1'!M55","v":0},{"$f":"'Dekor 1'!O55","v":0},{"$f":"'Dekor 1'!Q55","v":0},{"$f":"IF(ISNUMBER('Dekor 1'!J55),'Dekor 1'!E55 & \"x\" & 'Dekor 1'!G55,\"\")","v":""},{"$f":"'Dekor 1'!L55","v":0},{"$f":"'Dekor 1'!N55","v":0},{"$f":"'Dekor 1'!P55","v":0},{"$f":"'Dekor 1'!R55","v":0},{"$f":"'Dekor 1'!X55","v":0},{"$f":"IF(ISNUMBER('Dekor 1'!J55),'Dekor 1'!$AF$20,\"\")","v":""},{"$f":"IF(ISNUMBER('Dekor 1'!J55),'Dekor 1'!$AF$21,\"\")","v":""},{"$f":"IF(ISNUMBER('Dekor 1'!J55),'Dekor 1'!$AF$22,\"\")","v":""},{"$f":"IF(ISNUMBER('Dekor 1'!J55),'Dekor 1'!$AF$23,\"\")","v":""},{"$f":"IF(ISNUMBER('Dekor 1'!J55),'Dekor 1'!$AF$24,\"\")","v":""},{"$f":"'Dekor 1'!Y55","v":0}]
[{"$f":"'Dekor 1'!A56","v":""},{"$f":"'Dekor 1'!B56","v":{"$error":"#NAME?"}},{"$f":"IF(ISNUMBER('Dekor 1'!J56),('Dekor 1'!D56 & \".\" & 'Dekor 1'!U56 & \".\" & 'Dekor 1'!F56 & \".\" & 'Dekor 1'!V56 & \".\" & 'Dekor 1'!H56 & \".\" & 'Dekor 1'!I56),\"\")","v":""},{"$f":"'Dekor 1'!W56","v":0},{"$f":"'Dekor 1'!K56","v":0},{"$f":"'Dekor 1'!M56","v":0},{"$f":"'Dekor 1'!O56","v":0},{"$f":"'Dekor 1'!Q56","v":0},{"$f":"IF(ISNUMBER('Dekor 1'!J56),'Dekor 1'!E56 & \"x\" & 'Dekor 1'!G56,\"\")","v":""},{"$f":"'Dekor 1'!L56","v":0},{"$f":"'Dekor 1'!N56","v":0},{"$f":"'Dekor 1'!P56","v":0},{"$f":"'Dekor 1'!R56","v":0},{"$f":"'Dekor 1'!X56","v":0},{"$f":"IF(ISNUMBER('Dekor 1'!J56),'Dekor 1'!$AF$20,\"\")","v":""},{"$f":"IF(ISNUMBER('Dekor 1'!J56),'Dekor 1'!$AF$21,\"\")","v":""},{"$f":"IF(ISNUMBER('Dekor 1'!J56),'Dekor 1'!$AF$22,\"\")","v":""},{"$f":"IF(ISNUMBER('Dekor 1'!J56),'Dekor 1'!$AF$23,\"\")","v":""},{"$f":"IF(ISNUMBER('Dekor 1'!J56),'Dekor 1'!$AF$24,\"\")","v":""},{"$f":"'Dekor 1'!Y56","v":0}]
[{"$f":"'Dekor 1'!A57","v":""},{"$f":"'Dekor 1'!B57","v":{"$error":"#NAME?"}},{"$f":"IF(ISNUMBER('Dekor 1'!J57),('Dekor 1'!D57 & \".\" & 'Dekor 1'!U57 & \".\" & 'Dekor 1'!F57 & \".\" & 'Dekor 1'!V57 & \".\" & 'Dekor 1'!H57 & \".\" & 'Dekor 1'!I57),\"\")","v":""},{"$f":"'Dekor 1'!W57","v":0},{"$f":"'Dekor 1'!K57","v":0},{"$f":"'Dekor 1'!M57","v":0},{"$f":"'Dekor 1'!O57","v":0},{"$f":"'Dekor 1'!Q57","v":0},{"$f":"IF(ISNUMBER('Dekor 1'!J57),'Dekor 1'!E57 & \"x\" & 'Dekor 1'!G57,\"\")","v":""},{"$f":"'Dekor 1'!L57","v":0},{"$f":"'Dekor 1'!N57","v":0},{"$f":"'Dekor 1'!P57","v":0},{"$f":"'Dekor 1'!R57","v":0},{"$f":"'Dekor 1'!X57","v":0},{"$f":"IF(ISNUMBER('Dekor 1'!J57),'Dekor 1'!$AF$20,\"\")","v":""},{"$f":"IF(ISNUMBER('Dekor 1'!J57),'Dekor 1'!$AF$21,\"\")","v":""},{"$f":"IF(ISNUMBER('Dekor 1'!J57),'Dekor 1'!$AF$22,\"\")","v":""},{"$f":"IF(ISNUMBER('Dekor 1'!J57),'Dekor 1'!$AF$23,\"\")","v":""},{"$f":"IF(ISNUMBER('Dekor 1'!J57),'Dekor 1'!$AF$24,\"\")","v":""},{"$f":"'Dekor 1'!Y57","v":0}]
[{"$f":"'Dekor 1'!A58","v":""},{"$f":"'Dekor 1'!B58","v":{"$error":"#NAME?"}},{"$f":"IF(ISNUMBER('Dekor 1'!J58),('Dekor 1'!D58 & \".\" & 'Dekor 1'!U58 & \".\" & 'Dekor 1'!F58 & \".\" & 'Dekor 1'!V58 & \".\" & 'Dekor 1'!H58 & \".\" & 'Dekor 1'!I58),\"\")","v":""},{"$f":"'Dekor 1'!W58","v":0},{"$f":"'Dekor 1'!K58","v":0},{"$f":"'Dekor 1'!M58","v":0},{"$f":"'Dekor 1'!O58","v":0},{"$f":"'Dekor 1'!Q58","v":0},{"$f":"IF(ISNUMBER('Dekor 1'!J58),'Dekor 1'!E58 & \"x\" & 'Dekor 1'!G58,\"\")","v":""},{"$f":"'Dekor 1'!L58","v":0},{"$f":"'Dekor 1'!N58","v":0},{"$f":"'Dekor 1'!P58","v":0},{"$f":"'Dekor 1'!R58","v":0},{"$f":"'Dekor 1'!X58","v":0},{"$f":"IF(ISNUMBER('Dekor 1'!J58),'Dekor 1'!$AF$20,\"\")","v":""},{"$f":"IF(ISNUMBER('Dekor 1'!J58),'Dekor 1'!$AF$21,\"\")","v":""},{"$f":"IF(ISNUMBER('Dekor 1'!J58),'Dekor 1'!$AF$22,\"\")","v":""},{"$f":"IF(ISNUMBER('Dekor 1'!J58),'Dekor 1'!$AF$23,\"\")","v":""},{"$f":"IF(ISNUMBER('Dekor 1'!J58),'Dekor 1'!$AF$24,\"\")","v":""},{"$f":"'Dekor 1'!Y58","v":0}]
[{"$f":"'Dekor 1'!A59","v":""},{"$f":"'Dekor 1'!B59","v":{"$error":"#NAME?"}},{"$f":"IF(ISNUMBER('Dekor 1'!J59),('Dekor 1'!D59 & \".\" & 'Dekor 1'!U59 & \".\" & 'Dekor 1'!F59 & \".\" & 'Dekor 1'!V59 & \".\" & 'Dekor 1'!H59 & \".\" & 'Dekor 1'!I59),\"\")","v":""},{"$f":"'Dekor 1'!W59","v":0},{"$f":"'Dekor 1'!K59","v":0},{"$f":"'Dekor 1'!M59","v":0},{"$f":"'Dekor 1'!O59","v":0},{"$f":"'Dekor 1'!Q59","v":0},{"$f":"IF(ISNUMBER('Dekor 1'!J59),'Dekor 1'!E59 & \"x\" & 'Dekor 1'!G59,\"\")","v":""},{"$f":"'Dekor 1'!L59","v":0},{"$f":"'Dekor 1'!N59","v":0},{"$f":"'Dekor 1'!P59","v":0},{"$f":"'Dekor 1'!R59","v":0},{"$f":"'Dekor 1'!X59","v":0},{"$f":"IF(ISNUMBER('Dekor 1'!J59),'Dekor 1'!$AF$20,\"\")","v":""},{"$f":"IF(ISNUMBER('Dekor 1'!J59),'Dekor 1'!$AF$21,\"\")","v":""},{"$f":"IF(ISNUMBER('Dekor 1'!J59),'Dekor 1'!$AF$22,\"\")","v":""},{"$f":"IF(ISNUMBER('Dekor 1'!J59),'Dekor 1'!$AF$23,\"\")","v":""},{"$f":"IF(ISNUMBER('Dekor 1'!J59),'Dekor 1'!$AF$24,\"\")","v":""},{"$f":"'Dekor 1'!Y59","v":0}]
[{"$f":"'Dekor 1'!A60","v":""},{"$f":"'Dekor 1'!B60","v":{"$error":"#NAME?"}},{"$f":"IF(ISNUMBER('Dekor 1'!J60),('Dekor 1'!D60 & \".\" & 'Dekor 1'!U60 & \".\" & 'Dekor 1'!F60 & \".\" & 'Dekor 1'!V60 & \".\" & 'Dekor 1'!H60 & \".\" & 'Dekor 1'!I60),\"\")","v":""},{"$f":"'Dekor 1'!W60","v":0},{"$f":"'Dekor 1'!K60","v":0},{"$f":"'Dekor 1'!M60","v":0},{"$f":"'Dekor 1'!O60","v":0},{"$f":"'Dekor 1'!Q60","v":0},{"$f":"IF(ISNUMBER('Dekor 1'!J60),'Dekor 1'!E60 & \"x\" & 'Dekor 1'!G60,\"\")","v":""},{"$f":"'Dekor 1'!L60","v":0},{"$f":"'Dekor 1'!N60","v":0},{"$f":"'Dekor 1'!P60","v":0},{"$f":"'Dekor 1'!R60","v":0},{"$f":"'Dekor 1'!X60","v":0},{"$f":"IF(ISNUMBER('Dekor 1'!J60),'Dekor 1'!$AF$20,\"\")","v":""},{"$f":"IF(ISNUMBER('Dekor 1'!J60),'Dekor 1'!$AF$21,\"\")","v":""},{"$f":"IF(ISNUMBER('Dekor 1'!J60),'Dekor 1'!$AF$22,\"\")","v":""},{"$f":"IF(ISNUMBER('Dekor 1'!J60),'Dekor 1'!$AF$23,\"\")","v":""},{"$f":"IF(ISNUMBER('Dekor 1'!J60),'Dekor 1'!$AF$24,\"\")","v":""},{"$f":"'Dekor 1'!Y60","v":0}]
[{"$f":"'Dekor 1'!A61","v":""},{"$f":"'Dekor 1'!B61","v":{"$error":"#NAME?"}},{"$f":"IF(ISNUMBER('Dekor 1'!J61),('Dekor 1'!D61 & \".\" & 'Dekor 1'!U61 & \".\" & 'Dekor 1'!F61 & \".\" & 'Dekor 1'!V61 & \".\" & 'Dekor 1'!H61 & \".\" & 'Dekor 1'!I61),\"\")","v":""},{"$f":"'Dekor 1'!W61","v":0},{"$f":"'Dekor 1'!K61","v":0},{"$f":"'Dekor 1'!M61","v":0},{"$f":"'Dekor 1'!O61","v":0},{"$f":"'Dekor 1'!Q61","v":0},{"$f":"IF(ISNUMBER('Dekor 1'!J61),'Dekor 1'!E61 & \"x\" & 'Dekor 1'!G61,\"\")","v":""},{"$f":"'Dekor 1'!L61","v":0},{"$f":"'Dekor 1'!N61","v":0},{"$f":"'Dekor 1'!P61","v":0},{"$f":"'Dekor 1'!R61","v":0},{"$f":"'Dekor 1'!X61","v":0},{"$f":"IF(ISNUMBER('Dekor 1'!J61),'Dekor 1'!$AF$20,\"\")","v":""},{"$f":"IF(ISNUMBER('Dekor 1'!J61),'Dekor 1'!$AF$21,\"\")","v":""},{"$f":"IF(ISNUMBER('Dekor 1'!J61),'Dekor 1'!$AF$22,\"\")","v":""},{"$f":"IF(ISNUMBER('Dekor 1'!J61),'Dekor 1'!$AF$23,\"\")","v":""},{"$f":"IF(ISNUMBER('Dekor 1'!J61),'Dekor 1'!$AF$24,\"\")","v":""},{"$f":"'Dekor 1'!Y61","v":0}]
[{"$f":"'Dekor 1'!A62","v":""},{"$f":"'Dekor 1'!B62","v":{"$error":"#NAME?"}},{"$f":"IF(ISNUMBER('Dekor 1'!J62),('Dekor 1'!D62 & \".\" & 'Dekor 1'!U62 & \".\" & 'Dekor 1'!F62 & \".\" & 'Dekor 1'!V62 & \".\" & 'Dekor 1'!H62 & \".\" & 'Dekor 1'!I62),\"\")","v":""},{"$f":"'Dekor 1'!W62","v":0},{"$f":"'Dekor 1'!K62","v":0},{"$f":"'Dekor 1'!M62","v":0},{"$f":"'Dekor 1'!O62","v":0},{"$f":"'Dekor 1'!Q62","v":0},{"$f":"IF(ISNUMBER('Dekor 1'!J62),'Dekor 1'!E62 & \"x\" & 'Dekor 1'!G62,\"\")","v":""},{"$f":"'Dekor 1'!L62","v":0},{"$f":"'Dekor 1'!N62","v":0},{"$f":"'Dekor 1'!P62","v":0},{"$f":"'Dekor 1'!R62","v":0},{"$f":"'Dekor 1'!X62","v":0},{"$f":"IF(ISNUMBER('Dekor 1'!J62),'Dekor 1'!$AF$20,\"\")","v":""},{"$f":"IF(ISNUMBER('Dekor 1'!J62),'Dekor 1'!$AF$21,\"\")","v":""},{"$f":"IF(ISNUMBER('Dekor 1'!J62),'Dekor 1'!$AF$22,\"\")","v":""},{"$f":"IF(ISNUMBER('Dekor 1'!J62),'Dekor 1'!$AF$23,\"\")","v":""},{"$f":"IF(ISNUMBER('Dekor 1'!J62),'Dekor 1'!$AF$24,\"\")","v":""},{"$f":"'Dekor 1'!Y62","v":0}]
[{"$f":"'Dekor 1'!A63","v":""},{"$f":"'Dekor 1'!B63","v":{"$error":"#NAME?"}},{"$f":"IF(ISNUMBER('Dekor 1'!J63),('Dekor 1'!D63 & \".\" & 'Dekor 1'!U63 & \".\" & 'Dekor 1'!F63 & \".\" & 'Dekor 1'!V63 & \".\" & 'Dekor 1'!H63 & \".\" & 'Dekor 1'!I63),\"\")","v":""},{"$f":"'Dekor 1'!W63","v":0},{"$f":"'Dekor 1'!K63","v":0},{"$f":"'Dekor 1'!M63","v":0},{"$f":"'Dekor 1'!O63","v":0},{"$f":"'Dekor 1'!Q63","v":0},{"$f":"IF(ISNUMBER('Dekor 1'!J63),'Dekor 1'!E63 & \"x\" & 'Dekor 1'!G63,\"\")","v":""},{"$f":"'Dekor 1'!L63","v":0},{"$f":"'Dekor 1'!N63","v":0},{"$f":"'Dekor 1'!P63","v":0},{"$f":"'Dekor 1'!R63","v":0},{"$f":"'Dekor 1'!X63","v":0},{"$f":"IF(ISNUMBER('Dekor 1'!J63),'Dekor 1'!$AF$20,\"\")","v":""},{"$f":"IF(ISNUMBER('Dekor 1'!J63),'Dekor 1'!$AF$21,\"\")","v":""},{"$f":"IF(ISNUMBER('Dekor 1'!J63),'Dekor 1'!$AF$22,\"\")","v":""},{"$f":"IF(ISNUMBER('Dekor 1'!J63),'Dekor 1'!$AF$23,\"\")","v":""},{"$f":"IF(ISNUMBER('Dekor 1'!J63),'Dekor 1'!$AF$24,\"\")","v":""},{"$f":"'Dekor 1'!Y63","v":0}]
[{"$f":"'Dekor 1'!A64","v":""},{"$f":"'Dekor 1'!B64","v":{"$error":"#NAME?"}},{"$f":"IF(ISNUMBER('Dekor 1'!J64),('Dekor 1'!D64 & \".\" & 'Dekor 1'!U64 & \".\" & 'Dekor 1'!F64 & \".\" & 'Dekor 1'!V64 & \".\" & 'Dekor 1'!H64 & \".\" & 'Dekor 1'!I64),\"\")","v":""},{"$f":"'Dekor 1'!W64","v":0},{"$f":"'Dekor 1'!K64","v":0},{"$f":"'Dekor 1'!M64","v":0},{"$f":"'Dekor 1'!O64","v":0},{"$f":"'Dekor 1'!Q64","v":0},{"$f":"IF(ISNUMBER('Dekor 1'!J64),'Dekor 1'!E64 & \"x\" & 'Dekor 1'!G64,\"\")","v":""},{"$f":"'Dekor 1'!L64","v":0},{"$f":"'Dekor 1'!N64","v":0},{"$f":"'Dekor 1'!P64","v":0},{"$f":"'Dekor 1'!R64","v":0},{"$f":"'Dekor 1'!X64","v":0},{"$f":"IF(ISNUMBER('Dekor 1'!J64),'Dekor 1'!$AF$20,\"\")","v":""},{"$f":"IF(ISNUMBER('Dekor 1'!J64),'Dekor 1'!$AF$21,\"\")","v":""},{"$f":"IF(ISNUMBER('Dekor 1'!J64),'Dekor 1'!$AF$22,\"\")","v":""},{"$f":"IF(ISNUMBER('Dekor 1'!J64),'Dekor 1'!$AF$23,\"\")","v":""},{"$f":"IF(ISNUMBER('Dekor 1'!J64),'Dekor 1'!$AF$24,\"\")","v":""},{"$f":"'Dekor 1'!Y64","v":0}]
[{"$f":"'Dekor 1'!A65","v":""},{"$f":"'Dekor 1'!B65","v":{"$error":"#NAME?"}},{"$f":"IF(ISNUMBER('Dekor 1'!J65),('Dekor 1'!D65 & \".\" & 'Dekor 1'!U65 & \".\" & 'Dekor 1'!F65 & \".\" & 'Dekor 1'!V65 & \".\" & 'Dekor 1'!H65 & \".\" & 'Dekor 1'!I65),\"\")","v":""},{"$f":"'Dekor 1'!W65","v":0},{"$f":"'Dekor 1'!K65","v":0},{"$f":"'Dekor 1'!M65","v":0},{"$f":"'Dekor 1'!O65","v":0},{"$f":"'Dekor 1'!Q65","v":0},{"$f":"IF(ISNUMBER('Dekor 1'!J65),'Dekor 1'!E65 & \"x\" & 'Dekor 1'!G65,\"\")","v":""},{"$f":"'Dekor 1'!L65","v":0},{"$f":"'Dekor 1'!N65","v":0},{"$f":"'Dekor 1'!P65","v":0},{"$f":"'Dekor 1'!R65","v":0},{"$f":"'Dekor 1'!X65","v":0},{"$f":"IF(ISNUMBER('Dekor 1'!J65),'Dekor 1'!$AF$20,\"\")","v":""},{"$f":"IF(ISNUMBER('Dekor 1'!J65),'Dekor 1'!$AF$21,\"\")","v":""},{"$f":"IF(ISNUMBER('Dekor 1'!J65),'Dekor 1'!$AF$22,\"\")","v":""},{"$f":"IF(ISNUMBER('Dekor 1'!J65),'Dekor 1'!$AF$23,\"\")","v":""},{"$f":"IF(ISNUMBER('Dekor 1'!J65),'Dekor 1'!$AF$24,\"\")","v":""},{"$f":"'Dekor 1'!Y65","v":0}]
[{"$f":"'Dekor 1'!A66","v":""},{"$f":"'Dekor 1'!B66","v":{"$error":"#NAME?"}},{"$f":"IF(ISNUMBER('Dekor 1'!J66),('Dekor 1'!D66 & \".\" & 'Dekor 1'!U66 & \".\" & 'Dekor 1'!F66 & \".\" & 'Dekor 1'!V66 & \".\" & 'Dekor 1'!H66 & \".\" & 'Dekor 1'!I66),\"\")","v":""},{"$f":"'Dekor 1'!W66","v":0},{"$f":"'Dekor 1'!K66","v":0},{"$f":"'Dekor 1'!M66","v":0},{"$f":"'Dekor 1'!O66","v":0},{"$f":"'Dekor 1'!Q66","v":0},{"$f":"IF(ISNUMBER('Dekor 1'!J66),'Dekor 1'!E66 & \"x\" & 'Dekor 1'!G66,\"\")","v":""},{"$f":"'Dekor 1'!L66","v":0},{"$f":"'Dekor 1'!N66","v":0},{"$f":"'Dekor 1'!P66","v":0},{"$f":"'Dekor 1'!R66","v":0},{"$f":"'Dekor 1'!X66","v":0},{"$f":"IF(ISNUMBER('Dekor 1'!J66),'Dekor 1'!$AF$20,\"\")","v":""},{"$f":"IF(ISNUMBER('Dekor 1'!J66),'Dekor 1'!$AF$21,\"\")","v":""},{"$f":"IF(ISNUMBER('Dekor 1'!J66),'Dekor 1'!$AF$22,\"\")","v":""},{"$f":"IF(ISNUMBER('Dekor 1'!J66),'Dekor 1'!$AF$23,\"\")","v":""},{"$f":"IF(ISNUMBER('Dekor 1'!J66),'Dekor 1'!$AF$24,\"\")","v":""},{"$f":"'Dekor 1'!Y66","v":0}]
[{"$f":"'Dekor 1'!A67","v":""},{"$f":"'Dekor 1'!B67","v":{"$error":"#NAME?"}},{"$f":"IF(ISNUMBER('Dekor 1'!J67),('Dekor 1'!D67 & \".\" & 'Dekor 1'!U67 & \".\" & 'Dekor 1'!F67 & \".\" & 'Dekor 1'!V67 & \".\" & 'Dekor 1'!H67 & \".\" & 'Dekor 1'!I67),\"\")","v":""},{"$f":"'Dekor 1'!W67","v":0},{"$f":"'Dekor 1'!K67","v":0},{"$f":"'Dekor 1'!M67","v":0},{"$f":"'Dekor 1'!O67","v":0},{"$f":"'Dekor 1'!Q67","v":0},{"$f":"IF(ISNUMBER('Dekor 1'!J67),'Dekor 1'!E67 & \"x\" & 'Dekor 1'!G67,\"\")","v":""},{"$f":"'Dekor 1'!L67","v":0},{"$f":"'Dekor 1'!N67","v":0},{"$f":"'Dekor 1'!P67","v":0},{"$f":"'Dekor 1'!R67","v":0},{"$f":"'Dekor 1'!X67","v":0},{"$f":"IF(ISNUMBER('Dekor 1'!J67),'Dekor 1'!$AF$20,\"\")","v":""},{"$f":"IF(ISNUMBER('Dekor 1'!J67),'Dekor 1'!$AF$21,\"\")","v":""},{"$f":"IF(ISNUMBER('Dekor 1'!J67),'Dekor 1'!$AF$22,\"\")","v":""},{"$f":"IF(ISNUMBER('Dekor 1'!J67),'Dekor 1'!$AF$23,\"\")","v":""},{"$f":"IF(ISNUMBER('Dekor 1'!J67),'Dekor 1'!$AF$24,\"\")","v":""},{"$f":"'Dekor 1'!Y67","v":0}]
[{"$f":"'Dekor 1'!A68","v":""},{"$f":"'Dekor 1'!B68","v":{"$error":"#NAME?"}},{"$f":"IF(ISNUMBER('Dekor 1'!J68),('Dekor 1'!D68 & \".\" & 'Dekor 1'!U68 & \".\" & 'Dekor 1'!F68 & \".\" & 'Dekor 1'!V68 & \".\" & 'Dekor 1'!H68 & \".\" & 'Dekor 1'!I68),\"\")","v":""},{"$f":"'Dekor 1'!W68","v":0},{"$f":"'Dekor 1'!K68","v":0},{"$f":"'Dekor 1'!M68","v":0},{"$f":"'Dekor 1'!O68","v":0},{"$f":"'Dekor 1'!Q68","v":0},{"$f":"IF(ISNUMBER('Dekor 1'!J68),'Dekor 1'!E68 & \"x\" & 'Dekor 1'!G68,\"\")","v":""},{"$f":"'Dekor 1'!L68","v":0},{"$f":"'Dekor 1'!N68","v":0},{"$f":"'Dekor 1'!P68","v":0},{"$f":"'Dekor 1'!R68","v":0},{"$f":"'Dekor 1'!X68","v":0},{"$f":"IF(ISNUMBER('Dekor 1'!J68),'Dekor 1'!$AF$20,\"\")","v":""},{"$f":"IF(ISNUMBER('Dekor 1'!J68),'Dekor 1'!$AF$21,\"\")","v":""},{"$f":"IF(ISNUMBER('Dekor 1'!J68),'Dekor 1'!$AF$22,\"\")","v":""},{"$f":"IF(ISNUMBER('Dekor 1'!J68),'Dekor 1'!$AF$23,\"\")","v":""},{"$f":"IF(ISNUMBER('Dekor 1'!J68),'Dekor 1'!$AF$24,\"\")","v":""},{"$f":"'Dekor 1'!Y68","v":0}]
[{"$f":"'Dekor 1'!A69","v":""},{"$f":"'Dekor 1'!B69","v":{"$error":"#NAME?"}},{"$f":"IF(ISNUMBER('Dekor 1'!J69),('Dekor 1'!D69 & \".\" & 'Dekor 1'!U69 & \".\" & 'Dekor 1'!F69 & \".\" & 'Dekor 1'!V69 & \".\" & 'Dekor 1'!H69 & \".\" & 'Dekor 1'!I69),\"\")","v":""},{"$f":"'Dekor 1'!W69","v":0},{"$f":"'Dekor 1'!K69","v":0},{"$f":"'Dekor 1'!M69","v":0},{"$f":"'Dekor 1'!O69","v":0},{"$f":"'Dekor 1'!Q69","v":0},{"$f":"IF(ISNUMBER('Dekor 1'!J69),'Dekor 1'!E69 & \"x\" & 'Dekor 1'!G69,\"\")","v":""},{"$f":"'Dekor 1'!L69","v":0},{"$f":"'Dekor 1'!N69","v":0},{"$f":"'Dekor 1'!P69","v":0},{"$f":"'Dekor 1'!R69","v":0},{"$f":"'Dekor 1'!X69","v":0},{"$f":"IF(ISNUMBER('Dekor 1'!J69),'Dekor 1'!$AF$20,\"\")","v":""},{"$f":"IF(ISNUMBER('Dekor 1'!J69),'Dekor 1'!$AF$21,\"\")","v":""},{"$f":"IF(ISNUMBER('Dekor 1'!J69),'Dekor 1'!$AF$22,\"\")","v":""},{"$f":"IF(ISNUMBER('Dekor 1'!J69),'Dekor 1'!$AF$23,\"\")","v":""},{"$f":"IF(ISNUMBER('Dekor 1'!J69),'Dekor 1'!$AF$24,\"\")","v":""},{"$f":"'Dekor 1'!Y69","v":0}]
[{"$f":"'Dekor 1'!A70","v":""},{"$f":"'Dekor 1'!B70","v":{"$error":"#NAME?"}},{"$f":"IF(ISNUMBER('Dekor 1'!J70),('Dekor 1'!D70 & \".\" & 'Dekor 1'!U70 & \".\" & 'Dekor 1'!F70 & \".\" & 'Dekor 1'!V70 & \".\" & 'Dekor 1'!H70 & \".\" & 'Dekor 1'!I70),\"\")","v":""},{"$f":"'Dekor 1'!W70","v":0},{"$f":"'Dekor 1'!K70","v":0},{"$f":"'Dekor 1'!M70","v":0},{"$f":"'Dekor 1'!O70","v":0},{"$f":"'Dekor 1'!Q70","v":0},{"$f":"IF(ISNUMBER('Dekor 1'!J70),'Dekor 1'!E70 & \"x\" & 'Dekor 1'!G70,\"\")","v":""},{"$f":"'Dekor 1'!L70","v":0},{"$f":"'Dekor 1'!N70","v":0},{"$f":"'Dekor 1'!P70","v":0},{"$f":"'Dekor 1'!R70","v":0},{"$f":"'Dekor 1'!X70","v":0},{"$f":"IF(ISNUMBER('Dekor 1'!J70),'Dekor 1'!$AF$20,\"\")","v":""},{"$f":"IF(ISNUMBER('Dekor 1'!J70),'Dekor 1'!$AF$21,\"\")","v":""},{"$f":"IF(ISNUMBER('Dekor 1'!J70),'Dekor 1'!$AF$22,\"\")","v":""},{"$f":"IF(ISNUMBER('Dekor 1'!J70),'Dekor 1'!$AF$23,\"\")","v":""},{"$f":"IF(ISNUMBER('Dekor 1'!J70),'Dekor 1'!$AF$24,\"\")","v":""},{"$f":"'Dekor 1'!Y70","v":0}]
[{"$f":"'Dekor 1'!A71","v":""},{"$f":"'Dekor 1'!B71","v":{"$error":"#NAME?"}},{"$f":"IF(ISNUMBER('Dekor 1'!J71),('Dekor 1'!D71 & \".\" & 'Dekor 1'!U71 & \".\" & 'Dekor 1'!F71 & \".\" & 'Dekor 1'!V71 & \".\" & 'Dekor 1'!H71 & \".\" & 'Dekor 1'!I71),\"\")","v":""},{"$f":"'Dekor 1'!W71","v":0},{"$f":"'Dekor 1'!K71","v":0},{"$f":"'Dekor 1'!M71","v":0},{"$f":"'Dekor 1'!O71","v":0},{"$f":"'Dekor 1'!Q71","v":0},{"$f":"IF(ISNUMBER('Dekor 1'!J71),'Dekor 1'!E71 & \"x\" & 'Dekor 1'!G71,\"\")","v":""},{"$f":"'Dekor 1'!L71","v":0},{"$f":"'Dekor 1'!N71","v":0},{"$f":"'Dekor 1'!P71","v":0},{"$f":"'Dekor 1'!R71","v":0},{"$f":"'Dekor 1'!X71","v":0},{"$f":"IF(ISNUMBER('Dekor 1'!J71),'Dekor 1'!$AF$20,\"\")","v":""},{"$f":"IF(ISNUMBER('Dekor 1'!J71),'Dekor 1'!$AF$21,\"\")","v":""},{"$f":"IF(ISNUMBER('Dekor 1'!J71),'Dekor 1'!$AF$22,\"\")","v":""},{"$f":"IF(ISNUMBER('Dekor 1'!J71),'Dekor 1'!$AF$23,\"\")","v":""},{"$f":"IF(ISNUMBER('Dekor 1'!J71),'Dekor 1'!$AF$24,\"\")","v":""},{"$f":"'Dekor 1'!Y71","v":0}]
[{"$f":"'Dekor 1'!A72","v":""},{"$f":"'Dekor 1'!B72","v":{"$error":"#NAME?"}},{"$f":"IF(ISNUMBER('Dekor 1'!J72),('Dekor 1'!D72 & \".\" & 'Dekor 1'!U72 & \".\" & 'Dekor 1'!F72 & \".\" & 'Dekor 1'!V72 & \".\" & 'Dekor 1'!H72 & \".\" & 'Dekor 1'!I72),\"\")","v":""},{"$f":"'Dekor 1'!W72","v":0},{"$f":"'Dekor 1'!K72","v":0},{"$f":"'Dekor 1'!M72","v":0},{"$f":"'Dekor 1'!O72","v":0},{"$f":"'Dekor 1'!Q72","v":0},{"$f":"IF(ISNUMBER('Dekor 1'!J72),'Dekor 1'!E72 & \"x\" & 'Dekor 1'!G72,\"\")","v":""},{"$f":"'Dekor 1'!L72","v":0},{"$f":"'Dekor 1'!N72","v":0},{"$f":"'Dekor 1'!P72","v":0},{"$f":"'Dekor 1'!R72","v":0},{"$f":"'Dekor 1'!X72","v":0},{"$f":"IF(ISNUMBER('Dekor 1'!J72),'Dekor 1'!$AF$20,\"\")","v":""},{"$f":"IF(ISNUMBER('Dekor 1'!J72),'Dekor 1'!$AF$21,\"\")","v":""},{"$f":"IF(ISNUMBER('Dekor 1'!J72),'Dekor 1'!$AF$22,\"\")","v":""},{"$f":"IF(ISNUMBER('Dekor 1'!J72),'Dekor 1'!$AF$23,\"\")","v":""},{"$f":"IF(ISNUMBER('Dekor 1'!J72),'Dekor 1'!$AF$24,\"\")","v":""},{"$f":"'Dekor 1'!Y72","v":0}]
[{"$f":"'Dekor 1'!A73","v":""},{"$f":"'Dekor 1'!B73","v":{"$error":"#NAME?"}},{"$f":"IF(ISNUMBER('Dekor 1'!J73),('Dekor 1'!D73 & \".\" & 'Dekor 1'!U73 & \".\" & 'Dekor 1'!F73 & \".\" & 'Dekor 1'!V73 & \".\" & 'Dekor 1'!H73 & \".\" & 'Dekor 1'!I73),\"\")","v":""},{"$f":"'Dekor 1'!W73","v":0},{"$f":"'Dekor 1'!K73","v":0},{"$f":"'Dekor 1'!M73","v":0},{"$f":"'Dekor 1'!O73","v":0},{"$f":"'Dekor 1'!Q73","v":0},{"$f":"IF(ISNUMBER('Dekor 1'!J73),'Dekor 1'!E73 & \"x\" & 'Dekor 1'!G73,\"\")","v":""},{"$f":"'Dekor 1'!L73","v":0},{"$f":"'Dekor 1'!N73","v":0},{"$f":"'Dekor 1'!P73","v":0},{"$f":"'Dekor 1'!R73","v":0},{"$f":"'Dekor 1'!X73","v":0},{"$f":"IF(ISNUMBER('Dekor 1'!J73),'Dekor 1'!$AF$20,\"\")","v":""},{"$f":"IF(ISNUMBER('Dekor 1'!J73),'Dekor 1'!$AF$21,\"\")","v":""},{"$f":"IF(ISNUMBER('Dekor 1'!J73),'Dekor 1'!$AF$22,\"\")","v":""},{"$f":"IF(ISNUMBER('Dekor 1'!J73),'Dekor 1'!$AF$23,\"\")","v":""},{"$f":"IF(ISNUMBER('Dekor 1'!J73),'Dekor 1'!$AF$24,\"\")","v":""},{"$f":"'Dekor 1'!Y73","v":0}]
[{"$f":"'Dekor 1'!A74","v":""},{"$f":"'Dekor 1'!B74","v":{"$error":"#NAME?"}},{"$f":"IF(ISNUMBER('Dekor 1'!J74),('Dekor 1'!D74 & \".\" & 'Dekor 1'!U74 & \".\" & 'Dekor 1'!F74 & \".\" & 'Dekor 1'!V74 & \".\" & 'Dekor 1'!H74 & \".\" & 'Dekor 1'!I74),\"\")","v":""},{"$f":"'Dekor 1'!W74","v":0},{"$f":"'Dekor 1'!K74","v":0},{"$f":"'Dekor 1'!M74","v":0},{"$f":"'Dekor 1'!O74","v":0},{"$f":"'Dekor 1'!Q74","v":0},{"$f":"IF(ISNUMBER('Dekor 1'!J74),'Dekor 1'!E74 & \"x\" & 'Dekor 1'!G74,\"\")","v":""},{"$f":"'Dekor 1'!L74","v":0},{"$f":"'Dekor 1'!N74","v":0},{"$f":"'Dekor 1'!P74","v":0},{"$f":"'Dekor 1'!R74","v":0},{"$f":"'Dekor 1'!X74","v":0},{"$f":"IF(ISNUMBER('Dekor 1'!J74),'Dekor 1'!$AF$20,\"\")","v":""},{"$f":"IF(ISNUMBER('Dekor 1'!J74),'Dekor 1'!$AF$21,\"\")","v":""},{"$f":"IF(ISNUMBER('Dekor 1'!J74),'Dekor 1'!$AF$22,\"\")","v":""},{"$f":"IF(ISNUMBER('Dekor 1'!J74),'Dekor 1'!$AF$23,\"\")","v":""},{"$f":"IF(ISNUMBER('Dekor 1'!J74),'Dekor 1'!$AF$24,\"\")","v":""},{"$f":"'Dekor 1'!Y74","v":0}]
[{"$f":"'Dekor 1'!A75","v":""},{"$f":"'Dekor 1'!B75","v":{"$error":"#NAME?"}},{"$f":"IF(ISNUMBER('Dekor 1'!J75),('Dekor 1'!D75 & \".\" & 'Dekor 1'!U75 & \".\" & 'Dekor 1'!F75 & \".\" & 'Dekor 1'!V75 & \".\" & 'Dekor 1'!H75 & \".\" & 'Dekor 1'!I75),\"\")","v":""},{"$f":"'Dekor 1'!W75","v":0},{"$f":"'Dekor 1'!K75","v":0},{"$f":"'Dekor 1'!M75","v":0},{"$f":"'Dekor 1'!O75","v":0},{"$f":"'Dekor 1'!Q75","v":0},{"$f":"IF(ISNUMBER('Dekor 1'!J75),'Dekor 1'!E75 & \"x\" & 'Dekor 1'!G75,\"\")","v":""},{"$f":"'Dekor 1'!L75","v":0},{"$f":"'Dekor 1'!N75","v":0},{"$f":"'Dekor 1'!P75","v":0},{"$f":"'Dekor 1'!R75","v":0},{"$f":"'Dekor 1'!X75","v":0},{"$f":"IF(ISNUMBER('Dekor 1'!J75),'Dekor 1'!$AF$20,\"\")","v":""},{"$f":"IF(ISNUMBER('Dekor 1'!J75),'Dekor 1'!$AF$21,\"\")","v":""},{"$f":"IF(ISNUMBER('Dekor 1'!J75),'Dekor 1'!$AF$22,\"\")","v":""},{"$f":"IF(ISNUMBER('Dekor 1'!J75),'Dekor 1'!$AF$23,\"\")","v":""},{"$f":"IF(ISNUMBER('Dekor 1'!J75),'Dekor 1'!$AF$24,\"\")","v":""},{"$f":"'Dekor 1'!Y75","v":0}]
[{"$f":"'Dekor 1'!A76","v":""},{"$f":"'Dekor 1'!B76","v":{"$error":"#NAME?"}},{"$f":"IF(ISNUMBER('Dekor 1'!J76),('Dekor 1'!D76 & \".\" & 'Dekor 1'!U76 & \".\" & 'Dekor 1'!F76 & \".\" & 'Dekor 1'!V76 & \".\" & 'Dekor 1'!H76 & \".\" & 'Dekor 1'!I76),\"\")","v":""},{"$f":"'Dekor 1'!W76","v":0},{"$f":"'Dekor 1'!K76","v":0},{"$f":"'Dekor 1'!M76","v":0},{"$f":"'Dekor 1'!O76","v":0},{"$f":"'Dekor 1'!Q76","v":0},{"$f":"IF(ISNUMBER('Dekor 1'!J76),'Dekor 1'!E76 & \"x\" & 'Dekor 1'!G76,\"\")","v":""},{"$f":"'Dekor 1'!L76","v":0},{"$f":"'Dekor 1'!N76","v":0},{"$f":"'Dekor 1'!P76","v":0},{"$f":"'Dekor 1'!R76","v":0},{"$f":"'Dekor 1'!X76","v":0},{"$f":"IF(ISNUMBER('Dekor 1'!J76),'Dekor 1'!$AF$20,\"\")","v":""},{"$f":"IF(ISNUMBER('Dekor 1'!J76),'Dekor 1'!$AF$21,\"\")","v":""},{"$f":"IF(ISNUMBER('Dekor 1'!J76),'Dekor 1'!$AF$22,\"\")","v":""},{"$f":"IF(ISNUMBER('Dekor 1'!J76),'Dekor 1'!$AF$23,\"\")","v":""},{"$f":"IF(ISNUMBER('Dekor 1'!J76),'Dekor 1'!$AF$24,\"\")","v":""},{"$f":"'Dekor 1'!Y76","v":0}]
[{"$f":"'Dekor 1'!A77","v":""},{"$f":"'Dekor 1'!B77","v":{"$error":"#NAME?"}},{"$f":"IF(ISNUMBER('Dekor 1'!J77),('Dekor 1'!D77 & \".\" & 'Dekor 1'!U77 & \".\" & 'Dekor 1'!F77 & \".\" & 'Dekor 1'!V77 & \".\" & 'Dekor 1'!H77 & \".\" & 'Dekor 1'!I77),\"\")","v":""},{"$f":"'Dekor 1'!W77","v":0},{"$f":"'Dekor 1'!K77","v":0},{"$f":"'Dekor 1'!M77","v":0},{"$f":"'Dekor 1'!O77","v":0},{"$f":"'Dekor 1'!Q77","v":0},{"$f":"IF(ISNUMBER('Dekor 1'!J77),'Dekor 1'!E77 & \"x\" & 'Dekor 1'!G77,\"\")","v":""},{"$f":"'Dekor 1'!L77","v":0},{"$f":"'Dekor 1'!N77","v":0},{"$f":"'Dekor 1'!P77","v":0},{"$f":"'Dekor 1'!R77","v":0},{"$f":"'Dekor 1'!X77","v":0},{"$f":"IF(ISNUMBER('Dekor 1'!J77),'Dekor 1'!$AF$20,\"\")","v":""},{"$f":"IF(ISNUMBER('Dekor 1'!J77),'Dekor 1'!$AF$21,\"\")","v":""},{"$f":"IF(ISNUMBER('Dekor 1'!J77),'Dekor 1'!$AF$22,\"\")","v":""},{"$f":"IF(ISNUMBER('Dekor 1'!J77),'Dekor 1'!$AF$23,\"\")","v":""},{"$f":"IF(ISNUMBER('Dekor 1'!J77),'Dekor 1'!$AF$24,\"\")","v":""},{"$f":"'Dekor 1'!Y77","v":0}]
[{"$f":"'Dekor 1'!A78","v":""},{"$f":"'Dekor 1'!B78","v":{"$error":"#NAME?"}},{"$f":"IF(ISNUMBER('Dekor 1'!J78),('Dekor 1'!D78 & \".\" & 'Dekor 1'!U78 & \".\" & 'Dekor 1'!F78 & \".\" & 'Dekor 1'!V78 & \".\" & 'Dekor 1'!H78 & \".\" & 'Dekor 1'!I78),\"\")","v":""},{"$f":"'Dekor 1'!W78","v":0},{"$f":"'Dekor 1'!K78","v":0},{"$f":"'Dekor 1'!M78","v":0},{"$f":"'Dekor 1'!O78","v":0},{"$f":"'Dekor 1'!Q78","v":0},{"$f":"IF(ISNUMBER('Dekor 1'!J78),'Dekor 1'!E78 & \"x\" & 'Dekor 1'!G78,\"\")","v":""},{"$f":"'Dekor 1'!L78","v":0},{"$f":"'Dekor 1'!N78","v":0},{"$f":"'Dekor 1'!P78","v":0},{"$f":"'Dekor 1'!R78","v":0},{"$f":"'Dekor 1'!X78","v":0},{"$f":"IF(ISNUMBER('Dekor 1'!J78),'Dekor 1'!$AF$20,\"\")","v":""},{"$f":"IF(ISNUMBER('Dekor 1'!J78),'Dekor 1'!$AF$21,\"\")","v":""},{"$f":"IF(ISNUMBER('Dekor 1'!J78),'Dekor 1'!$AF$22,\"\")","v":""},{"$f":"IF(ISNUMBER('Dekor 1'!J78),'Dekor 1'!$AF$23,\"\")","v":""},{"$f":"IF(ISNUMBER('Dekor 1'!J78),'Dekor 1'!$AF$24,\"\")","v":""},{"$f":"'Dekor 1'!Y78","v":0}]
[{"$f":"'Dekor 1'!A79","v":""},{"$f":"'Dekor 1'!B79","v":{"$error":"#NAME?"}},{"$f":"IF(ISNUMBER('Dekor 1'!J79),('Dekor 1'!D79 & \".\" & 'Dekor 1'!U79 & \".\" & 'Dekor 1'!F79 & \".\" & 'Dekor 1'!V79 & \".\" & 'Dekor 1'!H79 & \".\" & 'Dekor 1'!I79),\"\")","v":""},{"$f":"'Dekor 1'!W79","v":0},{"$f":"'Dekor 1'!K79","v":0},{"$f":"'Dekor 1'!M79","v":0},{"$f":"'Dekor 1'!O79","v":0},{"$f":"'Dekor 1'!Q79","v":0},{"$f":"IF(ISNUMBER('Dekor 1'!J79),'Dekor 1'!E79 & \"x\" & 'Dekor 1'!G79,\"\")","v":""},{"$f":"'Dekor 1'!L79","v":0},{"$f":"'Dekor 1'!N79","v":0},{"$f":"'Dekor 1'!P79","v":0},{"$f":"'Dekor 1'!R79","v":0},{"$f":"'Dekor 1'!X79","v":0},{"$f":"IF(ISNUMBER('Dekor 1'!J79),'Dekor 1'!$AF$20,\"\")","v":""},{"$f":"IF(ISNUMBER('Dekor 1'!J79),'Dekor 1'!$AF$21,\"\")","v":""},{"$f":"IF(ISNUMBER('Dekor 1'!J79),'Dekor 1'!$AF$22,\"\")","v":""},{"$f":"IF(ISNUMBER('Dekor 1'!J79),'Dekor 1'!$AF$23,\"\")","v":""},{"$f":"IF(ISNUMBER('Dekor 1'!J79),'Dekor 1'!$AF$24,\"\")","v":""},{"$f":"'Dekor 1'!Y79","v":0}]
[{"$f":"'Dekor 1'!A80","v":""},{"$f":"'Dekor 1'!B80","v":{"$error":"#NAME?"}},{"$f":"IF(ISNUMBER('Dekor 1'!J80),('Dekor 1'!D80 & \".\" & 'Dekor 1'!U80 & \".\" & 'Dekor 1'!F80 & \".\" & 'Dekor 1'!V80 & \".\" & 'Dekor 1'!H80 & \".\" & 'Dekor 1'!I80),\"\")","v":""},{"$f":"'Dekor 1'!W80","v":0},{"$f":"'Dekor 1'!K80","v":0},{"$f":"'Dekor 1'!M80","v":0},{"$f":"'Dekor 1'!O80","v":0},{"$f":"'Dekor 1'!Q80","v":0},{"$f":"IF(ISNUMBER('Dekor 1'!J80),'Dekor 1'!E80 & \"x\" & 'Dekor 1'!G80,\"\")","v":""},{"$f":"'Dekor 1'!L80","v":0},{"$f":"'Dekor 1'!N80","v":0},{"$f":"'Dekor 1'!P80","v":0},{"$f":"'Dekor 1'!R80","v":0},{"$f":"'Dekor 1'!X80","v":0},{"$f":"IF(ISNUMBER('Dekor 1'!J80),'Dekor 1'!$AF$20,\"\")","v":""},{"$f":"IF(ISNUMBER('Dekor 1'!J80),'Dekor 1'!$AF$21,\"\")","v":""},{"$f":"IF(ISNUMBER('Dekor 1'!J80),'Dekor 1'!$AF$22,\"\")","v":""},{"$f":"IF(ISNUMBER('Dekor 1'!J80),'Dekor 1'!$AF$23,\"\")","v":""},{"$f":"IF(ISNUMBER('Dekor 1'!J80),'Dekor 1'!$AF$24,\"\")","v":""},{"$f":"'Dekor 1'!Y80","v":0}]
[{"$f":"'Dekor 1'!A81","v":""},{"$f":"'Dekor 1'!B81","v":{"$error":"#NAME?"}},{"$f":"IF(ISNUMBER('Dekor 1'!J81),('Dekor 1'!D81 & \".\" & 'Dekor 1'!U81 & \".\" & 'Dekor 1'!F81 & \".\" & 'Dekor 1'!V81 & \".\" & 'Dekor 1'!H81 & \".\" & 'Dekor 1'!I81),\"\")","v":""},{"$f":"'Dekor 1'!W81","v":0},{"$f":"'Dekor 1'!K81","v":0},{"$f":"'Dekor 1'!M81","v":0},{"$f":"'Dekor 1'!O81","v":0},{"$f":"'Dekor 1'!Q81","v":0},{"$f":"IF(ISNUMBER('Dekor 1'!J81),'Dekor 1'!E81 & \"x\" & 'Dekor 1'!G81,\"\")","v":""},{"$f":"'Dekor 1'!L81","v":0},{"$f":"'Dekor 1'!N81","v":0},{"$f":"'Dekor 1'!P81","v":0},{"$f":"'Dekor 1'!R81","v":0},{"$f":"'Dekor 1'!X81","v":0},{"$f":"IF(ISNUMBER('Dekor 1'!J81),'Dekor 1'!$AF$20,\"\")","v":""},{"$f":"IF(ISNUMBER('Dekor 1'!J81),'Dekor 1'!$AF$21,\"\")","v":""},{"$f":"IF(ISNUMBER('Dekor 1'!J81),'Dekor 1'!$AF$22,\"\")","v":""},{"$f":"IF(ISNUMBER('Dekor 1'!J81),'Dekor 1'!$AF$23,\"\")","v":""},{"$f":"IF(ISNUMBER('Dekor 1'!J81),'Dekor 1'!$AF$24,\"\")","v":""},{"$f":"'Dekor 1'!Y81","v":0}]
[{"$f":"'Dekor 1'!A82","v":""},{"$f":"'Dekor 1'!B82","v":{"$error":"#NAME?"}},{"$f":"IF(ISNUMBER('Dekor 1'!J82),('Dekor 1'!D82 & \".\" & 'Dekor 1'!U82 & \".\" & 'Dekor 1'!F82 & \".\" & 'Dekor 1'!V82 & \".\" & 'Dekor 1'!H82 & \".\" & 'Dekor 1'!I82),\"\")","v":""},{"$f":"'Dekor 1'!W82","v":0},{"$f":"'Dekor 1'!K82","v":0},{"$f":"'Dekor 1'!M82","v":0},{"$f":"'Dekor 1'!O82","v":0},{"$f":"'Dekor 1'!Q82","v":0},{"$f":"IF(ISNUMBER('Dekor 1'!J82),'Dekor 1'!E82 & \"x\" & 'Dekor 1'!G82,\"\")","v":""},{"$f":"'Dekor 1'!L82","v":0},{"$f":"'Dekor 1'!N82","v":0},{"$f":"'Dekor 1'!P82","v":0},{"$f":"'Dekor 1'!R82","v":0},{"$f":"'Dekor 1'!X82","v":0},{"$f":"IF(ISNUMBER('Dekor 1'!J82),'Dekor 1'!$AF$20,\"\")","v":""},{"$f":"IF(ISNUMBER('Dekor 1'!J82),'Dekor 1'!$AF$21,\"\")","v":""},{"$f":"IF(ISNUMBER('Dekor 1'!J82),'Dekor 1'!$AF$22,\"\")","v":""},{"$f":"IF(ISNUMBER('Dekor 1'!J82),'Dekor 1'!$AF$23,\"\")","v":""},{"$f":"IF(ISNUMBER('Dekor 1'!J82),'Dekor 1'!$AF$24,\"\")","v":""},{"$f":"'Dekor 1'!Y82","v":0}]
[{"$f":"'Dekor 1'!A83","v":""},{"$f":"'Dekor 1'!B83","v":{"$error":"#NAME?"}},{"$f":"IF(ISNUMBER('Dekor 1'!J83),('Dekor 1'!D83 & \".\" & 'Dekor 1'!U83 & \".\" & 'Dekor 1'!F83 & \".\" & 'Dekor 1'!V83 & \".\" & 'Dekor 1'!H83 & \".\" & 'Dekor 1'!I83),\"\")","v":""},{"$f":"'Dekor 1'!W83","v":0},{"$f":"'Dekor 1'!K83","v":0},{"$f":"'Dekor 1'!M83","v":0},{"$f":"'Dekor 1'!O83","v":0},{"$f":"'Dekor 1'!Q83","v":0},{"$f":"IF(ISNUMBER('Dekor 1'!J83),'Dekor 1'!E83 & \"x\" & 'Dekor 1'!G83,\"\")","v":""},{"$f":"'Dekor 1'!L83","v":0},{"$f":"'Dekor 1'!N83","v":0},{"$f":"'Dekor 1'!P83","v":0},{"$f":"'Dekor 1'!R83","v":0},{"$f":"'Dekor 1'!X83","v":0},{"$f":"IF(ISNUMBER('Dekor 1'!J83),'Dekor 1'!$AF$20,\"\")","v":""},{"$f":"IF(ISNUMBER('Dekor 1'!J83),'Dekor 1'!$AF$21,\"\")","v":""},{"$f":"IF(ISNUMBER('Dekor 1'!J83),'Dekor 1'!$AF$22,\"\")","v":""},{"$f":"IF(ISNUMBER('Dekor 1'!J83),'Dekor 1'!$AF$23,\"\")","v":""},{"$f":"IF(ISNUMBER('Dekor 1'!J83),'Dekor 1'!$AF$24,\"\")","v":""},{"$f":"'Dekor 1'!Y83","v":0}]
[{"$f":"'Dekor 1'!A84","v":""},{"$f":"'Dekor 1'!B84","v":{"$error":"#NAME?"}},{"$f":"IF(ISNUMBER('Dekor 1'!J84),('Dekor 1'!D84 & \".\" & 'Dekor 1'!U84 & \".\" & 'Dekor 1'!F84 & \".\" & 'Dekor 1'!V84 & \".\" & 'Dekor 1'!H84 & \".\" & 'Dekor 1'!I84),\"\")","v":""},{"$f":"'Dekor 1'!W84","v":0},{"$f":"'Dekor 1'!K84","v":0},{"$f":"'Dekor 1'!M84","v":0},{"$f":"'Dekor 1'!O84","v":0},{"$f":"'Dekor 1'!Q84","v":0},{"$f":"IF(ISNUMBER('Dekor 1'!J84),'Dekor 1'!E84 & \"x\" & 'Dekor 1'!G84,\"\")","v":""},{"$f":"'Dekor 1'!L84","v":0},{"$f":"'Dekor 1'!N84","v":0},{"$f":"'Dekor 1'!P84","v":0},{"$f":"'Dekor 1'!R84","v":0},{"$f":"'Dekor 1'!X84","v":0},{"$f":"IF(ISNUMBER('Dekor 1'!J84),'Dekor 1'!$AF$20,\"\")","v":""},{"$f":"IF(ISNUMBER('Dekor 1'!J84),'Dekor 1'!$AF$21,\"\")","v":""},{"$f":"IF(ISNUMBER('Dekor 1'!J84),'Dekor 1'!$AF$22,\"\")","v":""},{"$f":"IF(ISNUMBER('Dekor 1'!J84),'Dekor 1'!$AF$23,\"\")","v":""},{"$f":"IF(ISNUMBER('Dekor 1'!J84),'Dekor 1'!$AF$24,\"\")","v":""},{"$f":"'Dekor 1'!Y84","v":0}]
[{"$f":"'Dekor 1'!A85","v":""},{"$f":"'Dekor 1'!B85","v":{"$error":"#NAME?"}},{"$f":"IF(ISNUMBER('Dekor 1'!J85),('Dekor 1'!D85 & \".\" & 'Dekor 1'!U85 & \".\" & 'Dekor 1'!F85 & \".\" & 'Dekor 1'!V85 & \".\" & 'Dekor 1'!H85 & \".\" & 'Dekor 1'!I85),\"\")","v":""},{"$f":"'Dekor 1'!W85","v":0},{"$f":"'Dekor 1'!K85","v":0},{"$f":"'Dekor 1'!M85","v":0},{"$f":"'Dekor 1'!O85","v":0},{"$f":"'Dekor 1'!Q85","v":0},{"$f":"IF(ISNUMBER('Dekor 1'!J85),'Dekor 1'!E85 & \"x\" & 'Dekor 1'!G85,\"\")","v":""},{"$f":"'Dekor 1'!L85","v":0},{"$f":"'Dekor 1'!N85","v":0},{"$f":"'Dekor 1'!P85","v":0},{"$f":"'Dekor 1'!R85","v":0},{"$f":"'Dekor 1'!X85","v":0},{"$f":"IF(ISNUMBER('Dekor 1'!J85),'Dekor 1'!$AF$20,\"\")","v":""},{"$f":"IF(ISNUMBER('Dekor 1'!J85),'Dekor 1'!$AF$21,\"\")","v":""},{"$f":"IF(ISNUMBER('Dekor 1'!J85),'Dekor 1'!$AF$22,\"\")","v":""},{"$f":"IF(ISNUMBER('Dekor 1'!J85),'Dekor 1'!$AF$23,\"\")","v":""},{"$f":"IF(ISNUMBER('Dekor 1'!J85),'Dekor 1'!$AF$24,\"\")","v":""},{"$f":"'Dekor 1'!Y85","v":0}]
[{"$f":"'Dekor 1'!A86","v":""},{"$f":"'Dekor 1'!B86","v":{"$error":"#NAME?"}},{"$f":"IF(ISNUMBER('Dekor 1'!J86),('Dekor 1'!D86 & \".\" & 'Dekor 1'!U86 & \".\" & 'Dekor 1'!F86 & \".\" & 'Dekor 1'!V86 & \".\" & 'Dekor 1'!H86 & \".\" & 'Dekor 1'!I86),\"\")","v":""},{"$f":"'Dekor 1'!W86","v":0},{"$f":"'Dekor 1'!K86","v":0},{"$f":"'Dekor 1'!M86","v":0},{"$f":"'Dekor 1'!O86","v":0},{"$f":"'Dekor 1'!Q86","v":0},{"$f":"IF(ISNUMBER('Dekor 1'!J86),'Dekor 1'!E86 & \"x\" & 'Dekor 1'!G86,\"\")","v":""},{"$f":"'Dekor 1'!L86","v":0},{"$f":"'Dekor 1'!N86","v":0},{"$f":"'Dekor 1'!P86","v":0},{"$f":"'Dekor 1'!R86","v":0},{"$f":"'Dekor 1'!X86","v":0},{"$f":"IF(ISNUMBER('Dekor 1'!J86),'Dekor 1'!$AF$20,\"\")","v":""},{"$f":"IF(ISNUMBER('Dekor 1'!J86),'Dekor 1'!$AF$21,\"\")","v":""},{"$f":"IF(ISNUMBER('Dekor 1'!J86),'Dekor 1'!$AF$22,\"\")","v":""},{"$f":"IF(ISNUMBER('Dekor 1'!J86),'Dekor 1'!$AF$23,\"\")","v":""},{"$f":"IF(ISNUMBER('Dekor 1'!J86),'Dekor 1'!$AF$24,\"\")","v":""},{"$f":"'Dekor 1'!Y86","v":0}]
[{"$f":"'Dekor 1'!A87","v":""},{"$f":"'Dekor 1'!B87","v":{"$error":"#NAME?"}},{"$f":"IF(ISNUMBER('Dekor 1'!J87),('Dekor 1'!D87 & \".\" & 'Dekor 1'!U87 & \".\" & 'Dekor 1'!F87 & \".\" & 'Dekor 1'!V87 & \".\" & 'Dekor 1'!H87 & \".\" & 'Dekor 1'!I87),\"\")","v":""},{"$f":"'Dekor 1'!W87","v":0},{"$f":"'Dekor 1'!K87","v":0},{"$f":"'Dekor 1'!M87","v":0},{"$f":"'Dekor 1'!O87","v":0},{"$f":"'Dekor 1'!Q87","v":0},{"$f":"IF(ISNUMBER('Dekor 1'!J87),'Dekor 1'!E87 & \"x\" & 'Dekor 1'!G87,\"\")","v":""},{"$f":"'Dekor 1'!L87","v":0},{"$f":"'Dekor 1'!N87","v":0},{"$f":"'Dekor 1'!P87","v":0},{"$f":"'Dekor 1'!R87","v":0},{"$f":"'Dekor 1'!X87","v":0},{"$f":"IF(ISNUMBER('Dekor 1'!J87),'Dekor 1'!$AF$20,\"\")","v":""},{"$f":"IF(ISNUMBER('Dekor 1'!J87),'Dekor 1'!$AF$21,\"\")","v":""},{"$f":"IF(ISNUMBER('Dekor 1'!J87),'Dekor 1'!$AF$22,\"\")","v":""},{"$f":"IF(ISNUMBER('Dekor 1'!J87),'Dekor 1'!$AF$23,\"\")","v":""},{"$f":"IF(ISNUMBER('Dekor 1'!J87),'Dekor 1'!$AF$24,\"\")","v":""},{"$f":"'Dekor 1'!Y87","v":0}]
[{"$f":"'Dekor 1'!A88","v":""},{"$f":"'Dekor 1'!B88","v":{"$error":"#NAME?"}},{"$f":"IF(ISNUMBER('Dekor 1'!J88),('Dekor 1'!D88 & \".\" & 'Dekor 1'!U88 & \".\" & 'Dekor 1'!F88 & \".\" & 'Dekor 1'!V88 & \".\" & 'Dekor 1'!H88 & \".\" & 'Dekor 1'!I88),\"\")","v":""},{"$f":"'Dekor 1'!W88","v":0},{"$f":"'Dekor 1'!K88","v":0},{"$f":"'Dekor 1'!M88","v":0},{"$f":"'Dekor 1'!O88","v":0},{"$f":"'Dekor 1'!Q88","v":0},{"$f":"IF(ISNUMBER('Dekor 1'!J88),'Dekor 1'!E88 & \"x\" & 'Dekor 1'!G88,\"\")","v":""},{"$f":"'Dekor 1'!L88","v":0},{"$f":"'Dekor 1'!N88","v":0},{"$f":"'Dekor 1'!P88","v":0},{"$f":"'Dekor 1'!R88","v":0},{"$f":"'Dekor 1'!X88","v":0},{"$f":"IF(ISNUMBER('Dekor 1'!J88),'Dekor 1'!$AF$20,\"\")","v":""},{"$f":"IF(ISNUMBER('Dekor 1'!J88),'Dekor 1'!$AF$21,\"\")","v":""},{"$f":"IF(ISNUMBER('Dekor 1'!J88),'Dekor 1'!$AF$22,\"\")","v":""},{"$f":"IF(ISNUMBER('Dekor 1'!J88),'Dekor 1'!$AF$23,\"\")","v":""},{"$f":"IF(ISNUMBER('Dekor 1'!J88),'Dekor 1'!$AF$24,\"\")","v":""},{"$f":"'Dekor 1'!Y88","v":0}]
[{"$f":"'Dekor 1'!A89","v":""},{"$f":"'Dekor 1'!B89","v":{"$error":"#NAME?"}},{"$f":"IF(ISNUMBER('Dekor 1'!J89),('Dekor 1'!D89 & \".\" & 'Dekor 1'!U89 & \".\" & 'Dekor 1'!F89 & \".\" & 'Dekor 1'!V89 & \".\" & 'Dekor 1'!H89 & \".\" & 'Dekor 1'!I89),\"\")","v":""},{"$f":"'Dekor 1'!W89","v":0},{"$f":"'Dekor 1'!K89","v":0},{"$f":"'Dekor 1'!M89","v":0},{"$f":"'Dekor 1'!O89","v":0},{"$f":"'Dekor 1'!Q89","v":0},{"$f":"IF(ISNUMBER('Dekor 1'!J89),'Dekor 1'!E89 & \"x\" & 'Dekor 1'!G89,\"\")","v":""},{"$f":"'Dekor 1'!L89","v":0},{"$f":"'Dekor 1'!N89","v":0},{"$f":"'Dekor 1'!P89","v":0},{"$f":"'Dekor 1'!R89","v":0},{"$f":"'Dekor 1'!X89","v":0},{"$f":"IF(ISNUMBER('Dekor 1'!J89),'Dekor 1'!$AF$20,\"\")","v":""},{"$f":"IF(ISNUMBER('Dekor 1'!J89),'Dekor 1'!$AF$21,\"\")","v":""},{"$f":"IF(ISNUMBER('Dekor 1'!J89),'Dekor 1'!$AF$22,\"\")","v":""},{"$f":"IF(ISNUMBER('Dekor 1'!J89),'Dekor 1'!$AF$23,\"\")","v":""},{"$f":"IF(ISNUMBER('Dekor 1'!J89),'Dekor 1'!$AF$24,\"\")","v":""},{"$f":"'Dekor 1'!Y89","v":0}]
[{"$f":"'Dekor 1'!A90","v":""},{"$f":"'Dekor 1'!B90","v":{"$error":"#NAME?"}},{"$f":"IF(ISNUMBER('Dekor 1'!J90),('Dekor 1'!D90 & \".\" & 'Dekor 1'!U90 & \".\" & 'Dekor 1'!F90 & \".\" & 'Dekor 1'!V90 & \".\" & 'Dekor 1'!H90 & \".\" & 'Dekor 1'!I90),\"\")","v":""},{"$f":"'Dekor 1'!W90","v":0},{"$f":"'Dekor 1'!K90","v":0},{"$f":"'Dekor 1'!M90","v":0},{"$f":"'Dekor 1'!O90","v":0},{"$f":"'Dekor 1'!Q90","v":0},{"$f":"IF(ISNUMBER('Dekor 1'!J90),'Dekor 1'!E90 & \"x\" & 'Dekor 1'!G90,\"\")","v":""},{"$f":"'Dekor 1'!L90","v":0},{"$f":"'Dekor 1'!N90","v":0},{"$f":"'Dekor 1'!P90","v":0},{"$f":"'Dekor 1'!R90","v":0},{"$f":"'Dekor 1'!X90","v":0},{"$f":"IF(ISNUMBER('Dekor 1'!J90),'Dekor 1'!$AF$20,\"\")","v":""},{"$f":"IF(ISNUMBER('Dekor 1'!J90),'Dekor 1'!$AF$21,\"\")","v":""},{"$f":"IF(ISNUMBER('Dekor 1'!J90),'Dekor 1'!$AF$22,\"\")","v":""},{"$f":"IF(ISNUMBER('Dekor 1'!J90),'Dekor 1'!$AF$23,\"\")","v":""},{"$f":"IF(ISNUMBER('Dekor 1'!J90),'Dekor 1'!$AF$24,\"\")","v":""},{"$f":"'Dekor 1'!Y90","v":0}]
[{"$f":"'Dekor 1'!A91","v":""},{"$f":"'Dekor 1'!B91","v":{"$error":"#NAME?"}},{"$f":"IF(ISNUMBER('Dekor 1'!J91),('Dekor 1'!D91 & \".\" & 'Dekor 1'!U91 & \".\" & 'Dekor 1'!F91 & \".\" & 'Dekor 1'!V91 & \".\" & 'Dekor 1'!H91 & \".\" & 'Dekor 1'!I91),\"\")","v":""},{"$f":"'Dekor 1'!W91","v":0},{"$f":"'Dekor 1'!K91","v":0},{"$f":"'Dekor 1'!M91","v":0},{"$f":"'Dekor 1'!O91","v":0},{"$f":"'Dekor 1'!Q91","v":0},{"$f":"IF(ISNUMBER('Dekor 1'!J91),'Dekor 1'!E91 & \"x\" & 'Dekor 1'!G91,\"\")","v":""},{"$f":"'Dekor 1'!L91","v":0},{"$f":"'Dekor 1'!N91","v":0},{"$f":"'Dekor 1'!P91","v":0},{"$f":"'Dekor 1'!R91","v":0},{"$f":"'Dekor 1'!X91","v":0},{"$f":"IF(ISNUMBER('Dekor 1'!J91),'Dekor 1'!$AF$20,\"\")","v":""},{"$f":"IF(ISNUMBER('Dekor 1'!J91),'Dekor 1'!$AF$21,\"\")","v":""},{"$f":"IF(ISNUMBER('Dekor 1'!J91),'Dekor 1'!$AF$22,\"\")","v":""},{"$f":"IF(ISNUMBER('Dekor 1'!J91),'Dekor 1'!$AF$23,\"\")","v":""},{"$f":"IF(ISNUMBER('Dekor 1'!J91),'Dekor 1'!$AF$24,\"\")","v":""},{"$f":"'Dekor 1'!Y91","v":0}]
[{"$f":"'Dekor 1'!A92","v":""},{"$f":"'Dekor 1'!B92","v":{"$error":"#NAME?"}},{"$f":"IF(ISNUMBER('Dekor 1'!J92),('Dekor 1'!D92 & \".\" & 'Dekor 1'!U92 & \".\" & 'Dekor 1'!F92 & \".\" & 'Dekor 1'!V92 & \".\" & 'Dekor 1'!H92 & \".\" & 'Dekor 1'!I92),\"\")","v":""},{"$f":"'Dekor 1'!W92","v":0},{"$f":"'Dekor 1'!K92","v":0},{"$f":"'Dekor 1'!M92","v":0},{"$f":"'Dekor 1'!O92","v":0},{"$f":"'Dekor 1'!Q92","v":0},{"$f":"IF(ISNUMBER('Dekor 1'!J92),'Dekor 1'!E92 & \"x\" & 'Dekor 1'!G92,\"\")","v":""},{"$f":"'Dekor 1'!L92","v":0},{"$f":"'Dekor 1'!N92","v":0},{"$f":"'Dekor 1'!P92","v":0},{"$f":"'Dekor 1'!R92","v":0},{"$f":"'Dekor 1'!X92","v":0},{"$f":"IF(ISNUMBER('Dekor 1'!J92),'Dekor 1'!$AF$20,\"\")","v":""},{"$f":"IF(ISNUMBER('Dekor 1'!J92),'Dekor 1'!$AF$21,\"\")","v":""},{"$f":"IF(ISNUMBER('Dekor 1'!J92),'Dekor 1'!$AF$22,\"\")","v":""},{"$f":"IF(ISNUMBER('Dekor 1'!J92),'Dekor 1'!$AF$23,\"\")","v":""},{"$f":"IF(ISNUMBER('Dekor 1'!J92),'Dekor 1'!$AF$24,\"\")","v":""},{"$f":"'Dekor 1'!Y92","v":0}]
[{"$f":"'Dekor 1'!A93","v":""},{"$f":"'Dekor 1'!B93","v":{"$error":"#NAME?"}},{"$f":"IF(ISNUMBER('Dekor 1'!J93),('Dekor 1'!D93 & \".\" & 'Dekor 1'!U93 & \".\" & 'Dekor 1'!F93 & \".\" & 'Dekor 1'!V93 & \".\" & 'Dekor 1'!H93 & \".\" & 'Dekor 1'!I93),\"\")","v":""},{"$f":"'Dekor 1'!W93","v":0},{"$f":"'Dekor 1'!K93","v":0},{"$f":"'Dekor 1'!M93","v":0},{"$f":"'Dekor 1'!O93","v":0},{"$f":"'Dekor 1'!Q93","v":0},{"$f":"IF(ISNUMBER('Dekor 1'!J93),'Dekor 1'!E93 & \"x\" & 'Dekor 1'!G93,\"\")","v":""},{"$f":"'Dekor 1'!L93","v":0},{"$f":"'Dekor 1'!N93","v":0},{"$f":"'Dekor 1'!P93","v":0},{"$f":"'Dekor 1'!R93","v":0},{"$f":"'Dekor 1'!X93","v":0},{"$f":"IF(ISNUMBER('Dekor 1'!J93),'Dekor 1'!$AF$20,\"\")","v":""},{"$f":"IF(ISNUMBER('Dekor 1'!J93),'Dekor 1'!$AF$21,\"\")","v":""},{"$f":"IF(ISNUMBER('Dekor 1'!J93),'Dekor 1'!$AF$22,\"\")","v":""},{"$f":"IF(ISNUMBER('Dekor 1'!J93),'Dekor 1'!$AF$23,\"\")","v":""},{"$f":"IF(ISNUMBER('Dekor 1'!J93),'Dekor 1'!$AF$24,\"\")","v":""},{"$f":"'Dekor 1'!Y93","v":0}]
[{"$f":"'Dekor 1'!A94","v":""},{"$f":"'Dekor 1'!B94","v":{"$error":"#NAME?"}},{"$f":"IF(ISNUMBER('Dekor 1'!J94),('Dekor 1'!D94 & \".\" & 'Dekor 1'!U94 & \".\" & 'Dekor 1'!F94 & \".\" & 'Dekor 1'!V94 & \".\" & 'Dekor 1'!H94 & \".\" & 'Dekor 1'!I94),\"\")","v":""},{"$f":"'Dekor 1'!W94","v":0},{"$f":"'Dekor 1'!K94","v":0},{"$f":"'Dekor 1'!M94","v":0},{"$f":"'Dekor 1'!O94","v":0},{"$f":"'Dekor 1'!Q94","v":0},{"$f":"IF(ISNUMBER('Dekor 1'!J94),'Dekor 1'!E94 & \"x\" & 'Dekor 1'!G94,\"\")","v":""},{"$f":"'Dekor 1'!L94","v":0},{"$f":"'Dekor 1'!N94","v":0},{"$f":"'Dekor 1'!P94","v":0},{"$f":"'Dekor 1'!R94","v":0},{"$f":"'Dekor 1'!X94","v":0},{"$f":"IF(ISNUMBER('Dekor 1'!J94),'Dekor 1'!$AF$20,\"\")","v":""},{"$f":"IF(ISNUMBER('Dekor 1'!J94),'Dekor 1'!$AF$21,\"\")","v":""},{"$f":"IF(ISNUMBER('Dekor 1'!J94),'Dekor 1'!$AF$22,\"\")","v":""},{"$f":"IF(ISNUMBER('Dekor 1'!J94),'Dekor 1'!$AF$23,\"\")","v":""},{"$f":"IF(ISNUMBER('Dekor 1'!J94),'Dekor 1'!$AF$24,\"\")","v":""},{"$f":"'Dekor 1'!Y94","v":0}]
[{"$f":"'Dekor 1'!A95","v":""},{"$f":"'Dekor 1'!B95","v":{"$error":"#NAME?"}},{"$f":"IF(ISNUMBER('Dekor 1'!J95),('Dekor 1'!D95 & \".\" & 'Dekor 1'!U95 & \".\" & 'Dekor 1'!F95 & \".\" & 'Dekor 1'!V95 & \".\" & 'Dekor 1'!H95 & \".\" & 'Dekor 1'!I95),\"\")","v":""},{"$f":"'Dekor 1'!W95","v":0},{"$f":"'Dekor 1'!K95","v":0},{"$f":"'Dekor 1'!M95","v":0},{"$f":"'Dekor 1'!O95","v":0},{"$f":"'Dekor 1'!Q95","v":0},{"$f":"IF(ISNUMBER('Dekor 1'!J95),'Dekor 1'!E95 & \"x\" & 'Dekor 1'!G95,\"\")","v":""},{"$f":"'Dekor 1'!L95","v":0},{"$f":"'Dekor 1'!N95","v":0},{"$f":"'Dekor 1'!P95","v":0},{"$f":"'Dekor 1'!R95","v":0},{"$f":"'Dekor 1'!X95","v":0},{"$f":"IF(ISNUMBER('Dekor 1'!J95),'Dekor 1'!$AF$20,\"\")","v":""},{"$f":"IF(ISNUMBER('Dekor 1'!J95),'Dekor 1'!$AF$21,\"\")","v":""},{"$f":"IF(ISNUMBER('Dekor 1'!J95),'Dekor 1'!$AF$22,\"\")","v":""},{"$f":"IF(ISNUMBER('Dekor 1'!J95),'Dekor 1'!$AF$23,\"\")","v":""},{"$f":"IF(ISNUMBER('Dekor 1'!J95),'Dekor 1'!$AF$24,\"\")","v":""},{"$f":"'Dekor 1'!Y95","v":0}]
[{"$f":"'Dekor 1'!A96","v":""},{"$f":"'Dekor 1'!B96","v":{"$error":"#NAME?"}},{"$f":"IF(ISNUMBER('Dekor 1'!J96),('Dekor 1'!D96 & \".\" & 'Dekor 1'!U96 & \".\" & 'Dekor 1'!F96 & \".\" & 'Dekor 1'!V96 & \".\" & 'Dekor 1'!H96 & \".\" & 'Dekor 1'!I96),\"\")","v":""},{"$f":"'Dekor 1'!W96","v":0},{"$f":"'Dekor 1'!K96","v":0},{"$f":"'Dekor 1'!M96","v":0},{"$f":"'Dekor 1'!O96","v":0},{"$f":"'Dekor 1'!Q96","v":0},{"$f":"IF(ISNUMBER('Dekor 1'!J96),'Dekor 1'!E96 & \"x\" & 'Dekor 1'!G96,\"\")","v":""},{"$f":"'Dekor 1'!L96","v":0},{"$f":"'Dekor 1'!N96","v":0},{"$f":"'Dekor 1'!P96","v":0},{"$f":"'Dekor 1'!R96","v":0},{"$f":"'Dekor 1'!X96","v":0},{"$f":"IF(ISNUMBER('Dekor 1'!J96),'Dekor 1'!$AF$20,\"\")","v":""},{"$f":"IF(ISNUMBER('Dekor 1'!J96),'Dekor 1'!$AF$21,\"\")","v":""},{"$f":"IF(ISNUMBER('Dekor 1'!J96),'Dekor 1'!$AF$22,\"\")","v":""},{"$f":"IF(ISNUMBER('Dekor 1'!J96),'Dekor 1'!$AF$23,\"\")","v":""},{"$f":"IF(ISNUMBER('Dekor 1'!J96),'Dekor 1'!$AF$24,\"\")","v":""},{"$f":"'Dekor 1'!Y96","v":0}]
[{"$f":"'Dekor 1'!A97","v":""},{"$f":"'Dekor 1'!B97","v":{"$error":"#NAME?"}},{"$f":"IF(ISNUMBER('Dekor 1'!J97),('Dekor 1'!D97 & \".\" & 'Dekor 1'!U97 & \".\" & 'Dekor 1'!F97 & \".\" & 'Dekor 1'!V97 & \".\" & 'Dekor 1'!H97 & \".\" & 'Dekor 1'!I97),\"\")","v":""},{"$f":"'Dekor 1'!W97","v":0},{"$f":"'Dekor 1'!K97","v":0},{"$f":"'Dekor 1'!M97","v":0},{"$f":"'Dekor 1'!O97","v":0},{"$f":"'Dekor 1'!Q97","v":0},{"$f":"IF(ISNUMBER('Dekor 1'!J97),'Dekor 1'!E97 & \"x\" & 'Dekor 1'!G97,\"\")","v":""},{"$f":"'Dekor 1'!L97","v":0},{"$f":"'Dekor 1'!N97","v":0},{"$f":"'Dekor 1'!P97","v":0},{"$f":"'Dekor 1'!R97","v":0},{"$f":"'Dekor 1'!X97","v":0},{"$f":"IF(ISNUMBER('Dekor 1'!J97),'Dekor 1'!$AF$20,\"\")","v":""},{"$f":"IF(ISNUMBER('Dekor 1'!J97),'Dekor 1'!$AF$21,\"\")","v":""},{"$f":"IF(ISNUMBER('Dekor 1'!J97),'Dekor 1'!$AF$22,\"\")","v":""},{"$f":"IF(ISNUMBER('Dekor 1'!J97),'Dekor 1'!$AF$23,\"\")","v":""},{"$f":"IF(ISNUMBER('Dekor 1'!J97),'Dekor 1'!$AF$24,\"\")","v":""},{"$f":"'Dekor 1'!Y97","v":0}]
[{"$f":"'Dekor 1'!A98","v":""},{"$f":"'Dekor 1'!B98","v":{"$error":"#NAME?"}},{"$f":"IF(ISNUMBER('Dekor 1'!J98),('Dekor 1'!D98 & \".\" & 'Dekor 1'!U98 & \".\" & 'Dekor 1'!F98 & \".\" & 'Dekor 1'!V98 & \".\" & 'Dekor 1'!H98 & \".\" & 'Dekor 1'!I98),\"\")","v":""},{"$f":"'Dekor 1'!W98","v":0},{"$f":"'Dekor 1'!K98","v":0},{"$f":"'Dekor 1'!M98","v":0},{"$f":"'Dekor 1'!O98","v":0},{"$f":"'Dekor 1'!Q98","v":0},{"$f":"IF(ISNUMBER('Dekor 1'!J98),'Dekor 1'!E98 & \"x\" & 'Dekor 1'!G98,\"\")","v":""},{"$f":"'Dekor 1'!L98","v":0},{"$f":"'Dekor 1'!N98","v":0},{"$f":"'Dekor 1'!P98","v":0},{"$f":"'Dekor 1'!R98","v":0},{"$f":"'Dekor 1'!X98","v":0},{"$f":"IF(ISNUMBER('Dekor 1'!J98),'Dekor 1'!$AF$20,\"\")","v":""},{"$f":"IF(ISNUMBER('Dekor 1'!J98),'Dekor 1'!$AF$21,\"\")","v":""},{"$f":"IF(ISNUMBER('Dekor 1'!J98),'Dekor 1'!$AF$22,\"\")","v":""},{"$f":"IF(ISNUMBER('Dekor 1'!J98),'Dekor 1'!$AF$23,\"\")","v":""},{"$f":"IF(ISNUMBER('Dekor 1'!J98),'Dekor 1'!$AF$24,\"\")","v":""},{"$f":"'Dekor 1'!Y98","v":0}]
[{"$f":"'Dekor 1'!A99","v":""},{"$f":"'Dekor 1'!B99","v":{"$error":"#NAME?"}},{"$f":"IF(ISNUMBER('Dekor 1'!J99),('Dekor 1'!D99 & \".\" & 'Dekor 1'!U99 & \".\" & 'Dekor 1'!F99 & \".\" & 'Dekor 1'!V99 & \".\" & 'Dekor 1'!H99 & \".\" & 'Dekor 1'!I99),\"\")","v":""},{"$f":"'Dekor 1'!W99","v":0},{"$f":"'Dekor 1'!K99","v":0},{"$f":"'Dekor 1'!M99","v":0},{"$f":"'Dekor 1'!O99","v":0},{"$f":"'Dekor 1'!Q99","v":0},{"$f":"IF(ISNUMBER('Dekor 1'!J99),'Dekor 1'!E99 & \"x\" & 'Dekor 1'!G99,\"\")","v":""},{"$f":"'Dekor 1'!L99","v":0},{"$f":"'Dekor 1'!N99","v":0},{"$f":"'Dekor 1'!P99","v":0},{"$f":"'Dekor 1'!R99","v":0},{"$f":"'Dekor 1'!X99","v":0},{"$f":"IF(ISNUMBER('Dekor 1'!J99),'Dekor 1'!$AF$20,\"\")","v":""},{"$f":"IF(ISNUMBER('Dekor 1'!J99),'Dekor 1'!$AF$21,\"\")","v":""},{"$f":"IF(ISNUMBER('Dekor 1'!J99),'Dekor 1'!$AF$22,\"\")","v":""},{"$f":"IF(ISNUMBER('Dekor 1'!J99),'Dekor 1'!$AF$23,\"\")","v":""},{"$f":"IF(ISNUMBER('Dekor 1'!J99),'Dekor 1'!$AF$24,\"\")","v":""},{"$f":"'Dekor 1'!Y99","v":0}]
[{"$f":"'Dekor 1'!A100","v":""},{"$f":"'Dekor 1'!B100","v":{"$error":"#NAME?"}},{"$f":"IF(ISNUMBER('Dekor 1'!J100),('Dekor 1'!D100 & \".\" & 'Dekor 1'!U100 & \".\" & 'Dekor 1'!F100 & \".\" & 'Dekor 1'!V100 & \".\" & 'Dekor 1'!H100 & \".\" & 'Dekor 1'!I100),\"\")","v":""},{"$f":"'Dekor 1'!W100","v":0},{"$f":"'Dekor 1'!K100","v":0},{"$f":"'Dekor 1'!M100","v":0},{"$f":"'Dekor 1'!O100","v":0},{"$f":"'Dekor 1'!Q100","v":0},{"$f":"IF(ISNUMBER('Dekor 1'!J100),'Dekor 1'!E100 & \"x\" & 'Dekor 1'!G100,\"\")","v":""},{"$f":"'Dekor 1'!L100","v":0},{"$f":"'Dekor 1'!N100","v":0},{"$f":"'Dekor 1'!P100","v":0},{"$f":"'Dekor 1'!R100","v":0},{"$f":"'Dekor 1'!X100","v":0},{"$f":"IF(ISNUMBER('Dekor 1'!J100),'Dekor 1'!$AF$20,\"\")","v":""},{"$f":"IF(ISNUMBER('Dekor 1'!J100),'Dekor 1'!$AF$21,\"\")","v":""},{"$f":"IF(ISNUMBER('Dekor 1'!J100),'Dekor 1'!$AF$22,\"\")","v":""},{"$f":"IF(ISNUMBER('Dekor 1'!J100),'Dekor 1'!$AF$23,\"\")","v":""},{"$f":"IF(ISNUMBER('Dekor 1'!J100),'Dekor 1'!$AF$24,\"\")","v":""},{"$f":"'Dekor 1'!Y100","v":0}]
[{"$f":"'Dekor 1'!A101","v":""},{"$f":"'Dekor 1'!B101","v":{"$error":"#NAME?"}},{"$f":"IF(ISNUMBER('Dekor 1'!J101),('Dekor 1'!D101 & \".\" & 'Dekor 1'!U101 & \".\" & 'Dekor 1'!F101 & \".\" & 'Dekor 1'!V101 & \".\" & 'Dekor 1'!H101 & \".\" & 'Dekor 1'!I101),\"\")","v":""},{"$f":"'Dekor 1'!W101","v":0},{"$f":"'Dekor 1'!K101","v":0},{"$f":"'Dekor 1'!M101","v":0},{"$f":"'Dekor 1'!O101","v":0},{"$f":"'Dekor 1'!Q101","v":0},{"$f":"IF(ISNUMBER('Dekor 1'!J101),'Dekor 1'!E101 & \"x\" & 'Dekor 1'!G101,\"\")","v":""},{"$f":"'Dekor 1'!L101","v":0},{"$f":"'Dekor 1'!N101","v":0},{"$f":"'Dekor 1'!P101","v":0},{"$f":"'Dekor 1'!R101","v":0},{"$f":"'Dekor 1'!X101","v":0},{"$f":"IF(ISNUMBER('Dekor 1'!J101),'Dekor 1'!$AF$20,\"\")","v":""},{"$f":"IF(ISNUMBER('Dekor 1'!J101),'Dekor 1'!$AF$21,\"\")","v":""},{"$f":"IF(ISNUMBER('Dekor 1'!J101),'Dekor 1'!$AF$22,\"\")","v":""},{"$f":"IF(ISNUMBER('Dekor 1'!J101),'Dekor 1'!$AF$23,\"\")","v":""},{"$f":"IF(ISNUMBER('Dekor 1'!J101),'Dekor 1'!$AF$24,\"\")","v":""},{"$f":"'Dekor 1'!Y101","v":0}]
[{"$f":"'Dekor 1'!A102","v":""},{"$f":"'Dekor 1'!B102","v":{"$error":"#NAME?"}},{"$f":"IF(ISNUMBER('Dekor 1'!J102),('Dekor 1'!D102 & \".\" & 'Dekor 1'!U102 & \".\" & 'Dekor 1'!F102 & \".\" & 'Dekor 1'!V102 & \".\" & 'Dekor 1'!H102 & \".\" & 'Dekor 1'!I102),\"\")","v":""},{"$f":"'Dekor 1'!W102","v":0},{"$f":"'Dekor 1'!K102","v":0},{"$f":"'Dekor 1'!M102","v":0},{"$f":"'Dekor 1'!O102","v":0},{"$f":"'Dekor 1'!Q102","v":0},{"$f":"IF(ISNUMBER('Dekor 1'!J102),'Dekor 1'!E102 & \"x\" & 'Dekor 1'!G102,\"\")","v":""},{"$f":"'Dekor 1'!L102","v":0},{"$f":"'Dekor 1'!N102","v":0},{"$f":"'Dekor 1'!P102","v":0},{"$f":"'Dekor 1'!R102","v":0},{"$f":"'Dekor 1'!X102","v":0},{"$f":"IF(ISNUMBER('Dekor 1'!J102),'Dekor 1'!$AF$20,\"\")","v":""},{"$f":"IF(ISNUMBER('Dekor 1'!J102),'Dekor 1'!$AF$21,\"\")","v":""},{"$f":"IF(ISNUMBER('Dekor 1'!J102),'Dekor 1'!$AF$22,\"\")","v":""},{"$f":"IF(ISNUMBER('Dekor 1'!J102),'Dekor 1'!$AF$23,\"\")","v":""},{"$f":"IF(ISNUMBER('Dekor 1'!J102),'Dekor 1'!$AF$24,\"\")","v":""},{"$f":"'Dekor 1'!Y102","v":0}]
[{"$f":"'Dekor 1'!A103","v":""},{"$f":"'Dekor 1'!B103","v":{"$error":"#NAME?"}},{"$f":"IF(ISNUMBER('Dekor 1'!J103),('Dekor 1'!D103 & \".\" & 'Dekor 1'!U103 & \".\" & 'Dekor 1'!F103 & \".\" & 'Dekor 1'!V103 & \".\" & 'Dekor 1'!H103 & \".\" & 'Dekor 1'!I103),\"\")","v":""},{"$f":"'Dekor 1'!W103","v":0},{"$f":"'Dekor 1'!K103","v":0},{"$f":"'Dekor 1'!M103","v":0},{"$f":"'Dekor 1'!O103","v":0},{"$f":"'Dekor 1'!Q103","v":0},{"$f":"IF(ISNUMBER('Dekor 1'!J103),'Dekor 1'!E103 & \"x\" & 'Dekor 1'!G103,\"\")","v":""},{"$f":"'Dekor 1'!L103","v":0},{"$f":"'Dekor 1'!N103","v":0},{"$f":"'Dekor 1'!P103","v":0},{"$f":"'Dekor 1'!R103","v":0},{"$f":"'Dekor 1'!X103","v":0},{"$f":"IF(ISNUMBER('Dekor 1'!J103),'Dekor 1'!$AF$20,\"\")","v":""},{"$f":"IF(ISNUMBER('Dekor 1'!J103),'Dekor 1'!$AF$21,\"\")","v":""},{"$f":"IF(ISNUMBER('Dekor 1'!J103),'Dekor 1'!$AF$22,\"\")","v":""},{"$f":"IF(ISNUMBER('Dekor 1'!J103),'Dekor 1'!$AF$23,\"\")","v":""},{"$f":"IF(ISNUMBER('Dekor 1'!J103),'Dekor 1'!$AF$24,\"\")","v":""},{"$f":"'Dekor 1'!Y103","v":0}]
[{"$f":"'Dekor 1'!A104","v":""},{"$f":"'Dekor 1'!B104","v":{"$error":"#NAME?"}},{"$f":"IF(ISNUMBER('Dekor 1'!J104),('Dekor 1'!D104 & \".\" & 'Dekor 1'!U104 & \".\" & 'Dekor 1'!F104 & \".\" & 'Dekor 1'!V104 & \".\" & 'Dekor 1'!H104 & \".\" & 'Dekor 1'!I104),\"\")","v":""},{"$f":"'Dekor 1'!W104","v":0},{"$f":"'Dekor 1'!K104","v":0},{"$f":"'Dekor 1'!M104","v":0},{"$f":"'Dekor 1'!O104","v":0},{"$f":"'Dekor 1'!Q104","v":0},{"$f":"IF(ISNUMBER('Dekor 1'!J104),'Dekor 1'!E104 & \"x\" & 'Dekor 1'!G104,\"\")","v":""},{"$f":"'Dekor 1'!L104","v":0},{"$f":"'Dekor 1'!N104","v":0},{"$f":"'Dekor 1'!P104","v":0},{"$f":"'Dekor 1'!R104","v":0},{"$f":"'Dekor 1'!X104","v":0},{"$f":"IF(ISNUMBER('Dekor 1'!J104),'Dekor 1'!$AF$20,\"\")","v":""},{"$f":"IF(ISNUMBER('Dekor 1'!J104),'Dekor 1'!$AF$21,\"\")","v":""},{"$f":"IF(ISNUMBER('Dekor 1'!J104),'Dekor 1'!$AF$22,\"\")","v":""},{"$f":"IF(ISNUMBER('Dekor 1'!J104),'Dekor 1'!$AF$23,\"\")","v":""},{"$f":"IF(ISNUMBER('Dekor 1'!J104),'Dekor 1'!$AF$24,\"\")","v":""},{"$f":"'Dekor 1'!Y104","v":0}]
[{"$f":"'Dekor 1'!A105","v":""},{"$f":"'Dekor 1'!B105","v":{"$error":"#NAME?"}},{"$f":"IF(ISNUMBER('Dekor 1'!J105),('Dekor 1'!D105 & \".\" & 'Dekor 1'!U105 & \".\" & 'Dekor 1'!F105 & \".\" & 'Dekor 1'!V105 & \".\" & 'Dekor 1'!H105 & \".\" & 'Dekor 1'!I105),\"\")","v":""},{"$f":"'Dekor 1'!W105","v":0},{"$f":"'Dekor 1'!K105","v":0},{"$f":"'Dekor 1'!M105","v":0},{"$f":"'Dekor 1'!O105","v":0},{"$f":"'Dekor 1'!Q105","v":0},{"$f":"IF(ISNUMBER('Dekor 1'!J105),'Dekor 1'!E105 & \"x\" & 'Dekor 1'!G105,\"\")","v":""},{"$f":"'Dekor 1'!L105","v":0},{"$f":"'Dekor 1'!N105","v":0},{"$f":"'Dekor 1'!P105","v":0},{"$f":"'Dekor 1'!R105","v":0},{"$f":"'Dekor 1'!X105","v":0},{"$f":"IF(ISNUMBER('Dekor 1'!J105),'Dekor 1'!$AF$20,\"\")","v":""},{"$f":"IF(ISNUMBER('Dekor 1'!J105),'Dekor 1'!$AF$21,\"\")","v":""},{"$f":"IF(ISNUMBER('Dekor 1'!J105),'Dekor 1'!$AF$22,\"\")","v":""},{"$f":"IF(ISNUMBER('Dekor 1'!J105),'Dekor 1'!$AF$23,\"\")","v":""},{"$f":"IF(ISNUMBER('Dekor 1'!J105),'Dekor 1'!$AF$24,\"\")","v":""},{"$f":"'Dekor 1'!Y105","v":0}]
[{"$f":"'Dekor 1'!A106","v":""},{"$f":"'Dekor 1'!B106","v":{"$error":"#NAME?"}},{"$f":"IF(ISNUMBER('Dekor 1'!J106),('Dekor 1'!D106 & \".\" & 'Dekor 1'!U106 & \".\" & 'Dekor 1'!F106 & \".\" & 'Dekor 1'!V106 & \".\" & 'Dekor 1'!H106 & \".\" & 'Dekor 1'!I106),\"\")","v":""},{"$f":"'Dekor 1'!W106","v":0},{"$f":"'Dekor 1'!K106","v":0},{"$f":"'Dekor 1'!M106","v":0},{"$f":"'Dekor 1'!O106","v":0},{"$f":"'Dekor 1'!Q106","v":0},{"$f":"IF(ISNUMBER('Dekor 1'!J106),'Dekor 1'!E106 & \"x\" & 'Dekor 1'!G106,\"\")","v":""},{"$f":"'Dekor 1'!L106","v":0},{"$f":"'Dekor 1'!N106","v":0},{"$f":"'Dekor 1'!P106","v":0},{"$f":"'Dekor 1'!R106","v":0},{"$f":"'Dekor 1'!X106","v":0},{"$f":"IF(ISNUMBER('Dekor 1'!J106),'Dekor 1'!$AF$20,\"\")","v":""},{"$f":"IF(ISNUMBER('Dekor 1'!J106),'Dekor 1'!$AF$21,\"\")","v":""},{"$f":"IF(ISNUMBER('Dekor 1'!J106),'Dekor 1'!$AF$22,\"\")","v":""},{"$f":"IF(ISNUMBER('Dekor 1'!J106),'Dekor 1'!$AF$23,\"\")","v":""},{"$f":"IF(ISNUMBER('Dekor 1'!J106),'Dekor 1'!$AF$24,\"\")","v":""},{"$f":"'Dekor 1'!Y106","v":0}]
[{"$f":"'Dekor 1'!A107","v":""},{"$f":"'Dekor 1'!B107","v":{"$error":"#NAME?"}},{"$f":"IF(ISNUMBER('Dekor 1'!J107),('Dekor 1'!D107 & \".\" & 'Dekor 1'!U107 & \".\" & 'Dekor 1'!F107 & \".\" & 'Dekor 1'!V107 & \".\" & 'Dekor 1'!H107 & \".\" & 'Dekor 1'!I107),\"\")","v":""},{"$f":"'Dekor 1'!W107","v":0},{"$f":"'Dekor 1'!K107","v":0},{"$f":"'Dekor 1'!M107","v":0},{"$f":"'Dekor 1'!O107","v":0},{"$f":"'Dekor 1'!Q107","v":0},{"$f":"IF(ISNUMBER('Dekor 1'!J107),'Dekor 1'!E107 & \"x\" & 'Dekor 1'!G107,\"\")","v":""},{"$f":"'Dekor 1'!L107","v":0},{"$f":"'Dekor 1'!N107","v":0},{"$f":"'Dekor 1'!P107","v":0},{"$f":"'Dekor 1'!R107","v":0},{"$f":"'Dekor 1'!X107","v":0},{"$f":"IF(ISNUMBER('Dekor 1'!J107),'Dekor 1'!$AF$20,\"\")","v":""},{"$f":"IF(ISNUMBER('Dekor 1'!J107),'Dekor 1'!$AF$21,\"\")","v":""},{"$f":"IF(ISNUMBER('Dekor 1'!J107),'Dekor 1'!$AF$22,\"\")","v":""},{"$f":"IF(ISNUMBER('Dekor 1'!J107),'Dekor 1'!$AF$23,\"\")","v":""},{"$f":"IF(ISNUMBER('Dekor 1'!J107),'Dekor 1'!$AF$24,\"\")","v":""},{"$f":"'Dekor 1'!Y107","v":0}]
[{"$f":"'Dekor 1'!A108","v":""},{"$f":"'Dekor 1'!B108","v":{"$error":"#NAME?"}},{"$f":"IF(ISNUMBER('Dekor 1'!J108),('Dekor 1'!D108 & \".\" & 'Dekor 1'!U108 & \".\" & 'Dekor 1'!F108 & \".\" & 'Dekor 1'!V108 & \".\" & 'Dekor 1'!H108 & \".\" & 'Dekor 1'!I108),\"\")","v":""},{"$f":"'Dekor 1'!W108","v":0},{"$f":"'Dekor 1'!K108","v":0},{"$f":"'Dekor 1'!M108","v":0},{"$f":"'Dekor 1'!O108","v":0},{"$f":"'Dekor 1'!Q108","v":0},{"$f":"IF(ISNUMBER('Dekor 1'!J108),'Dekor 1'!E108 & \"x\" & 'Dekor 1'!G108,\"\")","v":""},{"$f":"'Dekor 1'!L108","v":0},{"$f":"'Dekor 1'!N108","v":0},{"$f":"'Dekor 1'!P108","v":0},{"$f":"'Dekor 1'!R108","v":0},{"$f":"'Dekor 1'!X108","v":0},{"$f":"IF(ISNUMBER('Dekor 1'!J108),'Dekor 1'!$AF$20,\"\")","v":""},{"$f":"IF(ISNUMBER('Dekor 1'!J108),'Dekor 1'!$AF$21,\"\")","v":""},{"$f":"IF(ISNUMBER('Dekor 1'!J108),'Dekor 1'!$AF$22,\"\")","v":""},{"$f":"IF(ISNUMBER('Dekor 1'!J108),'Dekor 1'!$AF$23,\"\")","v":""},{"$f":"IF(ISNUMBER('Dekor 1'!J108),'Dekor 1'!$AF$24,\"\")","v":""},{"$f":"'Dekor 1'!Y108","v":0}]
[{"$f":"'Dekor 1'!A109","v":""},{"$f":"'Dekor 1'!B109","v":{"$error":"#NAME?"}},{"$f":"IF(ISNUMBER('Dekor 1'!J109),('Dekor 1'!D109 & \".\" & 'Dekor 1'!U109 & \".\" & 'Dekor 1'!F109 & \".\" & 'Dekor 1'!V109 & \".\" & 'Dekor 1'!H109 & \".\" & 'Dekor 1'!I109),\"\")","v":""},{"$f":"'Dekor 1'!W109","v":0},{"$f":"'Dekor 1'!K109","v":0},{"$f":"'Dekor 1'!M109","v":0},{"$f":"'Dekor 1'!O109","v":0},{"$f":"'Dekor 1'!Q109","v":0},{"$f":"IF(ISNUMBER('Dekor 1'!J109),'Dekor 1'!E109 & \"x\" & 'Dekor 1'!G109,\"\")","v":""},{"$f":"'Dekor 1'!L109","v":0},{"$f":"'Dekor 1'!N109","v":0},{"$f":"'Dekor 1'!P109","v":0},{"$f":"'Dekor 1'!R109","v":0},{"$f":"'Dekor 1'!X109","v":0},{"$f":"IF(ISNUMBER('Dekor 1'!J109),'Dekor 1'!$AF$20,\"\")","v":""},{"$f":"IF(ISNUMBER('Dekor 1'!J109),'Dekor 1'!$AF$21,\"\")","v":""},{"$f":"IF(ISNUMBER('Dekor 1'!J109),'Dekor 1'!$AF$22,\"\")","v":""},{"$f":"IF(ISNUMBER('Dekor 1'!J109),'Dekor 1'!$AF$23,\"\")","v":""},{"$f":"IF(ISNUMBER('Dekor 1'!J109),'Dekor 1'!$AF$24,\"\")","v":""},{"$f":"'Dekor 1'!Y109","v":0}]
[{"$f":"'Dekor 1'!A110","v":""},{"$f":"'Dekor 1'!B110","v":{"$error":"#NAME?"}},{"$f":"IF(ISNUMBER('Dekor 1'!J110),('Dekor 1'!D110 & \".\" & 'Dekor 1'!U110 & \".\" & 'Dekor 1'!F110 & \".\" & 'Dekor 1'!V110 & \".\" & 'Dekor 1'!H110 & \".\" & 'Dekor 1'!I110),\"\")","v":""},{"$f":"'Dekor 1'!W110","v":0},{"$f":"'Dekor 1'!K110","v":0},{"$f":"'Dekor 1'!M110","v":0},{"$f":"'Dekor 1'!O110","v":0},{"$f":"'Dekor 1'!Q110","v":0},{"$f":"IF(ISNUMBER('Dekor 1'!J110),'Dekor 1'!E110 & \"x\" & 'Dekor 1'!G110,\"\")","v":""},{"$f":"'Dekor 1'!L110","v":0},{"$f":"'Dekor 1'!N110","v":0},{"$f":"'Dekor 1'!P110","v":0},{"$f":"'Dekor 1'!R110","v":0},{"$f":"'Dekor 1'!X110","v":0},{"$f":"IF(ISNUMBER('Dekor 1'!J110),'Dekor 1'!$AF$20,\"\")","v":""},{"$f":"IF(ISNUMBER('Dekor 1'!J110),'Dekor 1'!$AF$21,\"\")","v":""},{"$f":"IF(ISNUMBER('Dekor 1'!J110),'Dekor 1'!$AF$22,\"\")","v":""},{"$f":"IF(ISNUMBER('Dekor 1'!J110),'Dekor 1'!$AF$23,\"\")","v":""},{"$f":"IF(ISNUMBER('Dekor 1'!J110),'Dekor 1'!$AF$24,\"\")","v":""},{"$f":"'Dekor 1'!Y110","v":0}]
[{"$f":"'Dekor 1'!A111","v":""},{"$f":"'Dekor 1'!B111","v":{"$error":"#NAME?"}},{"$f":"IF(ISNUMBER('Dekor 1'!J111),('Dekor 1'!D111 & \".\" & 'Dekor 1'!U111 & \".\" & 'Dekor 1'!F111 & \".\" & 'Dekor 1'!V111 & \".\" & 'Dekor 1'!H111 & \".\" & 'Dekor 1'!I111),\"\")","v":""},{"$f":"'Dekor 1'!W111","v":0},{"$f":"'Dekor 1'!K111","v":0},{"$f":"'Dekor 1'!M111","v":0},{"$f":"'Dekor 1'!O111","v":0},{"$f":"'Dekor 1'!Q111","v":0},{"$f":"IF(ISNUMBER('Dekor 1'!J111),'Dekor 1'!E111 & \"x\" & 'Dekor 1'!G111,\"\")","v":""},{"$f":"'Dekor 1'!L111","v":0},{"$f":"'Dekor 1'!N111","v":0},{"$f":"'Dekor 1'!P111","v":0},{"$f":"'Dekor 1'!R111","v":0},{"$f":"'Dekor 1'!X111","v":0},{"$f":"IF(ISNUMBER('Dekor 1'!J111),'Dekor 1'!$AF$20,\"\")","v":""},{"$f":"IF(ISNUMBER('Dekor 1'!J111),'Dekor 1'!$AF$21,\"\")","v":""},{"$f":"IF(ISNUMBER('Dekor 1'!J111),'Dekor 1'!$AF$22,\"\")","v":""},{"$f":"IF(ISNUMBER('Dekor 1'!J111),'Dekor 1'!$AF$23,\"\")","v":""},{"$f":"IF(ISNUMBER('Dekor 1'!J111),'Dekor 1'!$AF$24,\"\")","v":""},{"$f":"'Dekor 1'!Y111","v":0}]
[{"$f":"'Dekor 1'!A112","v":""},{"$f":"'Dekor 1'!B112","v":{"$error":"#NAME?"}},{"$f":"IF(ISNUMBER('Dekor 1'!J112),('Dekor 1'!D112 & \".\" & 'Dekor 1'!U112 & \".\" & 'Dekor 1'!F112 & \".\" & 'Dekor 1'!V112 & \".\" & 'Dekor 1'!H112 & \".\" & 'Dekor 1'!I112),\"\")","v":""},{"$f":"'Dekor 1'!W112","v":0},{"$f":"'Dekor 1'!K112","v":0},{"$f":"'Dekor 1'!M112","v":0},{"$f":"'Dekor 1'!O112","v":0},{"$f":"'Dekor 1'!Q112","v":0},{"$f":"IF(ISNUMBER('Dekor 1'!J112),'Dekor 1'!E112 & \"x\" & 'Dekor 1'!G112,\"\")","v":""},{"$f":"'Dekor 1'!L112","v":0},{"$f":"'Dekor 1'!N112","v":0},{"$f":"'Dekor 1'!P112","v":0},{"$f":"'Dekor 1'!R112","v":0},{"$f":"'Dekor 1'!X112","v":0},{"$f":"IF(ISNUMBER('Dekor 1'!J112),'Dekor 1'!$AF$20,\"\")","v":""},{"$f":"IF(ISNUMBER('Dekor 1'!J112),'Dekor 1'!$AF$21,\"\")","v":""},{"$f":"IF(ISNUMBER('Dekor 1'!J112),'Dekor 1'!$AF$22,\"\")","v":""},{"$f":"IF(ISNUMBER('Dekor 1'!J112),'Dekor 1'!$AF$23,\"\")","v":""},{"$f":"IF(ISNUMBER('Dekor 1'!J112),'Dekor 1'!$AF$24,\"\")","v":""},{"$f":"'Dekor 1'!Y112","v":0}]
[{"$f":"'Dekor 1'!A113","v":""},{"$f":"'Dekor 1'!B113","v":{"$error":"#NAME?"}},{"$f":"IF(ISNUMBER('Dekor 1'!J113),('Dekor 1'!D113 & \".\" & 'Dekor 1'!U113 & \".\" & 'Dekor 1'!F113 & \".\" & 'Dekor 1'!V113 & \".\" & 'Dekor 1'!H113 & \".\" & 'Dekor 1'!I113),\"\")","v":""},{"$f":"'Dekor 1'!W113","v":0},{"$f":"'Dekor 1'!K113","v":0},{"$f":"'Dekor 1'!M113","v":0},{"$f":"'Dekor 1'!O113","v":0},{"$f":"'Dekor 1'!Q113","v":0},{"$f":"IF(ISNUMBER('Dekor 1'!J113),'Dekor 1'!E113 & \"x\" & 'Dekor 1'!G113,\"\")","v":""},{"$f":"'Dekor 1'!L113","v":0},{"$f":"'Dekor 1'!N113","v":0},{"$f":"'Dekor 1'!P113","v":0},{"$f":"'Dekor 1'!R113","v":0},{"$f":"'Dekor 1'!X113","v":0},{"$f":"IF(ISNUMBER('Dekor 1'!J113),'Dekor 1'!$AF$20,\"\")","v":""},{"$f":"IF(ISNUMBER('Dekor 1'!J113),'Dekor 1'!$AF$21,\"\")","v":""},{"$f":"IF(ISNUMBER('Dekor 1'!J113),'Dekor 1'!$AF$22,\"\")","v":""},{"$f":"IF(ISNUMBER('Dekor 1'!J113),'Dekor 1'!$AF$23,\"\")","v":""},{"$f":"IF(ISNUMBER('Dekor 1'!J113),'Dekor 1'!$AF$24,\"\")","v":""},{"$f":"'Dekor 1'!Y113","v":0}]
[{"$f":"'Dekor 1'!A114","v":""},{"$f":"'Dekor 1'!B114","v":{"$error":"#NAME?"}},{"$f":"IF(ISNUMBER('Dekor 1'!J114),('Dekor 1'!D114 & \".\" & 'Dekor 1'!U114 & \".\" & 'Dekor 1'!F114 & \".\" & 'Dekor 1'!V114 & \".\" & 'Dekor 1'!H114 & \".\" & 'Dekor 1'!I114),\"\")","v":""},{"$f":"'Dekor 1'!W114","v":0},{"$f":"'Dekor 1'!K114","v":0},{"$f":"'Dekor 1'!M114","v":0},{"$f":"'Dekor 1'!O114","v":0},{"$f":"'Dekor 1'!Q114","v":0},{"$f":"IF(ISNUMBER('Dekor 1'!J114),'Dekor 1'!E114 & \"x\" & 'Dekor 1'!G114,\"\")","v":""},{"$f":"'Dekor 1'!L114","v":0},{"$f":"'Dekor 1'!N114","v":0},{"$f":"'Dekor 1'!P114","v":0},{"$f":"'Dekor 1'!R114","v":0},{"$f":"'Dekor 1'!X114","v":0},{"$f":"IF(ISNUMBER('Dekor 1'!J114),'Dekor 1'!$AF$20,\"\")","v":""},{"$f":"IF(ISNUMBER('Dekor 1'!J114),'Dekor 1'!$AF$21,\"\")","v":""},{"$f":"IF(ISNUMBER('Dekor 1'!J114),'Dekor 1'!$AF$22,\"\")","v":""},{"$f":"IF(ISNUMBER('Dekor 1'!J114),'Dekor 1'!$AF$23,\"\")","v":""},{"$f":"IF(ISNUMBER('Dekor 1'!J114),'Dekor 1'!$AF$24,\"\")","v":""},{"$f":"'Dekor 1'!Y114","v":0}]
[{"$f":"'Dekor 1'!A115","v":""},{"$f":"'Dekor 1'!B115","v":{"$error":"#NAME?"}},{"$f":"IF(ISNUMBER('Dekor 1'!J115),('Dekor 1'!D115 & \".\" & 'Dekor 1'!U115 & \".\" & 'Dekor 1'!F115 & \".\" & 'Dekor 1'!V115 & \".\" & 'Dekor 1'!H115 & \".\" & 'Dekor 1'!I115),\"\")","v":""},{"$f":"'Dekor 1'!W115","v":0},{"$f":"'Dekor 1'!K115","v":0},{"$f":"'Dekor 1'!M115","v":0},{"$f":"'Dekor 1'!O115","v":0},{"$f":"'Dekor 1'!Q115","v":0},{"$f":"IF(ISNUMBER('Dekor 1'!J115),'Dekor 1'!E115 & \"x\" & 'Dekor 1'!G115,\"\")","v":""},{"$f":"'Dekor 1'!L115","v":0},{"$f":"'Dekor 1'!N115","v":0},{"$f":"'Dekor 1'!P115","v":0},{"$f":"'Dekor 1'!R115","v":0},{"$f":"'Dekor 1'!X115","v":0},{"$f":"IF(ISNUMBER('Dekor 1'!J115),'Dekor 1'!$AF$20,\"\")","v":""},{"$f":"IF(ISNUMBER('Dekor 1'!J115),'Dekor 1'!$AF$21,\"\")","v":""},{"$f":"IF(ISNUMBER('Dekor 1'!J115),'Dekor 1'!$AF$22,\"\")","v":""},{"$f":"IF(ISNUMBER('Dekor 1'!J115),'Dekor 1'!$AF$23,\"\")","v":""},{"$f":"IF(ISNUMBER('Dekor 1'!J115),'Dekor 1'!$AF$24,\"\")","v":""},{"$f":"'Dekor 1'!Y115","v":0}]
[{"$f":"'Dekor 1'!A116","v":""},{"$f":"'Dekor 1'!B116","v":{"$error":"#NAME?"}},{"$f":"IF(ISNUMBER('Dekor 1'!J116),('Dekor 1'!D116 & \".\" & 'Dekor 1'!U116 & \".\" & 'Dekor 1'!F116 & \".\" & 'Dekor 1'!V116 & \".\" & 'Dekor 1'!H116 & \".\" & 'Dekor 1'!I116),\"\")","v":""},{"$f":"'Dekor 1'!W116","v":0},{"$f":"'Dekor 1'!K116","v":0},{"$f":"'Dekor 1'!M116","v":0},{"$f":"'Dekor 1'!O116","v":0},{"$f":"'Dekor 1'!Q116","v":0},{"$f":"IF(ISNUMBER('Dekor 1'!J116),'Dekor 1'!E116 & \"x\" & 'Dekor 1'!G116,\"\")","v":""},{"$f":"'Dekor 1'!L116","v":0},{"$f":"'Dekor 1'!N116","v":0},{"$f":"'Dekor 1'!P116","v":0},{"$f":"'Dekor 1'!R116","v":0},{"$f":"'Dekor 1'!X116","v":0},{"$f":"IF(ISNUMBER('Dekor 1'!J116),'Dekor 1'!$AF$20,\"\")","v":""},{"$f":"IF(ISNUMBER('Dekor 1'!J116),'Dekor 1'!$AF$21,\"\")","v":""},{"$f":"IF(ISNUMBER('Dekor 1'!J116),'Dekor 1'!$AF$22,\"\")","v":""},{"$f":"IF(ISNUMBER('Dekor 1'!J116),'Dekor 1'!$AF$23,\"\")","v":""},{"$f":"IF(ISNUMBER('Dekor 1'!J116),'Dekor 1'!$AF$24,\"\")","v":""},{"$f":"'Dekor 1'!Y116","v":0}]
[{"$f":"'Dekor 1'!A117","v":""},{"$f":"'Dekor 1'!B117","v":{"$error":"#NAME?"}},{"$f":"IF(ISNUMBER('Dekor 1'!J117),('Dekor 1'!D117 & \".\" & 'Dekor 1'!U117 & \".\" & 'Dekor 1'!F117 & \".\" & 'Dekor 1'!V117 & \".\" & 'Dekor 1'!H117 & \".\" & 'Dekor 1'!I117),\"\")","v":""},{"$f":"'Dekor 1'!W117","v":0},{"$f":"'Dekor 1'!K117","v":0},{"$f":"'Dekor 1'!M117","v":0},{"$f":"'Dekor 1'!O117","v":0},{"$f":"'Dekor 1'!Q117","v":0},{"$f":"IF(ISNUMBER('Dekor 1'!J117),'Dekor 1'!E117 & \"x\" & 'Dekor 1'!G117,\"\")","v":""},{"$f":"'Dekor 1'!L117","v":0},{"$f":"'Dekor 1'!N117","v":0},{"$f":"'Dekor 1'!P117","v":0},{"$f":"'Dekor 1'!R117","v":0},{"$f":"'Dekor 1'!X117","v":0},{"$f":"IF(ISNUMBER('Dekor 1'!J117),'Dekor 1'!$AF$20,\"\")","v":""},{"$f":"IF(ISNUMBER('Dekor 1'!J117),'Dekor 1'!$AF$21,\"\")","v":""},{"$f":"IF(ISNUMBER('Dekor 1'!J117),'Dekor 1'!$AF$22,\"\")","v":""},{"$f":"IF(ISNUMBER('Dekor 1'!J117),'Dekor 1'!$AF$23,\"\")","v":""},{"$f":"IF(ISNUMBER('Dekor 1'!J117),'Dekor 1'!$AF$24,\"\")","v":""},{"$f":"'Dekor 1'!Y117","v":0}]
[{"$f":"'Dekor 1'!A118","v":0},{"$f":"'Dekor 1'!B118","v":0},{"$f":"IF(ISNUMBER('Dekor 1'!J118),('Dekor 1'!D118 & \".\" & 'Dekor 1'!U118 & \".\" & 'Dekor 1'!F118 & \".\" & 'Dekor 1'!V118 & \".\" & 'Dekor 1'!H118 & \".\" & 'Dekor 1'!I118),\"\")","v":""},{"$f":"'Dekor 1'!W118","v":0},{"$f":"'Dekor 1'!K118","v":0},{"$f":"'Dekor 1'!M118","v":0},{"$f":"'Dekor 1'!O118","v":0},{"$f":"'Dekor 1'!Q118","v":0},{"$f":"IF(ISNUMBER('Dekor 1'!J118),'Dekor 1'!E118 & \"x\" & 'Dekor 1'!G118,\"\")","v":""},{"$f":"'Dekor 1'!L118","v":0},{"$f":"'Dekor 1'!N118","v":0},{"$f":"'Dekor 1'!P118","v":0},{"$f":"'Dekor 1'!R118","v":0},{"$f":"'Dekor 1'!X118","v":0},{"$f":"IF(ISNUMBER('Dekor 1'!J118),'Dekor 1'!$AF$20,\"\")","v":""},{"$f":"IF(ISNUMBER('Dekor 1'!J118),'Dekor 1'!$AF$21,\"\")","v":""},{"$f":"IF(ISNUMBER('Dekor 1'!J118),'Dekor 1'!$AF$22,\"\")","v":""},{"$f":"IF(ISNUMBER('Dekor 1'!J118),'Dekor 1'!$AF$23,\"\")","v":""},{"$f":"IF(ISNUMBER('Dekor 1'!J118),'Dekor 1'!$AF$24,\"\")","v":""},{"$f":"'Dekor 1'!Y118","v":0}]
[{"$f":"'Dekor 1'!A119","v":0},{"$f":"'Dekor 1'!B119","v":0},{"$f":"IF(ISNUMBER('Dekor 1'!J119),('Dekor 1'!D119 & \".\" & 'Dekor 1'!U119 & \".\" & 'Dekor 1'!F119 & \".\" & 'Dekor 1'!V119 & \".\" & 'Dekor 1'!H119 & \".\" & 'Dekor 1'!I119),\"\")","v":""},{"$f":"'Dekor 1'!W119","v":0},{"$f":"'Dekor 1'!K119","v":0},{"$f":"'Dekor 1'!M119","v":0},{"$f":"'Dekor 1'!O119","v":0},{"$f":"'Dekor 1'!Q119","v":0},{"$f":"IF(ISNUMBER('Dekor 1'!J119),'Dekor 1'!E119 & \"x\" & 'Dekor 1'!G119,\"\")","v":""},{"$f":"'Dekor 1'!L119","v":0},{"$f":"'Dekor 1'!N119","v":0},{"$f":"'Dekor 1'!P119","v":0},{"$f":"'Dekor 1'!R119","v":0},{"$f":"'Dekor 1'!X119","v":0},{"$f":"IF(ISNUMBER('Dekor 1'!J119),'Dekor 1'!$AF$20,\"\")","v":""},{"$f":"IF(ISNUMBER('Dekor 1'!J119),'Dekor 1'!$AF$21,\"\")","v":""},{"$f":"IF(ISNUMBER('Dekor 1'!J119),'Dekor 1'!$AF$22,\"\")","v":""},{"$f":"IF(ISNUMBER('Dekor 1'!J119),'Dekor 1'!$AF$23,\"\")","v":""},{"$f":"IF(ISNUMBER('Dekor 1'!J119),'Dekor 1'!$AF$24,\"\")","v":""},{"$f":"'Dekor 1'!Y119","v":0}]
[{"$f":"'Dekor 1'!A120","v":0},{"$f":"'Dekor 1'!B120","v":0},{"$f":"IF(ISNUMBER('Dekor 1'!J120),('Dekor 1'!D120 & \".\" & 'Dekor 1'!U120 & \".\" & 'Dekor 1'!F120 & \".\" & 'Dekor 1'!V120 & \".\" & 'Dekor 1'!H120 & \".\" & 'Dekor 1'!I120),\"\")","v":""},{"$f":"'Dekor 1'!W120","v":0},{"$f":"'Dekor 1'!K120","v":0},{"$f":"'Dekor 1'!M120","v":0},{"$f":"'Dekor 1'!O120","v":0},{"$f":"'Dekor 1'!Q120","v":0},{"$f":"IF(ISNUMBER('Dekor 1'!J120),'Dekor 1'!E120 & \"x\" & 'Dekor 1'!G120,\"\")","v":""},{"$f":"'Dekor 1'!L120","v":0},{"$f":"'Dekor 1'!N120","v":0},{"$f":"'Dekor 1'!P120","v":0},{"$f":"'Dekor 1'!R120","v":0},{"$f":"'Dekor 1'!X120","v":0},{"$f":"IF(ISNUMBER('Dekor 1'!J120),'Dekor 1'!$AF$20,\"\")","v":""},{"$f":"IF(ISNUMBER('Dekor 1'!J120),'Dekor 1'!$AF$21,\"\")","v":""},{"$f":"IF(ISNUMBER('Dekor 1'!J120),'Dekor 1'!$AF$22,\"\")","v":""},{"$f":"IF(ISNUMBER('Dekor 1'!J120),'Dekor 1'!$AF$23,\"\")","v":""},{"$f":"IF(ISNUMBER('Dekor 1'!J120),'Dekor 1'!$AF$24,\"\")","v":""},{"$f":"'Dekor 1'!Y120","v":0}]
[{"$f":"'Dekor 1'!A121","v":0},{"$f":"'Dekor 1'!B121","v":0},{"$f":"IF(ISNUMBER('Dekor 1'!J121),('Dekor 1'!D121 & \".\" & 'Dekor 1'!U121 & \".\" & 'Dekor 1'!F121 & \".\" & 'Dekor 1'!V121 & \".\" & 'Dekor 1'!H121 & \".\" & 'Dekor 1'!I121),\"\")","v":""},{"$f":"'Dekor 1'!W121","v":0},{"$f":"'Dekor 1'!K121","v":0},{"$f":"'Dekor 1'!M121","v":0},{"$f":"'Dekor 1'!O121","v":0},{"$f":"'Dekor 1'!Q121","v":0},{"$f":"IF(ISNUMBER('Dekor 1'!J121),'Dekor 1'!E121 & \"x\" & 'Dekor 1'!G121,\"\")","v":""},{"$f":"'Dekor 1'!L121","v":0},{"$f":"'Dekor 1'!N121","v":0},{"$f":"'Dekor 1'!P121","v":0},{"$f":"'Dekor 1'!R121","v":0},{"$f":"'Dekor 1'!X121","v":0},{"$f":"IF(ISNUMBER('Dekor 1'!J121),'Dekor 1'!$AF$20,\"\")","v":""},{"$f":"IF(ISNUMBER('Dekor 1'!J121),'Dekor 1'!$AF$21,\"\")","v":""},{"$f":"IF(ISNUMBER('Dekor 1'!J121),'Dekor 1'!$AF$22,\"\")","v":""},{"$f":"IF(ISNUMBER('Dekor 1'!J121),'Dekor 1'!$AF$23,\"\")","v":""},{"$f":"IF(ISNUMBER('Dekor 1'!J121),'Dekor 1'!$AF$24,\"\")","v":""},{"$f":"'Dekor 1'!Y121","v":0}]
[{"$f":"'Dekor 1'!A122","v":0},{"$f":"'Dekor 1'!B122","v":0},{"$f":"IF(ISNUMBER('Dekor 1'!J122),('Dekor 1'!D122 & \".\" & 'Dekor 1'!U122 & \".\" & 'Dekor 1'!F122 & \".\" & 'Dekor 1'!V122 & \".\" & 'Dekor 1'!H122 & \".\" & 'Dekor 1'!I122),\"\")","v":""},{"$f":"'Dekor 1'!W122","v":0},{"$f":"'Dekor 1'!K122","v":0},{"$f":"'Dekor 1'!M122","v":0},{"$f":"'Dekor 1'!O122","v":0},{"$f":"'Dekor 1'!Q122","v":0},{"$f":"IF(ISNUMBER('Dekor 1'!J122),'Dekor 1'!E122 & \"x\" & 'Dekor 1'!G122,\"\")","v":""},{"$f":"'Dekor 1'!L122","v":0},{"$f":"'Dekor 1'!N122","v":0},{"$f":"'Dekor 1'!P122","v":0},{"$f":"'Dekor 1'!R122","v":0},{"$f":"'Dekor 1'!X122","v":0},{"$f":"IF(ISNUMBER('Dekor 1'!J122),'Dekor 1'!$AF$20,\"\")","v":""},{"$f":"IF(ISNUMBER('Dekor 1'!J122),'Dekor 1'!$AF$21,\"\")","v":""},{"$f":"IF(ISNUMBER('Dekor 1'!J122),'Dekor 1'!$AF$22,\"\")","v":""},{"$f":"IF(ISNUMBER('Dekor 1'!J122),'Dekor 1'!$AF$23,\"\")","v":""},{"$f":"IF(ISNUMBER('Dekor 1'!J122),'Dekor 1'!$AF$24,\"\")","v":""},{"$f":"'Dekor 1'!Y122","v":0}]
[{"$f":"'Dekor 1'!A123","v":0},{"$f":"'Dekor 1'!B123","v":0},{"$f":"IF(ISNUMBER('Dekor 1'!J123),('Dekor 1'!D123 & \".\" & 'Dekor 1'!U123 & \".\" & 'Dekor 1'!F123 & \".\" & 'Dekor 1'!V123 & \".\" & 'Dekor 1'!H123 & \".\" & 'Dekor 1'!I123),\"\")","v":""},{"$f":"'Dekor 1'!W123","v":0},{"$f":"'Dekor 1'!K123","v":0},{"$f":"'Dekor 1'!M123","v":0},{"$f":"'Dekor 1'!O123","v":0},{"$f":"'Dekor 1'!Q123","v":0},{"$f":"IF(ISNUMBER('Dekor 1'!J123),'Dekor 1'!E123 & \"x\" & 'Dekor 1'!G123,\"\")","v":""},{"$f":"'Dekor 1'!L123","v":0},{"$f":"'Dekor 1'!N123","v":0},{"$f":"'Dekor 1'!P123","v":0},{"$f":"'Dekor 1'!R123","v":0},{"$f":"'Dekor 1'!X123","v":0},{"$f":"IF(ISNUMBER('Dekor 1'!J123),'Dekor 1'!$AF$20,\"\")","v":""},{"$f":"IF(ISNUMBER('Dekor 1'!J123),'Dekor 1'!$AF$21,\"\")","v":""},{"$f":"IF(ISNUMBER('Dekor 1'!J123),'Dekor 1'!$AF$22,\"\")","v":""},{"$f":"IF(ISNUMBER('Dekor 1'!J123),'Dekor 1'!$AF$23,\"\")","v":""},{"$f":"IF(ISNUMBER('Dekor 1'!J123),'Dekor 1'!$AF$24,\"\")","v":""},{"$f":"'Dekor 1'!Y123","v":0}]
[{"$f":"'Dekor 1'!A124","v":0},{"$f":"'Dekor 1'!B124","v":0},{"$f":"IF(ISNUMBER('Dekor 1'!J124),('Dekor 1'!D124 & \".\" & 'Dekor 1'!U124 & \".\" & 'Dekor 1'!F124 & \".\" & 'Dekor 1'!V124 & \".\" & 'Dekor 1'!H124 & \".\" & 'Dekor 1'!I124),\"\")","v":""},{"$f":"'Dekor 1'!W124","v":0},{"$f":"'Dekor 1'!K124","v":0},{"$f":"'Dekor 1'!M124","v":0},{"$f":"'Dekor 1'!O124","v":0},{"$f":"'Dekor 1'!Q124","v":0},{"$f":"IF(ISNUMBER('Dekor 1'!J124),'Dekor 1'!E124 & \"x\" & 'Dekor 1'!G124,\"\")","v":""},{"$f":"'Dekor 1'!L124","v":0},{"$f":"'Dekor 1'!N124","v":0},{"$f":"'Dekor 1'!P124","v":0},{"$f":"'Dekor 1'!R124","v":0},{"$f":"'Dekor 1'!X124","v":0},{"$f":"IF(ISNUMBER('Dekor 1'!J124),'Dekor 1'!$AF$20,\"\")","v":""},{"$f":"IF(ISNUMBER('Dekor 1'!J124),'Dekor 1'!$AF$21,\"\")","v":""},{"$f":"IF(ISNUMBER('Dekor 1'!J124),'Dekor 1'!$AF$22,\"\")","v":""},{"$f":"IF(ISNUMBER('Dekor 1'!J124),'Dekor 1'!$AF$23,\"\")","v":""},{"$f":"IF(ISNUMBER('Dekor 1'!J124),'Dekor 1'!$AF$24,\"\")","v":""},{"$f":"'Dekor 1'!Y124","v":0}]

{"sheet":"CSV 2","index":7,"n_rows":100,"n_cols":20,"rows_kept":100,"cut":false,"hidden":true,"merged":[]}
[{"$f":"'Dekor 1'!A19","v":"CestaSouboru"},{"$f":"'Dekor 1'!B19","v":"nazev"},"Parametricka pravidla",{"$f":"'Dekor 1'!J19","v":"pocet"},"ohr x1","ohr x2","ohr y1","ohr y2","rozměr","Pozn X1","Pozn X2","Pozn Y1","Pozn Y2","Vysledny rozmer tuplu","22/1","22/0.5","22/2","42/1","42/2","Poznámka"]
[{"$f":"'Dekor 2'!A20","v":""},{"$f":"'Dekor 2'!B20","v":{"$error":"#NAME?"}},{"$f":"IF(ISNUMBER('Dekor 2'!J20),('Dekor 2'!D20 & \".\" & 'Dekor 2'!U20 & \".\" & 'Dekor 2'!F20 & \".\" & 'Dekor 2'!V20 & \".\" & 'Dekor 2'!H20 & \".\" & 'Dekor 2'!I20),\"\")","v":""},{"$f":"'Dekor 2'!W20","v":0},{"$f":"'Dekor 2'!K20","v":0},{"$f":"'Dekor 2'!M20","v":0},{"$f":"'Dekor 2'!O20","v":0},{"$f":"'Dekor 2'!Q20","v":0},{"$f":"IF(ISNUMBER('Dekor 2'!J20),'Dekor 2'!E20 & \"x\" & 'Dekor 2'!G20,\"\")","v":""},{"$f":"'Dekor 2'!L20","v":0},{"$f":"'Dekor 2'!N20","v":0},{"$f":"'Dekor 2'!P20","v":0},{"$f":"'Dekor 2'!R20","v":0},{"$f":"'Dekor 2'!X20","v":0},{"$f":"IF(ISNUMBER('Dekor 2'!J20),'Dekor 2'!$AF$20,\"\")","v":""},{"$f":"IF(ISNUMBER('Dekor 2'!J20),'Dekor 2'!$AF$21,\"\")","v":""},{"$f":"IF(ISNUMBER('Dekor 2'!J20),'Dekor 2'!$AF$22,\"\")","v":""},{"$f":"IF(ISNUMBER('Dekor 2'!J20),'Dekor 2'!$AF$23,\"\")","v":""},{"$f":"IF(ISNUMBER('Dekor 2'!J20),'Dekor 2'!$AF$24,\"\")","v":""},{"$f":"'Dekor 2'!Y20","v":0}]
[{"$f":"'Dekor 2'!A21","v":""},{"$f":"'Dekor 2'!B21","v":{"$error":"#NAME?"}},{"$f":"IF(ISNUMBER('Dekor 2'!J21),('Dekor 2'!D21 & \".\" & 'Dekor 2'!U21 & \".\" & 'Dekor 2'!F21 & \".\" & 'Dekor 2'!V21 & \".\" & 'Dekor 2'!H21 & \".\" & 'Dekor 2'!I21),\"\")","v":""},{"$f":"'Dekor 2'!W21","v":0},{"$f":"'Dekor 2'!K21","v":0},{"$f":"'Dekor 2'!M21","v":0},{"$f":"'Dekor 2'!O21","v":0},{"$f":"'Dekor 2'!Q21","v":0},{"$f":"IF(ISNUMBER('Dekor 2'!J21),'Dekor 2'!E21 & \"x\" & 'Dekor 2'!G21,\"\")","v":""},{"$f":"'Dekor 2'!L21","v":0},{"$f":"'Dekor 2'!N21","v":0},{"$f":"'Dekor 2'!P21","v":0},{"$f":"'Dekor 2'!R21","v":0},{"$f":"'Dekor 2'!X21","v":0},{"$f":"IF(ISNUMBER('Dekor 2'!J21),'Dekor 2'!$AF$20,\"\")","v":""},{"$f":"IF(ISNUMBER('Dekor 2'!J21),'Dekor 2'!$AF$21,\"\")","v":""},{"$f":"IF(ISNUMBER('Dekor 2'!J21),'Dekor 2'!$AF$22,\"\")","v":""},{"$f":"IF(ISNUMBER('Dekor 2'!J21),'Dekor 2'!$AF$23,\"\")","v":""},{"$f":"IF(ISNUMBER('Dekor 2'!J21),'Dekor 2'!$AF$24,\"\")","v":""},{"$f":"'Dekor 2'!Y21","v":0}]
[{"$f":"'Dekor 2'!A22","v":""},{"$f":"'Dekor 2'!B22","v":{"$error":"#NAME?"}},{"$f":"IF(ISNUMBER('Dekor 2'!J22),('Dekor 2'!D22 & \".\" & 'Dekor 2'!U22 & \".\" & 'Dekor 2'!F22 & \".\" & 'Dekor 2'!V22 & \".\" & 'Dekor 2'!H22 & \".\" & 'Dekor 2'!I22),\"\")","v":""},{"$f":"'Dekor 2'!W22","v":0},{"$f":"'Dekor 2'!K22","v":0},{"$f":"'Dekor 2'!M22","v":0},{"$f":"'Dekor 2'!O22","v":0},{"$f":"'Dekor 2'!Q22","v":0},{"$f":"IF(ISNUMBER('Dekor 2'!J22),'Dekor 2'!E22 & \"x\" & 'Dekor 2'!G22,\"\")","v":""},{"$f":"'Dekor 2'!L22","v":0},{"$f":"'Dekor 2'!N22","v":0},{"$f":"'Dekor 2'!P22","v":0},{"$f":"'Dekor 2'!R22","v":0},{"$f":"'Dekor 2'!X22","v":0},{"$f":"IF(ISNUMBER('Dekor 2'!J22),'Dekor 2'!$AF$20,\"\")","v":""},{"$f":"IF(ISNUMBER('Dekor 2'!J22),'Dekor 2'!$AF$21,\"\")","v":""},{"$f":"IF(ISNUMBER('Dekor 2'!J22),'Dekor 2'!$AF$22,\"\")","v":""},{"$f":"IF(ISNUMBER('Dekor 2'!J22),'Dekor 2'!$AF$23,\"\")","v":""},{"$f":"IF(ISNUMBER('Dekor 2'!J22),'Dekor 2'!$AF$24,\"\")","v":""},{"$f":"'Dekor 2'!Y22","v":0}]
[{"$f":"'Dekor 2'!A23","v":""},{"$f":"'Dekor 2'!B23","v":{"$error":"#NAME?"}},{"$f":"IF(ISNUMBER('Dekor 2'!J23),('Dekor 2'!D23 & \".\" & 'Dekor 2'!U23 & \".\" & 'Dekor 2'!F23 & \".\" & 'Dekor 2'!V23 & \".\" & 'Dekor 2'!H23 & \".\" & 'Dekor 2'!I23),\"\")","v":""},{"$f":"'Dekor 2'!W23","v":0},{"$f":"'Dekor 2'!K23","v":0},{"$f":"'Dekor 2'!M23","v":0},{"$f":"'Dekor 2'!O23","v":0},{"$f":"'Dekor 2'!Q23","v":0},{"$f":"IF(ISNUMBER('Dekor 2'!J23),'Dekor 2'!E23 & \"x\" & 'Dekor 2'!G23,\"\")","v":""},{"$f":"'Dekor 2'!L23","v":0},{"$f":"'Dekor 2'!N23","v":0},{"$f":"'Dekor 2'!P23","v":0},{"$f":"'Dekor 2'!R23","v":0},{"$f":"'Dekor 2'!X23","v":0},{"$f":"IF(ISNUMBER('Dekor 2'!J23),'Dekor 2'!$AF$20,\"\")","v":""},{"$f":"IF(ISNUMBER('Dekor 2'!J23),'Dekor 2'!$AF$21,\"\")","v":""},{"$f":"IF(ISNUMBER('Dekor 2'!J23),'Dekor 2'!$AF$22,\"\")","v":""},{"$f":"IF(ISNUMBER('Dekor 2'!J23),'Dekor 2'!$AF$23,\"\")","v":""},{"$f":"IF(ISNUMBER('Dekor 2'!J23),'Dekor 2'!$AF$24,\"\")","v":""},{"$f":"'Dekor 2'!Y23","v":0}]
[{"$f":"'Dekor 2'!A24","v":""},{"$f":"'Dekor 2'!B24","v":{"$error":"#NAME?"}},{"$f":"IF(ISNUMBER('Dekor 2'!J24),('Dekor 2'!D24 & \".\" & 'Dekor 2'!U24 & \".\" & 'Dekor 2'!F24 & \".\" & 'Dekor 2'!V24 & \".\" & 'Dekor 2'!H24 & \".\" & 'Dekor 2'!I24),\"\")","v":""},{"$f":"'Dekor 2'!W24","v":0},{"$f":"'Dekor 2'!K24","v":0},{"$f":"'Dekor 2'!M24","v":0},{"$f":"'Dekor 2'!O24","v":0},{"$f":"'Dekor 2'!Q24","v":0},{"$f":"IF(ISNUMBER('Dekor 2'!J24),'Dekor 2'!E24 & \"x\" & 'Dekor 2'!G24,\"\")","v":""},{"$f":"'Dekor 2'!L24","v":0},{"$f":"'Dekor 2'!N24","v":0},{"$f":"'Dekor 2'!P24","v":0},{"$f":"'Dekor 2'!R24","v":0},{"$f":"'Dekor 2'!X24","v":0},{"$f":"IF(ISNUMBER('Dekor 2'!J24),'Dekor 2'!$AF$20,\"\")","v":""},{"$f":"IF(ISNUMBER('Dekor 2'!J24),'Dekor 2'!$AF$21,\"\")","v":""},{"$f":"IF(ISNUMBER('Dekor 2'!J24),'Dekor 2'!$AF$22,\"\")","v":""},{"$f":"IF(ISNUMBER('Dekor 2'!J24),'Dekor 2'!$AF$23,\"\")","v":""},{"$f":"IF(ISNUMBER('Dekor 2'!J24),'Dekor 2'!$AF$24,\"\")","v":""},{"$f":"'Dekor 2'!Y24","v":0}]
[{"$f":"'Dekor 2'!A25","v":""},{"$f":"'Dekor 2'!B25","v":{"$error":"#NAME?"}},{"$f":"IF(ISNUMBER('Dekor 2'!J25),('Dekor 2'!D25 & \".\" & 'Dekor 2'!U25 & \".\" & 'Dekor 2'!F25 & \".\" & 'Dekor 2'!V25 & \".\" & 'Dekor 2'!H25 & \".\" & 'Dekor 2'!I25),\"\")","v":""},{"$f":"'Dekor 2'!W25","v":0},{"$f":"'Dekor 2'!K25","v":0},{"$f":"'Dekor 2'!M25","v":0},{"$f":"'Dekor 2'!O25","v":0},{"$f":"'Dekor 2'!Q25","v":0},{"$f":"IF(ISNUMBER('Dekor 2'!J25),'Dekor 2'!E25 & \"x\" & 'Dekor 2'!G25,\"\")","v":""},{"$f":"'Dekor 2'!L25","v":0},{"$f":"'Dekor 2'!N25","v":0},{"$f":"'Dekor 2'!P25","v":0},{"$f":"'Dekor 2'!R25","v":0},{"$f":"'Dekor 2'!X25","v":0},{"$f":"IF(ISNUMBER('Dekor 2'!J25),'Dekor 2'!$AF$20,\"\")","v":""},{"$f":"IF(ISNUMBER('Dekor 2'!J25),'Dekor 2'!$AF$21,\"\")","v":""},{"$f":"IF(ISNUMBER('Dekor 2'!J25),'Dekor 2'!$AF$22,\"\")","v":""},{"$f":"IF(ISNUMBER('Dekor 2'!J25),'Dekor 2'!$AF$23,\"\")","v":""},{"$f":"IF(ISNUMBER('Dekor 2'!J25),'Dekor 2'!$AF$24,\"\")","v":""},{"$f":"'Dekor 2'!Y25","v":0}]
[{"$f":"'Dekor 2'!A26","v":""},{"$f":"'Dekor 2'!B26","v":{"$error":"#NAME?"}},{"$f":"IF(ISNUMBER('Dekor 2'!J26),('Dekor 2'!D26 & \".\" & 'Dekor 2'!U26 & \".\" & 'Dekor 2'!F26 & \".\" & 'Dekor 2'!V26 & \".\" & 'Dekor 2'!H26 & \".\" & 'Dekor 2'!I26),\"\")","v":""},{"$f":"'Dekor 2'!W26","v":0},{"$f":"'Dekor 2'!K26","v":0},{"$f":"'Dekor 2'!M26","v":0},{"$f":"'Dekor 2'!O26","v":0},{"$f":"'Dekor 2'!Q26","v":0},{"$f":"IF(ISNUMBER('Dekor 2'!J26),'Dekor 2'!E26 & \"x\" & 'Dekor 2'!G26,\"\")","v":""},{"$f":"'Dekor 2'!L26","v":0},{"$f":"'Dekor 2'!N26","v":0},{"$f":"'Dekor 2'!P26","v":0},{"$f":"'Dekor 2'!R26","v":0},{"$f":"'Dekor 2'!X26","v":0},{"$f":"IF(ISNUMBER('Dekor 2'!J26),'Dekor 2'!$AF$20,\"\")","v":""},{"$f":"IF(ISNUMBER('Dekor 2'!J26),'Dekor 2'!$AF$21,\"\")","v":""},{"$f":"IF(ISNUMBER('Dekor 2'!J26),'Dekor 2'!$AF$22,\"\")","v":""},{"$f":"IF(ISNUMBER('Dekor 2'!J26),'Dekor 2'!$AF$23,\"\")","v":""},{"$f":"IF(ISNUMBER('Dekor 2'!J26),'Dekor 2'!$AF$24,\"\")","v":""},{"$f":"'Dekor 2'!Y26","v":0}]
[{"$f":"'Dekor 2'!A27","v":""},{"$f":"'Dekor 2'!B27","v":{"$error":"#NAME?"}},{"$f":"IF(ISNUMBER('Dekor 2'!J27),('Dekor 2'!D27 & \".\" & 'Dekor 2'!U27 & \".\" & 'Dekor 2'!F27 & \".\" & 'Dekor 2'!V27 & \".\" & 'Dekor 2'!H27 & \".\" & 'Dekor 2'!I27),\"\")","v":""},{"$f":"'Dekor 2'!W27","v":0},{"$f":"'Dekor 2'!K27","v":0},{"$f":"'Dekor 2'!M27","v":0},{"$f":"'Dekor 2'!O27","v":0},{"$f":"'Dekor 2'!Q27","v":0},{"$f":"IF(ISNUMBER('Dekor 2'!J27),'Dekor 2'!E27 & \"x\" & 'Dekor 2'!G27,\"\")","v":""},{"$f":"'Dekor 2'!L27","v":0},{"$f":"'Dekor 2'!N27","v":0},{"$f":"'Dekor 2'!P27","v":0},{"$f":"'Dekor 2'!R27","v":0},{"$f":"'Dekor 2'!X27","v":0},{"$f":"IF(ISNUMBER('Dekor 2'!J27),'Dekor 2'!$AF$20,\"\")","v":""},{"$f":"IF(ISNUMBER('Dekor 2'!J27),'Dekor 2'!$AF$21,\"\")","v":""},{"$f":"IF(ISNUMBER('Dekor 2'!J27),'Dekor 2'!$AF$22,\"\")","v":""},{"$f":"IF(ISNUMBER('Dekor 2'!J27),'Dekor 2'!$AF$23,\"\")","v":""},{"$f":"IF(ISNUMBER('Dekor 2'!J27),'Dekor 2'!$AF$24,\"\")","v":""},{"$f":"'Dekor 2'!Y27","v":0}]
[{"$f":"'Dekor 2'!A28","v":""},{"$f":"'Dekor 2'!B28","v":{"$error":"#NAME?"}},{"$f":"IF(ISNUMBER('Dekor 2'!J28),('Dekor 2'!D28 & \".\" & 'Dekor 2'!U28 & \".\" & 'Dekor 2'!F28 & \".\" & 'Dekor 2'!V28 & \".\" & 'Dekor 2'!H28 & \".\" & 'Dekor 2'!I28),\"\")","v":""},{"$f":"'Dekor 2'!W28","v":0},{"$f":"'Dekor 2'!K28","v":0},{"$f":"'Dekor 2'!M28","v":0},{"$f":"'Dekor 2'!O28","v":0},{"$f":"'Dekor 2'!Q28","v":0},{"$f":"IF(ISNUMBER('Dekor 2'!J28),'Dekor 2'!E28 & \"x\" & 'Dekor 2'!G28,\"\")","v":""},{"$f":"'Dekor 2'!L28","v":0},{"$f":"'Dekor 2'!N28","v":0},{"$f":"'Dekor 2'!P28","v":0},{"$f":"'Dekor 2'!R28","v":0},{"$f":"'Dekor 2'!X28","v":0},{"$f":"IF(ISNUMBER('Dekor 2'!J28),'Dekor 2'!$AF$20,\"\")","v":""},{"$f":"IF(ISNUMBER('Dekor 2'!J28),'Dekor 2'!$AF$21,\"\")","v":""},{"$f":"IF(ISNUMBER('Dekor 2'!J28),'Dekor 2'!$AF$22,\"\")","v":""},{"$f":"IF(ISNUMBER('Dekor 2'!J28),'Dekor 2'!$AF$23,\"\")","v":""},{"$f":"IF(ISNUMBER('Dekor 2'!J28),'Dekor 2'!$AF$24,\"\")","v":""},{"$f":"'Dekor 2'!Y28","v":0}]
[{"$f":"'Dekor 2'!A29","v":""},{"$f":"'Dekor 2'!B29","v":{"$error":"#NAME?"}},{"$f":"IF(ISNUMBER('Dekor 2'!J29),('Dekor 2'!D29 & \".\" & 'Dekor 2'!U29 & \".\" & 'Dekor 2'!F29 & \".\" & 'Dekor 2'!V29 & \".\" & 'Dekor 2'!H29 & \".\" & 'Dekor 2'!I29),\"\")","v":""},{"$f":"'Dekor 2'!W29","v":0},{"$f":"'Dekor 2'!K29","v":0},{"$f":"'Dekor 2'!M29","v":0},{"$f":"'Dekor 2'!O29","v":0},{"$f":"'Dekor 2'!Q29","v":0},{"$f":"IF(ISNUMBER('Dekor 2'!J29),'Dekor 2'!E29 & \"x\" & 'Dekor 2'!G29,\"\")","v":""},{"$f":"'Dekor 2'!L29","v":0},{"$f":"'Dekor 2'!N29","v":0},{"$f":"'Dekor 2'!P29","v":0},{"$f":"'Dekor 2'!R29","v":0},{"$f":"'Dekor 2'!X29","v":0},{"$f":"IF(ISNUMBER('Dekor 2'!J29),'Dekor 2'!$AF$20,\"\")","v":""},{"$f":"IF(ISNUMBER('Dekor 2'!J29),'Dekor 2'!$AF$21,\"\")","v":""},{"$f":"IF(ISNUMBER('Dekor 2'!J29),'Dekor 2'!$AF$22,\"\")","v":""},{"$f":"IF(ISNUMBER('Dekor 2'!J29),'Dekor 2'!$AF$23,\"\")","v":""},{"$f":"IF(ISNUMBER('Dekor 2'!J29),'Dekor 2'!$AF$24,\"\")","v":""},{"$f":"'Dekor 2'!Y29","v":0}]
[{"$f":"'Dekor 2'!A30","v":""},{"$f":"'Dekor 2'!B30","v":{"$error":"#NAME?"}},{"$f":"IF(ISNUMBER('Dekor 2'!J30),('Dekor 2'!D30 & \".\" & 'Dekor 2'!U30 & \".\" & 'Dekor 2'!F30 & \".\" & 'Dekor 2'!V30 & \".\" & 'Dekor 2'!H30 & \".\" & 'Dekor 2'!I30),\"\")","v":""},{"$f":"'Dekor 2'!W30","v":0},{"$f":"'Dekor 2'!K30","v":0},{"$f":"'Dekor 2'!M30","v":0},{"$f":"'Dekor 2'!O30","v":0},{"$f":"'Dekor 2'!Q30","v":0},{"$f":"IF(ISNUMBER('Dekor 2'!J30),'Dekor 2'!E30 & \"x\" & 'Dekor 2'!G30,\"\")","v":""},{"$f":"'Dekor 2'!L30","v":0},{"$f":"'Dekor 2'!N30","v":0},{"$f":"'Dekor 2'!P30","v":0},{"$f":"'Dekor 2'!R30","v":0},{"$f":"'Dekor 2'!X30","v":0},{"$f":"IF(ISNUMBER('Dekor 2'!J30),'Dekor 2'!$AF$20,\"\")","v":""},{"$f":"IF(ISNUMBER('Dekor 2'!J30),'Dekor 2'!$AF$21,\"\")","v":""},{"$f":"IF(ISNUMBER('Dekor 2'!J30),'Dekor 2'!$AF$22,\"\")","v":""},{"$f":"IF(ISNUMBER('Dekor 2'!J30),'Dekor 2'!$AF$23,\"\")","v":""},{"$f":"IF(ISNUMBER('Dekor 2'!J30),'Dekor 2'!$AF$24,\"\")","v":""},{"$f":"'Dekor 2'!Y30","v":0}]
[{"$f":"'Dekor 2'!A31","v":""},{"$f":"'Dekor 2'!B31","v":{"$error":"#NAME?"}},{"$f":"IF(ISNUMBER('Dekor 2'!J31),('Dekor 2'!D31 & \".\" & 'Dekor 2'!U31 & \".\" & 'Dekor 2'!F31 & \".\" & 'Dekor 2'!V31 & \".\" & 'Dekor 2'!H31 & \".\" & 'Dekor 2'!I31),\"\")","v":""},{"$f":"'Dekor 2'!W31","v":0},{"$f":"'Dekor 2'!K31","v":0},{"$f":"'Dekor 2'!M31","v":0},{"$f":"'Dekor 2'!O31","v":0},{"$f":"'Dekor 2'!Q31","v":0},{"$f":"IF(ISNUMBER('Dekor 2'!J31),'Dekor 2'!E31 & \"x\" & 'Dekor 2'!G31,\"\")","v":""},{"$f":"'Dekor 2'!L31","v":0},{"$f":"'Dekor 2'!N31","v":0},{"$f":"'Dekor 2'!P31","v":0},{"$f":"'Dekor 2'!R31","v":0},{"$f":"'Dekor 2'!X31","v":0},{"$f":"IF(ISNUMBER('Dekor 2'!J31),'Dekor 2'!$AF$20,\"\")","v":""},{"$f":"IF(ISNUMBER('Dekor 2'!J31),'Dekor 2'!$AF$21,\"\")","v":""},{"$f":"IF(ISNUMBER('Dekor 2'!J31),'Dekor 2'!$AF$22,\"\")","v":""},{"$f":"IF(ISNUMBER('Dekor 2'!J31),'Dekor 2'!$AF$23,\"\")","v":""},{"$f":"IF(ISNUMBER('Dekor 2'!J31),'Dekor 2'!$AF$24,\"\")","v":""},{"$f":"'Dekor 2'!Y31","v":0}]
[{"$f":"'Dekor 2'!A32","v":""},{"$f":"'Dekor 2'!B32","v":{"$error":"#NAME?"}},{"$f":"IF(ISNUMBER('Dekor 2'!J32),('Dekor 2'!D32 & \".\" & 'Dekor 2'!U32 & \".\" & 'Dekor 2'!F32 & \".\" & 'Dekor 2'!V32 & \".\" & 'Dekor 2'!H32 & \".\" & 'Dekor 2'!I32),\"\")","v":""},{"$f":"'Dekor 2'!W32","v":0},{"$f":"'Dekor 2'!K32","v":0},{"$f":"'Dekor 2'!M32","v":0},{"$f":"'Dekor 2'!O32","v":0},{"$f":"'Dekor 2'!Q32","v":0},{"$f":"IF(ISNUMBER('Dekor 2'!J32),'Dekor 2'!E32 & \"x\" & 'Dekor 2'!G32,\"\")","v":""},{"$f":"'Dekor 2'!L32","v":0},{"$f":"'Dekor 2'!N32","v":0},{"$f":"'Dekor 2'!P32","v":0},{"$f":"'Dekor 2'!R32","v":0},{"$f":"'Dekor 2'!X32","v":0},{"$f":"IF(ISNUMBER('Dekor 2'!J32),'Dekor 2'!$AF$20,\"\")","v":""},{"$f":"IF(ISNUMBER('Dekor 2'!J32),'Dekor 2'!$AF$21,\"\")","v":""},{"$f":"IF(ISNUMBER('Dekor 2'!J32),'Dekor 2'!$AF$22,\"\")","v":""},{"$f":"IF(ISNUMBER('Dekor 2'!J32),'Dekor 2'!$AF$23,\"\")","v":""},{"$f":"IF(ISNUMBER('Dekor 2'!J32),'Dekor 2'!$AF$24,\"\")","v":""},{"$f":"'Dekor 2'!Y32","v":0}]
[{"$f":"'Dekor 2'!A33","v":""},{"$f":"'Dekor 2'!B33","v":{"$error":"#NAME?"}},{"$f":"IF(ISNUMBER('Dekor 2'!J33),('Dekor 2'!D33 & \".\" & 'Dekor 2'!U33 & \".\" & 'Dekor 2'!F33 & \".\" & 'Dekor 2'!V33 & \".\" & 'Dekor 2'!H33 & \".\" & 'Dekor 2'!I33),\"\")","v":""},{"$f":"'Dekor 2'!W33","v":0},{"$f":"'Dekor 2'!K33","v":0},{"$f":"'Dekor 2'!M33","v":0},{"$f":"'Dekor 2'!O33","v":0},{"$f":"'Dekor 2'!Q33","v":0},{"$f":"IF(ISNUMBER('Dekor 2'!J33),'Dekor 2'!E33 & \"x\" & 'Dekor 2'!G33,\"\")","v":""},{"$f":"'Dekor 2'!L33","v":0},{"$f":"'Dekor 2'!N33","v":0},{"$f":"'Dekor 2'!P33","v":0},{"$f":"'Dekor 2'!R33","v":0},{"$f":"'Dekor 2'!X33","v":0},{"$f":"IF(ISNUMBER('Dekor 2'!J33),'Dekor 2'!$AF$20,\"\")","v":""},{"$f":"IF(ISNUMBER('Dekor 2'!J33),'Dekor 2'!$AF$21,\"\")","v":""},{"$f":"IF(ISNUMBER('Dekor 2'!J33),'Dekor 2'!$AF$22,\"\")","v":""},{"$f":"IF(ISNUMBER('Dekor 2'!J33),'Dekor 2'!$AF$23,\"\")","v":""},{"$f":"IF(ISNUMBER('Dekor 2'!J33),'Dekor 2'!$AF$24,\"\")","v":""},{"$f":"'Dekor 2'!Y33","v":0}]
[{"$f":"'Dekor 2'!A34","v":""},{"$f":"'Dekor 2'!B34","v":{"$error":"#NAME?"}},{"$f":"IF(ISNUMBER('Dekor 2'!J34),('Dekor 2'!D34 & \".\" & 'Dekor 2'!U34 & \".\" & 'Dekor 2'!F34 & \".\" & 'Dekor 2'!V34 & \".\" & 'Dekor 2'!H34 & \".\" & 'Dekor 2'!I34),\"\")","v":""},{"$f":"'Dekor 2'!W34","v":0},{"$f":"'Dekor 2'!K34","v":0},{"$f":"'Dekor 2'!M34","v":0},{"$f":"'Dekor 2'!O34","v":0},{"$f":"'Dekor 2'!Q34","v":0},{"$f":"IF(ISNUMBER('Dekor 2'!J34),'Dekor 2'!E34 & \"x\" & 'Dekor 2'!G34,\"\")","v":""},{"$f":"'Dekor 2'!L34","v":0},{"$f":"'Dekor 2'!N34","v":0},{"$f":"'Dekor 2'!P34","v":0},{"$f":"'Dekor 2'!R34","v":0},{"$f":"'Dekor 2'!X34","v":0},{"$f":"IF(ISNUMBER('Dekor 2'!J34),'Dekor 2'!$AF$20,\"\")","v":""},{"$f":"IF(ISNUMBER('Dekor 2'!J34),'Dekor 2'!$AF$21,\"\")","v":""},{"$f":"IF(ISNUMBER('Dekor 2'!J34),'Dekor 2'!$AF$22,\"\")","v":""},{"$f":"IF(ISNUMBER('Dekor 2'!J34),'Dekor 2'!$AF$23,\"\")","v":""},{"$f":"IF(ISNUMBER('Dekor 2'!J34),'Dekor 2'!$AF$24,\"\")","v":""},{"$f":"'Dekor 2'!Y34","v":0}]
[{"$f":"'Dekor 2'!A35","v":""},{"$f":"'Dekor 2'!B35","v":{"$error":"#NAME?"}},{"$f":"IF(ISNUMBER('Dekor 2'!J35),('Dekor 2'!D35 & \".\" & 'Dekor 2'!U35 & \".\" & 'Dekor 2'!F35 & \".\" & 'Dekor 2'!V35 & \".\" & 'Dekor 2'!H35 & \".\" & 'Dekor 2'!I35),\"\")","v":""},{"$f":"'Dekor 2'!W35","v":0},{"$f":"'Dekor 2'!K35","v":0},{"$f":"'Dekor 2'!M35","v":0},{"$f":"'Dekor 2'!O35","v":0},{"$f":"'Dekor 2'!Q35","v":0},{"$f":"IF(ISNUMBER('Dekor 2'!J35),'Dekor 2'!E35 & \"x\" & 'Dekor 2'!G35,\"\")","v":""},{"$f":"'Dekor 2'!L35","v":0},{"$f":"'Dekor 2'!N35","v":0},{"$f":"'Dekor 2'!P35","v":0},{"$f":"'Dekor 2'!R35","v":0},{"$f":"'Dekor 2'!X35","v":0},{"$f":"IF(ISNUMBER('Dekor 2'!J35),'Dekor 2'!$AF$20,\"\")","v":""},{"$f":"IF(ISNUMBER('Dekor 2'!J35),'Dekor 2'!$AF$21,\"\")","v":""},{"$f":"IF(ISNUMBER('Dekor 2'!J35),'Dekor 2'!$AF$22,\"\")","v":""},{"$f":"IF(ISNUMBER('Dekor 2'!J35),'Dekor 2'!$AF$23,\"\")","v":""},{"$f":"IF(ISNUMBER('Dekor 2'!J35),'Dekor 2'!$AF$24,\"\")","v":""},{"$f":"'Dekor 2'!Y35","v":0}]
[{"$f":"'Dekor 2'!A36","v":""},{"$f":"'Dekor 2'!B36","v":{"$error":"#NAME?"}},{"$f":"IF(ISNUMBER('Dekor 2'!J36),('Dekor 2'!D36 & \".\" & 'Dekor 2'!U36 & \".\" & 'Dekor 2'!F36 & \".\" & 'Dekor 2'!V36 & \".\" & 'Dekor 2'!H36 & \".\" & 'Dekor 2'!I36),\"\")","v":""},{"$f":"'Dekor 2'!W36","v":0},{"$f":"'Dekor 2'!K36","v":0},{"$f":"'Dekor 2'!M36","v":0},{"$f":"'Dekor 2'!O36","v":0},{"$f":"'Dekor 2'!Q36","v":0},{"$f":"IF(ISNUMBER('Dekor 2'!J36),'Dekor 2'!E36 & \"x\" & 'Dekor 2'!G36,\"\")","v":""},{"$f":"'Dekor 2'!L36","v":0},{"$f":"'Dekor 2'!N36","v":0},{"$f":"'Dekor 2'!P36","v":0},{"$f":"'Dekor 2'!R36","v":0},{"$f":"'Dekor 2'!X36","v":0},{"$f":"IF(ISNUMBER('Dekor 2'!J36),'Dekor 2'!$AF$20,\"\")","v":""},{"$f":"IF(ISNUMBER('Dekor 2'!J36),'Dekor 2'!$AF$21,\"\")","v":""},{"$f":"IF(ISNUMBER('Dekor 2'!J36),'Dekor 2'!$AF$22,\"\")","v":""},{"$f":"IF(ISNUMBER('Dekor 2'!J36),'Dekor 2'!$AF$23,\"\")","v":""},{"$f":"IF(ISNUMBER('Dekor 2'!J36),'Dekor 2'!$AF$24,\"\")","v":""},{"$f":"'Dekor 2'!Y36","v":0}]
[{"$f":"'Dekor 2'!A37","v":""},{"$f":"'Dekor 2'!B37","v":{"$error":"#NAME?"}},{"$f":"IF(ISNUMBER('Dekor 2'!J37),('Dekor 2'!D37 & \".\" & 'Dekor 2'!U37 & \".\" & 'Dekor 2'!F37 & \".\" & 'Dekor 2'!V37 & \".\" & 'Dekor 2'!H37 & \".\" & 'Dekor 2'!I37),\"\")","v":""},{"$f":"'Dekor 2'!W37","v":0},{"$f":"'Dekor 2'!K37","v":0},{"$f":"'Dekor 2'!M37","v":0},{"$f":"'Dekor 2'!O37","v":0},{"$f":"'Dekor 2'!Q37","v":0},{"$f":"IF(ISNUMBER('Dekor 2'!J37),'Dekor 2'!E37 & \"x\" & 'Dekor 2'!G37,\"\")","v":""},{"$f":"'Dekor 2'!L37","v":0},{"$f":"'Dekor 2'!N37","v":0},{"$f":"'Dekor 2'!P37","v":0},{"$f":"'Dekor 2'!R37","v":0},{"$f":"'Dekor 2'!X37","v":0},{"$f":"IF(ISNUMBER('Dekor 2'!J37),'Dekor 2'!$AF$20,\"\")","v":""},{"$f":"IF(ISNUMBER('Dekor 2'!J37),'Dekor 2'!$AF$21,\"\")","v":""},{"$f":"IF(ISNUMBER('Dekor 2'!J37),'Dekor 2'!$AF$22,\"\")","v":""},{"$f":"IF(ISNUMBER('Dekor 2'!J37),'Dekor 2'!$AF$23,\"\")","v":""},{"$f":"IF(ISNUMBER('Dekor 2'!J37),'Dekor 2'!$AF$24,\"\")","v":""},{"$f":"'Dekor 2'!Y37","v":0}]
[{"$f":"'Dekor 2'!A38","v":""},{"$f":"'Dekor 2'!B38","v":{"$error":"#NAME?"}},{"$f":"IF(ISNUMBER('Dekor 2'!J38),('Dekor 2'!D38 & \".\" & 'Dekor 2'!U38 & \".\" & 'Dekor 2'!F38 & \".\" & 'Dekor 2'!V38 & \".\" & 'Dekor 2'!H38 & \".\" & 'Dekor 2'!I38),\"\")","v":""},{"$f":"'Dekor 2'!W38","v":0},{"$f":"'Dekor 2'!K38","v":0},{"$f":"'Dekor 2'!M38","v":0},{"$f":"'Dekor 2'!O38","v":0},{"$f":"'Dekor 2'!Q38","v":0},{"$f":"IF(ISNUMBER('Dekor 2'!J38),'Dekor 2'!E38 & \"x\" & 'Dekor 2'!G38,\"\")","v":""},{"$f":"'Dekor 2'!L38","v":0},{"$f":"'Dekor 2'!N38","v":0},{"$f":"'Dekor 2'!P38","v":0},{"$f":"'Dekor 2'!R38","v":0},{"$f":"'Dekor 2'!X38","v":0},{"$f":"IF(ISNUMBER('Dekor 2'!J38),'Dekor 2'!$AF$20,\"\")","v":""},{"$f":"IF(ISNUMBER('Dekor 2'!J38),'Dekor 2'!$AF$21,\"\")","v":""},{"$f":"IF(ISNUMBER('Dekor 2'!J38),'Dekor 2'!$AF$22,\"\")","v":""},{"$f":"IF(ISNUMBER('Dekor 2'!J38),'Dekor 2'!$AF$23,\"\")","v":""},{"$f":"IF(ISNUMBER('Dekor 2'!J38),'Dekor 2'!$AF$24,\"\")","v":""},{"$f":"'Dekor 2'!Y38","v":0}]
[{"$f":"'Dekor 2'!A39","v":""},{"$f":"'Dekor 2'!B39","v":{"$error":"#NAME?"}},{"$f":"IF(ISNUMBER('Dekor 2'!J39),('Dekor 2'!D39 & \".\" & 'Dekor 2'!U39 & \".\" & 'Dekor 2'!F39 & \".\" & 'Dekor 2'!V39 & \".\" & 'Dekor 2'!H39 & \".\" & 'Dekor 2'!I39),\"\")","v":""},{"$f":"'Dekor 2'!W39","v":0},{"$f":"'Dekor 2'!K39","v":0},{"$f":"'Dekor 2'!M39","v":0},{"$f":"'Dekor 2'!O39","v":0},{"$f":"'Dekor 2'!Q39","v":0},{"$f":"IF(ISNUMBER('Dekor 2'!J39),'Dekor 2'!E39 & \"x\" & 'Dekor 2'!G39,\"\")","v":""},{"$f":"'Dekor 2'!L39","v":0},{"$f":"'Dekor 2'!N39","v":0},{"$f":"'Dekor 2'!P39","v":0},{"$f":"'Dekor 2'!R39","v":0},{"$f":"'Dekor 2'!X39","v":0},{"$f":"IF(ISNUMBER('Dekor 2'!J39),'Dekor 2'!$AF$20,\"\")","v":""},{"$f":"IF(ISNUMBER('Dekor 2'!J39),'Dekor 2'!$AF$21,\"\")","v":""},{"$f":"IF(ISNUMBER('Dekor 2'!J39),'Dekor 2'!$AF$22,\"\")","v":""},{"$f":"IF(ISNUMBER('Dekor 2'!J39),'Dekor 2'!$AF$23,\"\")","v":""},{"$f":"IF(ISNUMBER('Dekor 2'!J39),'Dekor 2'!$AF$24,\"\")","v":""},{"$f":"'Dekor 2'!Y39","v":0}]
[{"$f":"'Dekor 2'!A40","v":""},{"$f":"'Dekor 2'!B40","v":{"$error":"#NAME?"}},{"$f":"IF(ISNUMBER('Dekor 2'!J40),('Dekor 2'!D40 & \".\" & 'Dekor 2'!U40 & \".\" & 'Dekor 2'!F40 & \".\" & 'Dekor 2'!V40 & \".\" & 'Dekor 2'!H40 & \".\" & 'Dekor 2'!I40),\"\")","v":""},{"$f":"'Dekor 2'!W40","v":0},{"$f":"'Dekor 2'!K40","v":0},{"$f":"'Dekor 2'!M40","v":0},{"$f":"'Dekor 2'!O40","v":0},{"$f":"'Dekor 2'!Q40","v":0},{"$f":"IF(ISNUMBER('Dekor 2'!J40),'Dekor 2'!E40 & \"x\" & 'Dekor 2'!G40,\"\")","v":""},{"$f":"'Dekor 2'!L40","v":0},{"$f":"'Dekor 2'!N40","v":0},{"$f":"'Dekor 2'!P40","v":0},{"$f":"'Dekor 2'!R40","v":0},{"$f":"'Dekor 2'!X40","v":0},{"$f":"IF(ISNUMBER('Dekor 2'!J40),'Dekor 2'!$AF$20,\"\")","v":""},{"$f":"IF(ISNUMBER('Dekor 2'!J40),'Dekor 2'!$AF$21,\"\")","v":""},{"$f":"IF(ISNUMBER('Dekor 2'!J40),'Dekor 2'!$AF$22,\"\")","v":""},{"$f":"IF(ISNUMBER('Dekor 2'!J40),'Dekor 2'!$AF$23,\"\")","v":""},{"$f":"IF(ISNUMBER('Dekor 2'!J40),'Dekor 2'!$AF$24,\"\")","v":""},{"$f":"'Dekor 2'!Y40","v":0}]
[{"$f":"'Dekor 2'!A41","v":""},{"$f":"'Dekor 2'!B41","v":{"$error":"#NAME?"}},{"$f":"IF(ISNUMBER('Dekor 2'!J41),('Dekor 2'!D41 & \".\" & 'Dekor 2'!U41 & \".\" & 'Dekor 2'!F41 & \".\" & 'Dekor 2'!V41 & \".\" & 'Dekor 2'!H41 & \".\" & 'Dekor 2'!I41),\"\")","v":""},{"$f":"'Dekor 2'!W41","v":0},{"$f":"'Dekor 2'!K41","v":0},{"$f":"'Dekor 2'!M41","v":0},{"$f":"'Dekor 2'!O41","v":0},{"$f":"'Dekor 2'!Q41","v":0},{"$f":"IF(ISNUMBER('Dekor 2'!J41),'Dekor 2'!E41 & \"x\" & 'Dekor 2'!G41,\"\")","v":""},{"$f":"'Dekor 2'!L41","v":0},{"$f":"'Dekor 2'!N41","v":0},{"$f":"'Dekor 2'!P41","v":0},{"$f":"'Dekor 2'!R41","v":0},{"$f":"'Dekor 2'!X41","v":0},{"$f":"IF(ISNUMBER('Dekor 2'!J41),'Dekor 2'!$AF$20,\"\")","v":""},{"$f":"IF(ISNUMBER('Dekor 2'!J41),'Dekor 2'!$AF$21,\"\")","v":""},{"$f":"IF(ISNUMBER('Dekor 2'!J41),'Dekor 2'!$AF$22,\"\")","v":""},{"$f":"IF(ISNUMBER('Dekor 2'!J41),'Dekor 2'!$AF$23,\"\")","v":""},{"$f":"IF(ISNUMBER('Dekor 2'!J41),'Dekor 2'!$AF$24,\"\")","v":""},{"$f":"'Dekor 2'!Y41","v":0}]
[{"$f":"'Dekor 2'!A42","v":""},{"$f":"'Dekor 2'!B42","v":{"$error":"#NAME?"}},{"$f":"IF(ISNUMBER('Dekor 2'!J42),('Dekor 2'!D42 & \".\" & 'Dekor 2'!U42 & \".\" & 'Dekor 2'!F42 & \".\" & 'Dekor 2'!V42 & \".\" & 'Dekor 2'!H42 & \".\" & 'Dekor 2'!I42),\"\")","v":""},{"$f":"'Dekor 2'!W42","v":0},{"$f":"'Dekor 2'!K42","v":0},{"$f":"'Dekor 2'!M42","v":0},{"$f":"'Dekor 2'!O42","v":0},{"$f":"'Dekor 2'!Q42","v":0},{"$f":"IF(ISNUMBER('Dekor 2'!J42),'Dekor 2'!E42 & \"x\" & 'Dekor 2'!G42,\"\")","v":""},{"$f":"'Dekor 2'!L42","v":0},{"$f":"'Dekor 2'!N42","v":0},{"$f":"'Dekor 2'!P42","v":0},{"$f":"'Dekor 2'!R42","v":0},{"$f":"'Dekor 2'!X42","v":0},{"$f":"IF(ISNUMBER('Dekor 2'!J42),'Dekor 2'!$AF$20,\"\")","v":""},{"$f":"IF(ISNUMBER('Dekor 2'!J42),'Dekor 2'!$AF$21,\"\")","v":""},{"$f":"IF(ISNUMBER('Dekor 2'!J42),'Dekor 2'!$AF$22,\"\")","v":""},{"$f":"IF(ISNUMBER('Dekor 2'!J42),'Dekor 2'!$AF$23,\"\")","v":""},{"$f":"IF(ISNUMBER('Dekor 2'!J42),'Dekor 2'!$AF$24,\"\")","v":""},{"$f":"'Dekor 2'!Y42","v":0}]
[{"$f":"'Dekor 2'!A43","v":""},{"$f":"'Dekor 2'!B43","v":{"$error":"#NAME?"}},{"$f":"IF(ISNUMBER('Dekor 2'!J43),('Dekor 2'!D43 & \".\" & 'Dekor 2'!U43 & \".\" & 'Dekor 2'!F43 & \".\" & 'Dekor 2'!V43 & \".\" & 'Dekor 2'!H43 & \".\" & 'Dekor 2'!I43),\"\")","v":""},{"$f":"'Dekor 2'!W43","v":0},{"$f":"'Dekor 2'!K43","v":0},{"$f":"'Dekor 2'!M43","v":0},{"$f":"'Dekor 2'!O43","v":0},{"$f":"'Dekor 2'!Q43","v":0},{"$f":"IF(ISNUMBER('Dekor 2'!J43),'Dekor 2'!E43 & \"x\" & 'Dekor 2'!G43,\"\")","v":""},{"$f":"'Dekor 2'!L43","v":0},{"$f":"'Dekor 2'!N43","v":0},{"$f":"'Dekor 2'!P43","v":0},{"$f":"'Dekor 2'!R43","v":0},{"$f":"'Dekor 2'!X43","v":0},{"$f":"IF(ISNUMBER('Dekor 2'!J43),'Dekor 2'!$AF$20,\"\")","v":""},{"$f":"IF(ISNUMBER('Dekor 2'!J43),'Dekor 2'!$AF$21,\"\")","v":""},{"$f":"IF(ISNUMBER('Dekor 2'!J43),'Dekor 2'!$AF$22,\"\")","v":""},{"$f":"IF(ISNUMBER('Dekor 2'!J43),'Dekor 2'!$AF$23,\"\")","v":""},{"$f":"IF(ISNUMBER('Dekor 2'!J43),'Dekor 2'!$AF$24,\"\")","v":""},{"$f":"'Dekor 2'!Y43","v":0}]
[{"$f":"'Dekor 2'!A44","v":""},{"$f":"'Dekor 2'!B44","v":{"$error":"#NAME?"}},{"$f":"IF(ISNUMBER('Dekor 2'!J44),('Dekor 2'!D44 & \".\" & 'Dekor 2'!U44 & \".\" & 'Dekor 2'!F44 & \".\" & 'Dekor 2'!V44 & \".\" & 'Dekor 2'!H44 & \".\" & 'Dekor 2'!I44),\"\")","v":""},{"$f":"'Dekor 2'!W44","v":0},{"$f":"'Dekor 2'!K44","v":0},{"$f":"'Dekor 2'!M44","v":0},{"$f":"'Dekor 2'!O44","v":0},{"$f":"'Dekor 2'!Q44","v":0},{"$f":"IF(ISNUMBER('Dekor 2'!J44),'Dekor 2'!E44 & \"x\" & 'Dekor 2'!G44,\"\")","v":""},{"$f":"'Dekor 2'!L44","v":0},{"$f":"'Dekor 2'!N44","v":0},{"$f":"'Dekor 2'!P44","v":0},{"$f":"'Dekor 2'!R44","v":0},{"$f":"'Dekor 2'!X44","v":0},{"$f":"IF(ISNUMBER('Dekor 2'!J44),'Dekor 2'!$AF$20,\"\")","v":""},{"$f":"IF(ISNUMBER('Dekor 2'!J44),'Dekor 2'!$AF$21,\"\")","v":""},{"$f":"IF(ISNUMBER('Dekor 2'!J44),'Dekor 2'!$AF$22,\"\")","v":""},{"$f":"IF(ISNUMBER('Dekor 2'!J44),'Dekor 2'!$AF$23,\"\")","v":""},{"$f":"IF(ISNUMBER('Dekor 2'!J44),'Dekor 2'!$AF$24,\"\")","v":""},{"$f":"'Dekor 2'!Y44","v":0}]
[{"$f":"'Dekor 2'!A45","v":""},{"$f":"'Dekor 2'!B45","v":{"$error":"#NAME?"}},{"$f":"IF(ISNUMBER('Dekor 2'!J45),('Dekor 2'!D45 & \".\" & 'Dekor 2'!U45 & \".\" & 'Dekor 2'!F45 & \".\" & 'Dekor 2'!V45 & \".\" & 'Dekor 2'!H45 & \".\" & 'Dekor 2'!I45),\"\")","v":""},{"$f":"'Dekor 2'!W45","v":0},{"$f":"'Dekor 2'!K45","v":0},{"$f":"'Dekor 2'!M45","v":0},{"$f":"'Dekor 2'!O45","v":0},{"$f":"'Dekor 2'!Q45","v":0},{"$f":"IF(ISNUMBER('Dekor 2'!J45),'Dekor 2'!E45 & \"x\" & 'Dekor 2'!G45,\"\")","v":""},{"$f":"'Dekor 2'!L45","v":0},{"$f":"'Dekor 2'!N45","v":0},{"$f":"'Dekor 2'!P45","v":0},{"$f":"'Dekor 2'!R45","v":0},{"$f":"'Dekor 2'!X45","v":0},{"$f":"IF(ISNUMBER('Dekor 2'!J45),'Dekor 2'!$AF$20,\"\")","v":""},{"$f":"IF(ISNUMBER('Dekor 2'!J45),'Dekor 2'!$AF$21,\"\")","v":""},{"$f":"IF(ISNUMBER('Dekor 2'!J45),'Dekor 2'!$AF$22,\"\")","v":""},{"$f":"IF(ISNUMBER('Dekor 2'!J45),'Dekor 2'!$AF$23,\"\")","v":""},{"$f":"IF(ISNUMBER('Dekor 2'!J45),'Dekor 2'!$AF$24,\"\")","v":""},{"$f":"'Dekor 2'!Y45","v":0}]
[{"$f":"'Dekor 2'!A46","v":""},{"$f":"'Dekor 2'!B46","v":{"$error":"#NAME?"}},{"$f":"IF(ISNUMBER('Dekor 2'!J46),('Dekor 2'!D46 & \".\" & 'Dekor 2'!U46 & \".\" & 'Dekor 2'!F46 & \".\" & 'Dekor 2'!V46 & \".\" & 'Dekor 2'!H46 & \".\" & 'Dekor 2'!I46),\"\")","v":""},{"$f":"'Dekor 2'!W46","v":0},{"$f":"'Dekor 2'!K46","v":0},{"$f":"'Dekor 2'!M46","v":0},{"$f":"'Dekor 2'!O46","v":0},{"$f":"'Dekor 2'!Q46","v":0},{"$f":"IF(ISNUMBER('Dekor 2'!J46),'Dekor 2'!E46 & \"x\" & 'Dekor 2'!G46,\"\")","v":""},{"$f":"'Dekor 2'!L46","v":0},{"$f":"'Dekor 2'!N46","v":0},{"$f":"'Dekor 2'!P46","v":0},{"$f":"'Dekor 2'!R46","v":0},{"$f":"'Dekor 2'!X46","v":0},{"$f":"IF(ISNUMBER('Dekor 2'!J46),'Dekor 2'!$AF$20,\"\")","v":""},{"$f":"IF(ISNUMBER('Dekor 2'!J46),'Dekor 2'!$AF$21,\"\")","v":""},{"$f":"IF(ISNUMBER('Dekor 2'!J46),'Dekor 2'!$AF$22,\"\")","v":""},{"$f":"IF(ISNUMBER('Dekor 2'!J46),'Dekor 2'!$AF$23,\"\")","v":""},{"$f":"IF(ISNUMBER('Dekor 2'!J46),'Dekor 2'!$AF$24,\"\")","v":""},{"$f":"'Dekor 2'!Y46","v":0}]
[{"$f":"'Dekor 2'!A47","v":""},{"$f":"'Dekor 2'!B47","v":{"$error":"#NAME?"}},{"$f":"IF(ISNUMBER('Dekor 2'!J47),('Dekor 2'!D47 & \".\" & 'Dekor 2'!U47 & \".\" & 'Dekor 2'!F47 & \".\" & 'Dekor 2'!V47 & \".\" & 'Dekor 2'!H47 & \".\" & 'Dekor 2'!I47),\"\")","v":""},{"$f":"'Dekor 2'!W47","v":0},{"$f":"'Dekor 2'!K47","v":0},{"$f":"'Dekor 2'!M47","v":0},{"$f":"'Dekor 2'!O47","v":0},{"$f":"'Dekor 2'!Q47","v":0},{"$f":"IF(ISNUMBER('Dekor 2'!J47),'Dekor 2'!E47 & \"x\" & 'Dekor 2'!G47,\"\")","v":""},{"$f":"'Dekor 2'!L47","v":0},{"$f":"'Dekor 2'!N47","v":0},{"$f":"'Dekor 2'!P47","v":0},{"$f":"'Dekor 2'!R47","v":0},{"$f":"'Dekor 2'!X47","v":0},{"$f":"IF(ISNUMBER('Dekor 2'!J47),'Dekor 2'!$AF$20,\"\")","v":""},{"$f":"IF(ISNUMBER('Dekor 2'!J47),'Dekor 2'!$AF$21,\"\")","v":""},{"$f":"IF(ISNUMBER('Dekor 2'!J47),'Dekor 2'!$AF$22,\"\")","v":""},{"$f":"IF(ISNUMBER('Dekor 2'!J47),'Dekor 2'!$AF$23,\"\")","v":""},{"$f":"IF(ISNUMBER('Dekor 2'!J47),'Dekor 2'!$AF$24,\"\")","v":""},{"$f":"'Dekor 2'!Y47","v":0}]
[{"$f":"'Dekor 2'!A48","v":""},{"$f":"'Dekor 2'!B48","v":{"$error":"#NAME?"}},{"$f":"IF(ISNUMBER('Dekor 2'!J48),('Dekor 2'!D48 & \".\" & 'Dekor 2'!U48 & \".\" & 'Dekor 2'!F48 & \".\" & 'Dekor 2'!V48 & \".\" & 'Dekor 2'!H48 & \".\" & 'Dekor 2'!I48),\"\")","v":""},{"$f":"'Dekor 2'!W48","v":0},{"$f":"'Dekor 2'!K48","v":0},{"$f":"'Dekor 2'!M48","v":0},{"$f":"'Dekor 2'!O48","v":0},{"$f":"'Dekor 2'!Q48","v":0},{"$f":"IF(ISNUMBER('Dekor 2'!J48),'Dekor 2'!E48 & \"x\" & 'Dekor 2'!G48,\"\")","v":""},{"$f":"'Dekor 2'!L48","v":0},{"$f":"'Dekor 2'!N48","v":0},{"$f":"'Dekor 2'!P48","v":0},{"$f":"'Dekor 2'!R48","v":0},{"$f":"'Dekor 2'!X48","v":0},{"$f":"IF(ISNUMBER('Dekor 2'!J48),'Dekor 2'!$AF$20,\"\")","v":""},{"$f":"IF(ISNUMBER('Dekor 2'!J48),'Dekor 2'!$AF$21,\"\")","v":""},{"$f":"IF(ISNUMBER('Dekor 2'!J48),'Dekor 2'!$AF$22,\"\")","v":""},{"$f":"IF(ISNUMBER('Dekor 2'!J48),'Dekor 2'!$AF$23,\"\")","v":""},{"$f":"IF(ISNUMBER('Dekor 2'!J48),'Dekor 2'!$AF$24,\"\")","v":""},{"$f":"'Dekor 2'!Y48","v":0}]
[{"$f":"'Dekor 2'!A49","v":""},{"$f":"'Dekor 2'!B49","v":{"$error":"#NAME?"}},{"$f":"IF(ISNUMBER('Dekor 2'!J49),('Dekor 2'!D49 & \".\" & 'Dekor 2'!U49 & \".\" & 'Dekor 2'!F49 & \".\" & 'Dekor 2'!V49 & \".\" & 'Dekor 2'!H49 & \".\" & 'Dekor 2'!I49),\"\")","v":""},{"$f":"'Dekor 2'!W49","v":0},{"$f":"'Dekor 2'!K49","v":0},{"$f":"'Dekor 2'!M49","v":0},{"$f":"'Dekor 2'!O49","v":0},{"$f":"'Dekor 2'!Q49","v":0},{"$f":"IF(ISNUMBER('Dekor 2'!J49),'Dekor 2'!E49 & \"x\" & 'Dekor 2'!G49,\"\")","v":""},{"$f":"'Dekor 2'!L49","v":0},{"$f":"'Dekor 2'!N49","v":0},{"$f":"'Dekor 2'!P49","v":0},{"$f":"'Dekor 2'!R49","v":0},{"$f":"'Dekor 2'!X49","v":0},{"$f":"IF(ISNUMBER('Dekor 2'!J49),'Dekor 2'!$AF$20,\"\")","v":""},{"$f":"IF(ISNUMBER('Dekor 2'!J49),'Dekor 2'!$AF$21,\"\")","v":""},{"$f":"IF(ISNUMBER('Dekor 2'!J49),'Dekor 2'!$AF$22,\"\")","v":""},{"$f":"IF(ISNUMBER('Dekor 2'!J49),'Dekor 2'!$AF$23,\"\")","v":""},{"$f":"IF(ISNUMBER('Dekor 2'!J49),'Dekor 2'!$AF$24,\"\")","v":""},{"$f":"'Dekor 2'!Y49","v":0}]
[{"$f":"'Dekor 2'!A50","v":""},{"$f":"'Dekor 2'!B50","v":{"$error":"#NAME?"}},{"$f":"IF(ISNUMBER('Dekor 2'!J50),('Dekor 2'!D50 & \".\" & 'Dekor 2'!U50 & \".\" & 'Dekor 2'!F50 & \".\" & 'Dekor 2'!V50 & \".\" & 'Dekor 2'!H50 & \".\" & 'Dekor 2'!I50),\"\")","v":""},{"$f":"'Dekor 2'!W50","v":0},{"$f":"'Dekor 2'!K50","v":0},{"$f":"'Dekor 2'!M50","v":0},{"$f":"'Dekor 2'!O50","v":0},{"$f":"'Dekor 2'!Q50","v":0},{"$f":"IF(ISNUMBER('Dekor 2'!J50),'Dekor 2'!E50 & \"x\" & 'Dekor 2'!G50,\"\")","v":""},{"$f":"'Dekor 2'!L50","v":0},{"$f":"'Dekor 2'!N50","v":0},{"$f":"'Dekor 2'!P50","v":0},{"$f":"'Dekor 2'!R50","v":0},{"$f":"'Dekor 2'!X50","v":0},{"$f":"IF(ISNUMBER('Dekor 2'!J50),'Dekor 2'!$AF$20,\"\")","v":""},{"$f":"IF(ISNUMBER('Dekor 2'!J50),'Dekor 2'!$AF$21,\"\")","v":""},{"$f":"IF(ISNUMBER('Dekor 2'!J50),'Dekor 2'!$AF$22,\"\")","v":""},{"$f":"IF(ISNUMBER('Dekor 2'!J50),'Dekor 2'!$AF$23,\"\")","v":""},{"$f":"IF(ISNUMBER('Dekor 2'!J50),'Dekor 2'!$AF$24,\"\")","v":""},{"$f":"'Dekor 2'!Y50","v":0}]
[{"$f":"'Dekor 2'!A51","v":""},{"$f":"'Dekor 2'!B51","v":{"$error":"#NAME?"}},{"$f":"IF(ISNUMBER('Dekor 2'!J51),('Dekor 2'!D51 & \".\" & 'Dekor 2'!U51 & \".\" & 'Dekor 2'!F51 & \".\" & 'Dekor 2'!V51 & \".\" & 'Dekor 2'!H51 & \".\" & 'Dekor 2'!I51),\"\")","v":""},{"$f":"'Dekor 2'!W51","v":0},{"$f":"'Dekor 2'!K51","v":0},{"$f":"'Dekor 2'!M51","v":0},{"$f":"'Dekor 2'!O51","v":0},{"$f":"'Dekor 2'!Q51","v":0},{"$f":"IF(ISNUMBER('Dekor 2'!J51),'Dekor 2'!E51 & \"x\" & 'Dekor 2'!G51,\"\")","v":""},{"$f":"'Dekor 2'!L51","v":0},{"$f":"'Dekor 2'!N51","v":0},{"$f":"'Dekor 2'!P51","v":0},{"$f":"'Dekor 2'!R51","v":0},{"$f":"'Dekor 2'!X51","v":0},{"$f":"IF(ISNUMBER('Dekor 2'!J51),'Dekor 2'!$AF$20,\"\")","v":""},{"$f":"IF(ISNUMBER('Dekor 2'!J51),'Dekor 2'!$AF$21,\"\")","v":""},{"$f":"IF(ISNUMBER('Dekor 2'!J51),'Dekor 2'!$AF$22,\"\")","v":""},{"$f":"IF(ISNUMBER('Dekor 2'!J51),'Dekor 2'!$AF$23,\"\")","v":""},{"$f":"IF(ISNUMBER('Dekor 2'!J51),'Dekor 2'!$AF$24,\"\")","v":""},{"$f":"'Dekor 2'!Y51","v":0}]
[{"$f":"'Dekor 2'!A52","v":""},{"$f":"'Dekor 2'!B52","v":{"$error":"#NAME?"}},{"$f":"IF(ISNUMBER('Dekor 2'!J52),('Dekor 2'!D52 & \".\" & 'Dekor 2'!U52 & \".\" & 'Dekor 2'!F52 & \".\" & 'Dekor 2'!V52 & \".\" & 'Dekor 2'!H52 & \".\" & 'Dekor 2'!I52),\"\")","v":""},{"$f":"'Dekor 2'!W52","v":0},{"$f":"'Dekor 2'!K52","v":0},{"$f":"'Dekor 2'!M52","v":0},{"$f":"'Dekor 2'!O52","v":0},{"$f":"'Dekor 2'!Q52","v":0},{"$f":"IF(ISNUMBER('Dekor 2'!J52),'Dekor 2'!E52 & \"x\" & 'Dekor 2'!G52,\"\")","v":""},{"$f":"'Dekor 2'!L52","v":0},{"$f":"'Dekor 2'!N52","v":0},{"$f":"'Dekor 2'!P52","v":0},{"$f":"'Dekor 2'!R52","v":0},{"$f":"'Dekor 2'!X52","v":0},{"$f":"IF(ISNUMBER('Dekor 2'!J52),'Dekor 2'!$AF$20,\"\")","v":""},{"$f":"IF(ISNUMBER('Dekor 2'!J52),'Dekor 2'!$AF$21,\"\")","v":""},{"$f":"IF(ISNUMBER('Dekor 2'!J52),'Dekor 2'!$AF$22,\"\")","v":""},{"$f":"IF(ISNUMBER('Dekor 2'!J52),'Dekor 2'!$AF$23,\"\")","v":""},{"$f":"IF(ISNUMBER('Dekor 2'!J52),'Dekor 2'!$AF$24,\"\")","v":""},{"$f":"'Dekor 2'!Y52","v":0}]
[{"$f":"'Dekor 2'!A53","v":""},{"$f":"'Dekor 2'!B53","v":{"$error":"#NAME?"}},{"$f":"IF(ISNUMBER('Dekor 2'!J53),('Dekor 2'!D53 & \".\" & 'Dekor 2'!U53 & \".\" & 'Dekor 2'!F53 & \".\" & 'Dekor 2'!V53 & \".\" & 'Dekor 2'!H53 & \".\" & 'Dekor 2'!I53),\"\")","v":""},{"$f":"'Dekor 2'!W53","v":0},{"$f":"'Dekor 2'!K53","v":0},{"$f":"'Dekor 2'!M53","v":0},{"$f":"'Dekor 2'!O53","v":0},{"$f":"'Dekor 2'!Q53","v":0},{"$f":"IF(ISNUMBER('Dekor 2'!J53),'Dekor 2'!E53 & \"x\" & 'Dekor 2'!G53,\"\")","v":""},{"$f":"'Dekor 2'!L53","v":0},{"$f":"'Dekor 2'!N53","v":0},{"$f":"'Dekor 2'!P53","v":0},{"$f":"'Dekor 2'!R53","v":0},{"$f":"'Dekor 2'!X53","v":0},{"$f":"IF(ISNUMBER('Dekor 2'!J53),'Dekor 2'!$AF$20,\"\")","v":""},{"$f":"IF(ISNUMBER('Dekor 2'!J53),'Dekor 2'!$AF$21,\"\")","v":""},{"$f":"IF(ISNUMBER('Dekor 2'!J53),'Dekor 2'!$AF$22,\"\")","v":""},{"$f":"IF(ISNUMBER('Dekor 2'!J53),'Dekor 2'!$AF$23,\"\")","v":""},{"$f":"IF(ISNUMBER('Dekor 2'!J53),'Dekor 2'!$AF$24,\"\")","v":""},{"$f":"'Dekor 2'!Y53","v":0}]
[{"$f":"'Dekor 2'!A54","v":""},{"$f":"'Dekor 2'!B54","v":{"$error":"#NAME?"}},{"$f":"IF(ISNUMBER('Dekor 2'!J54),('Dekor 2'!D54 & \".\" & 'Dekor 2'!U54 & \".\" & 'Dekor 2'!F54 & \".\" & 'Dekor 2'!V54 & \".\" & 'Dekor 2'!H54 & \".\" & 'Dekor 2'!I54),\"\")","v":""},{"$f":"'Dekor 2'!W54","v":0},{"$f":"'Dekor 2'!K54","v":0},{"$f":"'Dekor 2'!M54","v":0},{"$f":"'Dekor 2'!O54","v":0},{"$f":"'Dekor 2'!Q54","v":0},{"$f":"IF(ISNUMBER('Dekor 2'!J54),'Dekor 2'!E54 & \"x\" & 'Dekor 2'!G54,\"\")","v":""},{"$f":"'Dekor 2'!L54","v":0},{"$f":"'Dekor 2'!N54","v":0},{"$f":"'Dekor 2'!P54","v":0},{"$f":"'Dekor 2'!R54","v":0},{"$f":"'Dekor 2'!X54","v":0},{"$f":"IF(ISNUMBER('Dekor 2'!J54),'Dekor 2'!$AF$20,\"\")","v":""},{"$f":"IF(ISNUMBER('Dekor 2'!J54),'Dekor 2'!$AF$21,\"\")","v":""},{"$f":"IF(ISNUMBER('Dekor 2'!J54),'Dekor 2'!$AF$22,\"\")","v":""},{"$f":"IF(ISNUMBER('Dekor 2'!J54),'Dekor 2'!$AF$23,\"\")","v":""},{"$f":"IF(ISNUMBER('Dekor 2'!J54),'Dekor 2'!$AF$24,\"\")","v":""},{"$f":"'Dekor 2'!Y54","v":0}]
[{"$f":"'Dekor 2'!A55","v":""},{"$f":"'Dekor 2'!B55","v":{"$error":"#NAME?"}},{"$f":"IF(ISNUMBER('Dekor 2'!J55),('Dekor 2'!D55 & \".\" & 'Dekor 2'!U55 & \".\" & 'Dekor 2'!F55 & \".\" & 'Dekor 2'!V55 & \".\" & 'Dekor 2'!H55 & \".\" & 'Dekor 2'!I55),\"\")","v":""},{"$f":"'Dekor 2'!W55","v":0},{"$f":"'Dekor 2'!K55","v":0},{"$f":"'Dekor 2'!M55","v":0},{"$f":"'Dekor 2'!O55","v":0},{"$f":"'Dekor 2'!Q55","v":0},{"$f":"IF(ISNUMBER('Dekor 2'!J55),'Dekor 2'!E55 & \"x\" & 'Dekor 2'!G55,\"\")","v":""},{"$f":"'Dekor 2'!L55","v":0},{"$f":"'Dekor 2'!N55","v":0},{"$f":"'Dekor 2'!P55","v":0},{"$f":"'Dekor 2'!R55","v":0},{"$f":"'Dekor 2'!X55","v":0},{"$f":"IF(ISNUMBER('Dekor 2'!J55),'Dekor 2'!$AF$20,\"\")","v":""},{"$f":"IF(ISNUMBER('Dekor 2'!J55),'Dekor 2'!$AF$21,\"\")","v":""},{"$f":"IF(ISNUMBER('Dekor 2'!J55),'Dekor 2'!$AF$22,\"\")","v":""},{"$f":"IF(ISNUMBER('Dekor 2'!J55),'Dekor 2'!$AF$23,\"\")","v":""},{"$f":"IF(ISNUMBER('Dekor 2'!J55),'Dekor 2'!$AF$24,\"\")","v":""},{"$f":"'Dekor 2'!Y55","v":0}]
[{"$f":"'Dekor 2'!A56","v":""},{"$f":"'Dekor 2'!B56","v":{"$error":"#NAME?"}},{"$f":"IF(ISNUMBER('Dekor 2'!J56),('Dekor 2'!D56 & \".\" & 'Dekor 2'!U56 & \".\" & 'Dekor 2'!F56 & \".\" & 'Dekor 2'!V56 & \".\" & 'Dekor 2'!H56 & \".\" & 'Dekor 2'!I56),\"\")","v":""},{"$f":"'Dekor 2'!W56","v":0},{"$f":"'Dekor 2'!K56","v":0},{"$f":"'Dekor 2'!M56","v":0},{"$f":"'Dekor 2'!O56","v":0},{"$f":"'Dekor 2'!Q56","v":0},{"$f":"IF(ISNUMBER('Dekor 2'!J56),'Dekor 2'!E56 & \"x\" & 'Dekor 2'!G56,\"\")","v":""},{"$f":"'Dekor 2'!L56","v":0},{"$f":"'Dekor 2'!N56","v":0},{"$f":"'Dekor 2'!P56","v":0},{"$f":"'Dekor 2'!R56","v":0},{"$f":"'Dekor 2'!X56","v":0},{"$f":"IF(ISNUMBER('Dekor 2'!J56),'Dekor 2'!$AF$20,\"\")","v":""},{"$f":"IF(ISNUMBER('Dekor 2'!J56),'Dekor 2'!$AF$21,\"\")","v":""},{"$f":"IF(ISNUMBER('Dekor 2'!J56),'Dekor 2'!$AF$22,\"\")","v":""},{"$f":"IF(ISNUMBER('Dekor 2'!J56),'Dekor 2'!$AF$23,\"\")","v":""},{"$f":"IF(ISNUMBER('Dekor 2'!J56),'Dekor 2'!$AF$24,\"\")","v":""},{"$f":"'Dekor 2'!Y56","v":0}]
[{"$f":"'Dekor 2'!A57","v":""},{"$f":"'Dekor 2'!B57","v":{"$error":"#NAME?"}},{"$f":"IF(ISNUMBER('Dekor 2'!J57),('Dekor 2'!D57 & \".\" & 'Dekor 2'!U57 & \".\" & 'Dekor 2'!F57 & \".\" & 'Dekor 2'!V57 & \".\" & 'Dekor 2'!H57 & \".\" & 'Dekor 2'!I57),\"\")","v":""},{"$f":"'Dekor 2'!W57","v":0},{"$f":"'Dekor 2'!K57","v":0},{"$f":"'Dekor 2'!M57","v":0},{"$f":"'Dekor 2'!O57","v":0},{"$f":"'Dekor 2'!Q57","v":0},{"$f":"IF(ISNUMBER('Dekor 2'!J57),'Dekor 2'!E57 & \"x\" & 'Dekor 2'!G57,\"\")","v":""},{"$f":"'Dekor 2'!L57","v":0},{"$f":"'Dekor 2'!N57","v":0},{"$f":"'Dekor 2'!P57","v":0},{"$f":"'Dekor 2'!R57","v":0},{"$f":"'Dekor 2'!X57","v":0},{"$f":"IF(ISNUMBER('Dekor 2'!J57),'Dekor 2'!$AF$20,\"\")","v":""},{"$f":"IF(ISNUMBER('Dekor 2'!J57),'Dekor 2'!$AF$21,\"\")","v":""},{"$f":"IF(ISNUMBER('Dekor 2'!J57),'Dekor 2'!$AF$22,\"\")","v":""},{"$f":"IF(ISNUMBER('Dekor 2'!J57),'Dekor 2'!$AF$23,\"\")","v":""},{"$f":"IF(ISNUMBER('Dekor 2'!J57),'Dekor 2'!$AF$24,\"\")","v":""},{"$f":"'Dekor 2'!Y57","v":0}]
[{"$f":"'Dekor 2'!A58","v":""},{"$f":"'Dekor 2'!B58","v":{"$error":"#NAME?"}},{"$f":"IF(ISNUMBER('Dekor 2'!J58),('Dekor 2'!D58 & \".\" & 'Dekor 2'!U58 & \".\" & 'Dekor 2'!F58 & \".\" & 'Dekor 2'!V58 & \".\" & 'Dekor 2'!H58 & \".\" & 'Dekor 2'!I58),\"\")","v":""},{"$f":"'Dekor 2'!W58","v":0},{"$f":"'Dekor 2'!K58","v":0},{"$f":"'Dekor 2'!M58","v":0},{"$f":"'Dekor 2'!O58","v":0},{"$f":"'Dekor 2'!Q58","v":0},{"$f":"IF(ISNUMBER('Dekor 2'!J58),'Dekor 2'!E58 & \"x\" & 'Dekor 2'!G58,\"\")","v":""},{"$f":"'Dekor 2'!L58","v":0},{"$f":"'Dekor 2'!N58","v":0},{"$f":"'Dekor 2'!P58","v":0},{"$f":"'Dekor 2'!R58","v":0},{"$f":"'Dekor 2'!X58","v":0},{"$f":"IF(ISNUMBER('Dekor 2'!J58),'Dekor 2'!$AF$20,\"\")","v":""},{"$f":"IF(ISNUMBER('Dekor 2'!J58),'Dekor 2'!$AF$21,\"\")","v":""},{"$f":"IF(ISNUMBER('Dekor 2'!J58),'Dekor 2'!$AF$22,\"\")","v":""},{"$f":"IF(ISNUMBER('Dekor 2'!J58),'Dekor 2'!$AF$23,\"\")","v":""},{"$f":"IF(ISNUMBER('Dekor 2'!J58),'Dekor 2'!$AF$24,\"\")","v":""},{"$f":"'Dekor 2'!Y58","v":0}]
[{"$f":"'Dekor 2'!A59","v":""},{"$f":"'Dekor 2'!B59","v":{"$error":"#NAME?"}},{"$f":"IF(ISNUMBER('Dekor 2'!J59),('Dekor 2'!D59 & \".\" & 'Dekor 2'!U59 & \".\" & 'Dekor 2'!F59 & \".\" & 'Dekor 2'!V59 & \".\" & 'Dekor 2'!H59 & \".\" & 'Dekor 2'!I59),\"\")","v":""},{"$f":"'Dekor 2'!W59","v":0},{"$f":"'Dekor 2'!K59","v":0},{"$f":"'Dekor 2'!M59","v":0},{"$f":"'Dekor 2'!O59","v":0},{"$f":"'Dekor 2'!Q59","v":0},{"$f":"IF(ISNUMBER('Dekor 2'!J59),'Dekor 2'!E59 & \"x\" & 'Dekor 2'!G59,\"\")","v":""},{"$f":"'Dekor 2'!L59","v":0},{"$f":"'Dekor 2'!N59","v":0},{"$f":"'Dekor 2'!P59","v":0},{"$f":"'Dekor 2'!R59","v":0},{"$f":"'Dekor 2'!X59","v":0},{"$f":"IF(ISNUMBER('Dekor 2'!J59),'Dekor 2'!$AF$20,\"\")","v":""},{"$f":"IF(ISNUMBER('Dekor 2'!J59),'Dekor 2'!$AF$21,\"\")","v":""},{"$f":"IF(ISNUMBER('Dekor 2'!J59),'Dekor 2'!$AF$22,\"\")","v":""},{"$f":"IF(ISNUMBER('Dekor 2'!J59),'Dekor 2'!$AF$23,\"\")","v":""},{"$f":"IF(ISNUMBER('Dekor 2'!J59),'Dekor 2'!$AF$24,\"\")","v":""},{"$f":"'Dekor 2'!Y59","v":0}]
[{"$f":"'Dekor 2'!A60","v":""},{"$f":"'Dekor 2'!B60","v":{"$error":"#NAME?"}},{"$f":"IF(ISNUMBER('Dekor 2'!J60),('Dekor 2'!D60 & \".\" & 'Dekor 2'!U60 & \".\" & 'Dekor 2'!F60 & \".\" & 'Dekor 2'!V60 & \".\" & 'Dekor 2'!H60 & \".\" & 'Dekor 2'!I60),\"\")","v":""},{"$f":"'Dekor 2'!W60","v":0},{"$f":"'Dekor 2'!K60","v":0},{"$f":"'Dekor 2'!M60","v":0},{"$f":"'Dekor 2'!O60","v":0},{"$f":"'Dekor 2'!Q60","v":0},{"$f":"IF(ISNUMBER('Dekor 2'!J60),'Dekor 2'!E60 & \"x\" & 'Dekor 2'!G60,\"\")","v":""},{"$f":"'Dekor 2'!L60","v":0},{"$f":"'Dekor 2'!N60","v":0},{"$f":"'Dekor 2'!P60","v":0},{"$f":"'Dekor 2'!R60","v":0},{"$f":"'Dekor 2'!X60","v":0},{"$f":"IF(ISNUMBER('Dekor 2'!J60),'Dekor 2'!$AF$20,\"\")","v":""},{"$f":"IF(ISNUMBER('Dekor 2'!J60),'Dekor 2'!$AF$21,\"\")","v":""},{"$f":"IF(ISNUMBER('Dekor 2'!J60),'Dekor 2'!$AF$22,\"\")","v":""},{"$f":"IF(ISNUMBER('Dekor 2'!J60),'Dekor 2'!$AF$23,\"\")","v":""},{"$f":"IF(ISNUMBER('Dekor 2'!J60),'Dekor 2'!$AF$24,\"\")","v":""},{"$f":"'Dekor 2'!Y60","v":0}]
[{"$f":"'Dekor 2'!A61","v":""},{"$f":"'Dekor 2'!B61","v":{"$error":"#NAME?"}},{"$f":"IF(ISNUMBER('Dekor 2'!J61),('Dekor 2'!D61 & \".\" & 'Dekor 2'!U61 & \".\" & 'Dekor 2'!F61 & \".\" & 'Dekor 2'!V61 & \".\" & 'Dekor 2'!H61 & \".\" & 'Dekor 2'!I61),\"\")","v":""},{"$f":"'Dekor 2'!W61","v":0},{"$f":"'Dekor 2'!K61","v":0},{"$f":"'Dekor 2'!M61","v":0},{"$f":"'Dekor 2'!O61","v":0},{"$f":"'Dekor 2'!Q61","v":0},{"$f":"IF(ISNUMBER('Dekor 2'!J61),'Dekor 2'!E61 & \"x\" & 'Dekor 2'!G61,\"\")","v":""},{"$f":"'Dekor 2'!L61","v":0},{"$f":"'Dekor 2'!N61","v":0},{"$f":"'Dekor 2'!P61","v":0},{"$f":"'Dekor 2'!R61","v":0},{"$f":"'Dekor 2'!X61","v":0},{"$f":"IF(ISNUMBER('Dekor 2'!J61),'Dekor 2'!$AF$20,\"\")","v":""},{"$f":"IF(ISNUMBER('Dekor 2'!J61),'Dekor 2'!$AF$21,\"\")","v":""},{"$f":"IF(ISNUMBER('Dekor 2'!J61),'Dekor 2'!$AF$22,\"\")","v":""},{"$f":"IF(ISNUMBER('Dekor 2'!J61),'Dekor 2'!$AF$23,\"\")","v":""},{"$f":"IF(ISNUMBER('Dekor 2'!J61),'Dekor 2'!$AF$24,\"\")","v":""},{"$f":"'Dekor 2'!Y61","v":0}]
[{"$f":"'Dekor 2'!A62","v":""},{"$f":"'Dekor 2'!B62","v":{"$error":"#NAME?"}},{"$f":"IF(ISNUMBER('Dekor 2'!J62),('Dekor 2'!D62 & \".\" & 'Dekor 2'!U62 & \".\" & 'Dekor 2'!F62 & \".\" & 'Dekor 2'!V62 & \".\" & 'Dekor 2'!H62 & \".\" & 'Dekor 2'!I62),\"\")","v":""},{"$f":"'Dekor 2'!W62","v":0},{"$f":"'Dekor 2'!K62","v":0},{"$f":"'Dekor 2'!M62","v":0},{"$f":"'Dekor 2'!O62","v":0},{"$f":"'Dekor 2'!Q62","v":0},{"$f":"IF(ISNUMBER('Dekor 2'!J62),'Dekor 2'!E62 & \"x\" & 'Dekor 2'!G62,\"\")","v":""},{"$f":"'Dekor 2'!L62","v":0},{"$f":"'Dekor 2'!N62","v":0},{"$f":"'Dekor 2'!P62","v":0},{"$f":"'Dekor 2'!R62","v":0},{"$f":"'Dekor 2'!X62","v":0},{"$f":"IF(ISNUMBER('Dekor 2'!J62),'Dekor 2'!$AF$20,\"\")","v":""},{"$f":"IF(ISNUMBER('Dekor 2'!J62),'Dekor 2'!$AF$21,\"\")","v":""},{"$f":"IF(ISNUMBER('Dekor 2'!J62),'Dekor 2'!$AF$22,\"\")","v":""},{"$f":"IF(ISNUMBER('Dekor 2'!J62),'Dekor 2'!$AF$23,\"\")","v":""},{"$f":"IF(ISNUMBER('Dekor 2'!J62),'Dekor 2'!$AF$24,\"\")","v":""},{"$f":"'Dekor 2'!Y62","v":0}]
[{"$f":"'Dekor 2'!A63","v":""},{"$f":"'Dekor 2'!B63","v":{"$error":"#NAME?"}},{"$f":"IF(ISNUMBER('Dekor 2'!J63),('Dekor 2'!D63 & \".\" & 'Dekor 2'!U63 & \".\" & 'Dekor 2'!F63 & \".\" & 'Dekor 2'!V63 & \".\" & 'Dekor 2'!H63 & \".\" & 'Dekor 2'!I63),\"\")","v":""},{"$f":"'Dekor 2'!W63","v":0},{"$f":"'Dekor 2'!K63","v":0},{"$f":"'Dekor 2'!M63","v":0},{"$f":"'Dekor 2'!O63","v":0},{"$f":"'Dekor 2'!Q63","v":0},{"$f":"IF(ISNUMBER('Dekor 2'!J63),'Dekor 2'!E63 & \"x\" & 'Dekor 2'!G63,\"\")","v":""},{"$f":"'Dekor 2'!L63","v":0},{"$f":"'Dekor 2'!N63","v":0},{"$f":"'Dekor 2'!P63","v":0},{"$f":"'Dekor 2'!R63","v":0},{"$f":"'Dekor 2'!X63","v":0},{"$f":"IF(ISNUMBER('Dekor 2'!J63),'Dekor 2'!$AF$20,\"\")","v":""},{"$f":"IF(ISNUMBER('Dekor 2'!J63),'Dekor 2'!$AF$21,\"\")","v":""},{"$f":"IF(ISNUMBER('Dekor 2'!J63),'Dekor 2'!$AF$22,\"\")","v":""},{"$f":"IF(ISNUMBER('Dekor 2'!J63),'Dekor 2'!$AF$23,\"\")","v":""},{"$f":"IF(ISNUMBER('Dekor 2'!J63),'Dekor 2'!$AF$24,\"\")","v":""},{"$f":"'Dekor 2'!Y63","v":0}]
[{"$f":"'Dekor 2'!A64","v":""},{"$f":"'Dekor 2'!B64","v":{"$error":"#NAME?"}},{"$f":"IF(ISNUMBER('Dekor 2'!J64),('Dekor 2'!D64 & \".\" & 'Dekor 2'!U64 & \".\" & 'Dekor 2'!F64 & \".\" & 'Dekor 2'!V64 & \".\" & 'Dekor 2'!H64 & \".\" & 'Dekor 2'!I64),\"\")","v":""},{"$f":"'Dekor 2'!W64","v":0},{"$f":"'Dekor 2'!K64","v":0},{"$f":"'Dekor 2'!M64","v":0},{"$f":"'Dekor 2'!O64","v":0},{"$f":"'Dekor 2'!Q64","v":0},{"$f":"IF(ISNUMBER('Dekor 2'!J64),'Dekor 2'!E64 & \"x\" & 'Dekor 2'!G64,\"\")","v":""},{"$f":"'Dekor 2'!L64","v":0},{"$f":"'Dekor 2'!N64","v":0},{"$f":"'Dekor 2'!P64","v":0},{"$f":"'Dekor 2'!R64","v":0},{"$f":"'Dekor 2'!X64","v":0},{"$f":"IF(ISNUMBER('Dekor 2'!J64),'Dekor 2'!$AF$20,\"\")","v":""},{"$f":"IF(ISNUMBER('Dekor 2'!J64),'Dekor 2'!$AF$21,\"\")","v":""},{"$f":"IF(ISNUMBER('Dekor 2'!J64),'Dekor 2'!$AF$22,\"\")","v":""},{"$f":"IF(ISNUMBER('Dekor 2'!J64),'Dekor 2'!$AF$23,\"\")","v":""},{"$f":"IF(ISNUMBER('Dekor 2'!J64),'Dekor 2'!$AF$24,\"\")","v":""},{"$f":"'Dekor 2'!Y64","v":0}]
[{"$f":"'Dekor 2'!A65","v":""},{"$f":"'Dekor 2'!B65","v":{"$error":"#NAME?"}},{"$f":"IF(ISNUMBER('Dekor 2'!J65),('Dekor 2'!D65 & \".\" & 'Dekor 2'!U65 & \".\" & 'Dekor 2'!F65 & \".\" & 'Dekor 2'!V65 & \".\" & 'Dekor 2'!H65 & \".\" & 'Dekor 2'!I65),\"\")","v":""},{"$f":"'Dekor 2'!W65","v":0},{"$f":"'Dekor 2'!K65","v":0},{"$f":"'Dekor 2'!M65","v":0},{"$f":"'Dekor 2'!O65","v":0},{"$f":"'Dekor 2'!Q65","v":0},{"$f":"IF(ISNUMBER('Dekor 2'!J65),'Dekor 2'!E65 & \"x\" & 'Dekor 2'!G65,\"\")","v":""},{"$f":"'Dekor 2'!L65","v":0},{"$f":"'Dekor 2'!N65","v":0},{"$f":"'Dekor 2'!P65","v":0},{"$f":"'Dekor 2'!R65","v":0},{"$f":"'Dekor 2'!X65","v":0},{"$f":"IF(ISNUMBER('Dekor 2'!J65),'Dekor 2'!$AF$20,\"\")","v":""},{"$f":"IF(ISNUMBER('Dekor 2'!J65),'Dekor 2'!$AF$21,\"\")","v":""},{"$f":"IF(ISNUMBER('Dekor 2'!J65),'Dekor 2'!$AF$22,\"\")","v":""},{"$f":"IF(ISNUMBER('Dekor 2'!J65),'Dekor 2'!$AF$23,\"\")","v":""},{"$f":"IF(ISNUMBER('Dekor 2'!J65),'Dekor 2'!$AF$24,\"\")","v":""},{"$f":"'Dekor 2'!Y65","v":0}]
[{"$f":"'Dekor 2'!A66","v":""},{"$f":"'Dekor 2'!B66","v":{"$error":"#NAME?"}},{"$f":"IF(ISNUMBER('Dekor 2'!J66),('Dekor 2'!D66 & \".\" & 'Dekor 2'!U66 & \".\" & 'Dekor 2'!F66 & \".\" & 'Dekor 2'!V66 & \".\" & 'Dekor 2'!H66 & \".\" & 'Dekor 2'!I66),\"\")","v":""},{"$f":"'Dekor 2'!W66","v":0},{"$f":"'Dekor 2'!K66","v":0},{"$f":"'Dekor 2'!M66","v":0},{"$f":"'Dekor 2'!O66","v":0},{"$f":"'Dekor 2'!Q66","v":0},{"$f":"IF(ISNUMBER('Dekor 2'!J66),'Dekor 2'!E66 & \"x\" & 'Dekor 2'!G66,\"\")","v":""},{"$f":"'Dekor 2'!L66","v":0},{"$f":"'Dekor 2'!N66","v":0},{"$f":"'Dekor 2'!P66","v":0},{"$f":"'Dekor 2'!R66","v":0},{"$f":"'Dekor 2'!X66","v":0},{"$f":"IF(ISNUMBER('Dekor 2'!J66),'Dekor 2'!$AF$20,\"\")","v":""},{"$f":"IF(ISNUMBER('Dekor 2'!J66),'Dekor 2'!$AF$21,\"\")","v":""},{"$f":"IF(ISNUMBER('Dekor 2'!J66),'Dekor 2'!$AF$22,\"\")","v":""},{"$f":"IF(ISNUMBER('Dekor 2'!J66),'Dekor 2'!$AF$23,\"\")","v":""},{"$f":"IF(ISNUMBER('Dekor 2'!J66),'Dekor 2'!$AF$24,\"\")","v":""},{"$f":"'Dekor 2'!Y66","v":0}]
[{"$f":"'Dekor 2'!A67","v":""},{"$f":"'Dekor 2'!B67","v":{"$error":"#NAME?"}},{"$f":"IF(ISNUMBER('Dekor 2'!J67),('Dekor 2'!D67 & \".\" & 'Dekor 2'!U67 & \".\" & 'Dekor 2'!F67 & \".\" & 'Dekor 2'!V67 & \".\" & 'Dekor 2'!H67 & \".\" & 'Dekor 2'!I67),\"\")","v":""},{"$f":"'Dekor 2'!W67","v":0},{"$f":"'Dekor 2'!K67","v":0},{"$f":"'Dekor 2'!M67","v":0},{"$f":"'Dekor 2'!O67","v":0},{"$f":"'Dekor 2'!Q67","v":0},{"$f":"IF(ISNUMBER('Dekor 2'!J67),'Dekor 2'!E67 & \"x\" & 'Dekor 2'!G67,\"\")","v":""},{"$f":"'Dekor 2'!L67","v":0},{"$f":"'Dekor 2'!N67","v":0},{"$f":"'Dekor 2'!P67","v":0},{"$f":"'Dekor 2'!R67","v":0},{"$f":"'Dekor 2'!X67","v":0},{"$f":"IF(ISNUMBER('Dekor 2'!J67),'Dekor 2'!$AF$20,\"\")","v":""},{"$f":"IF(ISNUMBER('Dekor 2'!J67),'Dekor 2'!$AF$21,\"\")","v":""},{"$f":"IF(ISNUMBER('Dekor 2'!J67),'Dekor 2'!$AF$22,\"\")","v":""},{"$f":"IF(ISNUMBER('Dekor 2'!J67),'Dekor 2'!$AF$23,\"\")","v":""},{"$f":"IF(ISNUMBER('Dekor 2'!J67),'Dekor 2'!$AF$24,\"\")","v":""},{"$f":"'Dekor 2'!Y67","v":0}]
[{"$f":"'Dekor 2'!A68","v":""},{"$f":"'Dekor 2'!B68","v":{"$error":"#NAME?"}},{"$f":"IF(ISNUMBER('Dekor 2'!J68),('Dekor 2'!D68 & \".\" & 'Dekor 2'!U68 & \".\" & 'Dekor 2'!F68 & \".\" & 'Dekor 2'!V68 & \".\" & 'Dekor 2'!H68 & \".\" & 'Dekor 2'!I68),\"\")","v":""},{"$f":"'Dekor 2'!W68","v":0},{"$f":"'Dekor 2'!K68","v":0},{"$f":"'Dekor 2'!M68","v":0},{"$f":"'Dekor 2'!O68","v":0},{"$f":"'Dekor 2'!Q68","v":0},{"$f":"IF(ISNUMBER('Dekor 2'!J68),'Dekor 2'!E68 & \"x\" & 'Dekor 2'!G68,\"\")","v":""},{"$f":"'Dekor 2'!L68","v":0},{"$f":"'Dekor 2'!N68","v":0},{"$f":"'Dekor 2'!P68","v":0},{"$f":"'Dekor 2'!R68","v":0},{"$f":"'Dekor 2'!X68","v":0},{"$f":"IF(ISNUMBER('Dekor 2'!J68),'Dekor 2'!$AF$20,\"\")","v":""},{"$f":"IF(ISNUMBER('Dekor 2'!J68),'Dekor 2'!$AF$21,\"\")","v":""},{"$f":"IF(ISNUMBER('Dekor 2'!J68),'Dekor 2'!$AF$22,\"\")","v":""},{"$f":"IF(ISNUMBER('Dekor 2'!J68),'Dekor 2'!$AF$23,\"\")","v":""},{"$f":"IF(ISNUMBER('Dekor 2'!J68),'Dekor 2'!$AF$24,\"\")","v":""},{"$f":"'Dekor 2'!Y68","v":0}]
[{"$f":"'Dekor 2'!A69","v":""},{"$f":"'Dekor 2'!B69","v":{"$error":"#NAME?"}},{"$f":"IF(ISNUMBER('Dekor 2'!J69),('Dekor 2'!D69 & \".\" & 'Dekor 2'!U69 & \".\" & 'Dekor 2'!F69 & \".\" & 'Dekor 2'!V69 & \".\" & 'Dekor 2'!H69 & \".\" & 'Dekor 2'!I69),\"\")","v":""},{"$f":"'Dekor 2'!W69","v":0},{"$f":"'Dekor 2'!K69","v":0},{"$f":"'Dekor 2'!M69","v":0},{"$f":"'Dekor 2'!O69","v":0},{"$f":"'Dekor 2'!Q69","v":0},{"$f":"IF(ISNUMBER('Dekor 2'!J69),'Dekor 2'!E69 & \"x\" & 'Dekor 2'!G69,\"\")","v":""},{"$f":"'Dekor 2'!L69","v":0},{"$f":"'Dekor 2'!N69","v":0},{"$f":"'Dekor 2'!P69","v":0},{"$f":"'Dekor 2'!R69","v":0},{"$f":"'Dekor 2'!X69","v":0},{"$f":"IF(ISNUMBER('Dekor 2'!J69),'Dekor 2'!$AF$20,\"\")","v":""},{"$f":"IF(ISNUMBER('Dekor 2'!J69),'Dekor 2'!$AF$21,\"\")","v":""},{"$f":"IF(ISNUMBER('Dekor 2'!J69),'Dekor 2'!$AF$22,\"\")","v":""},{"$f":"IF(ISNUMBER('Dekor 2'!J69),'Dekor 2'!$AF$23,\"\")","v":""},{"$f":"IF(ISNUMBER('Dekor 2'!J69),'Dekor 2'!$AF$24,\"\")","v":""},{"$f":"'Dekor 2'!Y69","v":0}]
[{"$f":"'Dekor 2'!A70","v":""},{"$f":"'Dekor 2'!B70","v":{"$error":"#NAME?"}},{"$f":"IF(ISNUMBER('Dekor 2'!J70),('Dekor 2'!D70 & \".\" & 'Dekor 2'!U70 & \".\" & 'Dekor 2'!F70 & \".\" & 'Dekor 2'!V70 & \".\" & 'Dekor 2'!H70 & \".\" & 'Dekor 2'!I70),\"\")","v":""},{"$f":"'Dekor 2'!W70","v":0},{"$f":"'Dekor 2'!K70","v":0},{"$f":"'Dekor 2'!M70","v":0},{"$f":"'Dekor 2'!O70","v":0},{"$f":"'Dekor 2'!Q70","v":0},{"$f":"IF(ISNUMBER('Dekor 2'!J70),'Dekor 2'!E70 & \"x\" & 'Dekor 2'!G70,\"\")","v":""},{"$f":"'Dekor 2'!L70","v":0},{"$f":"'Dekor 2'!N70","v":0},{"$f":"'Dekor 2'!P70","v":0},{"$f":"'Dekor 2'!R70","v":0},{"$f":"'Dekor 2'!X70","v":0},{"$f":"IF(ISNUMBER('Dekor 2'!J70),'Dekor 2'!$AF$20,\"\")","v":""},{"$f":"IF(ISNUMBER('Dekor 2'!J70),'Dekor 2'!$AF$21,\"\")","v":""},{"$f":"IF(ISNUMBER('Dekor 2'!J70),'Dekor 2'!$AF$22,\"\")","v":""},{"$f":"IF(ISNUMBER('Dekor 2'!J70),'Dekor 2'!$AF$23,\"\")","v":""},{"$f":"IF(ISNUMBER('Dekor 2'!J70),'Dekor 2'!$AF$24,\"\")","v":""},{"$f":"'Dekor 2'!Y70","v":0}]
[{"$f":"'Dekor 2'!A71","v":""},{"$f":"'Dekor 2'!B71","v":{"$error":"#NAME?"}},{"$f":"IF(ISNUMBER('Dekor 2'!J71),('Dekor 2'!D71 & \".\" & 'Dekor 2'!U71 & \".\" & 'Dekor 2'!F71 & \".\" & 'Dekor 2'!V71 & \".\" & 'Dekor 2'!H71 & \".\" & 'Dekor 2'!I71),\"\")","v":""},{"$f":"'Dekor 2'!W71","v":0},{"$f":"'Dekor 2'!K71","v":0},{"$f":"'Dekor 2'!M71","v":0},{"$f":"'Dekor 2'!O71","v":0},{"$f":"'Dekor 2'!Q71","v":0},{"$f":"IF(ISNUMBER('Dekor 2'!J71),'Dekor 2'!E71 & \"x\" & 'Dekor 2'!G71,\"\")","v":""},{"$f":"'Dekor 2'!L71","v":0},{"$f":"'Dekor 2'!N71","v":0},{"$f":"'Dekor 2'!P71","v":0},{"$f":"'Dekor 2'!R71","v":0},{"$f":"'Dekor 2'!X71","v":0},{"$f":"IF(ISNUMBER('Dekor 2'!J71),'Dekor 2'!$AF$20,\"\")","v":""},{"$f":"IF(ISNUMBER('Dekor 2'!J71),'Dekor 2'!$AF$21,\"\")","v":""},{"$f":"IF(ISNUMBER('Dekor 2'!J71),'Dekor 2'!$AF$22,\"\")","v":""},{"$f":"IF(ISNUMBER('Dekor 2'!J71),'Dekor 2'!$AF$23,\"\")","v":""},{"$f":"IF(ISNUMBER('Dekor 2'!J71),'Dekor 2'!$AF$24,\"\")","v":""},{"$f":"'Dekor 2'!Y71","v":0}]
[{"$f":"'Dekor 2'!A72","v":""},{"$f":"'Dekor 2'!B72","v":{"$error":"#NAME?"}},{"$f":"IF(ISNUMBER('Dekor 2'!J72),('Dekor 2'!D72 & \".\" & 'Dekor 2'!U72 & \".\" & 'Dekor 2'!F72 & \".\" & 'Dekor 2'!V72 & \".\" & 'Dekor 2'!H72 & \".\" & 'Dekor 2'!I72),\"\")","v":""},{"$f":"'Dekor 2'!W72","v":0},{"$f":"'Dekor 2'!K72","v":0},{"$f":"'Dekor 2'!M72","v":0},{"$f":"'Dekor 2'!O72","v":0},{"$f":"'Dekor 2'!Q72","v":0},{"$f":"IF(ISNUMBER('Dekor 2'!J72),'Dekor 2'!E72 & \"x\" & 'Dekor 2'!G72,\"\")","v":""},{"$f":"'Dekor 2'!L72","v":0},{"$f":"'Dekor 2'!N72","v":0},{"$f":"'Dekor 2'!P72","v":0},{"$f":"'Dekor 2'!R72","v":0},{"$f":"'Dekor 2'!X72","v":0},{"$f":"IF(ISNUMBER('Dekor 2'!J72),'Dekor 2'!$AF$20,\"\")","v":""},{"$f":"IF(ISNUMBER('Dekor 2'!J72),'Dekor 2'!$AF$21,\"\")","v":""},{"$f":"IF(ISNUMBER('Dekor 2'!J72),'Dekor 2'!$AF$22,\"\")","v":""},{"$f":"IF(ISNUMBER('Dekor 2'!J72),'Dekor 2'!$AF$23,\"\")","v":""},{"$f":"IF(ISNUMBER('Dekor 2'!J72),'Dekor 2'!$AF$24,\"\")","v":""},{"$f":"'Dekor 2'!Y72","v":0}]
[{"$f":"'Dekor 2'!A73","v":""},{"$f":"'Dekor 2'!B73","v":{"$error":"#NAME?"}},{"$f":"IF(ISNUMBER('Dekor 2'!J73),('Dekor 2'!D73 & \".\" & 'Dekor 2'!U73 & \".\" & 'Dekor 2'!F73 & \".\" & 'Dekor 2'!V73 & \".\" & 'Dekor 2'!H73 & \".\" & 'Dekor 2'!I73),\"\")","v":""},{"$f":"'Dekor 2'!W73","v":0},{"$f":"'Dekor 2'!K73","v":0},{"$f":"'Dekor 2'!M73","v":0},{"$f":"'Dekor 2'!O73","v":0},{"$f":"'Dekor 2'!Q73","v":0},{"$f":"IF(ISNUMBER('Dekor 2'!J73),'Dekor 2'!E73 & \"x\" & 'Dekor 2'!G73,\"\")","v":""},{"$f":"'Dekor 2'!L73","v":0},{"$f":"'Dekor 2'!N73","v":0},{"$f":"'Dekor 2'!P73","v":0},{"$f":"'Dekor 2'!R73","v":0},{"$f":"'Dekor 2'!X73","v":0},{"$f":"IF(ISNUMBER('Dekor 2'!J73),'Dekor 2'!$AF$20,\"\")","v":""},{"$f":"IF(ISNUMBER('Dekor 2'!J73),'Dekor 2'!$AF$21,\"\")","v":""},{"$f":"IF(ISNUMBER('Dekor 2'!J73),'Dekor 2'!$AF$22,\"\")","v":""},{"$f":"IF(ISNUMBER('Dekor 2'!J73),'Dekor 2'!$AF$23,\"\")","v":""},{"$f":"IF(ISNUMBER('Dekor 2'!J73),'Dekor 2'!$AF$24,\"\")","v":""},{"$f":"'Dekor 2'!Y73","v":0}]
[{"$f":"'Dekor 2'!A74","v":""},{"$f":"'Dekor 2'!B74","v":{"$error":"#NAME?"}},{"$f":"IF(ISNUMBER('Dekor 2'!J74),('Dekor 2'!D74 & \".\" & 'Dekor 2'!U74 & \".\" & 'Dekor 2'!F74 & \".\" & 'Dekor 2'!V74 & \".\" & 'Dekor 2'!H74 & \".\" & 'Dekor 2'!I74),\"\")","v":""},{"$f":"'Dekor 2'!W74","v":0},{"$f":"'Dekor 2'!K74","v":0},{"$f":"'Dekor 2'!M74","v":0},{"$f":"'Dekor 2'!O74","v":0},{"$f":"'Dekor 2'!Q74","v":0},{"$f":"IF(ISNUMBER('Dekor 2'!J74),'Dekor 2'!E74 & \"x\" & 'Dekor 2'!G74,\"\")","v":""},{"$f":"'Dekor 2'!L74","v":0},{"$f":"'Dekor 2'!N74","v":0},{"$f":"'Dekor 2'!P74","v":0},{"$f":"'Dekor 2'!R74","v":0},{"$f":"'Dekor 2'!X74","v":0},{"$f":"IF(ISNUMBER('Dekor 2'!J74),'Dekor 2'!$AF$20,\"\")","v":""},{"$f":"IF(ISNUMBER('Dekor 2'!J74),'Dekor 2'!$AF$21,\"\")","v":""},{"$f":"IF(ISNUMBER('Dekor 2'!J74),'Dekor 2'!$AF$22,\"\")","v":""},{"$f":"IF(ISNUMBER('Dekor 2'!J74),'Dekor 2'!$AF$23,\"\")","v":""},{"$f":"IF(ISNUMBER('Dekor 2'!J74),'Dekor 2'!$AF$24,\"\")","v":""},{"$f":"'Dekor 2'!Y74","v":0}]
[{"$f":"'Dekor 2'!A75","v":""},{"$f":"'Dekor 2'!B75","v":{"$error":"#NAME?"}},{"$f":"IF(ISNUMBER('Dekor 2'!J75),('Dekor 2'!D75 & \".\" & 'Dekor 2'!U75 & \".\" & 'Dekor 2'!F75 & \".\" & 'Dekor 2'!V75 & \".\" & 'Dekor 2'!H75 & \".\" & 'Dekor 2'!I75),\"\")","v":""},{"$f":"'Dekor 2'!W75","v":0},{"$f":"'Dekor 2'!K75","v":0},{"$f":"'Dekor 2'!M75","v":0},{"$f":"'Dekor 2'!O75","v":0},{"$f":"'Dekor 2'!Q75","v":0},{"$f":"IF(ISNUMBER('Dekor 2'!J75),'Dekor 2'!E75 & \"x\" & 'Dekor 2'!G75,\"\")","v":""},{"$f":"'Dekor 2'!L75","v":0},{"$f":"'Dekor 2'!N75","v":0},{"$f":"'Dekor 2'!P75","v":0},{"$f":"'Dekor 2'!R75","v":0},{"$f":"'Dekor 2'!X75","v":0},{"$f":"IF(ISNUMBER('Dekor 2'!J75),'Dekor 2'!$AF$20,\"\")","v":""},{"$f":"IF(ISNUMBER('Dekor 2'!J75),'Dekor 2'!$AF$21,\"\")","v":""},{"$f":"IF(ISNUMBER('Dekor 2'!J75),'Dekor 2'!$AF$22,\"\")","v":""},{"$f":"IF(ISNUMBER('Dekor 2'!J75),'Dekor 2'!$AF$23,\"\")","v":""},{"$f":"IF(ISNUMBER('Dekor 2'!J75),'Dekor 2'!$AF$24,\"\")","v":""},{"$f":"'Dekor 2'!Y75","v":0}]
[{"$f":"'Dekor 2'!A76","v":""},{"$f":"'Dekor 2'!B76","v":{"$error":"#NAME?"}},{"$f":"IF(ISNUMBER('Dekor 2'!J76),('Dekor 2'!D76 & \".\" & 'Dekor 2'!U76 & \".\" & 'Dekor 2'!F76 & \".\" & 'Dekor 2'!V76 & \".\" & 'Dekor 2'!H76 & \".\" & 'Dekor 2'!I76),\"\")","v":""},{"$f":"'Dekor 2'!W76","v":0},{"$f":"'Dekor 2'!K76","v":0},{"$f":"'Dekor 2'!M76","v":0},{"$f":"'Dekor 2'!O76","v":0},{"$f":"'Dekor 2'!Q76","v":0},{"$f":"IF(ISNUMBER('Dekor 2'!J76),'Dekor 2'!E76 & \"x\" & 'Dekor 2'!G76,\"\")","v":""},{"$f":"'Dekor 2'!L76","v":0},{"$f":"'Dekor 2'!N76","v":0},{"$f":"'Dekor 2'!P76","v":0},{"$f":"'Dekor 2'!R76","v":0},{"$f":"'Dekor 2'!X76","v":0},{"$f":"IF(ISNUMBER('Dekor 2'!J76),'Dekor 2'!$AF$20,\"\")","v":""},{"$f":"IF(ISNUMBER('Dekor 2'!J76),'Dekor 2'!$AF$21,\"\")","v":""},{"$f":"IF(ISNUMBER('Dekor 2'!J76),'Dekor 2'!$AF$22,\"\")","v":""},{"$f":"IF(ISNUMBER('Dekor 2'!J76),'Dekor 2'!$AF$23,\"\")","v":""},{"$f":"IF(ISNUMBER('Dekor 2'!J76),'Dekor 2'!$AF$24,\"\")","v":""},{"$f":"'Dekor 2'!Y76","v":0}]
[{"$f":"'Dekor 2'!A77","v":""},{"$f":"'Dekor 2'!B77","v":{"$error":"#NAME?"}},{"$f":"IF(ISNUMBER('Dekor 2'!J77),('Dekor 2'!D77 & \".\" & 'Dekor 2'!U77 & \".\" & 'Dekor 2'!F77 & \".\" & 'Dekor 2'!V77 & \".\" & 'Dekor 2'!H77 & \".\" & 'Dekor 2'!I77),\"\")","v":""},{"$f":"'Dekor 2'!W77","v":0},{"$f":"'Dekor 2'!K77","v":0},{"$f":"'Dekor 2'!M77","v":0},{"$f":"'Dekor 2'!O77","v":0},{"$f":"'Dekor 2'!Q77","v":0},{"$f":"IF(ISNUMBER('Dekor 2'!J77),'Dekor 2'!E77 & \"x\" & 'Dekor 2'!G77,\"\")","v":""},{"$f":"'Dekor 2'!L77","v":0},{"$f":"'Dekor 2'!N77","v":0},{"$f":"'Dekor 2'!P77","v":0},{"$f":"'Dekor 2'!R77","v":0},{"$f":"'Dekor 2'!X77","v":0},{"$f":"IF(ISNUMBER('Dekor 2'!J77),'Dekor 2'!$AF$20,\"\")","v":""},{"$f":"IF(ISNUMBER('Dekor 2'!J77),'Dekor 2'!$AF$21,\"\")","v":""},{"$f":"IF(ISNUMBER('Dekor 2'!J77),'Dekor 2'!$AF$22,\"\")","v":""},{"$f":"IF(ISNUMBER('Dekor 2'!J77),'Dekor 2'!$AF$23,\"\")","v":""},{"$f":"IF(ISNUMBER('Dekor 2'!J77),'Dekor 2'!$AF$24,\"\")","v":""},{"$f":"'Dekor 2'!Y77","v":0}]
[{"$f":"'Dekor 2'!A78","v":""},{"$f":"'Dekor 2'!B78","v":{"$error":"#NAME?"}},{"$f":"IF(ISNUMBER('Dekor 2'!J78),('Dekor 2'!D78 & \".\" & 'Dekor 2'!U78 & \".\" & 'Dekor 2'!F78 & \".\" & 'Dekor 2'!V78 & \".\" & 'Dekor 2'!H78 & \".\" & 'Dekor 2'!I78),\"\")","v":""},{"$f":"'Dekor 2'!W78","v":0},{"$f":"'Dekor 2'!K78","v":0},{"$f":"'Dekor 2'!M78","v":0},{"$f":"'Dekor 2'!O78","v":0},{"$f":"'Dekor 2'!Q78","v":0},{"$f":"IF(ISNUMBER('Dekor 2'!J78),'Dekor 2'!E78 & \"x\" & 'Dekor 2'!G78,\"\")","v":""},{"$f":"'Dekor 2'!L78","v":0},{"$f":"'Dekor 2'!N78","v":0},{"$f":"'Dekor 2'!P78","v":0},{"$f":"'Dekor 2'!R78","v":0},{"$f":"'Dekor 2'!X78","v":0},{"$f":"IF(ISNUMBER('Dekor 2'!J78),'Dekor 2'!$AF$20,\"\")","v":""},{"$f":"IF(ISNUMBER('Dekor 2'!J78),'Dekor 2'!$AF$21,\"\")","v":""},{"$f":"IF(ISNUMBER('Dekor 2'!J78),'Dekor 2'!$AF$22,\"\")","v":""},{"$f":"IF(ISNUMBER('Dekor 2'!J78),'Dekor 2'!$AF$23,\"\")","v":""},{"$f":"IF(ISNUMBER('Dekor 2'!J78),'Dekor 2'!$AF$24,\"\")","v":""},{"$f":"'Dekor 2'!Y78","v":0}]
[{"$f":"'Dekor 2'!A79","v":""},{"$f":"'Dekor 2'!B79","v":{"$error":"#NAME?"}},{"$f":"IF(ISNUMBER('Dekor 2'!J79),('Dekor 2'!D79 & \".\" & 'Dekor 2'!U79 & \".\" & 'Dekor 2'!F79 & \".\" & 'Dekor 2'!V79 & \".\" & 'Dekor 2'!H79 & \".\" & 'Dekor 2'!I79),\"\")","v":""},{"$f":"'Dekor 2'!W79","v":0},{"$f":"'Dekor 2'!K79","v":0},{"$f":"'Dekor 2'!M79","v":0},{"$f":"'Dekor 2'!O79","v":0},{"$f":"'Dekor 2'!Q79","v":0},{"$f":"IF(ISNUMBER('Dekor 2'!J79),'Dekor 2'!E79 & \"x\" & 'Dekor 2'!G79,\"\")","v":""},{"$f":"'Dekor 2'!L79","v":0},{"$f":"'Dekor 2'!N79","v":0},{"$f":"'Dekor 2'!P79","v":0},{"$f":"'Dekor 2'!R79","v":0},{"$f":"'Dekor 2'!X79","v":0},{"$f":"IF(ISNUMBER('Dekor 2'!J79),'Dekor 2'!$AF$20,\"\")","v":""},{"$f":"IF(ISNUMBER('Dekor 2'!J79),'Dekor 2'!$AF$21,\"\")","v":""},{"$f":"IF(ISNUMBER('Dekor 2'!J79),'Dekor 2'!$AF$22,\"\")","v":""},{"$f":"IF(ISNUMBER('Dekor 2'!J79),'Dekor 2'!$AF$23,\"\")","v":""},{"$f":"IF(ISNUMBER('Dekor 2'!J79),'Dekor 2'!$AF$24,\"\")","v":""},{"$f":"'Dekor 2'!Y79","v":0}]
[{"$f":"'Dekor 2'!A80","v":""},{"$f":"'Dekor 2'!B80","v":{"$error":"#NAME?"}},{"$f":"IF(ISNUMBER('Dekor 2'!J80),('Dekor 2'!D80 & \".\" & 'Dekor 2'!U80 & \".\" & 'Dekor 2'!F80 & \".\" & 'Dekor 2'!V80 & \".\" & 'Dekor 2'!H80 & \".\" & 'Dekor 2'!I80),\"\")","v":""},{"$f":"'Dekor 2'!W80","v":0},{"$f":"'Dekor 2'!K80","v":0},{"$f":"'Dekor 2'!M80","v":0},{"$f":"'Dekor 2'!O80","v":0},{"$f":"'Dekor 2'!Q80","v":0},{"$f":"IF(ISNUMBER('Dekor 2'!J80),'Dekor 2'!E80 & \"x\" & 'Dekor 2'!G80,\"\")","v":""},{"$f":"'Dekor 2'!L80","v":0},{"$f":"'Dekor 2'!N80","v":0},{"$f":"'Dekor 2'!P80","v":0},{"$f":"'Dekor 2'!R80","v":0},{"$f":"'Dekor 2'!X80","v":0},{"$f":"IF(ISNUMBER('Dekor 2'!J80),'Dekor 2'!$AF$20,\"\")","v":""},{"$f":"IF(ISNUMBER('Dekor 2'!J80),'Dekor 2'!$AF$21,\"\")","v":""},{"$f":"IF(ISNUMBER('Dekor 2'!J80),'Dekor 2'!$AF$22,\"\")","v":""},{"$f":"IF(ISNUMBER('Dekor 2'!J80),'Dekor 2'!$AF$23,\"\")","v":""},{"$f":"IF(ISNUMBER('Dekor 2'!J80),'Dekor 2'!$AF$24,\"\")","v":""},{"$f":"'Dekor 2'!Y80","v":0}]
[{"$f":"'Dekor 2'!A81","v":""},{"$f":"'Dekor 2'!B81","v":{"$error":"#NAME?"}},{"$f":"IF(ISNUMBER('Dekor 2'!J81),('Dekor 2'!D81 & \".\" & 'Dekor 2'!U81 & \".\" & 'Dekor 2'!F81 & \".\" & 'Dekor 2'!V81 & \".\" & 'Dekor 2'!H81 & \".\" & 'Dekor 2'!I81),\"\")","v":""},{"$f":"'Dekor 2'!W81","v":0},{"$f":"'Dekor 2'!K81","v":0},{"$f":"'Dekor 2'!M81","v":0},{"$f":"'Dekor 2'!O81","v":0},{"$f":"'Dekor 2'!Q81","v":0},{"$f":"IF(ISNUMBER('Dekor 2'!J81),'Dekor 2'!E81 & \"x\" & 'Dekor 2'!G81,\"\")","v":""},{"$f":"'Dekor 2'!L81","v":0},{"$f":"'Dekor 2'!N81","v":0},{"$f":"'Dekor 2'!P81","v":0},{"$f":"'Dekor 2'!R81","v":0},{"$f":"'Dekor 2'!X81","v":0},{"$f":"IF(ISNUMBER('Dekor 2'!J81),'Dekor 2'!$AF$20,\"\")","v":""},{"$f":"IF(ISNUMBER('Dekor 2'!J81),'Dekor 2'!$AF$21,\"\")","v":""},{"$f":"IF(ISNUMBER('Dekor 2'!J81),'Dekor 2'!$AF$22,\"\")","v":""},{"$f":"IF(ISNUMBER('Dekor 2'!J81),'Dekor 2'!$AF$23,\"\")","v":""},{"$f":"IF(ISNUMBER('Dekor 2'!J81),'Dekor 2'!$AF$24,\"\")","v":""},{"$f":"'Dekor 2'!Y81","v":0}]
[{"$f":"'Dekor 2'!A82","v":""},{"$f":"'Dekor 2'!B82","v":{"$error":"#NAME?"}},{"$f":"IF(ISNUMBER('Dekor 2'!J82),('Dekor 2'!D82 & \".\" & 'Dekor 2'!U82 & \".\" & 'Dekor 2'!F82 & \".\" & 'Dekor 2'!V82 & \".\" & 'Dekor 2'!H82 & \".\" & 'Dekor 2'!I82),\"\")","v":""},{"$f":"'Dekor 2'!W82","v":0},{"$f":"'Dekor 2'!K82","v":0},{"$f":"'Dekor 2'!M82","v":0},{"$f":"'Dekor 2'!O82","v":0},{"$f":"'Dekor 2'!Q82","v":0},{"$f":"IF(ISNUMBER('Dekor 2'!J82),'Dekor 2'!E82 & \"x\" & 'Dekor 2'!G82,\"\")","v":""},{"$f":"'Dekor 2'!L82","v":0},{"$f":"'Dekor 2'!N82","v":0},{"$f":"'Dekor 2'!P82","v":0},{"$f":"'Dekor 2'!R82","v":0},{"$f":"'Dekor 2'!X82","v":0},{"$f":"IF(ISNUMBER('Dekor 2'!J82),'Dekor 2'!$AF$20,\"\")","v":""},{"$f":"IF(ISNUMBER('Dekor 2'!J82),'Dekor 2'!$AF$21,\"\")","v":""},{"$f":"IF(ISNUMBER('Dekor 2'!J82),'Dekor 2'!$AF$22,\"\")","v":""},{"$f":"IF(ISNUMBER('Dekor 2'!J82),'Dekor 2'!$AF$23,\"\")","v":""},{"$f":"IF(ISNUMBER('Dekor 2'!J82),'Dekor 2'!$AF$24,\"\")","v":""},{"$f":"'Dekor 2'!Y82","v":0}]
[{"$f":"'Dekor 2'!A83","v":""},{"$f":"'Dekor 2'!B83","v":{"$error":"#NAME?"}},{"$f":"IF(ISNUMBER('Dekor 2'!J83),('Dekor 2'!D83 & \".\" & 'Dekor 2'!U83 & \".\" & 'Dekor 2'!F83 & \".\" & 'Dekor 2'!V83 & \".\" & 'Dekor 2'!H83 & \".\" & 'Dekor 2'!I83),\"\")","v":""},{"$f":"'Dekor 2'!W83","v":0},{"$f":"'Dekor 2'!K83","v":0},{"$f":"'Dekor 2'!M83","v":0},{"$f":"'Dekor 2'!O83","v":0},{"$f":"'Dekor 2'!Q83","v":0},{"$f":"IF(ISNUMBER('Dekor 2'!J83),'Dekor 2'!E83 & \"x\" & 'Dekor 2'!G83,\"\")","v":""},{"$f":"'Dekor 2'!L83","v":0},{"$f":"'Dekor 2'!N83","v":0},{"$f":"'Dekor 2'!P83","v":0},{"$f":"'Dekor 2'!R83","v":0},{"$f":"'Dekor 2'!X83","v":0},{"$f":"IF(ISNUMBER('Dekor 2'!J83),'Dekor 2'!$AF$20,\"\")","v":""},{"$f":"IF(ISNUMBER('Dekor 2'!J83),'Dekor 2'!$AF$21,\"\")","v":""},{"$f":"IF(ISNUMBER('Dekor 2'!J83),'Dekor 2'!$AF$22,\"\")","v":""},{"$f":"IF(ISNUMBER('Dekor 2'!J83),'Dekor 2'!$AF$23,\"\")","v":""},{"$f":"IF(ISNUMBER('Dekor 2'!J83),'Dekor 2'!$AF$24,\"\")","v":""},{"$f":"'Dekor 2'!Y83","v":0}]
[{"$f":"'Dekor 2'!A84","v":""},{"$f":"'Dekor 2'!B84","v":{"$error":"#NAME?"}},{"$f":"IF(ISNUMBER('Dekor 2'!J84),('Dekor 2'!D84 & \".\" & 'Dekor 2'!U84 & \".\" & 'Dekor 2'!F84 & \".\" & 'Dekor 2'!V84 & \".\" & 'Dekor 2'!H84 & \".\" & 'Dekor 2'!I84),\"\")","v":""},{"$f":"'Dekor 2'!W84","v":0},{"$f":"'Dekor 2'!K84","v":0},{"$f":"'Dekor 2'!M84","v":0},{"$f":"'Dekor 2'!O84","v":0},{"$f":"'Dekor 2'!Q84","v":0},{"$f":"IF(ISNUMBER('Dekor 2'!J84),'Dekor 2'!E84 & \"x\" & 'Dekor 2'!G84,\"\")","v":""},{"$f":"'Dekor 2'!L84","v":0},{"$f":"'Dekor 2'!N84","v":0},{"$f":"'Dekor 2'!P84","v":0},{"$f":"'Dekor 2'!R84","v":0},{"$f":"'Dekor 2'!X84","v":0},{"$f":"IF(ISNUMBER('Dekor 2'!J84),'Dekor 2'!$AF$20,\"\")","v":""},{"$f":"IF(ISNUMBER('Dekor 2'!J84),'Dekor 2'!$AF$21,\"\")","v":""},{"$f":"IF(ISNUMBER('Dekor 2'!J84),'Dekor 2'!$AF$22,\"\")","v":""},{"$f":"IF(ISNUMBER('Dekor 2'!J84),'Dekor 2'!$AF$23,\"\")","v":""},{"$f":"IF(ISNUMBER('Dekor 2'!J84),'Dekor 2'!$AF$24,\"\")","v":""},{"$f":"'Dekor 2'!Y84","v":0}]
[{"$f":"'Dekor 2'!A85","v":""},{"$f":"'Dekor 2'!B85","v":{"$error":"#NAME?"}},{"$f":"IF(ISNUMBER('Dekor 2'!J85),('Dekor 2'!D85 & \".\" & 'Dekor 2'!U85 & \".\" & 'Dekor 2'!F85 & \".\" & 'Dekor 2'!V85 & \".\" & 'Dekor 2'!H85 & \".\" & 'Dekor 2'!I85),\"\")","v":""},{"$f":"'Dekor 2'!W85","v":0},{"$f":"'Dekor 2'!K85","v":0},{"$f":"'Dekor 2'!M85","v":0},{"$f":"'Dekor 2'!O85","v":0},{"$f":"'Dekor 2'!Q85","v":0},{"$f":"IF(ISNUMBER('Dekor 2'!J85),'Dekor 2'!E85 & \"x\" & 'Dekor 2'!G85,\"\")","v":""},{"$f":"'Dekor 2'!L85","v":0},{"$f":"'Dekor 2'!N85","v":0},{"$f":"'Dekor 2'!P85","v":0},{"$f":"'Dekor 2'!R85","v":0},{"$f":"'Dekor 2'!X85","v":0},{"$f":"IF(ISNUMBER('Dekor 2'!J85),'Dekor 2'!$AF$20,\"\")","v":""},{"$f":"IF(ISNUMBER('Dekor 2'!J85),'Dekor 2'!$AF$21,\"\")","v":""},{"$f":"IF(ISNUMBER('Dekor 2'!J85),'Dekor 2'!$AF$22,\"\")","v":""},{"$f":"IF(ISNUMBER('Dekor 2'!J85),'Dekor 2'!$AF$23,\"\")","v":""},{"$f":"IF(ISNUMBER('Dekor 2'!J85),'Dekor 2'!$AF$24,\"\")","v":""},{"$f":"'Dekor 2'!Y85","v":0}]
[{"$f":"'Dekor 2'!A86","v":""},{"$f":"'Dekor 2'!B86","v":{"$error":"#NAME?"}},{"$f":"IF(ISNUMBER('Dekor 2'!J86),('Dekor 2'!D86 & \".\" & 'Dekor 2'!U86 & \".\" & 'Dekor 2'!F86 & \".\" & 'Dekor 2'!V86 & \".\" & 'Dekor 2'!H86 & \".\" & 'Dekor 2'!I86),\"\")","v":""},{"$f":"'Dekor 2'!W86","v":0},{"$f":"'Dekor 2'!K86","v":0},{"$f":"'Dekor 2'!M86","v":0},{"$f":"'Dekor 2'!O86","v":0},{"$f":"'Dekor 2'!Q86","v":0},{"$f":"IF(ISNUMBER('Dekor 2'!J86),'Dekor 2'!E86 & \"x\" & 'Dekor 2'!G86,\"\")","v":""},{"$f":"'Dekor 2'!L86","v":0},{"$f":"'Dekor 2'!N86","v":0},{"$f":"'Dekor 2'!P86","v":0},{"$f":"'Dekor 2'!R86","v":0},{"$f":"'Dekor 2'!X86","v":0},{"$f":"IF(ISNUMBER('Dekor 2'!J86),'Dekor 2'!$AF$20,\"\")","v":""},{"$f":"IF(ISNUMBER('Dekor 2'!J86),'Dekor 2'!$AF$21,\"\")","v":""},{"$f":"IF(ISNUMBER('Dekor 2'!J86),'Dekor 2'!$AF$22,\"\")","v":""},{"$f":"IF(ISNUMBER('Dekor 2'!J86),'Dekor 2'!$AF$23,\"\")","v":""},{"$f":"IF(ISNUMBER('Dekor 2'!J86),'Dekor 2'!$AF$24,\"\")","v":""},{"$f":"'Dekor 2'!Y86","v":0}]
[{"$f":"'Dekor 2'!A87","v":""},{"$f":"'Dekor 2'!B87","v":{"$error":"#NAME?"}},{"$f":"IF(ISNUMBER('Dekor 2'!J87),('Dekor 2'!D87 & \".\" & 'Dekor 2'!U87 & \".\" & 'Dekor 2'!F87 & \".\" & 'Dekor 2'!V87 & \".\" & 'Dekor 2'!H87 & \".\" & 'Dekor 2'!I87),\"\")","v":""},{"$f":"'Dekor 2'!W87","v":0},{"$f":"'Dekor 2'!K87","v":0},{"$f":"'Dekor 2'!M87","v":0},{"$f":"'Dekor 2'!O87","v":0},{"$f":"'Dekor 2'!Q87","v":0},{"$f":"IF(ISNUMBER('Dekor 2'!J87),'Dekor 2'!E87 & \"x\" & 'Dekor 2'!G87,\"\")","v":""},{"$f":"'Dekor 2'!L87","v":0},{"$f":"'Dekor 2'!N87","v":0},{"$f":"'Dekor 2'!P87","v":0},{"$f":"'Dekor 2'!R87","v":0},{"$f":"'Dekor 2'!X87","v":0},{"$f":"IF(ISNUMBER('Dekor 2'!J87),'Dekor 2'!$AF$20,\"\")","v":""},{"$f":"IF(ISNUMBER('Dekor 2'!J87),'Dekor 2'!$AF$21,\"\")","v":""},{"$f":"IF(ISNUMBER('Dekor 2'!J87),'Dekor 2'!$AF$22,\"\")","v":""},{"$f":"IF(ISNUMBER('Dekor 2'!J87),'Dekor 2'!$AF$23,\"\")","v":""},{"$f":"IF(ISNUMBER('Dekor 2'!J87),'Dekor 2'!$AF$24,\"\")","v":""},{"$f":"'Dekor 2'!Y87","v":0}]
[{"$f":"'Dekor 2'!A88","v":""},{"$f":"'Dekor 2'!B88","v":{"$error":"#NAME?"}},{"$f":"IF(ISNUMBER('Dekor 2'!J88),('Dekor 2'!D88 & \".\" & 'Dekor 2'!U88 & \".\" & 'Dekor 2'!F88 & \".\" & 'Dekor 2'!V88 & \".\" & 'Dekor 2'!H88 & \".\" & 'Dekor 2'!I88),\"\")","v":""},{"$f":"'Dekor 2'!W88","v":0},{"$f":"'Dekor 2'!K88","v":0},{"$f":"'Dekor 2'!M88","v":0},{"$f":"'Dekor 2'!O88","v":0},{"$f":"'Dekor 2'!Q88","v":0},{"$f":"IF(ISNUMBER('Dekor 2'!J88),'Dekor 2'!E88 & \"x\" & 'Dekor 2'!G88,\"\")","v":""},{"$f":"'Dekor 2'!L88","v":0},{"$f":"'Dekor 2'!N88","v":0},{"$f":"'Dekor 2'!P88","v":0},{"$f":"'Dekor 2'!R88","v":0},{"$f":"'Dekor 2'!X88","v":0},{"$f":"IF(ISNUMBER('Dekor 2'!J88),'Dekor 2'!$AF$20,\"\")","v":""},{"$f":"IF(ISNUMBER('Dekor 2'!J88),'Dekor 2'!$AF$21,\"\")","v":""},{"$f":"IF(ISNUMBER('Dekor 2'!J88),'Dekor 2'!$AF$22,\"\")","v":""},{"$f":"IF(ISNUMBER('Dekor 2'!J88),'Dekor 2'!$AF$23,\"\")","v":""},{"$f":"IF(ISNUMBER('Dekor 2'!J88),'Dekor 2'!$AF$24,\"\")","v":""},{"$f":"'Dekor 2'!Y88","v":0}]
[{"$f":"'Dekor 2'!A89","v":""},{"$f":"'Dekor 2'!B89","v":{"$error":"#NAME?"}},{"$f":"IF(ISNUMBER('Dekor 2'!J89),('Dekor 2'!D89 & \".\" & 'Dekor 2'!U89 & \".\" & 'Dekor 2'!F89 & \".\" & 'Dekor 2'!V89 & \".\" & 'Dekor 2'!H89 & \".\" & 'Dekor 2'!I89),\"\")","v":""},{"$f":"'Dekor 2'!W89","v":0},{"$f":"'Dekor 2'!K89","v":0},{"$f":"'Dekor 2'!M89","v":0},{"$f":"'Dekor 2'!O89","v":0},{"$f":"'Dekor 2'!Q89","v":0},{"$f":"IF(ISNUMBER('Dekor 2'!J89),'Dekor 2'!E89 & \"x\" & 'Dekor 2'!G89,\"\")","v":""},{"$f":"'Dekor 2'!L89","v":0},{"$f":"'Dekor 2'!N89","v":0},{"$f":"'Dekor 2'!P89","v":0},{"$f":"'Dekor 2'!R89","v":0},{"$f":"'Dekor 2'!X89","v":0},{"$f":"IF(ISNUMBER('Dekor 2'!J89),'Dekor 2'!$AF$20,\"\")","v":""},{"$f":"IF(ISNUMBER('Dekor 2'!J89),'Dekor 2'!$AF$21,\"\")","v":""},{"$f":"IF(ISNUMBER('Dekor 2'!J89),'Dekor 2'!$AF$22,\"\")","v":""},{"$f":"IF(ISNUMBER('Dekor 2'!J89),'Dekor 2'!$AF$23,\"\")","v":""},{"$f":"IF(ISNUMBER('Dekor 2'!J89),'Dekor 2'!$AF$24,\"\")","v":""},{"$f":"'Dekor 2'!Y89","v":0}]
[{"$f":"'Dekor 2'!A90","v":""},{"$f":"'Dekor 2'!B90","v":{"$error":"#NAME?"}},{"$f":"IF(ISNUMBER('Dekor 2'!J90),('Dekor 2'!D90 & \".\" & 'Dekor 2'!U90 & \".\" & 'Dekor 2'!F90 & \".\" & 'Dekor 2'!V90 & \".\" & 'Dekor 2'!H90 & \".\" & 'Dekor 2'!I90),\"\")","v":""},{"$f":"'Dekor 2'!W90","v":0},{"$f":"'Dekor 2'!K90","v":0},{"$f":"'Dekor 2'!M90","v":0},{"$f":"'Dekor 2'!O90","v":0},{"$f":"'Dekor 2'!Q90","v":0},{"$f":"IF(ISNUMBER('Dekor 2'!J90),'Dekor 2'!E90 & \"x\" & 'Dekor 2'!G90,\"\")","v":""},{"$f":"'Dekor 2'!L90","v":0},{"$f":"'Dekor 2'!N90","v":0},{"$f":"'Dekor 2'!P90","v":0},{"$f":"'Dekor 2'!R90","v":0},{"$f":"'Dekor 2'!X90","v":0},{"$f":"IF(ISNUMBER('Dekor 2'!J90),'Dekor 2'!$AF$20,\"\")","v":""},{"$f":"IF(ISNUMBER('Dekor 2'!J90),'Dekor 2'!$AF$21,\"\")","v":""},{"$f":"IF(ISNUMBER('Dekor 2'!J90),'Dekor 2'!$AF$22,\"\")","v":""},{"$f":"IF(ISNUMBER('Dekor 2'!J90),'Dekor 2'!$AF$23,\"\")","v":""},{"$f":"IF(ISNUMBER('Dekor 2'!J90),'Dekor 2'!$AF$24,\"\")","v":""},{"$f":"'Dekor 2'!Y90","v":0}]
[{"$f":"'Dekor 2'!A91","v":""},{"$f":"'Dekor 2'!B91","v":{"$error":"#NAME?"}},{"$f":"IF(ISNUMBER('Dekor 2'!J91),('Dekor 2'!D91 & \".\" & 'Dekor 2'!U91 & \".\" & 'Dekor 2'!F91 & \".\" & 'Dekor 2'!V91 & \".\" & 'Dekor 2'!H91 & \".\" & 'Dekor 2'!I91),\"\")","v":""},{"$f":"'Dekor 2'!W91","v":0},{"$f":"'Dekor 2'!K91","v":0},{"$f":"'Dekor 2'!M91","v":0},{"$f":"'Dekor 2'!O91","v":0},{"$f":"'Dekor 2'!Q91","v":0},{"$f":"IF(ISNUMBER('Dekor 2'!J91),'Dekor 2'!E91 & \"x\" & 'Dekor 2'!G91,\"\")","v":""},{"$f":"'Dekor 2'!L91","v":0},{"$f":"'Dekor 2'!N91","v":0},{"$f":"'Dekor 2'!P91","v":0},{"$f":"'Dekor 2'!R91","v":0},{"$f":"'Dekor 2'!X91","v":0},{"$f":"IF(ISNUMBER('Dekor 2'!J91),'Dekor 2'!$AF$20,\"\")","v":""},{"$f":"IF(ISNUMBER('Dekor 2'!J91),'Dekor 2'!$AF$21,\"\")","v":""},{"$f":"IF(ISNUMBER('Dekor 2'!J91),'Dekor 2'!$AF$22,\"\")","v":""},{"$f":"IF(ISNUMBER('Dekor 2'!J91),'Dekor 2'!$AF$23,\"\")","v":""},{"$f":"IF(ISNUMBER('Dekor 2'!J91),'Dekor 2'!$AF$24,\"\")","v":""},{"$f":"'Dekor 2'!Y91","v":0}]
[{"$f":"'Dekor 2'!A92","v":""},{"$f":"'Dekor 2'!B92","v":{"$error":"#NAME?"}},{"$f":"IF(ISNUMBER('Dekor 2'!J92),('Dekor 2'!D92 & \".\" & 'Dekor 2'!U92 & \".\" & 'Dekor 2'!F92 & \".\" & 'Dekor 2'!V92 & \".\" & 'Dekor 2'!H92 & \".\" & 'Dekor 2'!I92),\"\")","v":""},{"$f":"'Dekor 2'!W92","v":0},{"$f":"'Dekor 2'!K92","v":0},{"$f":"'Dekor 2'!M92","v":0},{"$f":"'Dekor 2'!O92","v":0},{"$f":"'Dekor 2'!Q92","v":0},{"$f":"IF(ISNUMBER('Dekor 2'!J92),'Dekor 2'!E92 & \"x\" & 'Dekor 2'!G92,\"\")","v":""},{"$f":"'Dekor 2'!L92","v":0},{"$f":"'Dekor 2'!N92","v":0},{"$f":"'Dekor 2'!P92","v":0},{"$f":"'Dekor 2'!R92","v":0},{"$f":"'Dekor 2'!X92","v":0},{"$f":"IF(ISNUMBER('Dekor 2'!J92),'Dekor 2'!$AF$20,\"\")","v":""},{"$f":"IF(ISNUMBER('Dekor 2'!J92),'Dekor 2'!$AF$21,\"\")","v":""},{"$f":"IF(ISNUMBER('Dekor 2'!J92),'Dekor 2'!$AF$22,\"\")","v":""},{"$f":"IF(ISNUMBER('Dekor 2'!J92),'Dekor 2'!$AF$23,\"\")","v":""},{"$f":"IF(ISNUMBER('Dekor 2'!J92),'Dekor 2'!$AF$24,\"\")","v":""},{"$f":"'Dekor 2'!Y92","v":0}]
[{"$f":"'Dekor 2'!A93","v":""},{"$f":"'Dekor 2'!B93","v":{"$error":"#NAME?"}},{"$f":"IF(ISNUMBER('Dekor 2'!J93),('Dekor 2'!D93 & \".\" & 'Dekor 2'!U93 & \".\" & 'Dekor 2'!F93 & \".\" & 'Dekor 2'!V93 & \".\" & 'Dekor 2'!H93 & \".\" & 'Dekor 2'!I93),\"\")","v":""},{"$f":"'Dekor 2'!W93","v":0},{"$f":"'Dekor 2'!K93","v":0},{"$f":"'Dekor 2'!M93","v":0},{"$f":"'Dekor 2'!O93","v":0},{"$f":"'Dekor 2'!Q93","v":0},{"$f":"IF(ISNUMBER('Dekor 2'!J93),'Dekor 2'!E93 & \"x\" & 'Dekor 2'!G93,\"\")","v":""},{"$f":"'Dekor 2'!L93","v":0},{"$f":"'Dekor 2'!N93","v":0},{"$f":"'Dekor 2'!P93","v":0},{"$f":"'Dekor 2'!R93","v":0},{"$f":"'Dekor 2'!X93","v":0},{"$f":"IF(ISNUMBER('Dekor 2'!J93),'Dekor 2'!$AF$20,\"\")","v":""},{"$f":"IF(ISNUMBER('Dekor 2'!J93),'Dekor 2'!$AF$21,\"\")","v":""},{"$f":"IF(ISNUMBER('Dekor 2'!J93),'Dekor 2'!$AF$22,\"\")","v":""},{"$f":"IF(ISNUMBER('Dekor 2'!J93),'Dekor 2'!$AF$23,\"\")","v":""},{"$f":"IF(ISNUMBER('Dekor 2'!J93),'Dekor 2'!$AF$24,\"\")","v":""},{"$f":"'Dekor 2'!Y93","v":0}]
[{"$f":"'Dekor 2'!A94","v":""},{"$f":"'Dekor 2'!B94","v":{"$error":"#NAME?"}},{"$f":"IF(ISNUMBER('Dekor 2'!J94),('Dekor 2'!D94 & \".\" & 'Dekor 2'!U94 & \".\" & 'Dekor 2'!F94 & \".\" & 'Dekor 2'!V94 & \".\" & 'Dekor 2'!H94 & \".\" & 'Dekor 2'!I94),\"\")","v":""},{"$f":"'Dekor 2'!W94","v":0},{"$f":"'Dekor 2'!K94","v":0},{"$f":"'Dekor 2'!M94","v":0},{"$f":"'Dekor 2'!O94","v":0},{"$f":"'Dekor 2'!Q94","v":0},{"$f":"IF(ISNUMBER('Dekor 2'!J94),'Dekor 2'!E94 & \"x\" & 'Dekor 2'!G94,\"\")","v":""},{"$f":"'Dekor 2'!L94","v":0},{"$f":"'Dekor 2'!N94","v":0},{"$f":"'Dekor 2'!P94","v":0},{"$f":"'Dekor 2'!R94","v":0},{"$f":"'Dekor 2'!X94","v":0},{"$f":"IF(ISNUMBER('Dekor 2'!J94),'Dekor 2'!$AF$20,\"\")","v":""},{"$f":"IF(ISNUMBER('Dekor 2'!J94),'Dekor 2'!$AF$21,\"\")","v":""},{"$f":"IF(ISNUMBER('Dekor 2'!J94),'Dekor 2'!$AF$22,\"\")","v":""},{"$f":"IF(ISNUMBER('Dekor 2'!J94),'Dekor 2'!$AF$23,\"\")","v":""},{"$f":"IF(ISNUMBER('Dekor 2'!J94),'Dekor 2'!$AF$24,\"\")","v":""},{"$f":"'Dekor 2'!Y94","v":0}]
[{"$f":"'Dekor 2'!A95","v":""},{"$f":"'Dekor 2'!B95","v":{"$error":"#NAME?"}},{"$f":"IF(ISNUMBER('Dekor 2'!J95),('Dekor 2'!D95 & \".\" & 'Dekor 2'!U95 & \".\" & 'Dekor 2'!F95 & \".\" & 'Dekor 2'!V95 & \".\" & 'Dekor 2'!H95 & \".\" & 'Dekor 2'!I95),\"\")","v":""},{"$f":"'Dekor 2'!W95","v":0},{"$f":"'Dekor 2'!K95","v":0},{"$f":"'Dekor 2'!M95","v":0},{"$f":"'Dekor 2'!O95","v":0},{"$f":"'Dekor 2'!Q95","v":0},{"$f":"IF(ISNUMBER('Dekor 2'!J95),'Dekor 2'!E95 & \"x\" & 'Dekor 2'!G95,\"\")","v":""},{"$f":"'Dekor 2'!L95","v":0},{"$f":"'Dekor 2'!N95","v":0},{"$f":"'Dekor 2'!P95","v":0},{"$f":"'Dekor 2'!R95","v":0},{"$f":"'Dekor 2'!X95","v":0},{"$f":"IF(ISNUMBER('Dekor 2'!J95),'Dekor 2'!$AF$20,\"\")","v":""},{"$f":"IF(ISNUMBER('Dekor 2'!J95),'Dekor 2'!$AF$21,\"\")","v":""},{"$f":"IF(ISNUMBER('Dekor 2'!J95),'Dekor 2'!$AF$22,\"\")","v":""},{"$f":"IF(ISNUMBER('Dekor 2'!J95),'Dekor 2'!$AF$23,\"\")","v":""},{"$f":"IF(ISNUMBER('Dekor 2'!J95),'Dekor 2'!$AF$24,\"\")","v":""},{"$f":"'Dekor 2'!Y95","v":0}]
[{"$f":"'Dekor 2'!A96","v":""},{"$f":"'Dekor 2'!B96","v":{"$error":"#NAME?"}},{"$f":"IF(ISNUMBER('Dekor 2'!J96),('Dekor 2'!D96 & \".\" & 'Dekor 2'!U96 & \".\" & 'Dekor 2'!F96 & \".\" & 'Dekor 2'!V96 & \".\" & 'Dekor 2'!H96 & \".\" & 'Dekor 2'!I96),\"\")","v":""},{"$f":"'Dekor 2'!W96","v":0},{"$f":"'Dekor 2'!K96","v":0},{"$f":"'Dekor 2'!M96","v":0},{"$f":"'Dekor 2'!O96","v":0},{"$f":"'Dekor 2'!Q96","v":0},{"$f":"IF(ISNUMBER('Dekor 2'!J96),'Dekor 2'!E96 & \"x\" & 'Dekor 2'!G96,\"\")","v":""},{"$f":"'Dekor 2'!L96","v":0},{"$f":"'Dekor 2'!N96","v":0},{"$f":"'Dekor 2'!P96","v":0},{"$f":"'Dekor 2'!R96","v":0},{"$f":"'Dekor 2'!X96","v":0},{"$f":"IF(ISNUMBER('Dekor 2'!J96),'Dekor 2'!$AF$20,\"\")","v":""},{"$f":"IF(ISNUMBER('Dekor 2'!J96),'Dekor 2'!$AF$21,\"\")","v":""},{"$f":"IF(ISNUMBER('Dekor 2'!J96),'Dekor 2'!$AF$22,\"\")","v":""},{"$f":"IF(ISNUMBER('Dekor 2'!J96),'Dekor 2'!$AF$23,\"\")","v":""},{"$f":"IF(ISNUMBER('Dekor 2'!J96),'Dekor 2'!$AF$24,\"\")","v":""},{"$f":"'Dekor 2'!Y96","v":0}]
[{"$f":"'Dekor 2'!A97","v":""},{"$f":"'Dekor 2'!B97","v":{"$error":"#NAME?"}},{"$f":"IF(ISNUMBER('Dekor 2'!J97),('Dekor 2'!D97 & \".\" & 'Dekor 2'!U97 & \".\" & 'Dekor 2'!F97 & \".\" & 'Dekor 2'!V97 & \".\" & 'Dekor 2'!H97 & \".\" & 'Dekor 2'!I97),\"\")","v":""},{"$f":"'Dekor 2'!W97","v":0},{"$f":"'Dekor 2'!K97","v":0},{"$f":"'Dekor 2'!M97","v":0},{"$f":"'Dekor 2'!O97","v":0},{"$f":"'Dekor 2'!Q97","v":0},{"$f":"IF(ISNUMBER('Dekor 2'!J97),'Dekor 2'!E97 & \"x\" & 'Dekor 2'!G97,\"\")","v":""},{"$f":"'Dekor 2'!L97","v":0},{"$f":"'Dekor 2'!N97","v":0},{"$f":"'Dekor 2'!P97","v":0},{"$f":"'Dekor 2'!R97","v":0},{"$f":"'Dekor 2'!X97","v":0},{"$f":"IF(ISNUMBER('Dekor 2'!J97),'Dekor 2'!$AF$20,\"\")","v":""},{"$f":"IF(ISNUMBER('Dekor 2'!J97),'Dekor 2'!$AF$21,\"\")","v":""},{"$f":"IF(ISNUMBER('Dekor 2'!J97),'Dekor 2'!$AF$22,\"\")","v":""},{"$f":"IF(ISNUMBER('Dekor 2'!J97),'Dekor 2'!$AF$23,\"\")","v":""},{"$f":"IF(ISNUMBER('Dekor 2'!J97),'Dekor 2'!$AF$24,\"\")","v":""},{"$f":"'Dekor 2'!Y97","v":0}]
[{"$f":"'Dekor 2'!A98","v":""},{"$f":"'Dekor 2'!B98","v":{"$error":"#NAME?"}},{"$f":"IF(ISNUMBER('Dekor 2'!J98),('Dekor 2'!D98 & \".\" & 'Dekor 2'!U98 & \".\" & 'Dekor 2'!F98 & \".\" & 'Dekor 2'!V98 & \".\" & 'Dekor 2'!H98 & \".\" & 'Dekor 2'!I98),\"\")","v":""},{"$f":"'Dekor 2'!W98","v":0},{"$f":"'Dekor 2'!K98","v":0},{"$f":"'Dekor 2'!M98","v":0},{"$f":"'Dekor 2'!O98","v":0},{"$f":"'Dekor 2'!Q98","v":0},{"$f":"IF(ISNUMBER('Dekor 2'!J98),'Dekor 2'!E98 & \"x\" & 'Dekor 2'!G98,\"\")","v":""},{"$f":"'Dekor 2'!L98","v":0},{"$f":"'Dekor 2'!N98","v":0},{"$f":"'Dekor 2'!P98","v":0},{"$f":"'Dekor 2'!R98","v":0},{"$f":"'Dekor 2'!X98","v":0},{"$f":"IF(ISNUMBER('Dekor 2'!J98),'Dekor 2'!$AF$20,\"\")","v":""},{"$f":"IF(ISNUMBER('Dekor 2'!J98),'Dekor 2'!$AF$21,\"\")","v":""},{"$f":"IF(ISNUMBER('Dekor 2'!J98),'Dekor 2'!$AF$22,\"\")","v":""},{"$f":"IF(ISNUMBER('Dekor 2'!J98),'Dekor 2'!$AF$23,\"\")","v":""},{"$f":"IF(ISNUMBER('Dekor 2'!J98),'Dekor 2'!$AF$24,\"\")","v":""},{"$f":"'Dekor 2'!Y98","v":0}]
[{"$f":"'Dekor 2'!A99","v":""},{"$f":"'Dekor 2'!B99","v":{"$error":"#NAME?"}},{"$f":"IF(ISNUMBER('Dekor 2'!J99),('Dekor 2'!D99 & \".\" & 'Dekor 2'!U99 & \".\" & 'Dekor 2'!F99 & \".\" & 'Dekor 2'!V99 & \".\" & 'Dekor 2'!H99 & \".\" & 'Dekor 2'!I99),\"\")","v":""},{"$f":"'Dekor 2'!W99","v":0},{"$f":"'Dekor 2'!K99","v":0},{"$f":"'Dekor 2'!M99","v":0},{"$f":"'Dekor 2'!O99","v":0},{"$f":"'Dekor 2'!Q99","v":0},{"$f":"IF(ISNUMBER('Dekor 2'!J99),'Dekor 2'!E99 & \"x\" & 'Dekor 2'!G99,\"\")","v":""},{"$f":"'Dekor 2'!L99","v":0},{"$f":"'Dekor 2'!N99","v":0},{"$f":"'Dekor 2'!P99","v":0},{"$f":"'Dekor 2'!R99","v":0},{"$f":"'Dekor 2'!X99","v":0},{"$f":"IF(ISNUMBER('Dekor 2'!J99),'Dekor 2'!$AF$20,\"\")","v":""},{"$f":"IF(ISNUMBER('Dekor 2'!J99),'Dekor 2'!$AF$21,\"\")","v":""},{"$f":"IF(ISNUMBER('Dekor 2'!J99),'Dekor 2'!$AF$22,\"\")","v":""},{"$f":"IF(ISNUMBER('Dekor 2'!J99),'Dekor 2'!$AF$23,\"\")","v":""},{"$f":"IF(ISNUMBER('Dekor 2'!J99),'Dekor 2'!$AF$24,\"\")","v":""},{"$f":"'Dekor 2'!Y99","v":0}]
[{"$f":"'Dekor 2'!A100","v":""},{"$f":"'Dekor 2'!B100","v":{"$error":"#NAME?"}},{"$f":"IF(ISNUMBER('Dekor 2'!J100),('Dekor 2'!D100 & \".\" & 'Dekor 2'!U100 & \".\" & 'Dekor 2'!F100 & \".\" & 'Dekor 2'!V100 & \".\" & 'Dekor 2'!H100 & \".\" & 'Dekor 2'!I100),\"\")","v":""},{"$f":"'Dekor 2'!W100","v":0},{"$f":"'Dekor 2'!K100","v":0},{"$f":"'Dekor 2'!M100","v":0},{"$f":"'Dekor 2'!O100","v":0},{"$f":"'Dekor 2'!Q100","v":0},{"$f":"IF(ISNUMBER('Dekor 2'!J100),'Dekor 2'!E100 & \"x\" & 'Dekor 2'!G100,\"\")","v":""},{"$f":"'Dekor 2'!L100","v":0},{"$f":"'Dekor 2'!N100","v":0},{"$f":"'Dekor 2'!P100","v":0},{"$f":"'Dekor 2'!R100","v":0},{"$f":"'Dekor 2'!X100","v":0},{"$f":"IF(ISNUMBER('Dekor 2'!J100),'Dekor 2'!$AF$20,\"\")","v":""},{"$f":"IF(ISNUMBER('Dekor 2'!J100),'Dekor 2'!$AF$21,\"\")","v":""},{"$f":"IF(ISNUMBER('Dekor 2'!J100),'Dekor 2'!$AF$22,\"\")","v":""},{"$f":"IF(ISNUMBER('Dekor 2'!J100),'Dekor 2'!$AF$23,\"\")","v":""},{"$f":"IF(ISNUMBER('Dekor 2'!J100),'Dekor 2'!$AF$24,\"\")","v":""},{"$f":"'Dekor 2'!Y100","v":0}]
[{"$f":"'Dekor 2'!A101","v":""},{"$f":"'Dekor 2'!B101","v":{"$error":"#NAME?"}},{"$f":"IF(ISNUMBER('Dekor 2'!J101),('Dekor 2'!D101 & \".\" & 'Dekor 2'!U101 & \".\" & 'Dekor 2'!F101 & \".\" & 'Dekor 2'!V101 & \".\" & 'Dekor 2'!H101 & \".\" & 'Dekor 2'!I101),\"\")","v":""},{"$f":"'Dekor 2'!W101","v":0},{"$f":"'Dekor 2'!K101","v":0},{"$f":"'Dekor 2'!M101","v":0},{"$f":"'Dekor 2'!O101","v":0},{"$f":"'Dekor 2'!Q101","v":0},{"$f":"IF(ISNUMBER('Dekor 2'!J101),'Dekor 2'!E101 & \"x\" & 'Dekor 2'!G101,\"\")","v":""},{"$f":"'Dekor 2'!L101","v":0},{"$f":"'Dekor 2'!N101","v":0},{"$f":"'Dekor 2'!P101","v":0},{"$f":"'Dekor 2'!R101","v":0},{"$f":"'Dekor 2'!X101","v":0},{"$f":"IF(ISNUMBER('Dekor 2'!J101),'Dekor 2'!$AF$20,\"\")","v":""},{"$f":"IF(ISNUMBER('Dekor 2'!J101),'Dekor 2'!$AF$21,\"\")","v":""},{"$f":"IF(ISNUMBER('Dekor 2'!J101),'Dekor 2'!$AF$22,\"\")","v":""},{"$f":"IF(ISNUMBER('Dekor 2'!J101),'Dekor 2'!$AF$23,\"\")","v":""},{"$f":"IF(ISNUMBER('Dekor 2'!J101),'Dekor 2'!$AF$24,\"\")","v":""},{"$f":"'Dekor 2'!Y101","v":0}]
[{"$f":"'Dekor 2'!A102","v":""},{"$f":"'Dekor 2'!B102","v":{"$error":"#NAME?"}},{"$f":"IF(ISNUMBER('Dekor 2'!J102),('Dekor 2'!D102 & \".\" & 'Dekor 2'!U102 & \".\" & 'Dekor 2'!F102 & \".\" & 'Dekor 2'!V102 & \".\" & 'Dekor 2'!H102 & \".\" & 'Dekor 2'!I102),\"\")","v":""},{"$f":"'Dekor 2'!W102","v":0},{"$f":"'Dekor 2'!K102","v":0},{"$f":"'Dekor 2'!M102","v":0},{"$f":"'Dekor 2'!O102","v":0},{"$f":"'Dekor 2'!Q102","v":0},{"$f":"IF(ISNUMBER('Dekor 2'!J102),'Dekor 2'!E102 & \"x\" & 'Dekor 2'!G102,\"\")","v":""},{"$f":"'Dekor 2'!L102","v":0},{"$f":"'Dekor 2'!N102","v":0},{"$f":"'Dekor 2'!P102","v":0},{"$f":"'Dekor 2'!R102","v":0},{"$f":"'Dekor 2'!X102","v":0},{"$f":"IF(ISNUMBER('Dekor 2'!J102),'Dekor 2'!$AF$20,\"\")","v":""},{"$f":"IF(ISNUMBER('Dekor 2'!J102),'Dekor 2'!$AF$21,\"\")","v":""},{"$f":"IF(ISNUMBER('Dekor 2'!J102),'Dekor 2'!$AF$22,\"\")","v":""},{"$f":"IF(ISNUMBER('Dekor 2'!J102),'Dekor 2'!$AF$23,\"\")","v":""},{"$f":"IF(ISNUMBER('Dekor 2'!J102),'Dekor 2'!$AF$24,\"\")","v":""},{"$f":"'Dekor 2'!Y102","v":0}]
[{"$f":"'Dekor 2'!A103","v":""},{"$f":"'Dekor 2'!B103","v":{"$error":"#NAME?"}},{"$f":"IF(ISNUMBER('Dekor 2'!J103),('Dekor 2'!D103 & \".\" & 'Dekor 2'!U103 & \".\" & 'Dekor 2'!F103 & \".\" & 'Dekor 2'!V103 & \".\" & 'Dekor 2'!H103 & \".\" & 'Dekor 2'!I103),\"\")","v":""},{"$f":"'Dekor 2'!W103","v":0},{"$f":"'Dekor 2'!K103","v":0},{"$f":"'Dekor 2'!M103","v":0},{"$f":"'Dekor 2'!O103","v":0},{"$f":"'Dekor 2'!Q103","v":0},{"$f":"IF(ISNUMBER('Dekor 2'!J103),'Dekor 2'!E103 & \"x\" & 'Dekor 2'!G103,\"\")","v":""},{"$f":"'Dekor 2'!L103","v":0},{"$f":"'Dekor 2'!N103","v":0},{"$f":"'Dekor 2'!P103","v":0},{"$f":"'Dekor 2'!R103","v":0},{"$f":"'Dekor 2'!X103","v":0},{"$f":"IF(ISNUMBER('Dekor 2'!J103),'Dekor 2'!$AF$20,\"\")","v":""},{"$f":"IF(ISNUMBER('Dekor 2'!J103),'Dekor 2'!$AF$21,\"\")","v":""},{"$f":"IF(ISNUMBER('Dekor 2'!J103),'Dekor 2'!$AF$22,\"\")","v":""},{"$f":"IF(ISNUMBER('Dekor 2'!J103),'Dekor 2'!$AF$23,\"\")","v":""},{"$f":"IF(ISNUMBER('Dekor 2'!J103),'Dekor 2'!$AF$24,\"\")","v":""},{"$f":"'Dekor 2'!Y103","v":0}]
[{"$f":"'Dekor 2'!A104","v":""},{"$f":"'Dekor 2'!B104","v":{"$error":"#NAME?"}},{"$f":"IF(ISNUMBER('Dekor 2'!J104),('Dekor 2'!D104 & \".\" & 'Dekor 2'!U104 & \".\" & 'Dekor 2'!F104 & \".\" & 'Dekor 2'!V104 & \".\" & 'Dekor 2'!H104 & \".\" & 'Dekor 2'!I104),\"\")","v":""},{"$f":"'Dekor 2'!W104","v":0},{"$f":"'Dekor 2'!K104","v":0},{"$f":"'Dekor 2'!M104","v":0},{"$f":"'Dekor 2'!O104","v":0},{"$f":"'Dekor 2'!Q104","v":0},{"$f":"IF(ISNUMBER('Dekor 2'!J104),'Dekor 2'!E104 & \"x\" & 'Dekor 2'!G104,\"\")","v":""},{"$f":"'Dekor 2'!L104","v":0},{"$f":"'Dekor 2'!N104","v":0},{"$f":"'Dekor 2'!P104","v":0},{"$f":"'Dekor 2'!R104","v":0},{"$f":"'Dekor 2'!X104","v":0},{"$f":"IF(ISNUMBER('Dekor 2'!J104),'Dekor 2'!$AF$20,\"\")","v":""},{"$f":"IF(ISNUMBER('Dekor 2'!J104),'Dekor 2'!$AF$21,\"\")","v":""},{"$f":"IF(ISNUMBER('Dekor 2'!J104),'Dekor 2'!$AF$22,\"\")","v":""},{"$f":"IF(ISNUMBER('Dekor 2'!J104),'Dekor 2'!$AF$23,\"\")","v":""},{"$f":"IF(ISNUMBER('Dekor 2'!J104),'Dekor 2'!$AF$24,\"\")","v":""},{"$f":"'Dekor 2'!Y104","v":0}]
[{"$f":"'Dekor 2'!A105","v":""},{"$f":"'Dekor 2'!B105","v":{"$error":"#NAME?"}},{"$f":"IF(ISNUMBER('Dekor 2'!J105),('Dekor 2'!D105 & \".\" & 'Dekor 2'!U105 & \".\" & 'Dekor 2'!F105 & \".\" & 'Dekor 2'!V105 & \".\" & 'Dekor 2'!H105 & \".\" & 'Dekor 2'!I105),\"\")","v":""},{"$f":"'Dekor 2'!W105","v":0},{"$f":"'Dekor 2'!K105","v":0},{"$f":"'Dekor 2'!M105","v":0},{"$f":"'Dekor 2'!O105","v":0},{"$f":"'Dekor 2'!Q105","v":0},{"$f":"IF(ISNUMBER('Dekor 2'!J105),'Dekor 2'!E105 & \"x\" & 'Dekor 2'!G105,\"\")","v":""},{"$f":"'Dekor 2'!L105","v":0},{"$f":"'Dekor 2'!N105","v":0},{"$f":"'Dekor 2'!P105","v":0},{"$f":"'Dekor 2'!R105","v":0},{"$f":"'Dekor 2'!X105","v":0},{"$f":"IF(ISNUMBER('Dekor 2'!J105),'Dekor 2'!$AF$20,\"\")","v":""},{"$f":"IF(ISNUMBER('Dekor 2'!J105),'Dekor 2'!$AF$21,\"\")","v":""},{"$f":"IF(ISNUMBER('Dekor 2'!J105),'Dekor 2'!$AF$22,\"\")","v":""},{"$f":"IF(ISNUMBER('Dekor 2'!J105),'Dekor 2'!$AF$23,\"\")","v":""},{"$f":"IF(ISNUMBER('Dekor 2'!J105),'Dekor 2'!$AF$24,\"\")","v":""},{"$f":"'Dekor 2'!Y105","v":0}]
[{"$f":"'Dekor 2'!A106","v":""},{"$f":"'Dekor 2'!B106","v":{"$error":"#NAME?"}},{"$f":"IF(ISNUMBER('Dekor 2'!J106),('Dekor 2'!D106 & \".\" & 'Dekor 2'!U106 & \".\" & 'Dekor 2'!F106 & \".\" & 'Dekor 2'!V106 & \".\" & 'Dekor 2'!H106 & \".\" & 'Dekor 2'!I106),\"\")","v":""},{"$f":"'Dekor 2'!W106","v":0},{"$f":"'Dekor 2'!K106","v":0},{"$f":"'Dekor 2'!M106","v":0},{"$f":"'Dekor 2'!O106","v":0},{"$f":"'Dekor 2'!Q106","v":0},{"$f":"IF(ISNUMBER('Dekor 2'!J106),'Dekor 2'!E106 & \"x\" & 'Dekor 2'!G106,\"\")","v":""},{"$f":"'Dekor 2'!L106","v":0},{"$f":"'Dekor 2'!N106","v":0},{"$f":"'Dekor 2'!P106","v":0},{"$f":"'Dekor 2'!R106","v":0},{"$f":"'Dekor 2'!X106","v":0},{"$f":"IF(ISNUMBER('Dekor 2'!J106),'Dekor 2'!$AF$20,\"\")","v":""},{"$f":"IF(ISNUMBER('Dekor 2'!J106),'Dekor 2'!$AF$21,\"\")","v":""},{"$f":"IF(ISNUMBER('Dekor 2'!J106),'Dekor 2'!$AF$22,\"\")","v":""},{"$f":"IF(ISNUMBER('Dekor 2'!J106),'Dekor 2'!$AF$23,\"\")","v":""},{"$f":"IF(ISNUMBER('Dekor 2'!J106),'Dekor 2'!$AF$24,\"\")","v":""},{"$f":"'Dekor 2'!Y106","v":0}]
[{"$f":"'Dekor 2'!A107","v":""},{"$f":"'Dekor 2'!B107","v":{"$error":"#NAME?"}},{"$f":"IF(ISNUMBER('Dekor 2'!J107),('Dekor 2'!D107 & \".\" & 'Dekor 2'!U107 & \".\" & 'Dekor 2'!F107 & \".\" & 'Dekor 2'!V107 & \".\" & 'Dekor 2'!H107 & \".\" & 'Dekor 2'!I107),\"\")","v":""},{"$f":"'Dekor 2'!W107","v":0},{"$f":"'Dekor 2'!K107","v":0},{"$f":"'Dekor 2'!M107","v":0},{"$f":"'Dekor 2'!O107","v":0},{"$f":"'Dekor 2'!Q107","v":0},{"$f":"IF(ISNUMBER('Dekor 2'!J107),'Dekor 2'!E107 & \"x\" & 'Dekor 2'!G107,\"\")","v":""},{"$f":"'Dekor 2'!L107","v":0},{"$f":"'Dekor 2'!N107","v":0},{"$f":"'Dekor 2'!P107","v":0},{"$f":"'Dekor 2'!R107","v":0},{"$f":"'Dekor 2'!X107","v":0},{"$f":"IF(ISNUMBER('Dekor 2'!J107),'Dekor 2'!$AF$20,\"\")","v":""},{"$f":"IF(ISNUMBER('Dekor 2'!J107),'Dekor 2'!$AF$21,\"\")","v":""},{"$f":"IF(ISNUMBER('Dekor 2'!J107),'Dekor 2'!$AF$22,\"\")","v":""},{"$f":"IF(ISNUMBER('Dekor 2'!J107),'Dekor 2'!$AF$23,\"\")","v":""},{"$f":"IF(ISNUMBER('Dekor 2'!J107),'Dekor 2'!$AF$24,\"\")","v":""},{"$f":"'Dekor 2'!Y107","v":0}]
[{"$f":"'Dekor 2'!A108","v":""},{"$f":"'Dekor 2'!B108","v":{"$error":"#NAME?"}},{"$f":"IF(ISNUMBER('Dekor 2'!J108),('Dekor 2'!D108 & \".\" & 'Dekor 2'!U108 & \".\" & 'Dekor 2'!F108 & \".\" & 'Dekor 2'!V108 & \".\" & 'Dekor 2'!H108 & \".\" & 'Dekor 2'!I108),\"\")","v":""},{"$f":"'Dekor 2'!W108","v":0},{"$f":"'Dekor 2'!K108","v":0},{"$f":"'Dekor 2'!M108","v":0},{"$f":"'Dekor 2'!O108","v":0},{"$f":"'Dekor 2'!Q108","v":0},{"$f":"IF(ISNUMBER('Dekor 2'!J108),'Dekor 2'!E108 & \"x\" & 'Dekor 2'!G108,\"\")","v":""},{"$f":"'Dekor 2'!L108","v":0},{"$f":"'Dekor 2'!N108","v":0},{"$f":"'Dekor 2'!P108","v":0},{"$f":"'Dekor 2'!R108","v":0},{"$f":"'Dekor 2'!X108","v":0},{"$f":"IF(ISNUMBER('Dekor 2'!J108),'Dekor 2'!$AF$20,\"\")","v":""},{"$f":"IF(ISNUMBER('Dekor 2'!J108),'Dekor 2'!$AF$21,\"\")","v":""},{"$f":"IF(ISNUMBER('Dekor 2'!J108),'Dekor 2'!$AF$22,\"\")","v":""},{"$f":"IF(ISNUMBER('Dekor 2'!J108),'Dekor 2'!$AF$23,\"\")","v":""},{"$f":"IF(ISNUMBER('Dekor 2'!J108),'Dekor 2'!$AF$24,\"\")","v":""},{"$f":"'Dekor 2'!Y108","v":0}]
[{"$f":"'Dekor 2'!A109","v":""},{"$f":"'Dekor 2'!B109","v":{"$error":"#NAME?"}},{"$f":"IF(ISNUMBER('Dekor 2'!J109),('Dekor 2'!D109 & \".\" & 'Dekor 2'!U109 & \".\" & 'Dekor 2'!F109 & \".\" & 'Dekor 2'!V109 & \".\" & 'Dekor 2'!H109 & \".\" & 'Dekor 2'!I109),\"\")","v":""},{"$f":"'Dekor 2'!W109","v":0},{"$f":"'Dekor 2'!K109","v":0},{"$f":"'Dekor 2'!M109","v":0},{"$f":"'Dekor 2'!O109","v":0},{"$f":"'Dekor 2'!Q109","v":0},{"$f":"IF(ISNUMBER('Dekor 2'!J109),'Dekor 2'!E109 & \"x\" & 'Dekor 2'!G109,\"\")","v":""},{"$f":"'Dekor 2'!L109","v":0},{"$f":"'Dekor 2'!N109","v":0},{"$f":"'Dekor 2'!P109","v":0},{"$f":"'Dekor 2'!R109","v":0},{"$f":"'Dekor 2'!X109","v":0},{"$f":"IF(ISNUMBER('Dekor 2'!J109),'Dekor 2'!$AF$20,\"\")","v":""},{"$f":"IF(ISNUMBER('Dekor 2'!J109),'Dekor 2'!$AF$21,\"\")","v":""},{"$f":"IF(ISNUMBER('Dekor 2'!J109),'Dekor 2'!$AF$22,\"\")","v":""},{"$f":"IF(ISNUMBER('Dekor 2'!J109),'Dekor 2'!$AF$23,\"\")","v":""},{"$f":"IF(ISNUMBER('Dekor 2'!J109),'Dekor 2'!$AF$24,\"\")","v":""},{"$f":"'Dekor 2'!Y109","v":0}]
[{"$f":"'Dekor 2'!A110","v":""},{"$f":"'Dekor 2'!B110","v":{"$error":"#NAME?"}},{"$f":"IF(ISNUMBER('Dekor 2'!J110),('Dekor 2'!D110 & \".\" & 'Dekor 2'!U110 & \".\" & 'Dekor 2'!F110 & \".\" & 'Dekor 2'!V110 & \".\" & 'Dekor 2'!H110 & \".\" & 'Dekor 2'!I110),\"\")","v":""},{"$f":"'Dekor 2'!W110","v":0},{"$f":"'Dekor 2'!K110","v":0},{"$f":"'Dekor 2'!M110","v":0},{"$f":"'Dekor 2'!O110","v":0},{"$f":"'Dekor 2'!Q110","v":0},{"$f":"IF(ISNUMBER('Dekor 2'!J110),'Dekor 2'!E110 & \"x\" & 'Dekor 2'!G110,\"\")","v":""},{"$f":"'Dekor 2'!L110","v":0},{"$f":"'Dekor 2'!N110","v":0},{"$f":"'Dekor 2'!P110","v":0},{"$f":"'Dekor 2'!R110","v":0},{"$f":"'Dekor 2'!X110","v":0},{"$f":"IF(ISNUMBER('Dekor 2'!J110),'Dekor 2'!$AF$20,\"\")","v":""},{"$f":"IF(ISNUMBER('Dekor 2'!J110),'Dekor 2'!$AF$21,\"\")","v":""},{"$f":"IF(ISNUMBER('Dekor 2'!J110),'Dekor 2'!$AF$22,\"\")","v":""},{"$f":"IF(ISNUMBER('Dekor 2'!J110),'Dekor 2'!$AF$23,\"\")","v":""},{"$f":"IF(ISNUMBER('Dekor 2'!J110),'Dekor 2'!$AF$24,\"\")","v":""},{"$f":"'Dekor 2'!Y110","v":0}]
[{"$f":"'Dekor 2'!A111","v":""},{"$f":"'Dekor 2'!B111","v":{"$error":"#NAME?"}},{"$f":"IF(ISNUMBER('Dekor 2'!J111),('Dekor 2'!D111 & \".\" & 'Dekor 2'!U111 & \".\" & 'Dekor 2'!F111 & \".\" & 'Dekor 2'!V111 & \".\" & 'Dekor 2'!H111 & \".\" & 'Dekor 2'!I111),\"\")","v":""},{"$f":"'Dekor 2'!W111","v":0},{"$f":"'Dekor 2'!K111","v":0},{"$f":"'Dekor 2'!M111","v":0},{"$f":"'Dekor 2'!O111","v":0},{"$f":"'Dekor 2'!Q111","v":0},{"$f":"IF(ISNUMBER('Dekor 2'!J111),'Dekor 2'!E111 & \"x\" & 'Dekor 2'!G111,\"\")","v":""},{"$f":"'Dekor 2'!L111","v":0},{"$f":"'Dekor 2'!N111","v":0},{"$f":"'Dekor 2'!P111","v":0},{"$f":"'Dekor 2'!R111","v":0},{"$f":"'Dekor 2'!X111","v":0},{"$f":"IF(ISNUMBER('Dekor 2'!J111),'Dekor 2'!$AF$20,\"\")","v":""},{"$f":"IF(ISNUMBER('Dekor 2'!J111),'Dekor 2'!$AF$21,\"\")","v":""},{"$f":"IF(ISNUMBER('Dekor 2'!J111),'Dekor 2'!$AF$22,\"\")","v":""},{"$f":"IF(ISNUMBER('Dekor 2'!J111),'Dekor 2'!$AF$23,\"\")","v":""},{"$f":"IF(ISNUMBER('Dekor 2'!J111),'Dekor 2'!$AF$24,\"\")","v":""},{"$f":"'Dekor 2'!Y111","v":0}]
[{"$f":"'Dekor 2'!A112","v":""},{"$f":"'Dekor 2'!B112","v":{"$error":"#NAME?"}},{"$f":"IF(ISNUMBER('Dekor 2'!J112),('Dekor 2'!D112 & \".\" & 'Dekor 2'!U112 & \".\" & 'Dekor 2'!F112 & \".\" & 'Dekor 2'!V112 & \".\" & 'Dekor 2'!H112 & \".\" & 'Dekor 2'!I112),\"\")","v":""},{"$f":"'Dekor 2'!W112","v":0},{"$f":"'Dekor 2'!K112","v":0},{"$f":"'Dekor 2'!M112","v":0},{"$f":"'Dekor 2'!O112","v":0},{"$f":"'Dekor 2'!Q112","v":0},{"$f":"IF(ISNUMBER('Dekor 2'!J112),'Dekor 2'!E112 & \"x\" & 'Dekor 2'!G112,\"\")","v":""},{"$f":"'Dekor 2'!L112","v":0},{"$f":"'Dekor 2'!N112","v":0},{"$f":"'Dekor 2'!P112","v":0},{"$f":"'Dekor 2'!R112","v":0},{"$f":"'Dekor 2'!X112","v":0},{"$f":"IF(ISNUMBER('Dekor 2'!J112),'Dekor 2'!$AF$20,\"\")","v":""},{"$f":"IF(ISNUMBER('Dekor 2'!J112),'Dekor 2'!$AF$21,\"\")","v":""},{"$f":"IF(ISNUMBER('Dekor 2'!J112),'Dekor 2'!$AF$22,\"\")","v":""},{"$f":"IF(ISNUMBER('Dekor 2'!J112),'Dekor 2'!$AF$23,\"\")","v":""},{"$f":"IF(ISNUMBER('Dekor 2'!J112),'Dekor 2'!$AF$24,\"\")","v":""},{"$f":"'Dekor 2'!Y112","v":0}]
[{"$f":"'Dekor 2'!A113","v":""},{"$f":"'Dekor 2'!B113","v":{"$error":"#NAME?"}},{"$f":"IF(ISNUMBER('Dekor 2'!J113),('Dekor 2'!D113 & \".\" & 'Dekor 2'!U113 & \".\" & 'Dekor 2'!F113 & \".\" & 'Dekor 2'!V113 & \".\" & 'Dekor 2'!H113 & \".\" & 'Dekor 2'!I113),\"\")","v":""},{"$f":"'Dekor 2'!W113","v":0},{"$f":"'Dekor 2'!K113","v":0},{"$f":"'Dekor 2'!M113","v":0},{"$f":"'Dekor 2'!O113","v":0},{"$f":"'Dekor 2'!Q113","v":0},{"$f":"IF(ISNUMBER('Dekor 2'!J113),'Dekor 2'!E113 & \"x\" & 'Dekor 2'!G113,\"\")","v":""},{"$f":"'Dekor 2'!L113","v":0},{"$f":"'Dekor 2'!N113","v":0},{"$f":"'Dekor 2'!P113","v":0},{"$f":"'Dekor 2'!R113","v":0},{"$f":"'Dekor 2'!X113","v":0},{"$f":"IF(ISNUMBER('Dekor 2'!J113),'Dekor 2'!$AF$20,\"\")","v":""},{"$f":"IF(ISNUMBER('Dekor 2'!J113),'Dekor 2'!$AF$21,\"\")","v":""},{"$f":"IF(ISNUMBER('Dekor 2'!J113),'Dekor 2'!$AF$22,\"\")","v":""},{"$f":"IF(ISNUMBER('Dekor 2'!J113),'Dekor 2'!$AF$23,\"\")","v":""},{"$f":"IF(ISNUMBER('Dekor 2'!J113),'Dekor 2'!$AF$24,\"\")","v":""},{"$f":"'Dekor 2'!Y113","v":0}]
[{"$f":"'Dekor 2'!A114","v":""},{"$f":"'Dekor 2'!B114","v":{"$error":"#NAME?"}},{"$f":"IF(ISNUMBER('Dekor 2'!J114),('Dekor 2'!D114 & \".\" & 'Dekor 2'!U114 & \".\" & 'Dekor 2'!F114 & \".\" & 'Dekor 2'!V114 & \".\" & 'Dekor 2'!H114 & \".\" & 'Dekor 2'!I114),\"\")","v":""},{"$f":"'Dekor 2'!W114","v":0},{"$f":"'Dekor 2'!K114","v":0},{"$f":"'Dekor 2'!M114","v":0},{"$f":"'Dekor 2'!O114","v":0},{"$f":"'Dekor 2'!Q114","v":0},{"$f":"IF(ISNUMBER('Dekor 2'!J114),'Dekor 2'!E114 & \"x\" & 'Dekor 2'!G114,\"\")","v":""},{"$f":"'Dekor 2'!L114","v":0},{"$f":"'Dekor 2'!N114","v":0},{"$f":"'Dekor 2'!P114","v":0},{"$f":"'Dekor 2'!R114","v":0},{"$f":"'Dekor 2'!X114","v":0},{"$f":"IF(ISNUMBER('Dekor 2'!J114),'Dekor 2'!$AF$20,\"\")","v":""},{"$f":"IF(ISNUMBER('Dekor 2'!J114),'Dekor 2'!$AF$21,\"\")","v":""},{"$f":"IF(ISNUMBER('Dekor 2'!J114),'Dekor 2'!$AF$22,\"\")","v":""},{"$f":"IF(ISNUMBER('Dekor 2'!J114),'Dekor 2'!$AF$23,\"\")","v":""},{"$f":"IF(ISNUMBER('Dekor 2'!J114),'Dekor 2'!$AF$24,\"\")","v":""},{"$f":"'Dekor 2'!Y114","v":0}]
[{"$f":"'Dekor 2'!A115","v":""},{"$f":"'Dekor 2'!B115","v":{"$error":"#NAME?"}},{"$f":"IF(ISNUMBER('Dekor 2'!J115),('Dekor 2'!D115 & \".\" & 'Dekor 2'!U115 & \".\" & 'Dekor 2'!F115 & \".\" & 'Dekor 2'!V115 & \".\" & 'Dekor 2'!H115 & \".\" & 'Dekor 2'!I115),\"\")","v":""},{"$f":"'Dekor 2'!W115","v":0},{"$f":"'Dekor 2'!K115","v":0},{"$f":"'Dekor 2'!M115","v":0},{"$f":"'Dekor 2'!O115","v":0},{"$f":"'Dekor 2'!Q115","v":0},{"$f":"IF(ISNUMBER('Dekor 2'!J115),'Dekor 2'!E115 & \"x\" & 'Dekor 2'!G115,\"\")","v":""},{"$f":"'Dekor 2'!L115","v":0},{"$f":"'Dekor 2'!N115","v":0},{"$f":"'Dekor 2'!P115","v":0},{"$f":"'Dekor 2'!R115","v":0},{"$f":"'Dekor 2'!X115","v":0},{"$f":"IF(ISNUMBER('Dekor 2'!J115),'Dekor 2'!$AF$20,\"\")","v":""},{"$f":"IF(ISNUMBER('Dekor 2'!J115),'Dekor 2'!$AF$21,\"\")","v":""},{"$f":"IF(ISNUMBER('Dekor 2'!J115),'Dekor 2'!$AF$22,\"\")","v":""},{"$f":"IF(ISNUMBER('Dekor 2'!J115),'Dekor 2'!$AF$23,\"\")","v":""},{"$f":"IF(ISNUMBER('Dekor 2'!J115),'Dekor 2'!$AF$24,\"\")","v":""},{"$f":"'Dekor 2'!Y115","v":0}]
[{"$f":"'Dekor 2'!A116","v":""},{"$f":"'Dekor 2'!B116","v":{"$error":"#NAME?"}},{"$f":"IF(ISNUMBER('Dekor 2'!J116),('Dekor 2'!D116 & \".\" & 'Dekor 2'!U116 & \".\" & 'Dekor 2'!F116 & \".\" & 'Dekor 2'!V116 & \".\" & 'Dekor 2'!H116 & \".\" & 'Dekor 2'!I116),\"\")","v":""},{"$f":"'Dekor 2'!W116","v":0},{"$f":"'Dekor 2'!K116","v":0},{"$f":"'Dekor 2'!M116","v":0},{"$f":"'Dekor 2'!O116","v":0},{"$f":"'Dekor 2'!Q116","v":0},{"$f":"IF(ISNUMBER('Dekor 2'!J116),'Dekor 2'!E116 & \"x\" & 'Dekor 2'!G116,\"\")","v":""},{"$f":"'Dekor 2'!L116","v":0},{"$f":"'Dekor 2'!N116","v":0},{"$f":"'Dekor 2'!P116","v":0},{"$f":"'Dekor 2'!R116","v":0},{"$f":"'Dekor 2'!X116","v":0},{"$f":"IF(ISNUMBER('Dekor 2'!J116),'Dekor 2'!$AF$20,\"\")","v":""},{"$f":"IF(ISNUMBER('Dekor 2'!J116),'Dekor 2'!$AF$21,\"\")","v":""},{"$f":"IF(ISNUMBER('Dekor 2'!J116),'Dekor 2'!$AF$22,\"\")","v":""},{"$f":"IF(ISNUMBER('Dekor 2'!J116),'Dekor 2'!$AF$23,\"\")","v":""},{"$f":"IF(ISNUMBER('Dekor 2'!J116),'Dekor 2'!$AF$24,\"\")","v":""},{"$f":"'Dekor 2'!Y116","v":0}]
[{"$f":"'Dekor 2'!A117","v":""},{"$f":"'Dekor 2'!B117","v":{"$error":"#NAME?"}},{"$f":"IF(ISNUMBER('Dekor 2'!J117),('Dekor 2'!D117 & \".\" & 'Dekor 2'!U117 & \".\" & 'Dekor 2'!F117 & \".\" & 'Dekor 2'!V117 & \".\" & 'Dekor 2'!H117 & \".\" & 'Dekor 2'!I117),\"\")","v":""},{"$f":"'Dekor 2'!W117","v":0},{"$f":"'Dekor 2'!K117","v":0},{"$f":"'Dekor 2'!M117","v":0},{"$f":"'Dekor 2'!O117","v":0},{"$f":"'Dekor 2'!Q117","v":0},{"$f":"IF(ISNUMBER('Dekor 2'!J117),'Dekor 2'!E117 & \"x\" & 'Dekor 2'!G117,\"\")","v":""},{"$f":"'Dekor 2'!L117","v":0},{"$f":"'Dekor 2'!N117","v":0},{"$f":"'Dekor 2'!P117","v":0},{"$f":"'Dekor 2'!R117","v":0},{"$f":"'Dekor 2'!X117","v":0},{"$f":"IF(ISNUMBER('Dekor 2'!J117),'Dekor 2'!$AF$20,\"\")","v":""},{"$f":"IF(ISNUMBER('Dekor 2'!J117),'Dekor 2'!$AF$21,\"\")","v":""},{"$f":"IF(ISNUMBER('Dekor 2'!J117),'Dekor 2'!$AF$22,\"\")","v":""},{"$f":"IF(ISNUMBER('Dekor 2'!J117),'Dekor 2'!$AF$23,\"\")","v":""},{"$f":"IF(ISNUMBER('Dekor 2'!J117),'Dekor 2'!$AF$24,\"\")","v":""},{"$f":"'Dekor 2'!Y117","v":0}]
[{"$f":"'Dekor 2'!A118","v":0},{"$f":"'Dekor 2'!B118","v":0},{"$f":"IF(ISNUMBER('Dekor 2'!J118),('Dekor 2'!D118 & \".\" & 'Dekor 2'!U118 & \".\" & 'Dekor 2'!F118 & \".\" & 'Dekor 2'!V118 & \".\" & 'Dekor 2'!H118 & \".\" & 'Dekor 2'!I118),\"\")","v":""},{"$f":"'Dekor 2'!W118","v":0},{"$f":"'Dekor 2'!K118","v":0},{"$f":"'Dekor 2'!M118","v":0},{"$f":"'Dekor 2'!O118","v":0},{"$f":"'Dekor 2'!Q118","v":0},{"$f":"IF(ISNUMBER('Dekor 2'!J118),'Dekor 2'!E118 & \"x\" & 'Dekor 2'!G118,\"\")","v":""},{"$f":"'Dekor 2'!L118","v":0},{"$f":"'Dekor 2'!N118","v":0},{"$f":"'Dekor 2'!P118","v":0},{"$f":"'Dekor 2'!R118","v":0},{"$f":"'Dekor 2'!X118","v":0},{"$f":"IF(ISNUMBER('Dekor 2'!J118),'Dekor 2'!$AD$20,\"\")","v":""},{"$f":"IF(ISNUMBER('Dekor 2'!J118),'Dekor 2'!$AD$21,\"\")","v":""},{"$f":"IF(ISNUMBER('Dekor 2'!J118),'Dekor 2'!$AD$22,\"\")","v":""},{"$f":"IF(ISNUMBER('Dekor 2'!J118),'Dekor 2'!$AD$23,\"\")","v":""},{"$f":"IF(ISNUMBER('Dekor 2'!J118),'Dekor 2'!$AD$24,\"\")","v":""},{"$f":"'Dekor 2'!Y118","v":0}]

{"sheet":"CSV 3","index":8,"n_rows":100,"n_cols":20,"rows_kept":100,"cut":false,"hidden":true,"merged":[]}
[{"$f":"'Dekor 1'!A19","v":"CestaSouboru"},{"$f":"'Dekor 1'!B19","v":"nazev"},"Parametricka pravidla",{"$f":"'Dekor 1'!J19","v":"pocet"},"ohr x1","ohr x2","ohr y1","ohr y2","rozměr","Pozn X1","Pozn X2","Pozn Y1","Pozn Y2","Vysledny rozmer tuplu","22/1","22/0.5","22/2","42/1","42/2","Poznámka"]
[{"$f":"'Dekor 3'!A20","v":""},{"$f":"'Dekor 3'!B20","v":{"$error":"#NAME?"}},{"$f":"IF(ISNUMBER('Dekor 3'!J20),('Dekor 3'!D20 & \".\" & 'Dekor 3'!U20 & \".\" & 'Dekor 3'!F20 & \".\" & 'Dekor 3'!V20 & \".\" & 'Dekor 3'!H20 & \".\" & 'Dekor 3'!I20),\"\")","v":""},{"$f":"'Dekor 3'!W20","v":0},{"$f":"'Dekor 3'!K20","v":0},{"$f":"'Dekor 3'!M20","v":0},{"$f":"'Dekor 3'!O20","v":0},{"$f":"'Dekor 3'!Q20","v":0},{"$f":"IF(ISNUMBER('Dekor 3'!J20),'Dekor 3'!E20 & \"x\" & 'Dekor 3'!G20,\"\")","v":""},{"$f":"'Dekor 3'!L20","v":0},{"$f":"'Dekor 3'!N20","v":0},{"$f":"'Dekor 3'!P20","v":0},{"$f":"'Dekor 3'!R20","v":0},{"$f":"'Dekor 3'!X20","v":0},{"$f":"IF(ISNUMBER('Dekor 3'!J20),'Dekor 3'!$AF$20,\"\")","v":""},{"$f":"IF(ISNUMBER('Dekor 3'!J20),'Dekor 3'!$AF$21,\"\")","v":""},{"$f":"IF(ISNUMBER('Dekor 3'!J20),'Dekor 3'!$AF$22,\"\")","v":""},{"$f":"IF(ISNUMBER('Dekor 3'!J20),'Dekor 3'!$AF$23,\"\")","v":""},{"$f":"IF(ISNUMBER('Dekor 3'!J20),'Dekor 3'!$AF$24,\"\")","v":""},{"$f":"'Dekor 3'!Y20","v":0}]
[{"$f":"'Dekor 3'!A21","v":""},{"$f":"'Dekor 3'!B21","v":{"$error":"#NAME?"}},{"$f":"IF(ISNUMBER('Dekor 3'!J21),('Dekor 3'!D21 & \".\" & 'Dekor 3'!U21 & \".\" & 'Dekor 3'!F21 & \".\" & 'Dekor 3'!V21 & \".\" & 'Dekor 3'!H21 & \".\" & 'Dekor 3'!I21),\"\")","v":""},{"$f":"'Dekor 3'!W21","v":0},{"$f":"'Dekor 3'!K21","v":0},{"$f":"'Dekor 3'!M21","v":0},{"$f":"'Dekor 3'!O21","v":0},{"$f":"'Dekor 3'!Q21","v":0},{"$f":"IF(ISNUMBER('Dekor 3'!J21),'Dekor 3'!E21 & \"x\" & 'Dekor 3'!G21,\"\")","v":""},{"$f":"'Dekor 3'!L21","v":0},{"$f":"'Dekor 3'!N21","v":0},{"$f":"'Dekor 3'!P21","v":0},{"$f":"'Dekor 3'!R21","v":0},{"$f":"'Dekor 3'!X21","v":0},{"$f":"IF(ISNUMBER('Dekor 3'!J21),'Dekor 3'!$AF$20,\"\")","v":""},{"$f":"IF(ISNUMBER('Dekor 3'!J21),'Dekor 3'!$AF$21,\"\")","v":""},{"$f":"IF(ISNUMBER('Dekor 3'!J21),'Dekor 3'!$AF$22,\"\")","v":""},{"$f":"IF(ISNUMBER('Dekor 3'!J21),'Dekor 3'!$AF$23,\"\")","v":""},{"$f":"IF(ISNUMBER('Dekor 3'!J21),'Dekor 3'!$AF$24,\"\")","v":""},{"$f":"'Dekor 3'!Y21","v":0}]
[{"$f":"'Dekor 3'!A22","v":""},{"$f":"'Dekor 3'!B22","v":{"$error":"#NAME?"}},{"$f":"IF(ISNUMBER('Dekor 3'!J22),('Dekor 3'!D22 & \".\" & 'Dekor 3'!U22 & \".\" & 'Dekor 3'!F22 & \".\" & 'Dekor 3'!V22 & \".\" & 'Dekor 3'!H22 & \".\" & 'Dekor 3'!I22),\"\")","v":""},{"$f":"'Dekor 3'!W22","v":0},{"$f":"'Dekor 3'!K22","v":0},{"$f":"'Dekor 3'!M22","v":0},{"$f":"'Dekor 3'!O22","v":0},{"$f":"'Dekor 3'!Q22","v":0},{"$f":"IF(ISNUMBER('Dekor 3'!J22),'Dekor 3'!E22 & \"x\" & 'Dekor 3'!G22,\"\")","v":""},{"$f":"'Dekor 3'!L22","v":0},{"$f":"'Dekor 3'!N22","v":0},{"$f":"'Dekor 3'!P22","v":0},{"$f":"'Dekor 3'!R22","v":0},{"$f":"'Dekor 3'!X22","v":0},{"$f":"IF(ISNUMBER('Dekor 3'!J22),'Dekor 3'!$AF$20,\"\")","v":""},{"$f":"IF(ISNUMBER('Dekor 3'!J22),'Dekor 3'!$AF$21,\"\")","v":""},{"$f":"IF(ISNUMBER('Dekor 3'!J22),'Dekor 3'!$AF$22,\"\")","v":""},{"$f":"IF(ISNUMBER('Dekor 3'!J22),'Dekor 3'!$AF$23,\"\")","v":""},{"$f":"IF(ISNUMBER('Dekor 3'!J22),'Dekor 3'!$AF$24,\"\")","v":""},{"$f":"'Dekor 3'!Y22","v":0}]
[{"$f":"'Dekor 3'!A23","v":""},{"$f":"'Dekor 3'!B23","v":{"$error":"#NAME?"}},{"$f":"IF(ISNUMBER('Dekor 3'!J23),('Dekor 3'!D23 & \".\" & 'Dekor 3'!U23 & \".\" & 'Dekor 3'!F23 & \".\" & 'Dekor 3'!V23 & \".\" & 'Dekor 3'!H23 & \".\" & 'Dekor 3'!I23),\"\")","v":""},{"$f":"'Dekor 3'!W23","v":0},{"$f":"'Dekor 3'!K23","v":0},{"$f":"'Dekor 3'!M23","v":0},{"$f":"'Dekor 3'!O23","v":0},{"$f":"'Dekor 3'!Q23","v":0},{"$f":"IF(ISNUMBER('Dekor 3'!J23),'Dekor 3'!E23 & \"x\" & 'Dekor 3'!G23,\"\")","v":""},{"$f":"'Dekor 3'!L23","v":0},{"$f":"'Dekor 3'!N23","v":0},{"$f":"'Dekor 3'!P23","v":0},{"$f":"'Dekor 3'!R23","v":0},{"$f":"'Dekor 3'!X23","v":0},{"$f":"IF(ISNUMBER('Dekor 3'!J23),'Dekor 3'!$AF$20,\"\")","v":""},{"$f":"IF(ISNUMBER('Dekor 3'!J23),'Dekor 3'!$AF$21,\"\")","v":""},{"$f":"IF(ISNUMBER('Dekor 3'!J23),'Dekor 3'!$AF$22,\"\")","v":""},{"$f":"IF(ISNUMBER('Dekor 3'!J23),'Dekor 3'!$AF$23,\"\")","v":""},{"$f":"IF(ISNUMBER('Dekor 3'!J23),'Dekor 3'!$AF$24,\"\")","v":""},{"$f":"'Dekor 3'!Y23","v":0}]
[{"$f":"'Dekor 3'!A24","v":""},{"$f":"'Dekor 3'!B24","v":{"$error":"#NAME?"}},{"$f":"IF(ISNUMBER('Dekor 3'!J24),('Dekor 3'!D24 & \".\" & 'Dekor 3'!U24 & \".\" & 'Dekor 3'!F24 & \".\" & 'Dekor 3'!V24 & \".\" & 'Dekor 3'!H24 & \".\" & 'Dekor 3'!I24),\"\")","v":""},{"$f":"'Dekor 3'!W24","v":0},{"$f":"'Dekor 3'!K24","v":0},{"$f":"'Dekor 3'!M24","v":0},{"$f":"'Dekor 3'!O24","v":0},{"$f":"'Dekor 3'!Q24","v":0},{"$f":"IF(ISNUMBER('Dekor 3'!J24),'Dekor 3'!E24 & \"x\" & 'Dekor 3'!G24,\"\")","v":""},{"$f":"'Dekor 3'!L24","v":0},{"$f":"'Dekor 3'!N24","v":0},{"$f":"'Dekor 3'!P24","v":0},{"$f":"'Dekor 3'!R24","v":0},{"$f":"'Dekor 3'!X24","v":0},{"$f":"IF(ISNUMBER('Dekor 3'!J24),'Dekor 3'!$AF$20,\"\")","v":""},{"$f":"IF(ISNUMBER('Dekor 3'!J24),'Dekor 3'!$AF$21,\"\")","v":""},{"$f":"IF(ISNUMBER('Dekor 3'!J24),'Dekor 3'!$AF$22,\"\")","v":""},{"$f":"IF(ISNUMBER('Dekor 3'!J24),'Dekor 3'!$AF$23,\"\")","v":""},{"$f":"IF(ISNUMBER('Dekor 3'!J24),'Dekor 3'!$AF$24,\"\")","v":""},{"$f":"'Dekor 3'!Y24","v":0}]
[{"$f":"'Dekor 3'!A25","v":""},{"$f":"'Dekor 3'!B25","v":{"$error":"#NAME?"}},{"$f":"IF(ISNUMBER('Dekor 3'!J25),('Dekor 3'!D25 & \".\" & 'Dekor 3'!U25 & \".\" & 'Dekor 3'!F25 & \".\" & 'Dekor 3'!V25 & \".\" & 'Dekor 3'!H25 & \".\" & 'Dekor 3'!I25),\"\")","v":""},{"$f":"'Dekor 3'!W25","v":0},{"$f":"'Dekor 3'!K25","v":0},{"$f":"'Dekor 3'!M25","v":0},{"$f":"'Dekor 3'!O25","v":0},{"$f":"'Dekor 3'!Q25","v":0},{"$f":"IF(ISNUMBER('Dekor 3'!J25),'Dekor 3'!E25 & \"x\" & 'Dekor 3'!G25,\"\")","v":""},{"$f":"'Dekor 3'!L25","v":0},{"$f":"'Dekor 3'!N25","v":0},{"$f":"'Dekor 3'!P25","v":0},{"$f":"'Dekor 3'!R25","v":0},{"$f":"'Dekor 3'!X25","v":0},{"$f":"IF(ISNUMBER('Dekor 3'!J25),'Dekor 3'!$AF$20,\"\")","v":""},{"$f":"IF(ISNUMBER('Dekor 3'!J25),'Dekor 3'!$AF$21,\"\")","v":""},{"$f":"IF(ISNUMBER('Dekor 3'!J25),'Dekor 3'!$AF$22,\"\")","v":""},{"$f":"IF(ISNUMBER('Dekor 3'!J25),'Dekor 3'!$AF$23,\"\")","v":""},{"$f":"IF(ISNUMBER('Dekor 3'!J25),'Dekor 3'!$AF$24,\"\")","v":""},{"$f":"'Dekor 3'!Y25","v":0}]
[{"$f":"'Dekor 3'!A26","v":""},{"$f":"'Dekor 3'!B26","v":{"$error":"#NAME?"}},{"$f":"IF(ISNUMBER('Dekor 3'!J26),('Dekor 3'!D26 & \".\" & 'Dekor 3'!U26 & \".\" & 'Dekor 3'!F26 & \".\" & 'Dekor 3'!V26 & \".\" & 'Dekor 3'!H26 & \".\" & 'Dekor 3'!I26),\"\")","v":""},{"$f":"'Dekor 3'!W26","v":0},{"$f":"'Dekor 3'!K26","v":0},{"$f":"'Dekor 3'!M26","v":0},{"$f":"'Dekor 3'!O26","v":0},{"$f":"'Dekor 3'!Q26","v":0},{"$f":"IF(ISNUMBER('Dekor 3'!J26),'Dekor 3'!E26 & \"x\" & 'Dekor 3'!G26,\"\")","v":""},{"$f":"'Dekor 3'!L26","v":0},{"$f":"'Dekor 3'!N26","v":0},{"$f":"'Dekor 3'!P26","v":0},{"$f":"'Dekor 3'!R26","v":0},{"$f":"'Dekor 3'!X26","v":0},{"$f":"IF(ISNUMBER('Dekor 3'!J26),'Dekor 3'!$AF$20,\"\")","v":""},{"$f":"IF(ISNUMBER('Dekor 3'!J26),'Dekor 3'!$AF$21,\"\")","v":""},{"$f":"IF(ISNUMBER('Dekor 3'!J26),'Dekor 3'!$AF$22,\"\")","v":""},{"$f":"IF(ISNUMBER('Dekor 3'!J26),'Dekor 3'!$AF$23,\"\")","v":""},{"$f":"IF(ISNUMBER('Dekor 3'!J26),'Dekor 3'!$AF$24,\"\")","v":""},{"$f":"'Dekor 3'!Y26","v":0}]
[{"$f":"'Dekor 3'!A27","v":""},{"$f":"'Dekor 3'!B27","v":{"$error":"#NAME?"}},{"$f":"IF(ISNUMBER('Dekor 3'!J27),('Dekor 3'!D27 & \".\" & 'Dekor 3'!U27 & \".\" & 'Dekor 3'!F27 & \".\" & 'Dekor 3'!V27 & \".\" & 'Dekor 3'!H27 & \".\" & 'Dekor 3'!I27),\"\")","v":""},{"$f":"'Dekor 3'!W27","v":0},{"$f":"'Dekor 3'!K27","v":0},{"$f":"'Dekor 3'!M27","v":0},{"$f":"'Dekor 3'!O27","v":0},{"$f":"'Dekor 3'!Q27","v":0},{"$f":"IF(ISNUMBER('Dekor 3'!J27),'Dekor 3'!E27 & \"x\" & 'Dekor 3'!G27,\"\")","v":""},{"$f":"'Dekor 3'!L27","v":0},{"$f":"'Dekor 3'!N27","v":0},{"$f":"'Dekor 3'!P27","v":0},{"$f":"'Dekor 3'!R27","v":0},{"$f":"'Dekor 3'!X27","v":0},{"$f":"IF(ISNUMBER('Dekor 3'!J27),'Dekor 3'!$AF$20,\"\")","v":""},{"$f":"IF(ISNUMBER('Dekor 3'!J27),'Dekor 3'!$AF$21,\"\")","v":""},{"$f":"IF(ISNUMBER('Dekor 3'!J27),'Dekor 3'!$AF$22,\"\")","v":""},{"$f":"IF(ISNUMBER('Dekor 3'!J27),'Dekor 3'!$AF$23,\"\")","v":""},{"$f":"IF(ISNUMBER('Dekor 3'!J27),'Dekor 3'!$AF$24,\"\")","v":""},{"$f":"'Dekor 3'!Y27","v":0}]
[{"$f":"'Dekor 3'!A28","v":""},{"$f":"'Dekor 3'!B28","v":{"$error":"#NAME?"}},{"$f":"IF(ISNUMBER('Dekor 3'!J28),('Dekor 3'!D28 & \".\" & 'Dekor 3'!U28 & \".\" & 'Dekor 3'!F28 & \".\" & 'Dekor 3'!V28 & \".\" & 'Dekor 3'!H28 & \".\" & 'Dekor 3'!I28),\"\")","v":""},{"$f":"'Dekor 3'!W28","v":0},{"$f":"'Dekor 3'!K28","v":0},{"$f":"'Dekor 3'!M28","v":0},{"$f":"'Dekor 3'!O28","v":0},{"$f":"'Dekor 3'!Q28","v":0},{"$f":"IF(ISNUMBER('Dekor 3'!J28),'Dekor 3'!E28 & \"x\" & 'Dekor 3'!G28,\"\")","v":""},{"$f":"'Dekor 3'!L28","v":0},{"$f":"'Dekor 3'!N28","v":0},{"$f":"'Dekor 3'!P28","v":0},{"$f":"'Dekor 3'!R28","v":0},{"$f":"'Dekor 3'!X28","v":0},{"$f":"IF(ISNUMBER('Dekor 3'!J28),'Dekor 3'!$AF$20,\"\")","v":""},{"$f":"IF(ISNUMBER('Dekor 3'!J28),'Dekor 3'!$AF$21,\"\")","v":""},{"$f":"IF(ISNUMBER('Dekor 3'!J28),'Dekor 3'!$AF$22,\"\")","v":""},{"$f":"IF(ISNUMBER('Dekor 3'!J28),'Dekor 3'!$AF$23,\"\")","v":""},{"$f":"IF(ISNUMBER('Dekor 3'!J28),'Dekor 3'!$AF$24,\"\")","v":""},{"$f":"'Dekor 3'!Y28","v":0}]
[{"$f":"'Dekor 3'!A29","v":""},{"$f":"'Dekor 3'!B29","v":{"$error":"#NAME?"}},{"$f":"IF(ISNUMBER('Dekor 3'!J29),('Dekor 3'!D29 & \".\" & 'Dekor 3'!U29 & \".\" & 'Dekor 3'!F29 & \".\" & 'Dekor 3'!V29 & \".\" & 'Dekor 3'!H29 & \".\" & 'Dekor 3'!I29),\"\")","v":""},{"$f":"'Dekor 3'!W29","v":0},{"$f":"'Dekor 3'!K29","v":0},{"$f":"'Dekor 3'!M29","v":0},{"$f":"'Dekor 3'!O29","v":0},{"$f":"'Dekor 3'!Q29","v":0},{"$f":"IF(ISNUMBER('Dekor 3'!J29),'Dekor 3'!E29 & \"x\" & 'Dekor 3'!G29,\"\")","v":""},{"$f":"'Dekor 3'!L29","v":0},{"$f":"'Dekor 3'!N29","v":0},{"$f":"'Dekor 3'!P29","v":0},{"$f":"'Dekor 3'!R29","v":0},{"$f":"'Dekor 3'!X29","v":0},{"$f":"IF(ISNUMBER('Dekor 3'!J29),'Dekor 3'!$AF$20,\"\")","v":""},{"$f":"IF(ISNUMBER('Dekor 3'!J29),'Dekor 3'!$AF$21,\"\")","v":""},{"$f":"IF(ISNUMBER('Dekor 3'!J29),'Dekor 3'!$AF$22,\"\")","v":""},{"$f":"IF(ISNUMBER('Dekor 3'!J29),'Dekor 3'!$AF$23,\"\")","v":""},{"$f":"IF(ISNUMBER('Dekor 3'!J29),'Dekor 3'!$AF$24,\"\")","v":""},{"$f":"'Dekor 3'!Y29","v":0}]
[{"$f":"'Dekor 3'!A30","v":""},{"$f":"'Dekor 3'!B30","v":{"$error":"#NAME?"}},{"$f":"IF(ISNUMBER('Dekor 3'!J30),('Dekor 3'!D30 & \".\" & 'Dekor 3'!U30 & \".\" & 'Dekor 3'!F30 & \".\" & 'Dekor 3'!V30 & \".\" & 'Dekor 3'!H30 & \".\" & 'Dekor 3'!I30),\"\")","v":""},{"$f":"'Dekor 3'!W30","v":0},{"$f":"'Dekor 3'!K30","v":0},{"$f":"'Dekor 3'!M30","v":0},{"$f":"'Dekor 3'!O30","v":0},{"$f":"'Dekor 3'!Q30","v":0},{"$f":"IF(ISNUMBER('Dekor 3'!J30),'Dekor 3'!E30 & \"x\" & 'Dekor 3'!G30,\"\")","v":""},{"$f":"'Dekor 3'!L30","v":0},{"$f":"'Dekor 3'!N30","v":0},{"$f":"'Dekor 3'!P30","v":0},{"$f":"'Dekor 3'!R30","v":0},{"$f":"'Dekor 3'!X30","v":0},{"$f":"IF(ISNUMBER('Dekor 3'!J30),'Dekor 3'!$AF$20,\"\")","v":""},{"$f":"IF(ISNUMBER('Dekor 3'!J30),'Dekor 3'!$AF$21,\"\")","v":""},{"$f":"IF(ISNUMBER('Dekor 3'!J30),'Dekor 3'!$AF$22,\"\")","v":""},{"$f":"IF(ISNUMBER('Dekor 3'!J30),'Dekor 3'!$AF$23,\"\")","v":""},{"$f":"IF(ISNUMBER('Dekor 3'!J30),'Dekor 3'!$AF$24,\"\")","v":""},{"$f":"'Dekor 3'!Y30","v":0}]
[{"$f":"'Dekor 3'!A31","v":""},{"$f":"'Dekor 3'!B31","v":{"$error":"#NAME?"}},{"$f":"IF(ISNUMBER('Dekor 3'!J31),('Dekor 3'!D31 & \".\" & 'Dekor 3'!U31 & \".\" & 'Dekor 3'!F31 & \".\" & 'Dekor 3'!V31 & \".\" & 'Dekor 3'!H31 & \".\" & 'Dekor 3'!I31),\"\")","v":""},{"$f":"'Dekor 3'!W31","v":0},{"$f":"'Dekor 3'!K31","v":0},{"$f":"'Dekor 3'!M31","v":0},{"$f":"'Dekor 3'!O31","v":0},{"$f":"'Dekor 3'!Q31","v":0},{"$f":"IF(ISNUMBER('Dekor 3'!J31),'Dekor 3'!E31 & \"x\" & 'Dekor 3'!G31,\"\")","v":""},{"$f":"'Dekor 3'!L31","v":0},{"$f":"'Dekor 3'!N31","v":0},{"$f":"'Dekor 3'!P31","v":0},{"$f":"'Dekor 3'!R31","v":0},{"$f":"'Dekor 3'!X31","v":0},{"$f":"IF(ISNUMBER('Dekor 3'!J31),'Dekor 3'!$AF$20,\"\")","v":""},{"$f":"IF(ISNUMBER('Dekor 3'!J31),'Dekor 3'!$AF$21,\"\")","v":""},{"$f":"IF(ISNUMBER('Dekor 3'!J31),'Dekor 3'!$AF$22,\"\")","v":""},{"$f":"IF(ISNUMBER('Dekor 3'!J31),'Dekor 3'!$AF$23,\"\")","v":""},{"$f":"IF(ISNUMBER('Dekor 3'!J31),'Dekor 3'!$AF$24,\"\")","v":""},{"$f":"'Dekor 3'!Y31","v":0}]
[{"$f":"'Dekor 3'!A32","v":""},{"$f":"'Dekor 3'!B32","v":{"$error":"#NAME?"}},{"$f":"IF(ISNUMBER('Dekor 3'!J32),('Dekor 3'!D32 & \".\" & 'Dekor 3'!U32 & \".\" & 'Dekor 3'!F32 & \".\" & 'Dekor 3'!V32 & \".\" & 'Dekor 3'!H32 & \".\" & 'Dekor 3'!I32),\"\")","v":""},{"$f":"'Dekor 3'!W32","v":0},{"$f":"'Dekor 3'!K32","v":0},{"$f":"'Dekor 3'!M32","v":0},{"$f":"'Dekor 3'!O32","v":0},{"$f":"'Dekor 3'!Q32","v":0},{"$f":"IF(ISNUMBER('Dekor 3'!J32),'Dekor 3'!E32 & \"x\" & 'Dekor 3'!G32,\"\")","v":""},{"$f":"'Dekor 3'!L32","v":0},{"$f":"'Dekor 3'!N32","v":0},{"$f":"'Dekor 3'!P32","v":0},{"$f":"'Dekor 3'!R32","v":0},{"$f":"'Dekor 3'!X32","v":0},{"$f":"IF(ISNUMBER('Dekor 3'!J32),'Dekor 3'!$AF$20,\"\")","v":""},{"$f":"IF(ISNUMBER('Dekor 3'!J32),'Dekor 3'!$AF$21,\"\")","v":""},{"$f":"IF(ISNUMBER('Dekor 3'!J32),'Dekor 3'!$AF$22,\"\")","v":""},{"$f":"IF(ISNUMBER('Dekor 3'!J32),'Dekor 3'!$AF$23,\"\")","v":""},{"$f":"IF(ISNUMBER('Dekor 3'!J32),'Dekor 3'!$AF$24,\"\")","v":""},{"$f":"'Dekor 3'!Y32","v":0}]
[{"$f":"'Dekor 3'!A33","v":""},{"$f":"'Dekor 3'!B33","v":{"$error":"#NAME?"}},{"$f":"IF(ISNUMBER('Dekor 3'!J33),('Dekor 3'!D33 & \".\" & 'Dekor 3'!U33 & \".\" & 'Dekor 3'!F33 & \".\" & 'Dekor 3'!V33 & \".\" & 'Dekor 3'!H33 & \".\" & 'Dekor 3'!I33),\"\")","v":""},{"$f":"'Dekor 3'!W33","v":0},{"$f":"'Dekor 3'!K33","v":0},{"$f":"'Dekor 3'!M33","v":0},{"$f":"'Dekor 3'!O33","v":0},{"$f":"'Dekor 3'!Q33","v":0},{"$f":"IF(ISNUMBER('Dekor 3'!J33),'Dekor 3'!E33 & \"x\" & 'Dekor 3'!G33,\"\")","v":""},{"$f":"'Dekor 3'!L33","v":0},{"$f":"'Dekor 3'!N33","v":0},{"$f":"'Dekor 3'!P33","v":0},{"$f":"'Dekor 3'!R33","v":0},{"$f":"'Dekor 3'!X33","v":0},{"$f":"IF(ISNUMBER('Dekor 3'!J33),'Dekor 3'!$AF$20,\"\")","v":""},{"$f":"IF(ISNUMBER('Dekor 3'!J33),'Dekor 3'!$AF$21,\"\")","v":""},{"$f":"IF(ISNUMBER('Dekor 3'!J33),'Dekor 3'!$AF$22,\"\")","v":""},{"$f":"IF(ISNUMBER('Dekor 3'!J33),'Dekor 3'!$AF$23,\"\")","v":""},{"$f":"IF(ISNUMBER('Dekor 3'!J33),'Dekor 3'!$AF$24,\"\")","v":""},{"$f":"'Dekor 3'!Y33","v":0}]
[{"$f":"'Dekor 3'!A34","v":""},{"$f":"'Dekor 3'!B34","v":{"$error":"#NAME?"}},{"$f":"IF(ISNUMBER('Dekor 3'!J34),('Dekor 3'!D34 & \".\" & 'Dekor 3'!U34 & \".\" & 'Dekor 3'!F34 & \".\" & 'Dekor 3'!V34 & \".\" & 'Dekor 3'!H34 & \".\" & 'Dekor 3'!I34),\"\")","v":""},{"$f":"'Dekor 3'!W34","v":0},{"$f":"'Dekor 3'!K34","v":0},{"$f":"'Dekor 3'!M34","v":0},{"$f":"'Dekor 3'!O34","v":0},{"$f":"'Dekor 3'!Q34","v":0},{"$f":"IF(ISNUMBER('Dekor 3'!J34),'Dekor 3'!E34 & \"x\" & 'Dekor 3'!G34,\"\")","v":""},{"$f":"'Dekor 3'!L34","v":0},{"$f":"'Dekor 3'!N34","v":0},{"$f":"'Dekor 3'!P34","v":0},{"$f":"'Dekor 3'!R34","v":0},{"$f":"'Dekor 3'!X34","v":0},{"$f":"IF(ISNUMBER('Dekor 3'!J34),'Dekor 3'!$AF$20,\"\")","v":""},{"$f":"IF(ISNUMBER('Dekor 3'!J34),'Dekor 3'!$AF$21,\"\")","v":""},{"$f":"IF(ISNUMBER('Dekor 3'!J34),'Dekor 3'!$AF$22,\"\")","v":""},{"$f":"IF(ISNUMBER('Dekor 3'!J34),'Dekor 3'!$AF$23,\"\")","v":""},{"$f":"IF(ISNUMBER('Dekor 3'!J34),'Dekor 3'!$AF$24,\"\")","v":""},{"$f":"'Dekor 3'!Y34","v":0}]
[{"$f":"'Dekor 3'!A35","v":""},{"$f":"'Dekor 3'!B35","v":{"$error":"#NAME?"}},{"$f":"IF(ISNUMBER('Dekor 3'!J35),('Dekor 3'!D35 & \".\" & 'Dekor 3'!U35 & \".\" & 'Dekor 3'!F35 & \".\" & 'Dekor 3'!V35 & \".\" & 'Dekor 3'!H35 & \".\" & 'Dekor 3'!I35),\"\")","v":""},{"$f":"'Dekor 3'!W35","v":0},{"$f":"'Dekor 3'!K35","v":0},{"$f":"'Dekor 3'!M35","v":0},{"$f":"'Dekor 3'!O35","v":0},{"$f":"'Dekor 3'!Q35","v":0},{"$f":"IF(ISNUMBER('Dekor 3'!J35),'Dekor 3'!E35 & \"x\" & 'Dekor 3'!G35,\"\")","v":""},{"$f":"'Dekor 3'!L35","v":0},{"$f":"'Dekor 3'!N35","v":0},{"$f":"'Dekor 3'!P35","v":0},{"$f":"'Dekor 3'!R35","v":0},{"$f":"'Dekor 3'!X35","v":0},{"$f":"IF(ISNUMBER('Dekor 3'!J35),'Dekor 3'!$AF$20,\"\")","v":""},{"$f":"IF(ISNUMBER('Dekor 3'!J35),'Dekor 3'!$AF$21,\"\")","v":""},{"$f":"IF(ISNUMBER('Dekor 3'!J35),'Dekor 3'!$AF$22,\"\")","v":""},{"$f":"IF(ISNUMBER('Dekor 3'!J35),'Dekor 3'!$AF$23,\"\")","v":""},{"$f":"IF(ISNUMBER('Dekor 3'!J35),'Dekor 3'!$AF$24,\"\")","v":""},{"$f":"'Dekor 3'!Y35","v":0}]
[{"$f":"'Dekor 3'!A36","v":""},{"$f":"'Dekor 3'!B36","v":{"$error":"#NAME?"}},{"$f":"IF(ISNUMBER('Dekor 3'!J36),('Dekor 3'!D36 & \".\" & 'Dekor 3'!U36 & \".\" & 'Dekor 3'!F36 & \".\" & 'Dekor 3'!V36 & \".\" & 'Dekor 3'!H36 & \".\" & 'Dekor 3'!I36),\"\")","v":""},{"$f":"'Dekor 3'!W36","v":0},{"$f":"'Dekor 3'!K36","v":0},{"$f":"'Dekor 3'!M36","v":0},{"$f":"'Dekor 3'!O36","v":0},{"$f":"'Dekor 3'!Q36","v":0},{"$f":"IF(ISNUMBER('Dekor 3'!J36),'Dekor 3'!E36 & \"x\" & 'Dekor 3'!G36,\"\")","v":""},{"$f":"'Dekor 3'!L36","v":0},{"$f":"'Dekor 3'!N36","v":0},{"$f":"'Dekor 3'!P36","v":0},{"$f":"'Dekor 3'!R36","v":0},{"$f":"'Dekor 3'!X36","v":0},{"$f":"IF(ISNUMBER('Dekor 3'!J36),'Dekor 3'!$AF$20,\"\")","v":""},{"$f":"IF(ISNUMBER('Dekor 3'!J36),'Dekor 3'!$AF$21,\"\")","v":""},{"$f":"IF(ISNUMBER('Dekor 3'!J36),'Dekor 3'!$AF$22,\"\")","v":""},{"$f":"IF(ISNUMBER('Dekor 3'!J36),'Dekor 3'!$AF$23,\"\")","v":""},{"$f":"IF(ISNUMBER('Dekor 3'!J36),'Dekor 3'!$AF$24,\"\")","v":""},{"$f":"'Dekor 3'!Y36","v":0}]
[{"$f":"'Dekor 3'!A37","v":""},{"$f":"'Dekor 3'!B37","v":{"$error":"#NAME?"}},{"$f":"IF(ISNUMBER('Dekor 3'!J37),('Dekor 3'!D37 & \".\" & 'Dekor 3'!U37 & \".\" & 'Dekor 3'!F37 & \".\" & 'Dekor 3'!V37 & \".\" & 'Dekor 3'!H37 & \".\" & 'Dekor 3'!I37),\"\")","v":""},{"$f":"'Dekor 3'!W37","v":0},{"$f":"'Dekor 3'!K37","v":0},{"$f":"'Dekor 3'!M37","v":0},{"$f":"'Dekor 3'!O37","v":0},{"$f":"'Dekor 3'!Q37","v":0},{"$f":"IF(ISNUMBER('Dekor 3'!J37),'Dekor 3'!E37 & \"x\" & 'Dekor 3'!G37,\"\")","v":""},{"$f":"'Dekor 3'!L37","v":0},{"$f":"'Dekor 3'!N37","v":0},{"$f":"'Dekor 3'!P37","v":0},{"$f":"'Dekor 3'!R37","v":0},{"$f":"'Dekor 3'!X37","v":0},{"$f":"IF(ISNUMBER('Dekor 3'!J37),'Dekor 3'!$AF$20,\"\")","v":""},{"$f":"IF(ISNUMBER('Dekor 3'!J37),'Dekor 3'!$AF$21,\"\")","v":""},{"$f":"IF(ISNUMBER('Dekor 3'!J37),'Dekor 3'!$AF$22,\"\")","v":""},{"$f":"IF(ISNUMBER('Dekor 3'!J37),'Dekor 3'!$AF$23,\"\")","v":""},{"$f":"IF(ISNUMBER('Dekor 3'!J37),'Dekor 3'!$AF$24,\"\")","v":""},{"$f":"'Dekor 3'!Y37","v":0}]
[{"$f":"'Dekor 3'!A38","v":""},{"$f":"'Dekor 3'!B38","v":{"$error":"#NAME?"}},{"$f":"IF(ISNUMBER('Dekor 3'!J38),('Dekor 3'!D38 & \".\" & 'Dekor 3'!U38 & \".\" & 'Dekor 3'!F38 & \".\" & 'Dekor 3'!V38 & \".\" & 'Dekor 3'!H38 & \".\" & 'Dekor 3'!I38),\"\")","v":""},{"$f":"'Dekor 3'!W38","v":0},{"$f":"'Dekor 3'!K38","v":0},{"$f":"'Dekor 3'!M38","v":0},{"$f":"'Dekor 3'!O38","v":0},{"$f":"'Dekor 3'!Q38","v":0},{"$f":"IF(ISNUMBER('Dekor 3'!J38),'Dekor 3'!E38 & \"x\" & 'Dekor 3'!G38,\"\")","v":""},{"$f":"'Dekor 3'!L38","v":0},{"$f":"'Dekor 3'!N38","v":0},{"$f":"'Dekor 3'!P38","v":0},{"$f":"'Dekor 3'!R38","v":0},{"$f":"'Dekor 3'!X38","v":0},{"$f":"IF(ISNUMBER('Dekor 3'!J38),'Dekor 3'!$AF$20,\"\")","v":""},{"$f":"IF(ISNUMBER('Dekor 3'!J38),'Dekor 3'!$AF$21,\"\")","v":""},{"$f":"IF(ISNUMBER('Dekor 3'!J38),'Dekor 3'!$AF$22,\"\")","v":""},{"$f":"IF(ISNUMBER('Dekor 3'!J38),'Dekor 3'!$AF$23,\"\")","v":""},{"$f":"IF(ISNUMBER('Dekor 3'!J38),'Dekor 3'!$AF$24,\"\")","v":""},{"$f":"'Dekor 3'!Y38","v":0}]
[{"$f":"'Dekor 3'!A39","v":""},{"$f":"'Dekor 3'!B39","v":{"$error":"#NAME?"}},{"$f":"IF(ISNUMBER('Dekor 3'!J39),('Dekor 3'!D39 & \".\" & 'Dekor 3'!U39 & \".\" & 'Dekor 3'!F39 & \".\" & 'Dekor 3'!V39 & \".\" & 'Dekor 3'!H39 & \".\" & 'Dekor 3'!I39),\"\")","v":""},{"$f":"'Dekor 3'!W39","v":0},{"$f":"'Dekor 3'!K39","v":0},{"$f":"'Dekor 3'!M39","v":0},{"$f":"'Dekor 3'!O39","v":0},{"$f":"'Dekor 3'!Q39","v":0},{"$f":"IF(ISNUMBER('Dekor 3'!J39),'Dekor 3'!E39 & \"x\" & 'Dekor 3'!G39,\"\")","v":""},{"$f":"'Dekor 3'!L39","v":0},{"$f":"'Dekor 3'!N39","v":0},{"$f":"'Dekor 3'!P39","v":0},{"$f":"'Dekor 3'!R39","v":0},{"$f":"'Dekor 3'!X39","v":0},{"$f":"IF(ISNUMBER('Dekor 3'!J39),'Dekor 3'!$AF$20,\"\")","v":""},{"$f":"IF(ISNUMBER('Dekor 3'!J39),'Dekor 3'!$AF$21,\"\")","v":""},{"$f":"IF(ISNUMBER('Dekor 3'!J39),'Dekor 3'!$AF$22,\"\")","v":""},{"$f":"IF(ISNUMBER('Dekor 3'!J39),'Dekor 3'!$AF$23,\"\")","v":""},{"$f":"IF(ISNUMBER('Dekor 3'!J39),'Dekor 3'!$AF$24,\"\")","v":""},{"$f":"'Dekor 3'!Y39","v":0}]
[{"$f":"'Dekor 3'!A40","v":""},{"$f":"'Dekor 3'!B40","v":{"$error":"#NAME?"}},{"$f":"IF(ISNUMBER('Dekor 3'!J40),('Dekor 3'!D40 & \".\" & 'Dekor 3'!U40 & \".\" & 'Dekor 3'!F40 & \".\" & 'Dekor 3'!V40 & \".\" & 'Dekor 3'!H40 & \".\" & 'Dekor 3'!I40),\"\")","v":""},{"$f":"'Dekor 3'!W40","v":0},{"$f":"'Dekor 3'!K40","v":0},{"$f":"'Dekor 3'!M40","v":0},{"$f":"'Dekor 3'!O40","v":0},{"$f":"'Dekor 3'!Q40","v":0},{"$f":"IF(ISNUMBER('Dekor 3'!J40),'Dekor 3'!E40 & \"x\" & 'Dekor 3'!G40,\"\")","v":""},{"$f":"'Dekor 3'!L40","v":0},{"$f":"'Dekor 3'!N40","v":0},{"$f":"'Dekor 3'!P40","v":0},{"$f":"'Dekor 3'!R40","v":0},{"$f":"'Dekor 3'!X40","v":0},{"$f":"IF(ISNUMBER('Dekor 3'!J40),'Dekor 3'!$AF$20,\"\")","v":""},{"$f":"IF(ISNUMBER('Dekor 3'!J40),'Dekor 3'!$AF$21,\"\")","v":""},{"$f":"IF(ISNUMBER('Dekor 3'!J40),'Dekor 3'!$AF$22,\"\")","v":""},{"$f":"IF(ISNUMBER('Dekor 3'!J40),'Dekor 3'!$AF$23,\"\")","v":""},{"$f":"IF(ISNUMBER('Dekor 3'!J40),'Dekor 3'!$AF$24,\"\")","v":""},{"$f":"'Dekor 3'!Y40","v":0}]
[{"$f":"'Dekor 3'!A41","v":""},{"$f":"'Dekor 3'!B41","v":{"$error":"#NAME?"}},{"$f":"IF(ISNUMBER('Dekor 3'!J41),('Dekor 3'!D41 & \".\" & 'Dekor 3'!U41 & \".\" & 'Dekor 3'!F41 & \".\" & 'Dekor 3'!V41 & \".\" & 'Dekor 3'!H41 & \".\" & 'Dekor 3'!I41),\"\")","v":""},{"$f":"'Dekor 3'!W41","v":0},{"$f":"'Dekor 3'!K41","v":0},{"$f":"'Dekor 3'!M41","v":0},{"$f":"'Dekor 3'!O41","v":0},{"$f":"'Dekor 3'!Q41","v":0},{"$f":"IF(ISNUMBER('Dekor 3'!J41),'Dekor 3'!E41 & \"x\" & 'Dekor 3'!G41,\"\")","v":""},{"$f":"'Dekor 3'!L41","v":0},{"$f":"'Dekor 3'!N41","v":0},{"$f":"'Dekor 3'!P41","v":0},{"$f":"'Dekor 3'!R41","v":0},{"$f":"'Dekor 3'!X41","v":0},{"$f":"IF(ISNUMBER('Dekor 3'!J41),'Dekor 3'!$AF$20,\"\")","v":""},{"$f":"IF(ISNUMBER('Dekor 3'!J41),'Dekor 3'!$AF$21,\"\")","v":""},{"$f":"IF(ISNUMBER('Dekor 3'!J41),'Dekor 3'!$AF$22,\"\")","v":""},{"$f":"IF(ISNUMBER('Dekor 3'!J41),'Dekor 3'!$AF$23,\"\")","v":""},{"$f":"IF(ISNUMBER('Dekor 3'!J41),'Dekor 3'!$AF$24,\"\")","v":""},{"$f":"'Dekor 3'!Y41","v":0}]
[{"$f":"'Dekor 3'!A42","v":""},{"$f":"'Dekor 3'!B42","v":{"$error":"#NAME?"}},{"$f":"IF(ISNUMBER('Dekor 3'!J42),('Dekor 3'!D42 & \".\" & 'Dekor 3'!U42 & \".\" & 'Dekor 3'!F42 & \".\" & 'Dekor 3'!V42 & \".\" & 'Dekor 3'!H42 & \".\" & 'Dekor 3'!I42),\"\")","v":""},{"$f":"'Dekor 3'!W42","v":0},{"$f":"'Dekor 3'!K42","v":0},{"$f":"'Dekor 3'!M42","v":0},{"$f":"'Dekor 3'!O42","v":0},{"$f":"'Dekor 3'!Q42","v":0},{"$f":"IF(ISNUMBER('Dekor 3'!J42),'Dekor 3'!E42 & \"x\" & 'Dekor 3'!G42,\"\")","v":""},{"$f":"'Dekor 3'!L42","v":0},{"$f":"'Dekor 3'!N42","v":0},{"$f":"'Dekor 3'!P42","v":0},{"$f":"'Dekor 3'!R42","v":0},{"$f":"'Dekor 3'!X42","v":0},{"$f":"IF(ISNUMBER('Dekor 3'!J42),'Dekor 3'!$AF$20,\"\")","v":""},{"$f":"IF(ISNUMBER('Dekor 3'!J42),'Dekor 3'!$AF$21,\"\")","v":""},{"$f":"IF(ISNUMBER('Dekor 3'!J42),'Dekor 3'!$AF$22,\"\")","v":""},{"$f":"IF(ISNUMBER('Dekor 3'!J42),'Dekor 3'!$AF$23,\"\")","v":""},{"$f":"IF(ISNUMBER('Dekor 3'!J42),'Dekor 3'!$AF$24,\"\")","v":""},{"$f":"'Dekor 3'!Y42","v":0}]
[{"$f":"'Dekor 3'!A43","v":""},{"$f":"'Dekor 3'!B43","v":{"$error":"#NAME?"}},{"$f":"IF(ISNUMBER('Dekor 3'!J43),('Dekor 3'!D43 & \".\" & 'Dekor 3'!U43 & \".\" & 'Dekor 3'!F43 & \".\" & 'Dekor 3'!V43 & \".\" & 'Dekor 3'!H43 & \".\" & 'Dekor 3'!I43),\"\")","v":""},{"$f":"'Dekor 3'!W43","v":0},{"$f":"'Dekor 3'!K43","v":0},{"$f":"'Dekor 3'!M43","v":0},{"$f":"'Dekor 3'!O43","v":0},{"$f":"'Dekor 3'!Q43","v":0},{"$f":"IF(ISNUMBER('Dekor 3'!J43),'Dekor 3'!E43 & \"x\" & 'Dekor 3'!G43,\"\")","v":""},{"$f":"'Dekor 3'!L43","v":0},{"$f":"'Dekor 3'!N43","v":0},{"$f":"'Dekor 3'!P43","v":0},{"$f":"'Dekor 3'!R43","v":0},{"$f":"'Dekor 3'!X43","v":0},{"$f":"IF(ISNUMBER('Dekor 3'!J43),'Dekor 3'!$AF$20,\"\")","v":""},{"$f":"IF(ISNUMBER('Dekor 3'!J43),'Dekor 3'!$AF$21,\"\")","v":""},{"$f":"IF(ISNUMBER('Dekor 3'!J43),'Dekor 3'!$AF$22,\"\")","v":""},{"$f":"IF(ISNUMBER('Dekor 3'!J43),'Dekor 3'!$AF$23,\"\")","v":""},{"$f":"IF(ISNUMBER('Dekor 3'!J43),'Dekor 3'!$AF$24,\"\")","v":""},{"$f":"'Dekor 3'!Y43","v":0}]
[{"$f":"'Dekor 3'!A44","v":""},{"$f":"'Dekor 3'!B44","v":{"$error":"#NAME?"}},{"$f":"IF(ISNUMBER('Dekor 3'!J44),('Dekor 3'!D44 & \".\" & 'Dekor 3'!U44 & \".\" & 'Dekor 3'!F44 & \".\" & 'Dekor 3'!V44 & \".\" & 'Dekor 3'!H44 & \".\" & 'Dekor 3'!I44),\"\")","v":""},{"$f":"'Dekor 3'!W44","v":0},{"$f":"'Dekor 3'!K44","v":0},{"$f":"'Dekor 3'!M44","v":0},{"$f":"'Dekor 3'!O44","v":0},{"$f":"'Dekor 3'!Q44","v":0},{"$f":"IF(ISNUMBER('Dekor 3'!J44),'Dekor 3'!E44 & \"x\" & 'Dekor 3'!G44,\"\")","v":""},{"$f":"'Dekor 3'!L44","v":0},{"$f":"'Dekor 3'!N44","v":0},{"$f":"'Dekor 3'!P44","v":0},{"$f":"'Dekor 3'!R44","v":0},{"$f":"'Dekor 3'!X44","v":0},{"$f":"IF(ISNUMBER('Dekor 3'!J44),'Dekor 3'!$AF$20,\"\")","v":""},{"$f":"IF(ISNUMBER('Dekor 3'!J44),'Dekor 3'!$AF$21,\"\")","v":""},{"$f":"IF(ISNUMBER('Dekor 3'!J44),'Dekor 3'!$AF$22,\"\")","v":""},{"$f":"IF(ISNUMBER('Dekor 3'!J44),'Dekor 3'!$AF$23,\"\")","v":""},{"$f":"IF(ISNUMBER('Dekor 3'!J44),'Dekor 3'!$AF$24,\"\")","v":""},{"$f":"'Dekor 3'!Y44","v":0}]
[{"$f":"'Dekor 3'!A45","v":""},{"$f":"'Dekor 3'!B45","v":{"$error":"#NAME?"}},{"$f":"IF(ISNUMBER('Dekor 3'!J45),('Dekor 3'!D45 & \".\" & 'Dekor 3'!U45 & \".\" & 'Dekor 3'!F45 & \".\" & 'Dekor 3'!V45 & \".\" & 'Dekor 3'!H45 & \".\" & 'Dekor 3'!I45),\"\")","v":""},{"$f":"'Dekor 3'!W45","v":0},{"$f":"'Dekor 3'!K45","v":0},{"$f":"'Dekor 3'!M45","v":0},{"$f":"'Dekor 3'!O45","v":0},{"$f":"'Dekor 3'!Q45","v":0},{"$f":"IF(ISNUMBER('Dekor 3'!J45),'Dekor 3'!E45 & \"x\" & 'Dekor 3'!G45,\"\")","v":""},{"$f":"'Dekor 3'!L45","v":0},{"$f":"'Dekor 3'!N45","v":0},{"$f":"'Dekor 3'!P45","v":0},{"$f":"'Dekor 3'!R45","v":0},{"$f":"'Dekor 3'!X45","v":0},{"$f":"IF(ISNUMBER('Dekor 3'!J45),'Dekor 3'!$AF$20,\"\")","v":""},{"$f":"IF(ISNUMBER('Dekor 3'!J45),'Dekor 3'!$AF$21,\"\")","v":""},{"$f":"IF(ISNUMBER('Dekor 3'!J45),'Dekor 3'!$AF$22,\"\")","v":""},{"$f":"IF(ISNUMBER('Dekor 3'!J45),'Dekor 3'!$AF$23,\"\")","v":""},{"$f":"IF(ISNUMBER('Dekor 3'!J45),'Dekor 3'!$AF$24,\"\")","v":""},{"$f":"'Dekor 3'!Y45","v":0}]
[{"$f":"'Dekor 3'!A46","v":""},{"$f":"'Dekor 3'!B46","v":{"$error":"#NAME?"}},{"$f":"IF(ISNUMBER('Dekor 3'!J46),('Dekor 3'!D46 & \".\" & 'Dekor 3'!U46 & \".\" & 'Dekor 3'!F46 & \".\" & 'Dekor 3'!V46 & \".\" & 'Dekor 3'!H46 & \".\" & 'Dekor 3'!I46),\"\")","v":""},{"$f":"'Dekor 3'!W46","v":0},{"$f":"'Dekor 3'!K46","v":0},{"$f":"'Dekor 3'!M46","v":0},{"$f":"'Dekor 3'!O46","v":0},{"$f":"'Dekor 3'!Q46","v":0},{"$f":"IF(ISNUMBER('Dekor 3'!J46),'Dekor 3'!E46 & \"x\" & 'Dekor 3'!G46,\"\")","v":""},{"$f":"'Dekor 3'!L46","v":0},{"$f":"'Dekor 3'!N46","v":0},{"$f":"'Dekor 3'!P46","v":0},{"$f":"'Dekor 3'!R46","v":0},{"$f":"'Dekor 3'!X46","v":0},{"$f":"IF(ISNUMBER('Dekor 3'!J46),'Dekor 3'!$AF$20,\"\")","v":""},{"$f":"IF(ISNUMBER('Dekor 3'!J46),'Dekor 3'!$AF$21,\"\")","v":""},{"$f":"IF(ISNUMBER('Dekor 3'!J46),'Dekor 3'!$AF$22,\"\")","v":""},{"$f":"IF(ISNUMBER('Dekor 3'!J46),'Dekor 3'!$AF$23,\"\")","v":""},{"$f":"IF(ISNUMBER('Dekor 3'!J46),'Dekor 3'!$AF$24,\"\")","v":""},{"$f":"'Dekor 3'!Y46","v":0}]
[{"$f":"'Dekor 3'!A47","v":""},{"$f":"'Dekor 3'!B47","v":{"$error":"#NAME?"}},{"$f":"IF(ISNUMBER('Dekor 3'!J47),('Dekor 3'!D47 & \".\" & 'Dekor 3'!U47 & \".\" & 'Dekor 3'!F47 & \".\" & 'Dekor 3'!V47 & \".\" & 'Dekor 3'!H47 & \".\" & 'Dekor 3'!I47),\"\")","v":""},{"$f":"'Dekor 3'!W47","v":0},{"$f":"'Dekor 3'!K47","v":0},{"$f":"'Dekor 3'!M47","v":0},{"$f":"'Dekor 3'!O47","v":0},{"$f":"'Dekor 3'!Q47","v":0},{"$f":"IF(ISNUMBER('Dekor 3'!J47),'Dekor 3'!E47 & \"x\" & 'Dekor 3'!G47,\"\")","v":""},{"$f":"'Dekor 3'!L47","v":0},{"$f":"'Dekor 3'!N47","v":0},{"$f":"'Dekor 3'!P47","v":0},{"$f":"'Dekor 3'!R47","v":0},{"$f":"'Dekor 3'!X47","v":0},{"$f":"IF(ISNUMBER('Dekor 3'!J47),'Dekor 3'!$AF$20,\"\")","v":""},{"$f":"IF(ISNUMBER('Dekor 3'!J47),'Dekor 3'!$AF$21,\"\")","v":""},{"$f":"IF(ISNUMBER('Dekor 3'!J47),'Dekor 3'!$AF$22,\"\")","v":""},{"$f":"IF(ISNUMBER('Dekor 3'!J47),'Dekor 3'!$AF$23,\"\")","v":""},{"$f":"IF(ISNUMBER('Dekor 3'!J47),'Dekor 3'!$AF$24,\"\")","v":""},{"$f":"'Dekor 3'!Y47","v":0}]
[{"$f":"'Dekor 3'!A48","v":""},{"$f":"'Dekor 3'!B48","v":{"$error":"#NAME?"}},{"$f":"IF(ISNUMBER('Dekor 3'!J48),('Dekor 3'!D48 & \".\" & 'Dekor 3'!U48 & \".\" & 'Dekor 3'!F48 & \".\" & 'Dekor 3'!V48 & \".\" & 'Dekor 3'!H48 & \".\" & 'Dekor 3'!I48),\"\")","v":""},{"$f":"'Dekor 3'!W48","v":0},{"$f":"'Dekor 3'!K48","v":0},{"$f":"'Dekor 3'!M48","v":0},{"$f":"'Dekor 3'!O48","v":0},{"$f":"'Dekor 3'!Q48","v":0},{"$f":"IF(ISNUMBER('Dekor 3'!J48),'Dekor 3'!E48 & \"x\" & 'Dekor 3'!G48,\"\")","v":""},{"$f":"'Dekor 3'!L48","v":0},{"$f":"'Dekor 3'!N48","v":0},{"$f":"'Dekor 3'!P48","v":0},{"$f":"'Dekor 3'!R48","v":0},{"$f":"'Dekor 3'!X48","v":0},{"$f":"IF(ISNUMBER('Dekor 3'!J48),'Dekor 3'!$AF$20,\"\")","v":""},{"$f":"IF(ISNUMBER('Dekor 3'!J48),'Dekor 3'!$AF$21,\"\")","v":""},{"$f":"IF(ISNUMBER('Dekor 3'!J48),'Dekor 3'!$AF$22,\"\")","v":""},{"$f":"IF(ISNUMBER('Dekor 3'!J48),'Dekor 3'!$AF$23,\"\")","v":""},{"$f":"IF(ISNUMBER('Dekor 3'!J48),'Dekor 3'!$AF$24,\"\")","v":""},{"$f":"'Dekor 3'!Y48","v":0}]
[{"$f":"'Dekor 3'!A49","v":""},{"$f":"'Dekor 3'!B49","v":{"$error":"#NAME?"}},{"$f":"IF(ISNUMBER('Dekor 3'!J49),('Dekor 3'!D49 & \".\" & 'Dekor 3'!U49 & \".\" & 'Dekor 3'!F49 & \".\" & 'Dekor 3'!V49 & \".\" & 'Dekor 3'!H49 & \".\" & 'Dekor 3'!I49),\"\")","v":""},{"$f":"'Dekor 3'!W49","v":0},{"$f":"'Dekor 3'!K49","v":0},{"$f":"'Dekor 3'!M49","v":0},{"$f":"'Dekor 3'!O49","v":0},{"$f":"'Dekor 3'!Q49","v":0},{"$f":"IF(ISNUMBER('Dekor 3'!J49),'Dekor 3'!E49 & \"x\" & 'Dekor 3'!G49,\"\")","v":""},{"$f":"'Dekor 3'!L49","v":0},{"$f":"'Dekor 3'!N49","v":0},{"$f":"'Dekor 3'!P49","v":0},{"$f":"'Dekor 3'!R49","v":0},{"$f":"'Dekor 3'!X49","v":0},{"$f":"IF(ISNUMBER('Dekor 3'!J49),'Dekor 3'!$AF$20,\"\")","v":""},{"$f":"IF(ISNUMBER('Dekor 3'!J49),'Dekor 3'!$AF$21,\"\")","v":""},{"$f":"IF(ISNUMBER('Dekor 3'!J49),'Dekor 3'!$AF$22,\"\")","v":""},{"$f":"IF(ISNUMBER('Dekor 3'!J49),'Dekor 3'!$AF$23,\"\")","v":""},{"$f":"IF(ISNUMBER('Dekor 3'!J49),'Dekor 3'!$AF$24,\"\")","v":""},{"$f":"'Dekor 3'!Y49","v":0}]
[{"$f":"'Dekor 3'!A50","v":""},{"$f":"'Dekor 3'!B50","v":{"$error":"#NAME?"}},{"$f":"IF(ISNUMBER('Dekor 3'!J50),('Dekor 3'!D50 & \".\" & 'Dekor 3'!U50 & \".\" & 'Dekor 3'!F50 & \".\" & 'Dekor 3'!V50 & \".\" & 'Dekor 3'!H50 & \".\" & 'Dekor 3'!I50),\"\")","v":""},{"$f":"'Dekor 3'!W50","v":0},{"$f":"'Dekor 3'!K50","v":0},{"$f":"'Dekor 3'!M50","v":0},{"$f":"'Dekor 3'!O50","v":0},{"$f":"'Dekor 3'!Q50","v":0},{"$f":"IF(ISNUMBER('Dekor 3'!J50),'Dekor 3'!E50 & \"x\" & 'Dekor 3'!G50,\"\")","v":""},{"$f":"'Dekor 3'!L50","v":0},{"$f":"'Dekor 3'!N50","v":0},{"$f":"'Dekor 3'!P50","v":0},{"$f":"'Dekor 3'!R50","v":0},{"$f":"'Dekor 3'!X50","v":0},{"$f":"IF(ISNUMBER('Dekor 3'!J50),'Dekor 3'!$AF$20,\"\")","v":""},{"$f":"IF(ISNUMBER('Dekor 3'!J50),'Dekor 3'!$AF$21,\"\")","v":""},{"$f":"IF(ISNUMBER('Dekor 3'!J50),'Dekor 3'!$AF$22,\"\")","v":""},{"$f":"IF(ISNUMBER('Dekor 3'!J50),'Dekor 3'!$AF$23,\"\")","v":""},{"$f":"IF(ISNUMBER('Dekor 3'!J50),'Dekor 3'!$AF$24,\"\")","v":""},{"$f":"'Dekor 3'!Y50","v":0}]
[{"$f":"'Dekor 3'!A51","v":""},{"$f":"'Dekor 3'!B51","v":{"$error":"#NAME?"}},{"$f":"IF(ISNUMBER('Dekor 3'!J51),('Dekor 3'!D51 & \".\" & 'Dekor 3'!U51 & \".\" & 'Dekor 3'!F51 & \".\" & 'Dekor 3'!V51 & \".\" & 'Dekor 3'!H51 & \".\" & 'Dekor 3'!I51),\"\")","v":""},{"$f":"'Dekor 3'!W51","v":0},{"$f":"'Dekor 3'!K51","v":0},{"$f":"'Dekor 3'!M51","v":0},{"$f":"'Dekor 3'!O51","v":0},{"$f":"'Dekor 3'!Q51","v":0},{"$f":"IF(ISNUMBER('Dekor 3'!J51),'Dekor 3'!E51 & \"x\" & 'Dekor 3'!G51,\"\")","v":""},{"$f":"'Dekor 3'!L51","v":0},{"$f":"'Dekor 3'!N51","v":0},{"$f":"'Dekor 3'!P51","v":0},{"$f":"'Dekor 3'!R51","v":0},{"$f":"'Dekor 3'!X51","v":0},{"$f":"IF(ISNUMBER('Dekor 3'!J51),'Dekor 3'!$AF$20,\"\")","v":""},{"$f":"IF(ISNUMBER('Dekor 3'!J51),'Dekor 3'!$AF$21,\"\")","v":""},{"$f":"IF(ISNUMBER('Dekor 3'!J51),'Dekor 3'!$AF$22,\"\")","v":""},{"$f":"IF(ISNUMBER('Dekor 3'!J51),'Dekor 3'!$AF$23,\"\")","v":""},{"$f":"IF(ISNUMBER('Dekor 3'!J51),'Dekor 3'!$AF$24,\"\")","v":""},{"$f":"'Dekor 3'!Y51","v":0}]
[{"$f":"'Dekor 3'!A52","v":""},{"$f":"'Dekor 3'!B52","v":{"$error":"#NAME?"}},{"$f":"IF(ISNUMBER('Dekor 3'!J52),('Dekor 3'!D52 & \".\" & 'Dekor 3'!U52 & \".\" & 'Dekor 3'!F52 & \".\" & 'Dekor 3'!V52 & \".\" & 'Dekor 3'!H52 & \".\" & 'Dekor 3'!I52),\"\")","v":""},{"$f":"'Dekor 3'!W52","v":0},{"$f":"'Dekor 3'!K52","v":0},{"$f":"'Dekor 3'!M52","v":0},{"$f":"'Dekor 3'!O52","v":0},{"$f":"'Dekor 3'!Q52","v":0},{"$f":"IF(ISNUMBER('Dekor 3'!J52),'Dekor 3'!E52 & \"x\" & 'Dekor 3'!G52,\"\")","v":""},{"$f":"'Dekor 3'!L52","v":0},{"$f":"'Dekor 3'!N52","v":0},{"$f":"'Dekor 3'!P52","v":0},{"$f":"'Dekor 3'!R52","v":0},{"$f":"'Dekor 3'!X52","v":0},{"$f":"IF(ISNUMBER('Dekor 3'!J52),'Dekor 3'!$AF$20,\"\")","v":""},{"$f":"IF(ISNUMBER('Dekor 3'!J52),'Dekor 3'!$AF$21,\"\")","v":""},{"$f":"IF(ISNUMBER('Dekor 3'!J52),'Dekor 3'!$AF$22,\"\")","v":""},{"$f":"IF(ISNUMBER('Dekor 3'!J52),'Dekor 3'!$AF$23,\"\")","v":""},{"$f":"IF(ISNUMBER('Dekor 3'!J52),'Dekor 3'!$AF$24,\"\")","v":""},{"$f":"'Dekor 3'!Y52","v":0}]
[{"$f":"'Dekor 3'!A53","v":""},{"$f":"'Dekor 3'!B53","v":{"$error":"#NAME?"}},{"$f":"IF(ISNUMBER('Dekor 3'!J53),('Dekor 3'!D53 & \".\" & 'Dekor 3'!U53 & \".\" & 'Dekor 3'!F53 & \".\" & 'Dekor 3'!V53 & \".\" & 'Dekor 3'!H53 & \".\" & 'Dekor 3'!I53),\"\")","v":""},{"$f":"'Dekor 3'!W53","v":0},{"$f":"'Dekor 3'!K53","v":0},{"$f":"'Dekor 3'!M53","v":0},{"$f":"'Dekor 3'!O53","v":0},{"$f":"'Dekor 3'!Q53","v":0},{"$f":"IF(ISNUMBER('Dekor 3'!J53),'Dekor 3'!E53 & \"x\" & 'Dekor 3'!G53,\"\")","v":""},{"$f":"'Dekor 3'!L53","v":0},{"$f":"'Dekor 3'!N53","v":0},{"$f":"'Dekor 3'!P53","v":0},{"$f":"'Dekor 3'!R53","v":0},{"$f":"'Dekor 3'!X53","v":0},{"$f":"IF(ISNUMBER('Dekor 3'!J53),'Dekor 3'!$AF$20,\"\")","v":""},{"$f":"IF(ISNUMBER('Dekor 3'!J53),'Dekor 3'!$AF$21,\"\")","v":""},{"$f":"IF(ISNUMBER('Dekor 3'!J53),'Dekor 3'!$AF$22,\"\")","v":""},{"$f":"IF(ISNUMBER('Dekor 3'!J53),'Dekor 3'!$AF$23,\"\")","v":""},{"$f":"IF(ISNUMBER('Dekor 3'!J53),'Dekor 3'!$AF$24,\"\")","v":""},{"$f":"'Dekor 3'!Y53","v":0}]
[{"$f":"'Dekor 3'!A54","v":""},{"$f":"'Dekor 3'!B54","v":{"$error":"#NAME?"}},{"$f":"IF(ISNUMBER('Dekor 3'!J54),('Dekor 3'!D54 & \".\" & 'Dekor 3'!U54 & \".\" & 'Dekor 3'!F54 & \".\" & 'Dekor 3'!V54 & \".\" & 'Dekor 3'!H54 & \".\" & 'Dekor 3'!I54),\"\")","v":""},{"$f":"'Dekor 3'!W54","v":0},{"$f":"'Dekor 3'!K54","v":0},{"$f":"'Dekor 3'!M54","v":0},{"$f":"'Dekor 3'!O54","v":0},{"$f":"'Dekor 3'!Q54","v":0},{"$f":"IF(ISNUMBER('Dekor 3'!J54),'Dekor 3'!E54 & \"x\" & 'Dekor 3'!G54,\"\")","v":""},{"$f":"'Dekor 3'!L54","v":0},{"$f":"'Dekor 3'!N54","v":0},{"$f":"'Dekor 3'!P54","v":0},{"$f":"'Dekor 3'!R54","v":0},{"$f":"'Dekor 3'!X54","v":0},{"$f":"IF(ISNUMBER('Dekor 3'!J54),'Dekor 3'!$AF$20,\"\")","v":""},{"$f":"IF(ISNUMBER('Dekor 3'!J54),'Dekor 3'!$AF$21,\"\")","v":""},{"$f":"IF(ISNUMBER('Dekor 3'!J54),'Dekor 3'!$AF$22,\"\")","v":""},{"$f":"IF(ISNUMBER('Dekor 3'!J54),'Dekor 3'!$AF$23,\"\")","v":""},{"$f":"IF(ISNUMBER('Dekor 3'!J54),'Dekor 3'!$AF$24,\"\")","v":""},{"$f":"'Dekor 3'!Y54","v":0}]
[{"$f":"'Dekor 3'!A55","v":""},{"$f":"'Dekor 3'!B55","v":{"$error":"#NAME?"}},{"$f":"IF(ISNUMBER('Dekor 3'!J55),('Dekor 3'!D55 & \".\" & 'Dekor 3'!U55 & \".\" & 'Dekor 3'!F55 & \".\" & 'Dekor 3'!V55 & \".\" & 'Dekor 3'!H55 & \".\" & 'Dekor 3'!I55),\"\")","v":""},{"$f":"'Dekor 3'!W55","v":0},{"$f":"'Dekor 3'!K55","v":0},{"$f":"'Dekor 3'!M55","v":0},{"$f":"'Dekor 3'!O55","v":0},{"$f":"'Dekor 3'!Q55","v":0},{"$f":"IF(ISNUMBER('Dekor 3'!J55),'Dekor 3'!E55 & \"x\" & 'Dekor 3'!G55,\"\")","v":""},{"$f":"'Dekor 3'!L55","v":0},{"$f":"'Dekor 3'!N55","v":0},{"$f":"'Dekor 3'!P55","v":0},{"$f":"'Dekor 3'!R55","v":0},{"$f":"'Dekor 3'!X55","v":0},{"$f":"IF(ISNUMBER('Dekor 3'!J55),'Dekor 3'!$AF$20,\"\")","v":""},{"$f":"IF(ISNUMBER('Dekor 3'!J55),'Dekor 3'!$AF$21,\"\")","v":""},{"$f":"IF(ISNUMBER('Dekor 3'!J55),'Dekor 3'!$AF$22,\"\")","v":""},{"$f":"IF(ISNUMBER('Dekor 3'!J55),'Dekor 3'!$AF$23,\"\")","v":""},{"$f":"IF(ISNUMBER('Dekor 3'!J55),'Dekor 3'!$AF$24,\"\")","v":""},{"$f":"'Dekor 3'!Y55","v":0}]
[{"$f":"'Dekor 3'!A56","v":""},{"$f":"'Dekor 3'!B56","v":{"$error":"#NAME?"}},{"$f":"IF(ISNUMBER('Dekor 3'!J56),('Dekor 3'!D56 & \".\" & 'Dekor 3'!U56 & \".\" & 'Dekor 3'!F56 & \".\" & 'Dekor 3'!V56 & \".\" & 'Dekor 3'!H56 & \".\" & 'Dekor 3'!I56),\"\")","v":""},{"$f":"'Dekor 3'!W56","v":0},{"$f":"'Dekor 3'!K56","v":0},{"$f":"'Dekor 3'!M56","v":0},{"$f":"'Dekor 3'!O56","v":0},{"$f":"'Dekor 3'!Q56","v":0},{"$f":"IF(ISNUMBER('Dekor 3'!J56),'Dekor 3'!E56 & \"x\" & 'Dekor 3'!G56,\"\")","v":""},{"$f":"'Dekor 3'!L56","v":0},{"$f":"'Dekor 3'!N56","v":0},{"$f":"'Dekor 3'!P56","v":0},{"$f":"'Dekor 3'!R56","v":0},{"$f":"'Dekor 3'!X56","v":0},{"$f":"IF(ISNUMBER('Dekor 3'!J56),'Dekor 3'!$AF$20,\"\")","v":""},{"$f":"IF(ISNUMBER('Dekor 3'!J56),'Dekor 3'!$AF$21,\"\")","v":""},{"$f":"IF(ISNUMBER('Dekor 3'!J56),'Dekor 3'!$AF$22,\"\")","v":""},{"$f":"IF(ISNUMBER('Dekor 3'!J56),'Dekor 3'!$AF$23,\"\")","v":""},{"$f":"IF(ISNUMBER('Dekor 3'!J56),'Dekor 3'!$AF$24,\"\")","v":""},{"$f":"'Dekor 3'!Y56","v":0}]
[{"$f":"'Dekor 3'!A57","v":""},{"$f":"'Dekor 3'!B57","v":{"$error":"#NAME?"}},{"$f":"IF(ISNUMBER('Dekor 3'!J57),('Dekor 3'!D57 & \".\" & 'Dekor 3'!U57 & \".\" & 'Dekor 3'!F57 & \".\" & 'Dekor 3'!V57 & \".\" & 'Dekor 3'!H57 & \".\" & 'Dekor 3'!I57),\"\")","v":""},{"$f":"'Dekor 3'!W57","v":0},{"$f":"'Dekor 3'!K57","v":0},{"$f":"'Dekor 3'!M57","v":0},{"$f":"'Dekor 3'!O57","v":0},{"$f":"'Dekor 3'!Q57","v":0},{"$f":"IF(ISNUMBER('Dekor 3'!J57),'Dekor 3'!E57 & \"x\" & 'Dekor 3'!G57,\"\")","v":""},{"$f":"'Dekor 3'!L57","v":0},{"$f":"'Dekor 3'!N57","v":0},{"$f":"'Dekor 3'!P57","v":0},{"$f":"'Dekor 3'!R57","v":0},{"$f":"'Dekor 3'!X57","v":0},{"$f":"IF(ISNUMBER('Dekor 3'!J57),'Dekor 3'!$AF$20,\"\")","v":""},{"$f":"IF(ISNUMBER('Dekor 3'!J57),'Dekor 3'!$AF$21,\"\")","v":""},{"$f":"IF(ISNUMBER('Dekor 3'!J57),'Dekor 3'!$AF$22,\"\")","v":""},{"$f":"IF(ISNUMBER('Dekor 3'!J57),'Dekor 3'!$AF$23,\"\")","v":""},{"$f":"IF(ISNUMBER('Dekor 3'!J57),'Dekor 3'!$AF$24,\"\")","v":""},{"$f":"'Dekor 3'!Y57","v":0}]
[{"$f":"'Dekor 3'!A58","v":""},{"$f":"'Dekor 3'!B58","v":{"$error":"#NAME?"}},{"$f":"IF(ISNUMBER('Dekor 3'!J58),('Dekor 3'!D58 & \".\" & 'Dekor 3'!U58 & \".\" & 'Dekor 3'!F58 & \".\" & 'Dekor 3'!V58 & \".\" & 'Dekor 3'!H58 & \".\" & 'Dekor 3'!I58),\"\")","v":""},{"$f":"'Dekor 3'!W58","v":0},{"$f":"'Dekor 3'!K58","v":0},{"$f":"'Dekor 3'!M58","v":0},{"$f":"'Dekor 3'!O58","v":0},{"$f":"'Dekor 3'!Q58","v":0},{"$f":"IF(ISNUMBER('Dekor 3'!J58),'Dekor 3'!E58 & \"x\" & 'Dekor 3'!G58,\"\")","v":""},{"$f":"'Dekor 3'!L58","v":0},{"$f":"'Dekor 3'!N58","v":0},{"$f":"'Dekor 3'!P58","v":0},{"$f":"'Dekor 3'!R58","v":0},{"$f":"'Dekor 3'!X58","v":0},{"$f":"IF(ISNUMBER('Dekor 3'!J58),'Dekor 3'!$AF$20,\"\")","v":""},{"$f":"IF(ISNUMBER('Dekor 3'!J58),'Dekor 3'!$AF$21,\"\")","v":""},{"$f":"IF(ISNUMBER('Dekor 3'!J58),'Dekor 3'!$AF$22,\"\")","v":""},{"$f":"IF(ISNUMBER('Dekor 3'!J58),'Dekor 3'!$AF$23,\"\")","v":""},{"$f":"IF(ISNUMBER('Dekor 3'!J58),'Dekor 3'!$AF$24,\"\")","v":""},{"$f":"'Dekor 3'!Y58","v":0}]
[{"$f":"'Dekor 3'!A59","v":""},{"$f":"'Dekor 3'!B59","v":{"$error":"#NAME?"}},{"$f":"IF(ISNUMBER('Dekor 3'!J59),('Dekor 3'!D59 & \".\" & 'Dekor 3'!U59 & \".\" & 'Dekor 3'!F59 & \".\" & 'Dekor 3'!V59 & \".\" & 'Dekor 3'!H59 & \".\" & 'Dekor 3'!I59),\"\")","v":""},{"$f":"'Dekor 3'!W59","v":0},{"$f":"'Dekor 3'!K59","v":0},{"$f":"'Dekor 3'!M59","v":0},{"$f":"'Dekor 3'!O59","v":0},{"$f":"'Dekor 3'!Q59","v":0},{"$f":"IF(ISNUMBER('Dekor 3'!J59),'Dekor 3'!E59 & \"x\" & 'Dekor 3'!G59,\"\")","v":""},{"$f":"'Dekor 3'!L59","v":0},{"$f":"'Dekor 3'!N59","v":0},{"$f":"'Dekor 3'!P59","v":0},{"$f":"'Dekor 3'!R59","v":0},{"$f":"'Dekor 3'!X59","v":0},{"$f":"IF(ISNUMBER('Dekor 3'!J59),'Dekor 3'!$AF$20,\"\")","v":""},{"$f":"IF(ISNUMBER('Dekor 3'!J59),'Dekor 3'!$AF$21,\"\")","v":""},{"$f":"IF(ISNUMBER('Dekor 3'!J59),'Dekor 3'!$AF$22,\"\")","v":""},{"$f":"IF(ISNUMBER('Dekor 3'!J59),'Dekor 3'!$AF$23,\"\")","v":""},{"$f":"IF(ISNUMBER('Dekor 3'!J59),'Dekor 3'!$AF$24,\"\")","v":""},{"$f":"'Dekor 3'!Y59","v":0}]
[{"$f":"'Dekor 3'!A60","v":""},{"$f":"'Dekor 3'!B60","v":{"$error":"#NAME?"}},{"$f":"IF(ISNUMBER('Dekor 3'!J60),('Dekor 3'!D60 & \".\" & 'Dekor 3'!U60 & \".\" & 'Dekor 3'!F60 & \".\" & 'Dekor 3'!V60 & \".\" & 'Dekor 3'!H60 & \".\" & 'Dekor 3'!I60),\"\")","v":""},{"$f":"'Dekor 3'!W60","v":0},{"$f":"'Dekor 3'!K60","v":0},{"$f":"'Dekor 3'!M60","v":0},{"$f":"'Dekor 3'!O60","v":0},{"$f":"'Dekor 3'!Q60","v":0},{"$f":"IF(ISNUMBER('Dekor 3'!J60),'Dekor 3'!E60 & \"x\" & 'Dekor 3'!G60,\"\")","v":""},{"$f":"'Dekor 3'!L60","v":0},{"$f":"'Dekor 3'!N60","v":0},{"$f":"'Dekor 3'!P60","v":0},{"$f":"'Dekor 3'!R60","v":0},{"$f":"'Dekor 3'!X60","v":0},{"$f":"IF(ISNUMBER('Dekor 3'!J60),'Dekor 3'!$AF$20,\"\")","v":""},{"$f":"IF(ISNUMBER('Dekor 3'!J60),'Dekor 3'!$AF$21,\"\")","v":""},{"$f":"IF(ISNUMBER('Dekor 3'!J60),'Dekor 3'!$AF$22,\"\")","v":""},{"$f":"IF(ISNUMBER('Dekor 3'!J60),'Dekor 3'!$AF$23,\"\")","v":""},{"$f":"IF(ISNUMBER('Dekor 3'!J60),'Dekor 3'!$AF$24,\"\")","v":""},{"$f":"'Dekor 3'!Y60","v":0}]
[{"$f":"'Dekor 3'!A61","v":""},{"$f":"'Dekor 3'!B61","v":{"$error":"#NAME?"}},{"$f":"IF(ISNUMBER('Dekor 3'!J61),('Dekor 3'!D61 & \".\" & 'Dekor 3'!U61 & \".\" & 'Dekor 3'!F61 & \".\" & 'Dekor 3'!V61 & \".\" & 'Dekor 3'!H61 & \".\" & 'Dekor 3'!I61),\"\")","v":""},{"$f":"'Dekor 3'!W61","v":0},{"$f":"'Dekor 3'!K61","v":0},{"$f":"'Dekor 3'!M61","v":0},{"$f":"'Dekor 3'!O61","v":0},{"$f":"'Dekor 3'!Q61","v":0},{"$f":"IF(ISNUMBER('Dekor 3'!J61),'Dekor 3'!E61 & \"x\" & 'Dekor 3'!G61,\"\")","v":""},{"$f":"'Dekor 3'!L61","v":0},{"$f":"'Dekor 3'!N61","v":0},{"$f":"'Dekor 3'!P61","v":0},{"$f":"'Dekor 3'!R61","v":0},{"$f":"'Dekor 3'!X61","v":0},{"$f":"IF(ISNUMBER('Dekor 3'!J61),'Dekor 3'!$AF$20,\"\")","v":""},{"$f":"IF(ISNUMBER('Dekor 3'!J61),'Dekor 3'!$AF$21,\"\")","v":""},{"$f":"IF(ISNUMBER('Dekor 3'!J61),'Dekor 3'!$AF$22,\"\")","v":""},{"$f":"IF(ISNUMBER('Dekor 3'!J61),'Dekor 3'!$AF$23,\"\")","v":""},{"$f":"IF(ISNUMBER('Dekor 3'!J61),'Dekor 3'!$AF$24,\"\")","v":""},{"$f":"'Dekor 3'!Y61","v":0}]
[{"$f":"'Dekor 3'!A62","v":""},{"$f":"'Dekor 3'!B62","v":{"$error":"#NAME?"}},{"$f":"IF(ISNUMBER('Dekor 3'!J62),('Dekor 3'!D62 & \".\" & 'Dekor 3'!U62 & \".\" & 'Dekor 3'!F62 & \".\" & 'Dekor 3'!V62 & \".\" & 'Dekor 3'!H62 & \".\" & 'Dekor 3'!I62),\"\")","v":""},{"$f":"'Dekor 3'!W62","v":0},{"$f":"'Dekor 3'!K62","v":0},{"$f":"'Dekor 3'!M62","v":0},{"$f":"'Dekor 3'!O62","v":0},{"$f":"'Dekor 3'!Q62","v":0},{"$f":"IF(ISNUMBER('Dekor 3'!J62),'Dekor 3'!E62 & \"x\" & 'Dekor 3'!G62,\"\")","v":""},{"$f":"'Dekor 3'!L62","v":0},{"$f":"'Dekor 3'!N62","v":0},{"$f":"'Dekor 3'!P62","v":0},{"$f":"'Dekor 3'!R62","v":0},{"$f":"'Dekor 3'!X62","v":0},{"$f":"IF(ISNUMBER('Dekor 3'!J62),'Dekor 3'!$AF$20,\"\")","v":""},{"$f":"IF(ISNUMBER('Dekor 3'!J62),'Dekor 3'!$AF$21,\"\")","v":""},{"$f":"IF(ISNUMBER('Dekor 3'!J62),'Dekor 3'!$AF$22,\"\")","v":""},{"$f":"IF(ISNUMBER('Dekor 3'!J62),'Dekor 3'!$AF$23,\"\")","v":""},{"$f":"IF(ISNUMBER('Dekor 3'!J62),'Dekor 3'!$AF$24,\"\")","v":""},{"$f":"'Dekor 3'!Y62","v":0}]
[{"$f":"'Dekor 3'!A63","v":""},{"$f":"'Dekor 3'!B63","v":{"$error":"#NAME?"}},{"$f":"IF(ISNUMBER('Dekor 3'!J63),('Dekor 3'!D63 & \".\" & 'Dekor 3'!U63 & \".\" & 'Dekor 3'!F63 & \".\" & 'Dekor 3'!V63 & \".\" & 'Dekor 3'!H63 & \".\" & 'Dekor 3'!I63),\"\")","v":""},{"$f":"'Dekor 3'!W63","v":0},{"$f":"'Dekor 3'!K63","v":0},{"$f":"'Dekor 3'!M63","v":0},{"$f":"'Dekor 3'!O63","v":0},{"$f":"'Dekor 3'!Q63","v":0},{"$f":"IF(ISNUMBER('Dekor 3'!J63),'Dekor 3'!E63 & \"x\" & 'Dekor 3'!G63,\"\")","v":""},{"$f":"'Dekor 3'!L63","v":0},{"$f":"'Dekor 3'!N63","v":0},{"$f":"'Dekor 3'!P63","v":0},{"$f":"'Dekor 3'!R63","v":0},{"$f":"'Dekor 3'!X63","v":0},{"$f":"IF(ISNUMBER('Dekor 3'!J63),'Dekor 3'!$AF$20,\"\")","v":""},{"$f":"IF(ISNUMBER('Dekor 3'!J63),'Dekor 3'!$AF$21,\"\")","v":""},{"$f":"IF(ISNUMBER('Dekor 3'!J63),'Dekor 3'!$AF$22,\"\")","v":""},{"$f":"IF(ISNUMBER('Dekor 3'!J63),'Dekor 3'!$AF$23,\"\")","v":""},{"$f":"IF(ISNUMBER('Dekor 3'!J63),'Dekor 3'!$AF$24,\"\")","v":""},{"$f":"'Dekor 3'!Y63","v":0}]
[{"$f":"'Dekor 3'!A64","v":""},{"$f":"'Dekor 3'!B64","v":{"$error":"#NAME?"}},{"$f":"IF(ISNUMBER('Dekor 3'!J64),('Dekor 3'!D64 & \".\" & 'Dekor 3'!U64 & \".\" & 'Dekor 3'!F64 & \".\" & 'Dekor 3'!V64 & \".\" & 'Dekor 3'!H64 & \".\" & 'Dekor 3'!I64),\"\")","v":""},{"$f":"'Dekor 3'!W64","v":0},{"$f":"'Dekor 3'!K64","v":0},{"$f":"'Dekor 3'!M64","v":0},{"$f":"'Dekor 3'!O64","v":0},{"$f":"'Dekor 3'!Q64","v":0},{"$f":"IF(ISNUMBER('Dekor 3'!J64),'Dekor 3'!E64 & \"x\" & 'Dekor 3'!G64,\"\")","v":""},{"$f":"'Dekor 3'!L64","v":0},{"$f":"'Dekor 3'!N64","v":0},{"$f":"'Dekor 3'!P64","v":0},{"$f":"'Dekor 3'!R64","v":0},{"$f":"'Dekor 3'!X64","v":0},{"$f":"IF(ISNUMBER('Dekor 3'!J64),'Dekor 3'!$AF$20,\"\")","v":""},{"$f":"IF(ISNUMBER('Dekor 3'!J64),'Dekor 3'!$AF$21,\"\")","v":""},{"$f":"IF(ISNUMBER('Dekor 3'!J64),'Dekor 3'!$AF$22,\"\")","v":""},{"$f":"IF(ISNUMBER('Dekor 3'!J64),'Dekor 3'!$AF$23,\"\")","v":""},{"$f":"IF(ISNUMBER('Dekor 3'!J64),'Dekor 3'!$AF$24,\"\")","v":""},{"$f":"'Dekor 3'!Y64","v":0}]
[{"$f":"'Dekor 3'!A65","v":""},{"$f":"'Dekor 3'!B65","v":{"$error":"#NAME?"}},{"$f":"IF(ISNUMBER('Dekor 3'!J65),('Dekor 3'!D65 & \".\" & 'Dekor 3'!U65 & \".\" & 'Dekor 3'!F65 & \".\" & 'Dekor 3'!V65 & \".\" & 'Dekor 3'!H65 & \".\" & 'Dekor 3'!I65),\"\")","v":""},{"$f":"'Dekor 3'!W65","v":0},{"$f":"'Dekor 3'!K65","v":0},{"$f":"'Dekor 3'!M65","v":0},{"$f":"'Dekor 3'!O65","v":0},{"$f":"'Dekor 3'!Q65","v":0},{"$f":"IF(ISNUMBER('Dekor 3'!J65),'Dekor 3'!E65 & \"x\" & 'Dekor 3'!G65,\"\")","v":""},{"$f":"'Dekor 3'!L65","v":0},{"$f":"'Dekor 3'!N65","v":0},{"$f":"'Dekor 3'!P65","v":0},{"$f":"'Dekor 3'!R65","v":0},{"$f":"'Dekor 3'!X65","v":0},{"$f":"IF(ISNUMBER('Dekor 3'!J65),'Dekor 3'!$AF$20,\"\")","v":""},{"$f":"IF(ISNUMBER('Dekor 3'!J65),'Dekor 3'!$AF$21,\"\")","v":""},{"$f":"IF(ISNUMBER('Dekor 3'!J65),'Dekor 3'!$AF$22,\"\")","v":""},{"$f":"IF(ISNUMBER('Dekor 3'!J65),'Dekor 3'!$AF$23,\"\")","v":""},{"$f":"IF(ISNUMBER('Dekor 3'!J65),'Dekor 3'!$AF$24,\"\")","v":""},{"$f":"'Dekor 3'!Y65","v":0}]
[{"$f":"'Dekor 3'!A66","v":""},{"$f":"'Dekor 3'!B66","v":{"$error":"#NAME?"}},{"$f":"IF(ISNUMBER('Dekor 3'!J66),('Dekor 3'!D66 & \".\" & 'Dekor 3'!U66 & \".\" & 'Dekor 3'!F66 & \".\" & 'Dekor 3'!V66 & \".\" & 'Dekor 3'!H66 & \".\" & 'Dekor 3'!I66),\"\")","v":""},{"$f":"'Dekor 3'!W66","v":0},{"$f":"'Dekor 3'!K66","v":0},{"$f":"'Dekor 3'!M66","v":0},{"$f":"'Dekor 3'!O66","v":0},{"$f":"'Dekor 3'!Q66","v":0},{"$f":"IF(ISNUMBER('Dekor 3'!J66),'Dekor 3'!E66 & \"x\" & 'Dekor 3'!G66,\"\")","v":""},{"$f":"'Dekor 3'!L66","v":0},{"$f":"'Dekor 3'!N66","v":0},{"$f":"'Dekor 3'!P66","v":0},{"$f":"'Dekor 3'!R66","v":0},{"$f":"'Dekor 3'!X66","v":0},{"$f":"IF(ISNUMBER('Dekor 3'!J66),'Dekor 3'!$AF$20,\"\")","v":""},{"$f":"IF(ISNUMBER('Dekor 3'!J66),'Dekor 3'!$AF$21,\"\")","v":""},{"$f":"IF(ISNUMBER('Dekor 3'!J66),'Dekor 3'!$AF$22,\"\")","v":""},{"$f":"IF(ISNUMBER('Dekor 3'!J66),'Dekor 3'!$AF$23,\"\")","v":""},{"$f":"IF(ISNUMBER('Dekor 3'!J66),'Dekor 3'!$AF$24,\"\")","v":""},{"$f":"'Dekor 3'!Y66","v":0}]
[{"$f":"'Dekor 3'!A67","v":""},{"$f":"'Dekor 3'!B67","v":{"$error":"#NAME?"}},{"$f":"IF(ISNUMBER('Dekor 3'!J67),('Dekor 3'!D67 & \".\" & 'Dekor 3'!U67 & \".\" & 'Dekor 3'!F67 & \".\" & 'Dekor 3'!V67 & \".\" & 'Dekor 3'!H67 & \".\" & 'Dekor 3'!I67),\"\")","v":""},{"$f":"'Dekor 3'!W67","v":0},{"$f":"'Dekor 3'!K67","v":0},{"$f":"'Dekor 3'!M67","v":0},{"$f":"'Dekor 3'!O67","v":0},{"$f":"'Dekor 3'!Q67","v":0},{"$f":"IF(ISNUMBER('Dekor 3'!J67),'Dekor 3'!E67 & \"x\" & 'Dekor 3'!G67,\"\")","v":""},{"$f":"'Dekor 3'!L67","v":0},{"$f":"'Dekor 3'!N67","v":0},{"$f":"'Dekor 3'!P67","v":0},{"$f":"'Dekor 3'!R67","v":0},{"$f":"'Dekor 3'!X67","v":0},{"$f":"IF(ISNUMBER('Dekor 3'!J67),'Dekor 3'!$AF$20,\"\")","v":""},{"$f":"IF(ISNUMBER('Dekor 3'!J67),'Dekor 3'!$AF$21,\"\")","v":""},{"$f":"IF(ISNUMBER('Dekor 3'!J67),'Dekor 3'!$AF$22,\"\")","v":""},{"$f":"IF(ISNUMBER('Dekor 3'!J67),'Dekor 3'!$AF$23,\"\")","v":""},{"$f":"IF(ISNUMBER('Dekor 3'!J67),'Dekor 3'!$AF$24,\"\")","v":""},{"$f":"'Dekor 3'!Y67","v":0}]
[{"$f":"'Dekor 3'!A68","v":""},{"$f":"'Dekor 3'!B68","v":{"$error":"#NAME?"}},{"$f":"IF(ISNUMBER('Dekor 3'!J68),('Dekor 3'!D68 & \".\" & 'Dekor 3'!U68 & \".\" & 'Dekor 3'!F68 & \".\" & 'Dekor 3'!V68 & \".\" & 'Dekor 3'!H68 & \".\" & 'Dekor 3'!I68),\"\")","v":""},{"$f":"'Dekor 3'!W68","v":0},{"$f":"'Dekor 3'!K68","v":0},{"$f":"'Dekor 3'!M68","v":0},{"$f":"'Dekor 3'!O68","v":0},{"$f":"'Dekor 3'!Q68","v":0},{"$f":"IF(ISNUMBER('Dekor 3'!J68),'Dekor 3'!E68 & \"x\" & 'Dekor 3'!G68,\"\")","v":""},{"$f":"'Dekor 3'!L68","v":0},{"$f":"'Dekor 3'!N68","v":0},{"$f":"'Dekor 3'!P68","v":0},{"$f":"'Dekor 3'!R68","v":0},{"$f":"'Dekor 3'!X68","v":0},{"$f":"IF(ISNUMBER('Dekor 3'!J68),'Dekor 3'!$AF$20,\"\")","v":""},{"$f":"IF(ISNUMBER('Dekor 3'!J68),'Dekor 3'!$AF$21,\"\")","v":""},{"$f":"IF(ISNUMBER('Dekor 3'!J68),'Dekor 3'!$AF$22,\"\")","v":""},{"$f":"IF(ISNUMBER('Dekor 3'!J68),'Dekor 3'!$AF$23,\"\")","v":""},{"$f":"IF(ISNUMBER('Dekor 3'!J68),'Dekor 3'!$AF$24,\"\")","v":""},{"$f":"'Dekor 3'!Y68","v":0}]
[{"$f":"'Dekor 3'!A69","v":""},{"$f":"'Dekor 3'!B69","v":{"$error":"#NAME?"}},{"$f":"IF(ISNUMBER('Dekor 3'!J69),('Dekor 3'!D69 & \".\" & 'Dekor 3'!U69 & \".\" & 'Dekor 3'!F69 & \".\" & 'Dekor 3'!V69 & \".\" & 'Dekor 3'!H69 & \".\" & 'Dekor 3'!I69),\"\")","v":""},{"$f":"'Dekor 3'!W69","v":0},{"$f":"'Dekor 3'!K69","v":0},{"$f":"'Dekor 3'!M69","v":0},{"$f":"'Dekor 3'!O69","v":0},{"$f":"'Dekor 3'!Q69","v":0},{"$f":"IF(ISNUMBER('Dekor 3'!J69),'Dekor 3'!E69 & \"x\" & 'Dekor 3'!G69,\"\")","v":""},{"$f":"'Dekor 3'!L69","v":0},{"$f":"'Dekor 3'!N69","v":0},{"$f":"'Dekor 3'!P69","v":0},{"$f":"'Dekor 3'!R69","v":0},{"$f":"'Dekor 3'!X69","v":0},{"$f":"IF(ISNUMBER('Dekor 3'!J69),'Dekor 3'!$AF$20,\"\")","v":""},{"$f":"IF(ISNUMBER('Dekor 3'!J69),'Dekor 3'!$AF$21,\"\")","v":""},{"$f":"IF(ISNUMBER('Dekor 3'!J69),'Dekor 3'!$AF$22,\"\")","v":""},{"$f":"IF(ISNUMBER('Dekor 3'!J69),'Dekor 3'!$AF$23,\"\")","v":""},{"$f":"IF(ISNUMBER('Dekor 3'!J69),'Dekor 3'!$AF$24,\"\")","v":""},{"$f":"'Dekor 3'!Y69","v":0}]
[{"$f":"'Dekor 3'!A70","v":""},{"$f":"'Dekor 3'!B70","v":{"$error":"#NAME?"}},{"$f":"IF(ISNUMBER('Dekor 3'!J70),('Dekor 3'!D70 & \".\" & 'Dekor 3'!U70 & \".\" & 'Dekor 3'!F70 & \".\" & 'Dekor 3'!V70 & \".\" & 'Dekor 3'!H70 & \".\" & 'Dekor 3'!I70),\"\")","v":""},{"$f":"'Dekor 3'!W70","v":0},{"$f":"'Dekor 3'!K70","v":0},{"$f":"'Dekor 3'!M70","v":0},{"$f":"'Dekor 3'!O70","v":0},{"$f":"'Dekor 3'!Q70","v":0},{"$f":"IF(ISNUMBER('Dekor 3'!J70),'Dekor 3'!E70 & \"x\" & 'Dekor 3'!G70,\"\")","v":""},{"$f":"'Dekor 3'!L70","v":0},{"$f":"'Dekor 3'!N70","v":0},{"$f":"'Dekor 3'!P70","v":0},{"$f":"'Dekor 3'!R70","v":0},{"$f":"'Dekor 3'!X70","v":0},{"$f":"IF(ISNUMBER('Dekor 3'!J70),'Dekor 3'!$AF$20,\"\")","v":""},{"$f":"IF(ISNUMBER('Dekor 3'!J70),'Dekor 3'!$AF$21,\"\")","v":""},{"$f":"IF(ISNUMBER('Dekor 3'!J70),'Dekor 3'!$AF$22,\"\")","v":""},{"$f":"IF(ISNUMBER('Dekor 3'!J70),'Dekor 3'!$AF$23,\"\")","v":""},{"$f":"IF(ISNUMBER('Dekor 3'!J70),'Dekor 3'!$AF$24,\"\")","v":""},{"$f":"'Dekor 3'!Y70","v":0}]
[{"$f":"'Dekor 3'!A71","v":""},{"$f":"'Dekor 3'!B71","v":{"$error":"#NAME?"}},{"$f":"IF(ISNUMBER('Dekor 3'!J71),('Dekor 3'!D71 & \".\" & 'Dekor 3'!U71 & \".\" & 'Dekor 3'!F71 & \".\" & 'Dekor 3'!V71 & \".\" & 'Dekor 3'!H71 & \".\" & 'Dekor 3'!I71),\"\")","v":""},{"$f":"'Dekor 3'!W71","v":0},{"$f":"'Dekor 3'!K71","v":0},{"$f":"'Dekor 3'!M71","v":0},{"$f":"'Dekor 3'!O71","v":0},{"$f":"'Dekor 3'!Q71","v":0},{"$f":"IF(ISNUMBER('Dekor 3'!J71),'Dekor 3'!E71 & \"x\" & 'Dekor 3'!G71,\"\")","v":""},{"$f":"'Dekor 3'!L71","v":0},{"$f":"'Dekor 3'!N71","v":0},{"$f":"'Dekor 3'!P71","v":0},{"$f":"'Dekor 3'!R71","v":0},{"$f":"'Dekor 3'!X71","v":0},{"$f":"IF(ISNUMBER('Dekor 3'!J71),'Dekor 3'!$AF$20,\"\")","v":""},{"$f":"IF(ISNUMBER('Dekor 3'!J71),'Dekor 3'!$AF$21,\"\")","v":""},{"$f":"IF(ISNUMBER('Dekor 3'!J71),'Dekor 3'!$AF$22,\"\")","v":""},{"$f":"IF(ISNUMBER('Dekor 3'!J71),'Dekor 3'!$AF$23,\"\")","v":""},{"$f":"IF(ISNUMBER('Dekor 3'!J71),'Dekor 3'!$AF$24,\"\")","v":""},{"$f":"'Dekor 3'!Y71","v":0}]
[{"$f":"'Dekor 3'!A72","v":""},{"$f":"'Dekor 3'!B72","v":{"$error":"#NAME?"}},{"$f":"IF(ISNUMBER('Dekor 3'!J72),('Dekor 3'!D72 & \".\" & 'Dekor 3'!U72 & \".\" & 'Dekor 3'!F72 & \".\" & 'Dekor 3'!V72 & \".\" & 'Dekor 3'!H72 & \".\" & 'Dekor 3'!I72),\"\")","v":""},{"$f":"'Dekor 3'!W72","v":0},{"$f":"'Dekor 3'!K72","v":0},{"$f":"'Dekor 3'!M72","v":0},{"$f":"'Dekor 3'!O72","v":0},{"$f":"'Dekor 3'!Q72","v":0},{"$f":"IF(ISNUMBER('Dekor 3'!J72),'Dekor 3'!E72 & \"x\" & 'Dekor 3'!G72,\"\")","v":""},{"$f":"'Dekor 3'!L72","v":0},{"$f":"'Dekor 3'!N72","v":0},{"$f":"'Dekor 3'!P72","v":0},{"$f":"'Dekor 3'!R72","v":0},{"$f":"'Dekor 3'!X72","v":0},{"$f":"IF(ISNUMBER('Dekor 3'!J72),'Dekor 3'!$AF$20,\"\")","v":""},{"$f":"IF(ISNUMBER('Dekor 3'!J72),'Dekor 3'!$AF$21,\"\")","v":""},{"$f":"IF(ISNUMBER('Dekor 3'!J72),'Dekor 3'!$AF$22,\"\")","v":""},{"$f":"IF(ISNUMBER('Dekor 3'!J72),'Dekor 3'!$AF$23,\"\")","v":""},{"$f":"IF(ISNUMBER('Dekor 3'!J72),'Dekor 3'!$AF$24,\"\")","v":""},{"$f":"'Dekor 3'!Y72","v":0}]
[{"$f":"'Dekor 3'!A73","v":""},{"$f":"'Dekor 3'!B73","v":{"$error":"#NAME?"}},{"$f":"IF(ISNUMBER('Dekor 3'!J73),('Dekor 3'!D73 & \".\" & 'Dekor 3'!U73 & \".\" & 'Dekor 3'!F73 & \".\" & 'Dekor 3'!V73 & \".\" & 'Dekor 3'!H73 & \".\" & 'Dekor 3'!I73),\"\")","v":""},{"$f":"'Dekor 3'!W73","v":0},{"$f":"'Dekor 3'!K73","v":0},{"$f":"'Dekor 3'!M73","v":0},{"$f":"'Dekor 3'!O73","v":0},{"$f":"'Dekor 3'!Q73","v":0},{"$f":"IF(ISNUMBER('Dekor 3'!J73),'Dekor 3'!E73 & \"x\" & 'Dekor 3'!G73,\"\")","v":""},{"$f":"'Dekor 3'!L73","v":0},{"$f":"'Dekor 3'!N73","v":0},{"$f":"'Dekor 3'!P73","v":0},{"$f":"'Dekor 3'!R73","v":0},{"$f":"'Dekor 3'!X73","v":0},{"$f":"IF(ISNUMBER('Dekor 3'!J73),'Dekor 3'!$AF$20,\"\")","v":""},{"$f":"IF(ISNUMBER('Dekor 3'!J73),'Dekor 3'!$AF$21,\"\")","v":""},{"$f":"IF(ISNUMBER('Dekor 3'!J73),'Dekor 3'!$AF$22,\"\")","v":""},{"$f":"IF(ISNUMBER('Dekor 3'!J73),'Dekor 3'!$AF$23,\"\")","v":""},{"$f":"IF(ISNUMBER('Dekor 3'!J73),'Dekor 3'!$AF$24,\"\")","v":""},{"$f":"'Dekor 3'!Y73","v":0}]
[{"$f":"'Dekor 3'!A74","v":""},{"$f":"'Dekor 3'!B74","v":{"$error":"#NAME?"}},{"$f":"IF(ISNUMBER('Dekor 3'!J74),('Dekor 3'!D74 & \".\" & 'Dekor 3'!U74 & \".\" & 'Dekor 3'!F74 & \".\" & 'Dekor 3'!V74 & \".\" & 'Dekor 3'!H74 & \".\" & 'Dekor 3'!I74),\"\")","v":""},{"$f":"'Dekor 3'!W74","v":0},{"$f":"'Dekor 3'!K74","v":0},{"$f":"'Dekor 3'!M74","v":0},{"$f":"'Dekor 3'!O74","v":0},{"$f":"'Dekor 3'!Q74","v":0},{"$f":"IF(ISNUMBER('Dekor 3'!J74),'Dekor 3'!E74 & \"x\" & 'Dekor 3'!G74,\"\")","v":""},{"$f":"'Dekor 3'!L74","v":0},{"$f":"'Dekor 3'!N74","v":0},{"$f":"'Dekor 3'!P74","v":0},{"$f":"'Dekor 3'!R74","v":0},{"$f":"'Dekor 3'!X74","v":0},{"$f":"IF(ISNUMBER('Dekor 3'!J74),'Dekor 3'!$AF$20,\"\")","v":""},{"$f":"IF(ISNUMBER('Dekor 3'!J74),'Dekor 3'!$AF$21,\"\")","v":""},{"$f":"IF(ISNUMBER('Dekor 3'!J74),'Dekor 3'!$AF$22,\"\")","v":""},{"$f":"IF(ISNUMBER('Dekor 3'!J74),'Dekor 3'!$AF$23,\"\")","v":""},{"$f":"IF(ISNUMBER('Dekor 3'!J74),'Dekor 3'!$AF$24,\"\")","v":""},{"$f":"'Dekor 3'!Y74","v":0}]
[{"$f":"'Dekor 3'!A75","v":""},{"$f":"'Dekor 3'!B75","v":{"$error":"#NAME?"}},{"$f":"IF(ISNUMBER('Dekor 3'!J75),('Dekor 3'!D75 & \".\" & 'Dekor 3'!U75 & \".\" & 'Dekor 3'!F75 & \".\" & 'Dekor 3'!V75 & \".\" & 'Dekor 3'!H75 & \".\" & 'Dekor 3'!I75),\"\")","v":""},{"$f":"'Dekor 3'!W75","v":0},{"$f":"'Dekor 3'!K75","v":0},{"$f":"'Dekor 3'!M75","v":0},{"$f":"'Dekor 3'!O75","v":0},{"$f":"'Dekor 3'!Q75","v":0},{"$f":"IF(ISNUMBER('Dekor 3'!J75),'Dekor 3'!E75 & \"x\" & 'Dekor 3'!G75,\"\")","v":""},{"$f":"'Dekor 3'!L75","v":0},{"$f":"'Dekor 3'!N75","v":0},{"$f":"'Dekor 3'!P75","v":0},{"$f":"'Dekor 3'!R75","v":0},{"$f":"'Dekor 3'!X75","v":0},{"$f":"IF(ISNUMBER('Dekor 3'!J75),'Dekor 3'!$AF$20,\"\")","v":""},{"$f":"IF(ISNUMBER('Dekor 3'!J75),'Dekor 3'!$AF$21,\"\")","v":""},{"$f":"IF(ISNUMBER('Dekor 3'!J75),'Dekor 3'!$AF$22,\"\")","v":""},{"$f":"IF(ISNUMBER('Dekor 3'!J75),'Dekor 3'!$AF$23,\"\")","v":""},{"$f":"IF(ISNUMBER('Dekor 3'!J75),'Dekor 3'!$AF$24,\"\")","v":""},{"$f":"'Dekor 3'!Y75","v":0}]
[{"$f":"'Dekor 3'!A76","v":""},{"$f":"'Dekor 3'!B76","v":{"$error":"#NAME?"}},{"$f":"IF(ISNUMBER('Dekor 3'!J76),('Dekor 3'!D76 & \".\" & 'Dekor 3'!U76 & \".\" & 'Dekor 3'!F76 & \".\" & 'Dekor 3'!V76 & \".\" & 'Dekor 3'!H76 & \".\" & 'Dekor 3'!I76),\"\")","v":""},{"$f":"'Dekor 3'!W76","v":0},{"$f":"'Dekor 3'!K76","v":0},{"$f":"'Dekor 3'!M76","v":0},{"$f":"'Dekor 3'!O76","v":0},{"$f":"'Dekor 3'!Q76","v":0},{"$f":"IF(ISNUMBER('Dekor 3'!J76),'Dekor 3'!E76 & \"x\" & 'Dekor 3'!G76,\"\")","v":""},{"$f":"'Dekor 3'!L76","v":0},{"$f":"'Dekor 3'!N76","v":0},{"$f":"'Dekor 3'!P76","v":0},{"$f":"'Dekor 3'!R76","v":0},{"$f":"'Dekor 3'!X76","v":0},{"$f":"IF(ISNUMBER('Dekor 3'!J76),'Dekor 3'!$AF$20,\"\")","v":""},{"$f":"IF(ISNUMBER('Dekor 3'!J76),'Dekor 3'!$AF$21,\"\")","v":""},{"$f":"IF(ISNUMBER('Dekor 3'!J76),'Dekor 3'!$AF$22,\"\")","v":""},{"$f":"IF(ISNUMBER('Dekor 3'!J76),'Dekor 3'!$AF$23,\"\")","v":""},{"$f":"IF(ISNUMBER('Dekor 3'!J76),'Dekor 3'!$AF$24,\"\")","v":""},{"$f":"'Dekor 3'!Y76","v":0}]
[{"$f":"'Dekor 3'!A77","v":""},{"$f":"'Dekor 3'!B77","v":{"$error":"#NAME?"}},{"$f":"IF(ISNUMBER('Dekor 3'!J77),('Dekor 3'!D77 & \".\" & 'Dekor 3'!U77 & \".\" & 'Dekor 3'!F77 & \".\" & 'Dekor 3'!V77 & \".\" & 'Dekor 3'!H77 & \".\" & 'Dekor 3'!I77),\"\")","v":""},{"$f":"'Dekor 3'!W77","v":0},{"$f":"'Dekor 3'!K77","v":0},{"$f":"'Dekor 3'!M77","v":0},{"$f":"'Dekor 3'!O77","v":0},{"$f":"'Dekor 3'!Q77","v":0},{"$f":"IF(ISNUMBER('Dekor 3'!J77),'Dekor 3'!E77 & \"x\" & 'Dekor 3'!G77,\"\")","v":""},{"$f":"'Dekor 3'!L77","v":0},{"$f":"'Dekor 3'!N77","v":0},{"$f":"'Dekor 3'!P77","v":0},{"$f":"'Dekor 3'!R77","v":0},{"$f":"'Dekor 3'!X77","v":0},{"$f":"IF(ISNUMBER('Dekor 3'!J77),'Dekor 3'!$AF$20,\"\")","v":""},{"$f":"IF(ISNUMBER('Dekor 3'!J77),'Dekor 3'!$AF$21,\"\")","v":""},{"$f":"IF(ISNUMBER('Dekor 3'!J77),'Dekor 3'!$AF$22,\"\")","v":""},{"$f":"IF(ISNUMBER('Dekor 3'!J77),'Dekor 3'!$AF$23,\"\")","v":""},{"$f":"IF(ISNUMBER('Dekor 3'!J77),'Dekor 3'!$AF$24,\"\")","v":""},{"$f":"'Dekor 3'!Y77","v":0}]
[{"$f":"'Dekor 3'!A78","v":""},{"$f":"'Dekor 3'!B78","v":{"$error":"#NAME?"}},{"$f":"IF(ISNUMBER('Dekor 3'!J78),('Dekor 3'!D78 & \".\" & 'Dekor 3'!U78 & \".\" & 'Dekor 3'!F78 & \".\" & 'Dekor 3'!V78 & \".\" & 'Dekor 3'!H78 & \".\" & 'Dekor 3'!I78),\"\")","v":""},{"$f":"'Dekor 3'!W78","v":0},{"$f":"'Dekor 3'!K78","v":0},{"$f":"'Dekor 3'!M78","v":0},{"$f":"'Dekor 3'!O78","v":0},{"$f":"'Dekor 3'!Q78","v":0},{"$f":"IF(ISNUMBER('Dekor 3'!J78),'Dekor 3'!E78 & \"x\" & 'Dekor 3'!G78,\"\")","v":""},{"$f":"'Dekor 3'!L78","v":0},{"$f":"'Dekor 3'!N78","v":0},{"$f":"'Dekor 3'!P78","v":0},{"$f":"'Dekor 3'!R78","v":0},{"$f":"'Dekor 3'!X78","v":0},{"$f":"IF(ISNUMBER('Dekor 3'!J78),'Dekor 3'!$AF$20,\"\")","v":""},{"$f":"IF(ISNUMBER('Dekor 3'!J78),'Dekor 3'!$AF$21,\"\")","v":""},{"$f":"IF(ISNUMBER('Dekor 3'!J78),'Dekor 3'!$AF$22,\"\")","v":""},{"$f":"IF(ISNUMBER('Dekor 3'!J78),'Dekor 3'!$AF$23,\"\")","v":""},{"$f":"IF(ISNUMBER('Dekor 3'!J78),'Dekor 3'!$AF$24,\"\")","v":""},{"$f":"'Dekor 3'!Y78","v":0}]
[{"$f":"'Dekor 3'!A79","v":""},{"$f":"'Dekor 3'!B79","v":{"$error":"#NAME?"}},{"$f":"IF(ISNUMBER('Dekor 3'!J79),('Dekor 3'!D79 & \".\" & 'Dekor 3'!U79 & \".\" & 'Dekor 3'!F79 & \".\" & 'Dekor 3'!V79 & \".\" & 'Dekor 3'!H79 & \".\" & 'Dekor 3'!I79),\"\")","v":""},{"$f":"'Dekor 3'!W79","v":0},{"$f":"'Dekor 3'!K79","v":0},{"$f":"'Dekor 3'!M79","v":0},{"$f":"'Dekor 3'!O79","v":0},{"$f":"'Dekor 3'!Q79","v":0},{"$f":"IF(ISNUMBER('Dekor 3'!J79),'Dekor 3'!E79 & \"x\" & 'Dekor 3'!G79,\"\")","v":""},{"$f":"'Dekor 3'!L79","v":0},{"$f":"'Dekor 3'!N79","v":0},{"$f":"'Dekor 3'!P79","v":0},{"$f":"'Dekor 3'!R79","v":0},{"$f":"'Dekor 3'!X79","v":0},{"$f":"IF(ISNUMBER('Dekor 3'!J79),'Dekor 3'!$AF$20,\"\")","v":""},{"$f":"IF(ISNUMBER('Dekor 3'!J79),'Dekor 3'!$AF$21,\"\")","v":""},{"$f":"IF(ISNUMBER('Dekor 3'!J79),'Dekor 3'!$AF$22,\"\")","v":""},{"$f":"IF(ISNUMBER('Dekor 3'!J79),'Dekor 3'!$AF$23,\"\")","v":""},{"$f":"IF(ISNUMBER('Dekor 3'!J79),'Dekor 3'!$AF$24,\"\")","v":""},{"$f":"'Dekor 3'!Y79","v":0}]
[{"$f":"'Dekor 3'!A80","v":""},{"$f":"'Dekor 3'!B80","v":{"$error":"#NAME?"}},{"$f":"IF(ISNUMBER('Dekor 3'!J80),('Dekor 3'!D80 & \".\" & 'Dekor 3'!U80 & \".\" & 'Dekor 3'!F80 & \".\" & 'Dekor 3'!V80 & \".\" & 'Dekor 3'!H80 & \".\" & 'Dekor 3'!I80),\"\")","v":""},{"$f":"'Dekor 3'!W80","v":0},{"$f":"'Dekor 3'!K80","v":0},{"$f":"'Dekor 3'!M80","v":0},{"$f":"'Dekor 3'!O80","v":0},{"$f":"'Dekor 3'!Q80","v":0},{"$f":"IF(ISNUMBER('Dekor 3'!J80),'Dekor 3'!E80 & \"x\" & 'Dekor 3'!G80,\"\")","v":""},{"$f":"'Dekor 3'!L80","v":0},{"$f":"'Dekor 3'!N80","v":0},{"$f":"'Dekor 3'!P80","v":0},{"$f":"'Dekor 3'!R80","v":0},{"$f":"'Dekor 3'!X80","v":0},{"$f":"IF(ISNUMBER('Dekor 3'!J80),'Dekor 3'!$AF$20,\"\")","v":""},{"$f":"IF(ISNUMBER('Dekor 3'!J80),'Dekor 3'!$AF$21,\"\")","v":""},{"$f":"IF(ISNUMBER('Dekor 3'!J80),'Dekor 3'!$AF$22,\"\")","v":""},{"$f":"IF(ISNUMBER('Dekor 3'!J80),'Dekor 3'!$AF$23,\"\")","v":""},{"$f":"IF(ISNUMBER('Dekor 3'!J80),'Dekor 3'!$AF$24,\"\")","v":""},{"$f":"'Dekor 3'!Y80","v":0}]
[{"$f":"'Dekor 3'!A81","v":""},{"$f":"'Dekor 3'!B81","v":{"$error":"#NAME?"}},{"$f":"IF(ISNUMBER('Dekor 3'!J81),('Dekor 3'!D81 & \".\" & 'Dekor 3'!U81 & \".\" & 'Dekor 3'!F81 & \".\" & 'Dekor 3'!V81 & \".\" & 'Dekor 3'!H81 & \".\" & 'Dekor 3'!I81),\"\")","v":""},{"$f":"'Dekor 3'!W81","v":0},{"$f":"'Dekor 3'!K81","v":0},{"$f":"'Dekor 3'!M81","v":0},{"$f":"'Dekor 3'!O81","v":0},{"$f":"'Dekor 3'!Q81","v":0},{"$f":"IF(ISNUMBER('Dekor 3'!J81),'Dekor 3'!E81 & \"x\" & 'Dekor 3'!G81,\"\")","v":""},{"$f":"'Dekor 3'!L81","v":0},{"$f":"'Dekor 3'!N81","v":0},{"$f":"'Dekor 3'!P81","v":0},{"$f":"'Dekor 3'!R81","v":0},{"$f":"'Dekor 3'!X81","v":0},{"$f":"IF(ISNUMBER('Dekor 3'!J81),'Dekor 3'!$AF$20,\"\")","v":""},{"$f":"IF(ISNUMBER('Dekor 3'!J81),'Dekor 3'!$AF$21,\"\")","v":""},{"$f":"IF(ISNUMBER('Dekor 3'!J81),'Dekor 3'!$AF$22,\"\")","v":""},{"$f":"IF(ISNUMBER('Dekor 3'!J81),'Dekor 3'!$AF$23,\"\")","v":""},{"$f":"IF(ISNUMBER('Dekor 3'!J81),'Dekor 3'!$AF$24,\"\")","v":""},{"$f":"'Dekor 3'!Y81","v":0}]
[{"$f":"'Dekor 3'!A82","v":""},{"$f":"'Dekor 3'!B82","v":{"$error":"#NAME?"}},{"$f":"IF(ISNUMBER('Dekor 3'!J82),('Dekor 3'!D82 & \".\" & 'Dekor 3'!U82 & \".\" & 'Dekor 3'!F82 & \".\" & 'Dekor 3'!V82 & \".\" & 'Dekor 3'!H82 & \".\" & 'Dekor 3'!I82),\"\")","v":""},{"$f":"'Dekor 3'!W82","v":0},{"$f":"'Dekor 3'!K82","v":0},{"$f":"'Dekor 3'!M82","v":0},{"$f":"'Dekor 3'!O82","v":0},{"$f":"'Dekor 3'!Q82","v":0},{"$f":"IF(ISNUMBER('Dekor 3'!J82),'Dekor 3'!E82 & \"x\" & 'Dekor 3'!G82,\"\")","v":""},{"$f":"'Dekor 3'!L82","v":0},{"$f":"'Dekor 3'!N82","v":0},{"$f":"'Dekor 3'!P82","v":0},{"$f":"'Dekor 3'!R82","v":0},{"$f":"'Dekor 3'!X82","v":0},{"$f":"IF(ISNUMBER('Dekor 3'!J82),'Dekor 3'!$AF$20,\"\")","v":""},{"$f":"IF(ISNUMBER('Dekor 3'!J82),'Dekor 3'!$AF$21,\"\")","v":""},{"$f":"IF(ISNUMBER('Dekor 3'!J82),'Dekor 3'!$AF$22,\"\")","v":""},{"$f":"IF(ISNUMBER('Dekor 3'!J82),'Dekor 3'!$AF$23,\"\")","v":""},{"$f":"IF(ISNUMBER('Dekor 3'!J82),'Dekor 3'!$AF$24,\"\")","v":""},{"$f":"'Dekor 3'!Y82","v":0}]
[{"$f":"'Dekor 3'!A83","v":""},{"$f":"'Dekor 3'!B83","v":{"$error":"#NAME?"}},{"$f":"IF(ISNUMBER('Dekor 3'!J83),('Dekor 3'!D83 & \".\" & 'Dekor 3'!U83 & \".\" & 'Dekor 3'!F83 & \".\" & 'Dekor 3'!V83 & \".\" & 'Dekor 3'!H83 & \".\" & 'Dekor 3'!I83),\"\")","v":""},{"$f":"'Dekor 3'!W83","v":0},{"$f":"'Dekor 3'!K83","v":0},{"$f":"'Dekor 3'!M83","v":0},{"$f":"'Dekor 3'!O83","v":0},{"$f":"'Dekor 3'!Q83","v":0},{"$f":"IF(ISNUMBER('Dekor 3'!J83),'Dekor 3'!E83 & \"x\" & 'Dekor 3'!G83,\"\")","v":""},{"$f":"'Dekor 3'!L83","v":0},{"$f":"'Dekor 3'!N83","v":0},{"$f":"'Dekor 3'!P83","v":0},{"$f":"'Dekor 3'!R83","v":0},{"$f":"'Dekor 3'!X83","v":0},{"$f":"IF(ISNUMBER('Dekor 3'!J83),'Dekor 3'!$AF$20,\"\")","v":""},{"$f":"IF(ISNUMBER('Dekor 3'!J83),'Dekor 3'!$AF$21,\"\")","v":""},{"$f":"IF(ISNUMBER('Dekor 3'!J83),'Dekor 3'!$AF$22,\"\")","v":""},{"$f":"IF(ISNUMBER('Dekor 3'!J83),'Dekor 3'!$AF$23,\"\")","v":""},{"$f":"IF(ISNUMBER('Dekor 3'!J83),'Dekor 3'!$AF$24,\"\")","v":""},{"$f":"'Dekor 3'!Y83","v":0}]
[{"$f":"'Dekor 3'!A84","v":""},{"$f":"'Dekor 3'!B84","v":{"$error":"#NAME?"}},{"$f":"IF(ISNUMBER('Dekor 3'!J84),('Dekor 3'!D84 & \".\" & 'Dekor 3'!U84 & \".\" & 'Dekor 3'!F84 & \".\" & 'Dekor 3'!V84 & \".\" & 'Dekor 3'!H84 & \".\" & 'Dekor 3'!I84),\"\")","v":""},{"$f":"'Dekor 3'!W84","v":0},{"$f":"'Dekor 3'!K84","v":0},{"$f":"'Dekor 3'!M84","v":0},{"$f":"'Dekor 3'!O84","v":0},{"$f":"'Dekor 3'!Q84","v":0},{"$f":"IF(ISNUMBER('Dekor 3'!J84),'Dekor 3'!E84 & \"x\" & 'Dekor 3'!G84,\"\")","v":""},{"$f":"'Dekor 3'!L84","v":0},{"$f":"'Dekor 3'!N84","v":0},{"$f":"'Dekor 3'!P84","v":0},{"$f":"'Dekor 3'!R84","v":0},{"$f":"'Dekor 3'!X84","v":0},{"$f":"IF(ISNUMBER('Dekor 3'!J84),'Dekor 3'!$AF$20,\"\")","v":""},{"$f":"IF(ISNUMBER('Dekor 3'!J84),'Dekor 3'!$AF$21,\"\")","v":""},{"$f":"IF(ISNUMBER('Dekor 3'!J84),'Dekor 3'!$AF$22,\"\")","v":""},{"$f":"IF(ISNUMBER('Dekor 3'!J84),'Dekor 3'!$AF$23,\"\")","v":""},{"$f":"IF(ISNUMBER('Dekor 3'!J84),'Dekor 3'!$AF$24,\"\")","v":""},{"$f":"'Dekor 3'!Y84","v":0}]
[{"$f":"'Dekor 3'!A85","v":""},{"$f":"'Dekor 3'!B85","v":{"$error":"#NAME?"}},{"$f":"IF(ISNUMBER('Dekor 3'!J85),('Dekor 3'!D85 & \".\" & 'Dekor 3'!U85 & \".\" & 'Dekor 3'!F85 & \".\" & 'Dekor 3'!V85 & \".\" & 'Dekor 3'!H85 & \".\" & 'Dekor 3'!I85),\"\")","v":""},{"$f":"'Dekor 3'!W85","v":0},{"$f":"'Dekor 3'!K85","v":0},{"$f":"'Dekor 3'!M85","v":0},{"$f":"'Dekor 3'!O85","v":0},{"$f":"'Dekor 3'!Q85","v":0},{"$f":"IF(ISNUMBER('Dekor 3'!J85),'Dekor 3'!E85 & \"x\" & 'Dekor 3'!G85,\"\")","v":""},{"$f":"'Dekor 3'!L85","v":0},{"$f":"'Dekor 3'!N85","v":0},{"$f":"'Dekor 3'!P85","v":0},{"$f":"'Dekor 3'!R85","v":0},{"$f":"'Dekor 3'!X85","v":0},{"$f":"IF(ISNUMBER('Dekor 3'!J85),'Dekor 3'!$AF$20,\"\")","v":""},{"$f":"IF(ISNUMBER('Dekor 3'!J85),'Dekor 3'!$AF$21,\"\")","v":""},{"$f":"IF(ISNUMBER('Dekor 3'!J85),'Dekor 3'!$AF$22,\"\")","v":""},{"$f":"IF(ISNUMBER('Dekor 3'!J85),'Dekor 3'!$AF$23,\"\")","v":""},{"$f":"IF(ISNUMBER('Dekor 3'!J85),'Dekor 3'!$AF$24,\"\")","v":""},{"$f":"'Dekor 3'!Y85","v":0}]
[{"$f":"'Dekor 3'!A86","v":""},{"$f":"'Dekor 3'!B86","v":{"$error":"#NAME?"}},{"$f":"IF(ISNUMBER('Dekor 3'!J86),('Dekor 3'!D86 & \".\" & 'Dekor 3'!U86 & \".\" & 'Dekor 3'!F86 & \".\" & 'Dekor 3'!V86 & \".\" & 'Dekor 3'!H86 & \".\" & 'Dekor 3'!I86),\"\")","v":""},{"$f":"'Dekor 3'!W86","v":0},{"$f":"'Dekor 3'!K86","v":0},{"$f":"'Dekor 3'!M86","v":0},{"$f":"'Dekor 3'!O86","v":0},{"$f":"'Dekor 3'!Q86","v":0},{"$f":"IF(ISNUMBER('Dekor 3'!J86),'Dekor 3'!E86 & \"x\" & 'Dekor 3'!G86,\"\")","v":""},{"$f":"'Dekor 3'!L86","v":0},{"$f":"'Dekor 3'!N86","v":0},{"$f":"'Dekor 3'!P86","v":0},{"$f":"'Dekor 3'!R86","v":0},{"$f":"'Dekor 3'!X86","v":0},{"$f":"IF(ISNUMBER('Dekor 3'!J86),'Dekor 3'!$AF$20,\"\")","v":""},{"$f":"IF(ISNUMBER('Dekor 3'!J86),'Dekor 3'!$AF$21,\"\")","v":""},{"$f":"IF(ISNUMBER('Dekor 3'!J86),'Dekor 3'!$AF$22,\"\")","v":""},{"$f":"IF(ISNUMBER('Dekor 3'!J86),'Dekor 3'!$AF$23,\"\")","v":""},{"$f":"IF(ISNUMBER('Dekor 3'!J86),'Dekor 3'!$AF$24,\"\")","v":""},{"$f":"'Dekor 3'!Y86","v":0}]
[{"$f":"'Dekor 3'!A87","v":""},{"$f":"'Dekor 3'!B87","v":{"$error":"#NAME?"}},{"$f":"IF(ISNUMBER('Dekor 3'!J87),('Dekor 3'!D87 & \".\" & 'Dekor 3'!U87 & \".\" & 'Dekor 3'!F87 & \".\" & 'Dekor 3'!V87 & \".\" & 'Dekor 3'!H87 & \".\" & 'Dekor 3'!I87),\"\")","v":""},{"$f":"'Dekor 3'!W87","v":0},{"$f":"'Dekor 3'!K87","v":0},{"$f":"'Dekor 3'!M87","v":0},{"$f":"'Dekor 3'!O87","v":0},{"$f":"'Dekor 3'!Q87","v":0},{"$f":"IF(ISNUMBER('Dekor 3'!J87),'Dekor 3'!E87 & \"x\" & 'Dekor 3'!G87,\"\")","v":""},{"$f":"'Dekor 3'!L87","v":0},{"$f":"'Dekor 3'!N87","v":0},{"$f":"'Dekor 3'!P87","v":0},{"$f":"'Dekor 3'!R87","v":0},{"$f":"'Dekor 3'!X87","v":0},{"$f":"IF(ISNUMBER('Dekor 3'!J87),'Dekor 3'!$AF$20,\"\")","v":""},{"$f":"IF(ISNUMBER('Dekor 3'!J87),'Dekor 3'!$AF$21,\"\")","v":""},{"$f":"IF(ISNUMBER('Dekor 3'!J87),'Dekor 3'!$AF$22,\"\")","v":""},{"$f":"IF(ISNUMBER('Dekor 3'!J87),'Dekor 3'!$AF$23,\"\")","v":""},{"$f":"IF(ISNUMBER('Dekor 3'!J87),'Dekor 3'!$AF$24,\"\")","v":""},{"$f":"'Dekor 3'!Y87","v":0}]
[{"$f":"'Dekor 3'!A88","v":""},{"$f":"'Dekor 3'!B88","v":{"$error":"#NAME?"}},{"$f":"IF(ISNUMBER('Dekor 3'!J88),('Dekor 3'!D88 & \".\" & 'Dekor 3'!U88 & \".\" & 'Dekor 3'!F88 & \".\" & 'Dekor 3'!V88 & \".\" & 'Dekor 3'!H88 & \".\" & 'Dekor 3'!I88),\"\")","v":""},{"$f":"'Dekor 3'!W88","v":0},{"$f":"'Dekor 3'!K88","v":0},{"$f":"'Dekor 3'!M88","v":0},{"$f":"'Dekor 3'!O88","v":0},{"$f":"'Dekor 3'!Q88","v":0},{"$f":"IF(ISNUMBER('Dekor 3'!J88),'Dekor 3'!E88 & \"x\" & 'Dekor 3'!G88,\"\")","v":""},{"$f":"'Dekor 3'!L88","v":0},{"$f":"'Dekor 3'!N88","v":0},{"$f":"'Dekor 3'!P88","v":0},{"$f":"'Dekor 3'!R88","v":0},{"$f":"'Dekor 3'!X88","v":0},{"$f":"IF(ISNUMBER('Dekor 3'!J88),'Dekor 3'!$AF$20,\"\")","v":""},{"$f":"IF(ISNUMBER('Dekor 3'!J88),'Dekor 3'!$AF$21,\"\")","v":""},{"$f":"IF(ISNUMBER('Dekor 3'!J88),'Dekor 3'!$AF$22,\"\")","v":""},{"$f":"IF(ISNUMBER('Dekor 3'!J88),'Dekor 3'!$AF$23,\"\")","v":""},{"$f":"IF(ISNUMBER('Dekor 3'!J88),'Dekor 3'!$AF$24,\"\")","v":""},{"$f":"'Dekor 3'!Y88","v":0}]
[{"$f":"'Dekor 3'!A89","v":""},{"$f":"'Dekor 3'!B89","v":{"$error":"#NAME?"}},{"$f":"IF(ISNUMBER('Dekor 3'!J89),('Dekor 3'!D89 & \".\" & 'Dekor 3'!U89 & \".\" & 'Dekor 3'!F89 & \".\" & 'Dekor 3'!V89 & \".\" & 'Dekor 3'!H89 & \".\" & 'Dekor 3'!I89),\"\")","v":""},{"$f":"'Dekor 3'!W89","v":0},{"$f":"'Dekor 3'!K89","v":0},{"$f":"'Dekor 3'!M89","v":0},{"$f":"'Dekor 3'!O89","v":0},{"$f":"'Dekor 3'!Q89","v":0},{"$f":"IF(ISNUMBER('Dekor 3'!J89),'Dekor 3'!E89 & \"x\" & 'Dekor 3'!G89,\"\")","v":""},{"$f":"'Dekor 3'!L89","v":0},{"$f":"'Dekor 3'!N89","v":0},{"$f":"'Dekor 3'!P89","v":0},{"$f":"'Dekor 3'!R89","v":0},{"$f":"'Dekor 3'!X89","v":0},{"$f":"IF(ISNUMBER('Dekor 3'!J89),'Dekor 3'!$AF$20,\"\")","v":""},{"$f":"IF(ISNUMBER('Dekor 3'!J89),'Dekor 3'!$AF$21,\"\")","v":""},{"$f":"IF(ISNUMBER('Dekor 3'!J89),'Dekor 3'!$AF$22,\"\")","v":""},{"$f":"IF(ISNUMBER('Dekor 3'!J89),'Dekor 3'!$AF$23,\"\")","v":""},{"$f":"IF(ISNUMBER('Dekor 3'!J89),'Dekor 3'!$AF$24,\"\")","v":""},{"$f":"'Dekor 3'!Y89","v":0}]
[{"$f":"'Dekor 3'!A90","v":""},{"$f":"'Dekor 3'!B90","v":{"$error":"#NAME?"}},{"$f":"IF(ISNUMBER('Dekor 3'!J90),('Dekor 3'!D90 & \".\" & 'Dekor 3'!U90 & \".\" & 'Dekor 3'!F90 & \".\" & 'Dekor 3'!V90 & \".\" & 'Dekor 3'!H90 & \".\" & 'Dekor 3'!I90),\"\")","v":""},{"$f":"'Dekor 3'!W90","v":0},{"$f":"'Dekor 3'!K90","v":0},{"$f":"'Dekor 3'!M90","v":0},{"$f":"'Dekor 3'!O90","v":0},{"$f":"'Dekor 3'!Q90","v":0},{"$f":"IF(ISNUMBER('Dekor 3'!J90),'Dekor 3'!E90 & \"x\" & 'Dekor 3'!G90,\"\")","v":""},{"$f":"'Dekor 3'!L90","v":0},{"$f":"'Dekor 3'!N90","v":0},{"$f":"'Dekor 3'!P90","v":0},{"$f":"'Dekor 3'!R90","v":0},{"$f":"'Dekor 3'!X90","v":0},{"$f":"IF(ISNUMBER('Dekor 3'!J90),'Dekor 3'!$AF$20,\"\")","v":""},{"$f":"IF(ISNUMBER('Dekor 3'!J90),'Dekor 3'!$AF$21,\"\")","v":""},{"$f":"IF(ISNUMBER('Dekor 3'!J90),'Dekor 3'!$AF$22,\"\")","v":""},{"$f":"IF(ISNUMBER('Dekor 3'!J90),'Dekor 3'!$AF$23,\"\")","v":""},{"$f":"IF(ISNUMBER('Dekor 3'!J90),'Dekor 3'!$AF$24,\"\")","v":""},{"$f":"'Dekor 3'!Y90","v":0}]
[{"$f":"'Dekor 3'!A91","v":""},{"$f":"'Dekor 3'!B91","v":{"$error":"#NAME?"}},{"$f":"IF(ISNUMBER('Dekor 3'!J91),('Dekor 3'!D91 & \".\" & 'Dekor 3'!U91 & \".\" & 'Dekor 3'!F91 & \".\" & 'Dekor 3'!V91 & \".\" & 'Dekor 3'!H91 & \".\" & 'Dekor 3'!I91),\"\")","v":""},{"$f":"'Dekor 3'!W91","v":0},{"$f":"'Dekor 3'!K91","v":0},{"$f":"'Dekor 3'!M91","v":0},{"$f":"'Dekor 3'!O91","v":0},{"$f":"'Dekor 3'!Q91","v":0},{"$f":"IF(ISNUMBER('Dekor 3'!J91),'Dekor 3'!E91 & \"x\" & 'Dekor 3'!G91,\"\")","v":""},{"$f":"'Dekor 3'!L91","v":0},{"$f":"'Dekor 3'!N91","v":0},{"$f":"'Dekor 3'!P91","v":0},{"$f":"'Dekor 3'!R91","v":0},{"$f":"'Dekor 3'!X91","v":0},{"$f":"IF(ISNUMBER('Dekor 3'!J91),'Dekor 3'!$AF$20,\"\")","v":""},{"$f":"IF(ISNUMBER('Dekor 3'!J91),'Dekor 3'!$AF$21,\"\")","v":""},{"$f":"IF(ISNUMBER('Dekor 3'!J91),'Dekor 3'!$AF$22,\"\")","v":""},{"$f":"IF(ISNUMBER('Dekor 3'!J91),'Dekor 3'!$AF$23,\"\")","v":""},{"$f":"IF(ISNUMBER('Dekor 3'!J91),'Dekor 3'!$AF$24,\"\")","v":""},{"$f":"'Dekor 3'!Y91","v":0}]
[{"$f":"'Dekor 3'!A92","v":""},{"$f":"'Dekor 3'!B92","v":{"$error":"#NAME?"}},{"$f":"IF(ISNUMBER('Dekor 3'!J92),('Dekor 3'!D92 & \".\" & 'Dekor 3'!U92 & \".\" & 'Dekor 3'!F92 & \".\" & 'Dekor 3'!V92 & \".\" & 'Dekor 3'!H92 & \".\" & 'Dekor 3'!I92),\"\")","v":""},{"$f":"'Dekor 3'!W92","v":0},{"$f":"'Dekor 3'!K92","v":0},{"$f":"'Dekor 3'!M92","v":0},{"$f":"'Dekor 3'!O92","v":0},{"$f":"'Dekor 3'!Q92","v":0},{"$f":"IF(ISNUMBER('Dekor 3'!J92),'Dekor 3'!E92 & \"x\" & 'Dekor 3'!G92,\"\")","v":""},{"$f":"'Dekor 3'!L92","v":0},{"$f":"'Dekor 3'!N92","v":0},{"$f":"'Dekor 3'!P92","v":0},{"$f":"'Dekor 3'!R92","v":0},{"$f":"'Dekor 3'!X92","v":0},{"$f":"IF(ISNUMBER('Dekor 3'!J92),'Dekor 3'!$AF$20,\"\")","v":""},{"$f":"IF(ISNUMBER('Dekor 3'!J92),'Dekor 3'!$AF$21,\"\")","v":""},{"$f":"IF(ISNUMBER('Dekor 3'!J92),'Dekor 3'!$AF$22,\"\")","v":""},{"$f":"IF(ISNUMBER('Dekor 3'!J92),'Dekor 3'!$AF$23,\"\")","v":""},{"$f":"IF(ISNUMBER('Dekor 3'!J92),'Dekor 3'!$AF$24,\"\")","v":""},{"$f":"'Dekor 3'!Y92","v":0}]
[{"$f":"'Dekor 3'!A93","v":""},{"$f":"'Dekor 3'!B93","v":{"$error":"#NAME?"}},{"$f":"IF(ISNUMBER('Dekor 3'!J93),('Dekor 3'!D93 & \".\" & 'Dekor 3'!U93 & \".\" & 'Dekor 3'!F93 & \".\" & 'Dekor 3'!V93 & \".\" & 'Dekor 3'!H93 & \".\" & 'Dekor 3'!I93),\"\")","v":""},{"$f":"'Dekor 3'!W93","v":0},{"$f":"'Dekor 3'!K93","v":0},{"$f":"'Dekor 3'!M93","v":0},{"$f":"'Dekor 3'!O93","v":0},{"$f":"'Dekor 3'!Q93","v":0},{"$f":"IF(ISNUMBER('Dekor 3'!J93),'Dekor 3'!E93 & \"x\" & 'Dekor 3'!G93,\"\")","v":""},{"$f":"'Dekor 3'!L93","v":0},{"$f":"'Dekor 3'!N93","v":0},{"$f":"'Dekor 3'!P93","v":0},{"$f":"'Dekor 3'!R93","v":0},{"$f":"'Dekor 3'!X93","v":0},{"$f":"IF(ISNUMBER('Dekor 3'!J93),'Dekor 3'!$AF$20,\"\")","v":""},{"$f":"IF(ISNUMBER('Dekor 3'!J93),'Dekor 3'!$AF$21,\"\")","v":""},{"$f":"IF(ISNUMBER('Dekor 3'!J93),'Dekor 3'!$AF$22,\"\")","v":""},{"$f":"IF(ISNUMBER('Dekor 3'!J93),'Dekor 3'!$AF$23,\"\")","v":""},{"$f":"IF(ISNUMBER('Dekor 3'!J93),'Dekor 3'!$AF$24,\"\")","v":""},{"$f":"'Dekor 3'!Y93","v":0}]
[{"$f":"'Dekor 3'!A94","v":""},{"$f":"'Dekor 3'!B94","v":{"$error":"#NAME?"}},{"$f":"IF(ISNUMBER('Dekor 3'!J94),('Dekor 3'!D94 & \".\" & 'Dekor 3'!U94 & \".\" & 'Dekor 3'!F94 & \".\" & 'Dekor 3'!V94 & \".\" & 'Dekor 3'!H94 & \".\" & 'Dekor 3'!I94),\"\")","v":""},{"$f":"'Dekor 3'!W94","v":0},{"$f":"'Dekor 3'!K94","v":0},{"$f":"'Dekor 3'!M94","v":0},{"$f":"'Dekor 3'!O94","v":0},{"$f":"'Dekor 3'!Q94","v":0},{"$f":"IF(ISNUMBER('Dekor 3'!J94),'Dekor 3'!E94 & \"x\" & 'Dekor 3'!G94,\"\")","v":""},{"$f":"'Dekor 3'!L94","v":0},{"$f":"'Dekor 3'!N94","v":0},{"$f":"'Dekor 3'!P94","v":0},{"$f":"'Dekor 3'!R94","v":0},{"$f":"'Dekor 3'!X94","v":0},{"$f":"IF(ISNUMBER('Dekor 3'!J94),'Dekor 3'!$AF$20,\"\")","v":""},{"$f":"IF(ISNUMBER('Dekor 3'!J94),'Dekor 3'!$AF$21,\"\")","v":""},{"$f":"IF(ISNUMBER('Dekor 3'!J94),'Dekor 3'!$AF$22,\"\")","v":""},{"$f":"IF(ISNUMBER('Dekor 3'!J94),'Dekor 3'!$AF$23,\"\")","v":""},{"$f":"IF(ISNUMBER('Dekor 3'!J94),'Dekor 3'!$AF$24,\"\")","v":""},{"$f":"'Dekor 3'!Y94","v":0}]
[{"$f":"'Dekor 3'!A95","v":""},{"$f":"'Dekor 3'!B95","v":{"$error":"#NAME?"}},{"$f":"IF(ISNUMBER('Dekor 3'!J95),('Dekor 3'!D95 & \".\" & 'Dekor 3'!U95 & \".\" & 'Dekor 3'!F95 & \".\" & 'Dekor 3'!V95 & \".\" & 'Dekor 3'!H95 & \".\" & 'Dekor 3'!I95),\"\")","v":""},{"$f":"'Dekor 3'!W95","v":0},{"$f":"'Dekor 3'!K95","v":0},{"$f":"'Dekor 3'!M95","v":0},{"$f":"'Dekor 3'!O95","v":0},{"$f":"'Dekor 3'!Q95","v":0},{"$f":"IF(ISNUMBER('Dekor 3'!J95),'Dekor 3'!E95 & \"x\" & 'Dekor 3'!G95,\"\")","v":""},{"$f":"'Dekor 3'!L95","v":0},{"$f":"'Dekor 3'!N95","v":0},{"$f":"'Dekor 3'!P95","v":0},{"$f":"'Dekor 3'!R95","v":0},{"$f":"'Dekor 3'!X95","v":0},{"$f":"IF(ISNUMBER('Dekor 3'!J95),'Dekor 3'!$AF$20,\"\")","v":""},{"$f":"IF(ISNUMBER('Dekor 3'!J95),'Dekor 3'!$AF$21,\"\")","v":""},{"$f":"IF(ISNUMBER('Dekor 3'!J95),'Dekor 3'!$AF$22,\"\")","v":""},{"$f":"IF(ISNUMBER('Dekor 3'!J95),'Dekor 3'!$AF$23,\"\")","v":""},{"$f":"IF(ISNUMBER('Dekor 3'!J95),'Dekor 3'!$AF$24,\"\")","v":""},{"$f":"'Dekor 3'!Y95","v":0}]
[{"$f":"'Dekor 3'!A96","v":""},{"$f":"'Dekor 3'!B96","v":{"$error":"#NAME?"}},{"$f":"IF(ISNUMBER('Dekor 3'!J96),('Dekor 3'!D96 & \".\" & 'Dekor 3'!U96 & \".\" & 'Dekor 3'!F96 & \".\" & 'Dekor 3'!V96 & \".\" & 'Dekor 3'!H96 & \".\" & 'Dekor 3'!I96),\"\")","v":""},{"$f":"'Dekor 3'!W96","v":0},{"$f":"'Dekor 3'!K96","v":0},{"$f":"'Dekor 3'!M96","v":0},{"$f":"'Dekor 3'!O96","v":0},{"$f":"'Dekor 3'!Q96","v":0},{"$f":"IF(ISNUMBER('Dekor 3'!J96),'Dekor 3'!E96 & \"x\" & 'Dekor 3'!G96,\"\")","v":""},{"$f":"'Dekor 3'!L96","v":0},{"$f":"'Dekor 3'!N96","v":0},{"$f":"'Dekor 3'!P96","v":0},{"$f":"'Dekor 3'!R96","v":0},{"$f":"'Dekor 3'!X96","v":0},{"$f":"IF(ISNUMBER('Dekor 3'!J96),'Dekor 3'!$AF$20,\"\")","v":""},{"$f":"IF(ISNUMBER('Dekor 3'!J96),'Dekor 3'!$AF$21,\"\")","v":""},{"$f":"IF(ISNUMBER('Dekor 3'!J96),'Dekor 3'!$AF$22,\"\")","v":""},{"$f":"IF(ISNUMBER('Dekor 3'!J96),'Dekor 3'!$AF$23,\"\")","v":""},{"$f":"IF(ISNUMBER('Dekor 3'!J96),'Dekor 3'!$AF$24,\"\")","v":""},{"$f":"'Dekor 3'!Y96","v":0}]
[{"$f":"'Dekor 3'!A97","v":""},{"$f":"'Dekor 3'!B97","v":{"$error":"#NAME?"}},{"$f":"IF(ISNUMBER('Dekor 3'!J97),('Dekor 3'!D97 & \".\" & 'Dekor 3'!U97 & \".\" & 'Dekor 3'!F97 & \".\" & 'Dekor 3'!V97 & \".\" & 'Dekor 3'!H97 & \".\" & 'Dekor 3'!I97),\"\")","v":""},{"$f":"'Dekor 3'!W97","v":0},{"$f":"'Dekor 3'!K97","v":0},{"$f":"'Dekor 3'!M97","v":0},{"$f":"'Dekor 3'!O97","v":0},{"$f":"'Dekor 3'!Q97","v":0},{"$f":"IF(ISNUMBER('Dekor 3'!J97),'Dekor 3'!E97 & \"x\" & 'Dekor 3'!G97,\"\")","v":""},{"$f":"'Dekor 3'!L97","v":0},{"$f":"'Dekor 3'!N97","v":0},{"$f":"'Dekor 3'!P97","v":0},{"$f":"'Dekor 3'!R97","v":0},{"$f":"'Dekor 3'!X97","v":0},{"$f":"IF(ISNUMBER('Dekor 3'!J97),'Dekor 3'!$AF$20,\"\")","v":""},{"$f":"IF(ISNUMBER('Dekor 3'!J97),'Dekor 3'!$AF$21,\"\")","v":""},{"$f":"IF(ISNUMBER('Dekor 3'!J97),'Dekor 3'!$AF$22,\"\")","v":""},{"$f":"IF(ISNUMBER('Dekor 3'!J97),'Dekor 3'!$AF$23,\"\")","v":""},{"$f":"IF(ISNUMBER('Dekor 3'!J97),'Dekor 3'!$AF$24,\"\")","v":""},{"$f":"'Dekor 3'!Y97","v":0}]
[{"$f":"'Dekor 3'!A98","v":""},{"$f":"'Dekor 3'!B98","v":{"$error":"#NAME?"}},{"$f":"IF(ISNUMBER('Dekor 3'!J98),('Dekor 3'!D98 & \".\" & 'Dekor 3'!U98 & \".\" & 'Dekor 3'!F98 & \".\" & 'Dekor 3'!V98 & \".\" & 'Dekor 3'!H98 & \".\" & 'Dekor 3'!I98),\"\")","v":""},{"$f":"'Dekor 3'!W98","v":0},{"$f":"'Dekor 3'!K98","v":0},{"$f":"'Dekor 3'!M98","v":0},{"$f":"'Dekor 3'!O98","v":0},{"$f":"'Dekor 3'!Q98","v":0},{"$f":"IF(ISNUMBER('Dekor 3'!J98),'Dekor 3'!E98 & \"x\" & 'Dekor 3'!G98,\"\")","v":""},{"$f":"'Dekor 3'!L98","v":0},{"$f":"'Dekor 3'!N98","v":0},{"$f":"'Dekor 3'!P98","v":0},{"$f":"'Dekor 3'!R98","v":0},{"$f":"'Dekor 3'!X98","v":0},{"$f":"IF(ISNUMBER('Dekor 3'!J98),'Dekor 3'!$AF$20,\"\")","v":""},{"$f":"IF(ISNUMBER('Dekor 3'!J98),'Dekor 3'!$AF$21,\"\")","v":""},{"$f":"IF(ISNUMBER('Dekor 3'!J98),'Dekor 3'!$AF$22,\"\")","v":""},{"$f":"IF(ISNUMBER('Dekor 3'!J98),'Dekor 3'!$AF$23,\"\")","v":""},{"$f":"IF(ISNUMBER('Dekor 3'!J98),'Dekor 3'!$AF$24,\"\")","v":""},{"$f":"'Dekor 3'!Y98","v":0}]
[{"$f":"'Dekor 3'!A99","v":""},{"$f":"'Dekor 3'!B99","v":{"$error":"#NAME?"}},{"$f":"IF(ISNUMBER('Dekor 3'!J99),('Dekor 3'!D99 & \".\" & 'Dekor 3'!U99 & \".\" & 'Dekor 3'!F99 & \".\" & 'Dekor 3'!V99 & \".\" & 'Dekor 3'!H99 & \".\" & 'Dekor 3'!I99),\"\")","v":""},{"$f":"'Dekor 3'!W99","v":0},{"$f":"'Dekor 3'!K99","v":0},{"$f":"'Dekor 3'!M99","v":0},{"$f":"'Dekor 3'!O99","v":0},{"$f":"'Dekor 3'!Q99","v":0},{"$f":"IF(ISNUMBER('Dekor 3'!J99),'Dekor 3'!E99 & \"x\" & 'Dekor 3'!G99,\"\")","v":""},{"$f":"'Dekor 3'!L99","v":0},{"$f":"'Dekor 3'!N99","v":0},{"$f":"'Dekor 3'!P99","v":0},{"$f":"'Dekor 3'!R99","v":0},{"$f":"'Dekor 3'!X99","v":0},{"$f":"IF(ISNUMBER('Dekor 3'!J99),'Dekor 3'!$AF$20,\"\")","v":""},{"$f":"IF(ISNUMBER('Dekor 3'!J99),'Dekor 3'!$AF$21,\"\")","v":""},{"$f":"IF(ISNUMBER('Dekor 3'!J99),'Dekor 3'!$AF$22,\"\")","v":""},{"$f":"IF(ISNUMBER('Dekor 3'!J99),'Dekor 3'!$AF$23,\"\")","v":""},{"$f":"IF(ISNUMBER('Dekor 3'!J99),'Dekor 3'!$AF$24,\"\")","v":""},{"$f":"'Dekor 3'!Y99","v":0}]
[{"$f":"'Dekor 3'!A100","v":""},{"$f":"'Dekor 3'!B100","v":{"$error":"#NAME?"}},{"$f":"IF(ISNUMBER('Dekor 3'!J100),('Dekor 3'!D100 & \".\" & 'Dekor 3'!U100 & \".\" & 'Dekor 3'!F100 & \".\" & 'Dekor 3'!V100 & \".\" & 'Dekor 3'!H100 & \".\" & 'Dekor 3'!I100),\"\")","v":""},{"$f":"'Dekor 3'!W100","v":0},{"$f":"'Dekor 3'!K100","v":0},{"$f":"'Dekor 3'!M100","v":0},{"$f":"'Dekor 3'!O100","v":0},{"$f":"'Dekor 3'!Q100","v":0},{"$f":"IF(ISNUMBER('Dekor 3'!J100),'Dekor 3'!E100 & \"x\" & 'Dekor 3'!G100,\"\")","v":""},{"$f":"'Dekor 3'!L100","v":0},{"$f":"'Dekor 3'!N100","v":0},{"$f":"'Dekor 3'!P100","v":0},{"$f":"'Dekor 3'!R100","v":0},{"$f":"'Dekor 3'!X100","v":0},{"$f":"IF(ISNUMBER('Dekor 3'!J100),'Dekor 3'!$AF$20,\"\")","v":""},{"$f":"IF(ISNUMBER('Dekor 3'!J100),'Dekor 3'!$AF$21,\"\")","v":""},{"$f":"IF(ISNUMBER('Dekor 3'!J100),'Dekor 3'!$AF$22,\"\")","v":""},{"$f":"IF(ISNUMBER('Dekor 3'!J100),'Dekor 3'!$AF$23,\"\")","v":""},{"$f":"IF(ISNUMBER('Dekor 3'!J100),'Dekor 3'!$AF$24,\"\")","v":""},{"$f":"'Dekor 3'!Y100","v":0}]
[{"$f":"'Dekor 3'!A101","v":""},{"$f":"'Dekor 3'!B101","v":{"$error":"#NAME?"}},{"$f":"IF(ISNUMBER('Dekor 3'!J101),('Dekor 3'!D101 & \".\" & 'Dekor 3'!U101 & \".\" & 'Dekor 3'!F101 & \".\" & 'Dekor 3'!V101 & \".\" & 'Dekor 3'!H101 & \".\" & 'Dekor 3'!I101),\"\")","v":""},{"$f":"'Dekor 3'!W101","v":0},{"$f":"'Dekor 3'!K101","v":0},{"$f":"'Dekor 3'!M101","v":0},{"$f":"'Dekor 3'!O101","v":0},{"$f":"'Dekor 3'!Q101","v":0},{"$f":"IF(ISNUMBER('Dekor 3'!J101),'Dekor 3'!E101 & \"x\" & 'Dekor 3'!G101,\"\")","v":""},{"$f":"'Dekor 3'!L101","v":0},{"$f":"'Dekor 3'!N101","v":0},{"$f":"'Dekor 3'!P101","v":0},{"$f":"'Dekor 3'!R101","v":0},{"$f":"'Dekor 3'!X101","v":0},{"$f":"IF(ISNUMBER('Dekor 3'!J101),'Dekor 3'!$AF$20,\"\")","v":""},{"$f":"IF(ISNUMBER('Dekor 3'!J101),'Dekor 3'!$AF$21,\"\")","v":""},{"$f":"IF(ISNUMBER('Dekor 3'!J101),'Dekor 3'!$AF$22,\"\")","v":""},{"$f":"IF(ISNUMBER('Dekor 3'!J101),'Dekor 3'!$AF$23,\"\")","v":""},{"$f":"IF(ISNUMBER('Dekor 3'!J101),'Dekor 3'!$AF$24,\"\")","v":""},{"$f":"'Dekor 3'!Y101","v":0}]
[{"$f":"'Dekor 3'!A102","v":""},{"$f":"'Dekor 3'!B102","v":{"$error":"#NAME?"}},{"$f":"IF(ISNUMBER('Dekor 3'!J102),('Dekor 3'!D102 & \".\" & 'Dekor 3'!U102 & \".\" & 'Dekor 3'!F102 & \".\" & 'Dekor 3'!V102 & \".\" & 'Dekor 3'!H102 & \".\" & 'Dekor 3'!I102),\"\")","v":""},{"$f":"'Dekor 3'!W102","v":0},{"$f":"'Dekor 3'!K102","v":0},{"$f":"'Dekor 3'!M102","v":0},{"$f":"'Dekor 3'!O102","v":0},{"$f":"'Dekor 3'!Q102","v":0},{"$f":"IF(ISNUMBER('Dekor 3'!J102),'Dekor 3'!E102 & \"x\" & 'Dekor 3'!G102,\"\")","v":""},{"$f":"'Dekor 3'!L102","v":0},{"$f":"'Dekor 3'!N102","v":0},{"$f":"'Dekor 3'!P102","v":0},{"$f":"'Dekor 3'!R102","v":0},{"$f":"'Dekor 3'!X102","v":0},{"$f":"IF(ISNUMBER('Dekor 3'!J102),'Dekor 3'!$AF$20,\"\")","v":""},{"$f":"IF(ISNUMBER('Dekor 3'!J102),'Dekor 3'!$AF$21,\"\")","v":""},{"$f":"IF(ISNUMBER('Dekor 3'!J102),'Dekor 3'!$AF$22,\"\")","v":""},{"$f":"IF(ISNUMBER('Dekor 3'!J102),'Dekor 3'!$AF$23,\"\")","v":""},{"$f":"IF(ISNUMBER('Dekor 3'!J102),'Dekor 3'!$AF$24,\"\")","v":""},{"$f":"'Dekor 3'!Y102","v":0}]
[{"$f":"'Dekor 3'!A103","v":""},{"$f":"'Dekor 3'!B103","v":{"$error":"#NAME?"}},{"$f":"IF(ISNUMBER('Dekor 3'!J103),('Dekor 3'!D103 & \".\" & 'Dekor 3'!U103 & \".\" & 'Dekor 3'!F103 & \".\" & 'Dekor 3'!V103 & \".\" & 'Dekor 3'!H103 & \".\" & 'Dekor 3'!I103),\"\")","v":""},{"$f":"'Dekor 3'!W103","v":0},{"$f":"'Dekor 3'!K103","v":0},{"$f":"'Dekor 3'!M103","v":0},{"$f":"'Dekor 3'!O103","v":0},{"$f":"'Dekor 3'!Q103","v":0},{"$f":"IF(ISNUMBER('Dekor 3'!J103),'Dekor 3'!E103 & \"x\" & 'Dekor 3'!G103,\"\")","v":""},{"$f":"'Dekor 3'!L103","v":0},{"$f":"'Dekor 3'!N103","v":0},{"$f":"'Dekor 3'!P103","v":0},{"$f":"'Dekor 3'!R103","v":0},{"$f":"'Dekor 3'!X103","v":0},{"$f":"IF(ISNUMBER('Dekor 3'!J103),'Dekor 3'!$AF$20,\"\")","v":""},{"$f":"IF(ISNUMBER('Dekor 3'!J103),'Dekor 3'!$AF$21,\"\")","v":""},{"$f":"IF(ISNUMBER('Dekor 3'!J103),'Dekor 3'!$AF$22,\"\")","v":""},{"$f":"IF(ISNUMBER('Dekor 3'!J103),'Dekor 3'!$AF$23,\"\")","v":""},{"$f":"IF(ISNUMBER('Dekor 3'!J103),'Dekor 3'!$AF$24,\"\")","v":""},{"$f":"'Dekor 3'!Y103","v":0}]
[{"$f":"'Dekor 3'!A104","v":""},{"$f":"'Dekor 3'!B104","v":{"$error":"#NAME?"}},{"$f":"IF(ISNUMBER('Dekor 3'!J104),('Dekor 3'!D104 & \".\" & 'Dekor 3'!U104 & \".\" & 'Dekor 3'!F104 & \".\" & 'Dekor 3'!V104 & \".\" & 'Dekor 3'!H104 & \".\" & 'Dekor 3'!I104),\"\")","v":""},{"$f":"'Dekor 3'!W104","v":0},{"$f":"'Dekor 3'!K104","v":0},{"$f":"'Dekor 3'!M104","v":0},{"$f":"'Dekor 3'!O104","v":0},{"$f":"'Dekor 3'!Q104","v":0},{"$f":"IF(ISNUMBER('Dekor 3'!J104),'Dekor 3'!E104 & \"x\" & 'Dekor 3'!G104,\"\")","v":""},{"$f":"'Dekor 3'!L104","v":0},{"$f":"'Dekor 3'!N104","v":0},{"$f":"'Dekor 3'!P104","v":0},{"$f":"'Dekor 3'!R104","v":0},{"$f":"'Dekor 3'!X104","v":0},{"$f":"IF(ISNUMBER('Dekor 3'!J104),'Dekor 3'!$AF$20,\"\")","v":""},{"$f":"IF(ISNUMBER('Dekor 3'!J104),'Dekor 3'!$AF$21,\"\")","v":""},{"$f":"IF(ISNUMBER('Dekor 3'!J104),'Dekor 3'!$AF$22,\"\")","v":""},{"$f":"IF(ISNUMBER('Dekor 3'!J104),'Dekor 3'!$AF$23,\"\")","v":""},{"$f":"IF(ISNUMBER('Dekor 3'!J104),'Dekor 3'!$AF$24,\"\")","v":""},{"$f":"'Dekor 3'!Y104","v":0}]
[{"$f":"'Dekor 3'!A105","v":""},{"$f":"'Dekor 3'!B105","v":{"$error":"#NAME?"}},{"$f":"IF(ISNUMBER('Dekor 3'!J105),('Dekor 3'!D105 & \".\" & 'Dekor 3'!U105 & \".\" & 'Dekor 3'!F105 & \".\" & 'Dekor 3'!V105 & \".\" & 'Dekor 3'!H105 & \".\" & 'Dekor 3'!I105),\"\")","v":""},{"$f":"'Dekor 3'!W105","v":0},{"$f":"'Dekor 3'!K105","v":0},{"$f":"'Dekor 3'!M105","v":0},{"$f":"'Dekor 3'!O105","v":0},{"$f":"'Dekor 3'!Q105","v":0},{"$f":"IF(ISNUMBER('Dekor 3'!J105),'Dekor 3'!E105 & \"x\" & 'Dekor 3'!G105,\"\")","v":""},{"$f":"'Dekor 3'!L105","v":0},{"$f":"'Dekor 3'!N105","v":0},{"$f":"'Dekor 3'!P105","v":0},{"$f":"'Dekor 3'!R105","v":0},{"$f":"'Dekor 3'!X105","v":0},{"$f":"IF(ISNUMBER('Dekor 3'!J105),'Dekor 3'!$AF$20,\"\")","v":""},{"$f":"IF(ISNUMBER('Dekor 3'!J105),'Dekor 3'!$AF$21,\"\")","v":""},{"$f":"IF(ISNUMBER('Dekor 3'!J105),'Dekor 3'!$AF$22,\"\")","v":""},{"$f":"IF(ISNUMBER('Dekor 3'!J105),'Dekor 3'!$AF$23,\"\")","v":""},{"$f":"IF(ISNUMBER('Dekor 3'!J105),'Dekor 3'!$AF$24,\"\")","v":""},{"$f":"'Dekor 3'!Y105","v":0}]
[{"$f":"'Dekor 3'!A106","v":""},{"$f":"'Dekor 3'!B106","v":{"$error":"#NAME?"}},{"$f":"IF(ISNUMBER('Dekor 3'!J106),('Dekor 3'!D106 & \".\" & 'Dekor 3'!U106 & \".\" & 'Dekor 3'!F106 & \".\" & 'Dekor 3'!V106 & \".\" & 'Dekor 3'!H106 & \".\" & 'Dekor 3'!I106),\"\")","v":""},{"$f":"'Dekor 3'!W106","v":0},{"$f":"'Dekor 3'!K106","v":0},{"$f":"'Dekor 3'!M106","v":0},{"$f":"'Dekor 3'!O106","v":0},{"$f":"'Dekor 3'!Q106","v":0},{"$f":"IF(ISNUMBER('Dekor 3'!J106),'Dekor 3'!E106 & \"x\" & 'Dekor 3'!G106,\"\")","v":""},{"$f":"'Dekor 3'!L106","v":0},{"$f":"'Dekor 3'!N106","v":0},{"$f":"'Dekor 3'!P106","v":0},{"$f":"'Dekor 3'!R106","v":0},{"$f":"'Dekor 3'!X106","v":0},{"$f":"IF(ISNUMBER('Dekor 3'!J106),'Dekor 3'!$AF$20,\"\")","v":""},{"$f":"IF(ISNUMBER('Dekor 3'!J106),'Dekor 3'!$AF$21,\"\")","v":""},{"$f":"IF(ISNUMBER('Dekor 3'!J106),'Dekor 3'!$AF$22,\"\")","v":""},{"$f":"IF(ISNUMBER('Dekor 3'!J106),'Dekor 3'!$AF$23,\"\")","v":""},{"$f":"IF(ISNUMBER('Dekor 3'!J106),'Dekor 3'!$AF$24,\"\")","v":""},{"$f":"'Dekor 3'!Y106","v":0}]
[{"$f":"'Dekor 3'!A107","v":""},{"$f":"'Dekor 3'!B107","v":{"$error":"#NAME?"}},{"$f":"IF(ISNUMBER('Dekor 3'!J107),('Dekor 3'!D107 & \".\" & 'Dekor 3'!U107 & \".\" & 'Dekor 3'!F107 & \".\" & 'Dekor 3'!V107 & \".\" & 'Dekor 3'!H107 & \".\" & 'Dekor 3'!I107),\"\")","v":""},{"$f":"'Dekor 3'!W107","v":0},{"$f":"'Dekor 3'!K107","v":0},{"$f":"'Dekor 3'!M107","v":0},{"$f":"'Dekor 3'!O107","v":0},{"$f":"'Dekor 3'!Q107","v":0},{"$f":"IF(ISNUMBER('Dekor 3'!J107),'Dekor 3'!E107 & \"x\" & 'Dekor 3'!G107,\"\")","v":""},{"$f":"'Dekor 3'!L107","v":0},{"$f":"'Dekor 3'!N107","v":0},{"$f":"'Dekor 3'!P107","v":0},{"$f":"'Dekor 3'!R107","v":0},{"$f":"'Dekor 3'!X107","v":0},{"$f":"IF(ISNUMBER('Dekor 3'!J107),'Dekor 3'!$AF$20,\"\")","v":""},{"$f":"IF(ISNUMBER('Dekor 3'!J107),'Dekor 3'!$AF$21,\"\")","v":""},{"$f":"IF(ISNUMBER('Dekor 3'!J107),'Dekor 3'!$AF$22,\"\")","v":""},{"$f":"IF(ISNUMBER('Dekor 3'!J107),'Dekor 3'!$AF$23,\"\")","v":""},{"$f":"IF(ISNUMBER('Dekor 3'!J107),'Dekor 3'!$AF$24,\"\")","v":""},{"$f":"'Dekor 3'!Y107","v":0}]
[{"$f":"'Dekor 3'!A108","v":""},{"$f":"'Dekor 3'!B108","v":{"$error":"#NAME?"}},{"$f":"IF(ISNUMBER('Dekor 3'!J108),('Dekor 3'!D108 & \".\" & 'Dekor 3'!U108 & \".\" & 'Dekor 3'!F108 & \".\" & 'Dekor 3'!V108 & \".\" & 'Dekor 3'!H108 & \".\" & 'Dekor 3'!I108),\"\")","v":""},{"$f":"'Dekor 3'!W108","v":0},{"$f":"'Dekor 3'!K108","v":0},{"$f":"'Dekor 3'!M108","v":0},{"$f":"'Dekor 3'!O108","v":0},{"$f":"'Dekor 3'!Q108","v":0},{"$f":"IF(ISNUMBER('Dekor 3'!J108),'Dekor 3'!E108 & \"x\" & 'Dekor 3'!G108,\"\")","v":""},{"$f":"'Dekor 3'!L108","v":0},{"$f":"'Dekor 3'!N108","v":0},{"$f":"'Dekor 3'!P108","v":0},{"$f":"'Dekor 3'!R108","v":0},{"$f":"'Dekor 3'!X108","v":0},{"$f":"IF(ISNUMBER('Dekor 3'!J108),'Dekor 3'!$AF$20,\"\")","v":""},{"$f":"IF(ISNUMBER('Dekor 3'!J108),'Dekor 3'!$AF$21,\"\")","v":""},{"$f":"IF(ISNUMBER('Dekor 3'!J108),'Dekor 3'!$AF$22,\"\")","v":""},{"$f":"IF(ISNUMBER('Dekor 3'!J108),'Dekor 3'!$AF$23,\"\")","v":""},{"$f":"IF(ISNUMBER('Dekor 3'!J108),'Dekor 3'!$AF$24,\"\")","v":""},{"$f":"'Dekor 3'!Y108","v":0}]
[{"$f":"'Dekor 3'!A109","v":""},{"$f":"'Dekor 3'!B109","v":{"$error":"#NAME?"}},{"$f":"IF(ISNUMBER('Dekor 3'!J109),('Dekor 3'!D109 & \".\" & 'Dekor 3'!U109 & \".\" & 'Dekor 3'!F109 & \".\" & 'Dekor 3'!V109 & \".\" & 'Dekor 3'!H109 & \".\" & 'Dekor 3'!I109),\"\")","v":""},{"$f":"'Dekor 3'!W109","v":0},{"$f":"'Dekor 3'!K109","v":0},{"$f":"'Dekor 3'!M109","v":0},{"$f":"'Dekor 3'!O109","v":0},{"$f":"'Dekor 3'!Q109","v":0},{"$f":"IF(ISNUMBER('Dekor 3'!J109),'Dekor 3'!E109 & \"x\" & 'Dekor 3'!G109,\"\")","v":""},{"$f":"'Dekor 3'!L109","v":0},{"$f":"'Dekor 3'!N109","v":0},{"$f":"'Dekor 3'!P109","v":0},{"$f":"'Dekor 3'!R109","v":0},{"$f":"'Dekor 3'!X109","v":0},{"$f":"IF(ISNUMBER('Dekor 3'!J109),'Dekor 3'!$AF$20,\"\")","v":""},{"$f":"IF(ISNUMBER('Dekor 3'!J109),'Dekor 3'!$AF$21,\"\")","v":""},{"$f":"IF(ISNUMBER('Dekor 3'!J109),'Dekor 3'!$AF$22,\"\")","v":""},{"$f":"IF(ISNUMBER('Dekor 3'!J109),'Dekor 3'!$AF$23,\"\")","v":""},{"$f":"IF(ISNUMBER('Dekor 3'!J109),'Dekor 3'!$AF$24,\"\")","v":""},{"$f":"'Dekor 3'!Y109","v":0}]
[{"$f":"'Dekor 3'!A110","v":""},{"$f":"'Dekor 3'!B110","v":{"$error":"#NAME?"}},{"$f":"IF(ISNUMBER('Dekor 3'!J110),('Dekor 3'!D110 & \".\" & 'Dekor 3'!U110 & \".\" & 'Dekor 3'!F110 & \".\" & 'Dekor 3'!V110 & \".\" & 'Dekor 3'!H110 & \".\" & 'Dekor 3'!I110),\"\")","v":""},{"$f":"'Dekor 3'!W110","v":0},{"$f":"'Dekor 3'!K110","v":0},{"$f":"'Dekor 3'!M110","v":0},{"$f":"'Dekor 3'!O110","v":0},{"$f":"'Dekor 3'!Q110","v":0},{"$f":"IF(ISNUMBER('Dekor 3'!J110),'Dekor 3'!E110 & \"x\" & 'Dekor 3'!G110,\"\")","v":""},{"$f":"'Dekor 3'!L110","v":0},{"$f":"'Dekor 3'!N110","v":0},{"$f":"'Dekor 3'!P110","v":0},{"$f":"'Dekor 3'!R110","v":0},{"$f":"'Dekor 3'!X110","v":0},{"$f":"IF(ISNUMBER('Dekor 3'!J110),'Dekor 3'!$AF$20,\"\")","v":""},{"$f":"IF(ISNUMBER('Dekor 3'!J110),'Dekor 3'!$AF$21,\"\")","v":""},{"$f":"IF(ISNUMBER('Dekor 3'!J110),'Dekor 3'!$AF$22,\"\")","v":""},{"$f":"IF(ISNUMBER('Dekor 3'!J110),'Dekor 3'!$AF$23,\"\")","v":""},{"$f":"IF(ISNUMBER('Dekor 3'!J110),'Dekor 3'!$AF$24,\"\")","v":""},{"$f":"'Dekor 3'!Y110","v":0}]
[{"$f":"'Dekor 3'!A111","v":""},{"$f":"'Dekor 3'!B111","v":{"$error":"#NAME?"}},{"$f":"IF(ISNUMBER('Dekor 3'!J111),('Dekor 3'!D111 & \".\" & 'Dekor 3'!U111 & \".\" & 'Dekor 3'!F111 & \".\" & 'Dekor 3'!V111 & \".\" & 'Dekor 3'!H111 & \".\" & 'Dekor 3'!I111),\"\")","v":""},{"$f":"'Dekor 3'!W111","v":0},{"$f":"'Dekor 3'!K111","v":0},{"$f":"'Dekor 3'!M111","v":0},{"$f":"'Dekor 3'!O111","v":0},{"$f":"'Dekor 3'!Q111","v":0},{"$f":"IF(ISNUMBER('Dekor 3'!J111),'Dekor 3'!E111 & \"x\" & 'Dekor 3'!G111,\"\")","v":""},{"$f":"'Dekor 3'!L111","v":0},{"$f":"'Dekor 3'!N111","v":0},{"$f":"'Dekor 3'!P111","v":0},{"$f":"'Dekor 3'!R111","v":0},{"$f":"'Dekor 3'!X111","v":0},{"$f":"IF(ISNUMBER('Dekor 3'!J111),'Dekor 3'!$AF$20,\"\")","v":""},{"$f":"IF(ISNUMBER('Dekor 3'!J111),'Dekor 3'!$AF$21,\"\")","v":""},{"$f":"IF(ISNUMBER('Dekor 3'!J111),'Dekor 3'!$AF$22,\"\")","v":""},{"$f":"IF(ISNUMBER('Dekor 3'!J111),'Dekor 3'!$AF$23,\"\")","v":""},{"$f":"IF(ISNUMBER('Dekor 3'!J111),'Dekor 3'!$AF$24,\"\")","v":""},{"$f":"'Dekor 3'!Y111","v":0}]
[{"$f":"'Dekor 3'!A112","v":""},{"$f":"'Dekor 3'!B112","v":{"$error":"#NAME?"}},{"$f":"IF(ISNUMBER('Dekor 3'!J112),('Dekor 3'!D112 & \".\" & 'Dekor 3'!U112 & \".\" & 'Dekor 3'!F112 & \".\" & 'Dekor 3'!V112 & \".\" & 'Dekor 3'!H112 & \".\" & 'Dekor 3'!I112),\"\")","v":""},{"$f":"'Dekor 3'!W112","v":0},{"$f":"'Dekor 3'!K112","v":0},{"$f":"'Dekor 3'!M112","v":0},{"$f":"'Dekor 3'!O112","v":0},{"$f":"'Dekor 3'!Q112","v":0},{"$f":"IF(ISNUMBER('Dekor 3'!J112),'Dekor 3'!E112 & \"x\" & 'Dekor 3'!G112,\"\")","v":""},{"$f":"'Dekor 3'!L112","v":0},{"$f":"'Dekor 3'!N112","v":0},{"$f":"'Dekor 3'!P112","v":0},{"$f":"'Dekor 3'!R112","v":0},{"$f":"'Dekor 3'!X112","v":0},{"$f":"IF(ISNUMBER('Dekor 3'!J112),'Dekor 3'!$AF$20,\"\")","v":""},{"$f":"IF(ISNUMBER('Dekor 3'!J112),'Dekor 3'!$AF$21,\"\")","v":""},{"$f":"IF(ISNUMBER('Dekor 3'!J112),'Dekor 3'!$AF$22,\"\")","v":""},{"$f":"IF(ISNUMBER('Dekor 3'!J112),'Dekor 3'!$AF$23,\"\")","v":""},{"$f":"IF(ISNUMBER('Dekor 3'!J112),'Dekor 3'!$AF$24,\"\")","v":""},{"$f":"'Dekor 3'!Y112","v":0}]
[{"$f":"'Dekor 3'!A113","v":""},{"$f":"'Dekor 3'!B113","v":{"$error":"#NAME?"}},{"$f":"IF(ISNUMBER('Dekor 3'!J113),('Dekor 3'!D113 & \".\" & 'Dekor 3'!U113 & \".\" & 'Dekor 3'!F113 & \".\" & 'Dekor 3'!V113 & \".\" & 'Dekor 3'!H113 & \".\" & 'Dekor 3'!I113),\"\")","v":""},{"$f":"'Dekor 3'!W113","v":0},{"$f":"'Dekor 3'!K113","v":0},{"$f":"'Dekor 3'!M113","v":0},{"$f":"'Dekor 3'!O113","v":0},{"$f":"'Dekor 3'!Q113","v":0},{"$f":"IF(ISNUMBER('Dekor 3'!J113),'Dekor 3'!E113 & \"x\" & 'Dekor 3'!G113,\"\")","v":""},{"$f":"'Dekor 3'!L113","v":0},{"$f":"'Dekor 3'!N113","v":0},{"$f":"'Dekor 3'!P113","v":0},{"$f":"'Dekor 3'!R113","v":0},{"$f":"'Dekor 3'!X113","v":0},{"$f":"IF(ISNUMBER('Dekor 3'!J113),'Dekor 3'!$AF$20,\"\")","v":""},{"$f":"IF(ISNUMBER('Dekor 3'!J113),'Dekor 3'!$AF$21,\"\")","v":""},{"$f":"IF(ISNUMBER('Dekor 3'!J113),'Dekor 3'!$AF$22,\"\")","v":""},{"$f":"IF(ISNUMBER('Dekor 3'!J113),'Dekor 3'!$AF$23,\"\")","v":""},{"$f":"IF(ISNUMBER('Dekor 3'!J113),'Dekor 3'!$AF$24,\"\")","v":""},{"$f":"'Dekor 3'!Y113","v":0}]
[{"$f":"'Dekor 3'!A114","v":""},{"$f":"'Dekor 3'!B114","v":{"$error":"#NAME?"}},{"$f":"IF(ISNUMBER('Dekor 3'!J114),('Dekor 3'!D114 & \".\" & 'Dekor 3'!U114 & \".\" & 'Dekor 3'!F114 & \".\" & 'Dekor 3'!V114 & \".\" & 'Dekor 3'!H114 & \".\" & 'Dekor 3'!I114),\"\")","v":""},{"$f":"'Dekor 3'!W114","v":0},{"$f":"'Dekor 3'!K114","v":0},{"$f":"'Dekor 3'!M114","v":0},{"$f":"'Dekor 3'!O114","v":0},{"$f":"'Dekor 3'!Q114","v":0},{"$f":"IF(ISNUMBER('Dekor 3'!J114),'Dekor 3'!E114 & \"x\" & 'Dekor 3'!G114,\"\")","v":""},{"$f":"'Dekor 3'!L114","v":0},{"$f":"'Dekor 3'!N114","v":0},{"$f":"'Dekor 3'!P114","v":0},{"$f":"'Dekor 3'!R114","v":0},{"$f":"'Dekor 3'!X114","v":0},{"$f":"IF(ISNUMBER('Dekor 3'!J114),'Dekor 3'!$AF$20,\"\")","v":""},{"$f":"IF(ISNUMBER('Dekor 3'!J114),'Dekor 3'!$AF$21,\"\")","v":""},{"$f":"IF(ISNUMBER('Dekor 3'!J114),'Dekor 3'!$AF$22,\"\")","v":""},{"$f":"IF(ISNUMBER('Dekor 3'!J114),'Dekor 3'!$AF$23,\"\")","v":""},{"$f":"IF(ISNUMBER('Dekor 3'!J114),'Dekor 3'!$AF$24,\"\")","v":""},{"$f":"'Dekor 3'!Y114","v":0}]
[{"$f":"'Dekor 3'!A115","v":""},{"$f":"'Dekor 3'!B115","v":{"$error":"#NAME?"}},{"$f":"IF(ISNUMBER('Dekor 3'!J115),('Dekor 3'!D115 & \".\" & 'Dekor 3'!U115 & \".\" & 'Dekor 3'!F115 & \".\" & 'Dekor 3'!V115 & \".\" & 'Dekor 3'!H115 & \".\" & 'Dekor 3'!I115),\"\")","v":""},{"$f":"'Dekor 3'!W115","v":0},{"$f":"'Dekor 3'!K115","v":0},{"$f":"'Dekor 3'!M115","v":0},{"$f":"'Dekor 3'!O115","v":0},{"$f":"'Dekor 3'!Q115","v":0},{"$f":"IF(ISNUMBER('Dekor 3'!J115),'Dekor 3'!E115 & \"x\" & 'Dekor 3'!G115,\"\")","v":""},{"$f":"'Dekor 3'!L115","v":0},{"$f":"'Dekor 3'!N115","v":0},{"$f":"'Dekor 3'!P115","v":0},{"$f":"'Dekor 3'!R115","v":0},{"$f":"'Dekor 3'!X115","v":0},{"$f":"IF(ISNUMBER('Dekor 3'!J115),'Dekor 3'!$AF$20,\"\")","v":""},{"$f":"IF(ISNUMBER('Dekor 3'!J115),'Dekor 3'!$AF$21,\"\")","v":""},{"$f":"IF(ISNUMBER('Dekor 3'!J115),'Dekor 3'!$AF$22,\"\")","v":""},{"$f":"IF(ISNUMBER('Dekor 3'!J115),'Dekor 3'!$AF$23,\"\")","v":""},{"$f":"IF(ISNUMBER('Dekor 3'!J115),'Dekor 3'!$AF$24,\"\")","v":""},{"$f":"'Dekor 3'!Y115","v":0}]
[{"$f":"'Dekor 3'!A116","v":""},{"$f":"'Dekor 3'!B116","v":{"$error":"#NAME?"}},{"$f":"IF(ISNUMBER('Dekor 3'!J116),('Dekor 3'!D116 & \".\" & 'Dekor 3'!U116 & \".\" & 'Dekor 3'!F116 & \".\" & 'Dekor 3'!V116 & \".\" & 'Dekor 3'!H116 & \".\" & 'Dekor 3'!I116),\"\")","v":""},{"$f":"'Dekor 3'!W116","v":0},{"$f":"'Dekor 3'!K116","v":0},{"$f":"'Dekor 3'!M116","v":0},{"$f":"'Dekor 3'!O116","v":0},{"$f":"'Dekor 3'!Q116","v":0},{"$f":"IF(ISNUMBER('Dekor 3'!J116),'Dekor 3'!E116 & \"x\" & 'Dekor 3'!G116,\"\")","v":""},{"$f":"'Dekor 3'!L116","v":0},{"$f":"'Dekor 3'!N116","v":0},{"$f":"'Dekor 3'!P116","v":0},{"$f":"'Dekor 3'!R116","v":0},{"$f":"'Dekor 3'!X116","v":0},{"$f":"IF(ISNUMBER('Dekor 3'!J116),'Dekor 3'!$AF$20,\"\")","v":""},{"$f":"IF(ISNUMBER('Dekor 3'!J116),'Dekor 3'!$AF$21,\"\")","v":""},{"$f":"IF(ISNUMBER('Dekor 3'!J116),'Dekor 3'!$AF$22,\"\")","v":""},{"$f":"IF(ISNUMBER('Dekor 3'!J116),'Dekor 3'!$AF$23,\"\")","v":""},{"$f":"IF(ISNUMBER('Dekor 3'!J116),'Dekor 3'!$AF$24,\"\")","v":""},{"$f":"'Dekor 3'!Y116","v":0}]
[{"$f":"'Dekor 3'!A117","v":""},{"$f":"'Dekor 3'!B117","v":{"$error":"#NAME?"}},{"$f":"IF(ISNUMBER('Dekor 3'!J117),('Dekor 3'!D117 & \".\" & 'Dekor 3'!U117 & \".\" & 'Dekor 3'!F117 & \".\" & 'Dekor 3'!V117 & \".\" & 'Dekor 3'!H117 & \".\" & 'Dekor 3'!I117),\"\")","v":""},{"$f":"'Dekor 3'!W117","v":0},{"$f":"'Dekor 3'!K117","v":0},{"$f":"'Dekor 3'!M117","v":0},{"$f":"'Dekor 3'!O117","v":0},{"$f":"'Dekor 3'!Q117","v":0},{"$f":"IF(ISNUMBER('Dekor 3'!J117),'Dekor 3'!E117 & \"x\" & 'Dekor 3'!G117,\"\")","v":""},{"$f":"'Dekor 3'!L117","v":0},{"$f":"'Dekor 3'!N117","v":0},{"$f":"'Dekor 3'!P117","v":0},{"$f":"'Dekor 3'!R117","v":0},{"$f":"'Dekor 3'!X117","v":0},{"$f":"IF(ISNUMBER('Dekor 3'!J117),'Dekor 3'!$AF$20,\"\")","v":""},{"$f":"IF(ISNUMBER('Dekor 3'!J117),'Dekor 3'!$AF$21,\"\")","v":""},{"$f":"IF(ISNUMBER('Dekor 3'!J117),'Dekor 3'!$AF$22,\"\")","v":""},{"$f":"IF(ISNUMBER('Dekor 3'!J117),'Dekor 3'!$AF$23,\"\")","v":""},{"$f":"IF(ISNUMBER('Dekor 3'!J117),'Dekor 3'!$AF$24,\"\")","v":""},{"$f":"'Dekor 3'!Y117","v":0}]
[{"$f":"'Dekor 3'!A118","v":0},{"$f":"'Dekor 3'!B118","v":0},{"$f":"IF(ISNUMBER('Dekor 3'!J118),('Dekor 3'!D118 & \".\" & 'Dekor 3'!U118 & \".\" & 'Dekor 3'!F118 & \".\" & 'Dekor 3'!V118 & \".\" & 'Dekor 3'!H118 & \".\" & 'Dekor 3'!I118),\"\")","v":""},{"$f":"'Dekor 3'!W118","v":0},{"$f":"'Dekor 3'!K118","v":0},{"$f":"'Dekor 3'!M118","v":0},{"$f":"'Dekor 3'!O118","v":0},{"$f":"'Dekor 3'!Q118","v":0},{"$f":"IF(ISNUMBER('Dekor 3'!J118),'Dekor 3'!E118 & \"x\" & 'Dekor 3'!G118,\"\")","v":""},{"$f":"'Dekor 3'!L118","v":0},{"$f":"'Dekor 3'!N118","v":0},{"$f":"'Dekor 3'!P118","v":0},{"$f":"'Dekor 3'!R118","v":0},{"$f":"'Dekor 3'!X118","v":0},{"$f":"IF(ISNUMBER('Dekor 3'!J118),'Dekor 3'!$AD$20,\"\")","v":""},{"$f":"IF(ISNUMBER('Dekor 3'!J118),'Dekor 3'!$AD$21,\"\")","v":""},{"$f":"IF(ISNUMBER('Dekor 3'!J118),'Dekor 3'!$AD$22,\"\")","v":""},{"$f":"IF(ISNUMBER('Dekor 3'!J118),'Dekor 3'!$AD$23,\"\")","v":""},{"$f":"IF(ISNUMBER('Dekor 3'!J118),'Dekor 3'!$AD$24,\"\")","v":""},{"$f":"'Dekor 3'!Y118","v":0}]

{"sheet":"CSV 4","index":9,"n_rows":100,"n_cols":20,"rows_kept":100,"cut":false,"hidden":true,"merged":[]}
[{"$f":"'Dekor 1'!A19","v":"CestaSouboru"},{"$f":"'Dekor 1'!B19","v":"nazev"},"Parametricka pravidla",{"$f":"'Dekor 1'!J19","v":"pocet"},"ohr x1","ohr x2","ohr y1","ohr y2","rozměr","Pozn X1","Pozn X2","Pozn Y1","Pozn Y2","Vysledny rozmer tuplu","22/1","22/0.5","22/2","42/1","42/2","Poznámka"]
[{"$f":"'Dekor 4'!A20","v":""},{"$f":"'Dekor 4'!B20","v":{"$error":"#NAME?"}},{"$f":"IF(ISNUMBER('Dekor 4'!J20),('Dekor 4'!D20 & \".\" & 'Dekor 4'!U20 & \".\" & 'Dekor 4'!F20 & \".\" & 'Dekor 4'!V20 & \".\" & 'Dekor 4'!H20 & \".\" & 'Dekor 4'!I20),\"\")","v":""},{"$f":"'Dekor 4'!W20","v":0},{"$f":"'Dekor 4'!K20","v":0},{"$f":"'Dekor 4'!M20","v":0},{"$f":"'Dekor 4'!O20","v":0},{"$f":"'Dekor 4'!Q20","v":0},{"$f":"IF(ISNUMBER('Dekor 4'!J20),'Dekor 4'!E20 & \"x\" & 'Dekor 4'!G20,\"\")","v":""},{"$f":"'Dekor 4'!L20","v":0},{"$f":"'Dekor 4'!N20","v":0},{"$f":"'Dekor 4'!P20","v":0},{"$f":"'Dekor 4'!R20","v":0},{"$f":"'Dekor 4'!X20","v":0},{"$f":"IF(ISNUMBER('Dekor 4'!J20),'Dekor 4'!$AF$20,\"\")","v":""},{"$f":"IF(ISNUMBER('Dekor 4'!J20),'Dekor 4'!$AF$21,\"\")","v":""},{"$f":"IF(ISNUMBER('Dekor 4'!J20),'Dekor 4'!$AF$22,\"\")","v":""},{"$f":"IF(ISNUMBER('Dekor 4'!J20),'Dekor 4'!$AF$23,\"\")","v":""},{"$f":"IF(ISNUMBER('Dekor 4'!J20),'Dekor 4'!$AF$24,\"\")","v":""},{"$f":"'Dekor 4'!Y20","v":0}]
[{"$f":"'Dekor 4'!A21","v":""},{"$f":"'Dekor 4'!B21","v":{"$error":"#NAME?"}},{"$f":"IF(ISNUMBER('Dekor 4'!J21),('Dekor 4'!D21 & \".\" & 'Dekor 4'!U21 & \".\" & 'Dekor 4'!F21 & \".\" & 'Dekor 4'!V21 & \".\" & 'Dekor 4'!H21 & \".\" & 'Dekor 4'!I21),\"\")","v":""},{"$f":"'Dekor 4'!W21","v":0},{"$f":"'Dekor 4'!K21","v":0},{"$f":"'Dekor 4'!M21","v":0},{"$f":"'Dekor 4'!O21","v":0},{"$f":"'Dekor 4'!Q21","v":0},{"$f":"IF(ISNUMBER('Dekor 4'!J21),'Dekor 4'!E21 & \"x\" & 'Dekor 4'!G21,\"\")","v":""},{"$f":"'Dekor 4'!L21","v":0},{"$f":"'Dekor 4'!N21","v":0},{"$f":"'Dekor 4'!P21","v":0},{"$f":"'Dekor 4'!R21","v":0},{"$f":"'Dekor 4'!X21","v":0},{"$f":"IF(ISNUMBER('Dekor 4'!J21),'Dekor 4'!$AF$20,\"\")","v":""},{"$f":"IF(ISNUMBER('Dekor 4'!J21),'Dekor 4'!$AF$21,\"\")","v":""},{"$f":"IF(ISNUMBER('Dekor 4'!J21),'Dekor 4'!$AF$22,\"\")","v":""},{"$f":"IF(ISNUMBER('Dekor 4'!J21),'Dekor 4'!$AF$23,\"\")","v":""},{"$f":"IF(ISNUMBER('Dekor 4'!J21),'Dekor 4'!$AF$24,\"\")","v":""},{"$f":"'Dekor 4'!Y21","v":0}]
[{"$f":"'Dekor 4'!A22","v":""},{"$f":"'Dekor 4'!B22","v":{"$error":"#NAME?"}},{"$f":"IF(ISNUMBER('Dekor 4'!J22),('Dekor 4'!D22 & \".\" & 'Dekor 4'!U22 & \".\" & 'Dekor 4'!F22 & \".\" & 'Dekor 4'!V22 & \".\" & 'Dekor 4'!H22 & \".\" & 'Dekor 4'!I22),\"\")","v":""},{"$f":"'Dekor 4'!W22","v":0},{"$f":"'Dekor 4'!K22","v":0},{"$f":"'Dekor 4'!M22","v":0},{"$f":"'Dekor 4'!O22","v":0},{"$f":"'Dekor 4'!Q22","v":0},{"$f":"IF(ISNUMBER('Dekor 4'!J22),'Dekor 4'!E22 & \"x\" & 'Dekor 4'!G22,\"\")","v":""},{"$f":"'Dekor 4'!L22","v":0},{"$f":"'Dekor 4'!N22","v":0},{"$f":"'Dekor 4'!P22","v":0},{"$f":"'Dekor 4'!R22","v":0},{"$f":"'Dekor 4'!X22","v":0},{"$f":"IF(ISNUMBER('Dekor 4'!J22),'Dekor 4'!$AF$20,\"\")","v":""},{"$f":"IF(ISNUMBER('Dekor 4'!J22),'Dekor 4'!$AF$21,\"\")","v":""},{"$f":"IF(ISNUMBER('Dekor 4'!J22),'Dekor 4'!$AF$22,\"\")","v":""},{"$f":"IF(ISNUMBER('Dekor 4'!J22),'Dekor 4'!$AF$23,\"\")","v":""},{"$f":"IF(ISNUMBER('Dekor 4'!J22),'Dekor 4'!$AF$24,\"\")","v":""},{"$f":"'Dekor 4'!Y22","v":0}]
[{"$f":"'Dekor 4'!A23","v":""},{"$f":"'Dekor 4'!B23","v":{"$error":"#NAME?"}},{"$f":"IF(ISNUMBER('Dekor 4'!J23),('Dekor 4'!D23 & \".\" & 'Dekor 4'!U23 & \".\" & 'Dekor 4'!F23 & \".\" & 'Dekor 4'!V23 & \".\" & 'Dekor 4'!H23 & \".\" & 'Dekor 4'!I23),\"\")","v":""},{"$f":"'Dekor 4'!W23","v":0},{"$f":"'Dekor 4'!K23","v":0},{"$f":"'Dekor 4'!M23","v":0},{"$f":"'Dekor 4'!O23","v":0},{"$f":"'Dekor 4'!Q23","v":0},{"$f":"IF(ISNUMBER('Dekor 4'!J23),'Dekor 4'!E23 & \"x\" & 'Dekor 4'!G23,\"\")","v":""},{"$f":"'Dekor 4'!L23","v":0},{"$f":"'Dekor 4'!N23","v":0},{"$f":"'Dekor 4'!P23","v":0},{"$f":"'Dekor 4'!R23","v":0},{"$f":"'Dekor 4'!X23","v":0},{"$f":"IF(ISNUMBER('Dekor 4'!J23),'Dekor 4'!$AF$20,\"\")","v":""},{"$f":"IF(ISNUMBER('Dekor 4'!J23),'Dekor 4'!$AF$21,\"\")","v":""},{"$f":"IF(ISNUMBER('Dekor 4'!J23),'Dekor 4'!$AF$22,\"\")","v":""},{"$f":"IF(ISNUMBER('Dekor 4'!J23),'Dekor 4'!$AF$23,\"\")","v":""},{"$f":"IF(ISNUMBER('Dekor 4'!J23),'Dekor 4'!$AF$24,\"\")","v":""},{"$f":"'Dekor 4'!Y23","v":0}]
[{"$f":"'Dekor 4'!A24","v":""},{"$f":"'Dekor 4'!B24","v":{"$error":"#NAME?"}},{"$f":"IF(ISNUMBER('Dekor 4'!J24),('Dekor 4'!D24 & \".\" & 'Dekor 4'!U24 & \".\" & 'Dekor 4'!F24 & \".\" & 'Dekor 4'!V24 & \".\" & 'Dekor 4'!H24 & \".\" & 'Dekor 4'!I24),\"\")","v":""},{"$f":"'Dekor 4'!W24","v":0},{"$f":"'Dekor 4'!K24","v":0},{"$f":"'Dekor 4'!M24","v":0},{"$f":"'Dekor 4'!O24","v":0},{"$f":"'Dekor 4'!Q24","v":0},{"$f":"IF(ISNUMBER('Dekor 4'!J24),'Dekor 4'!E24 & \"x\" & 'Dekor 4'!G24,\"\")","v":""},{"$f":"'Dekor 4'!L24","v":0},{"$f":"'Dekor 4'!N24","v":0},{"$f":"'Dekor 4'!P24","v":0},{"$f":"'Dekor 4'!R24","v":0},{"$f":"'Dekor 4'!X24","v":0},{"$f":"IF(ISNUMBER('Dekor 4'!J24),'Dekor 4'!$AF$20,\"\")","v":""},{"$f":"IF(ISNUMBER('Dekor 4'!J24),'Dekor 4'!$AF$21,\"\")","v":""},{"$f":"IF(ISNUMBER('Dekor 4'!J24),'Dekor 4'!$AF$22,\"\")","v":""},{"$f":"IF(ISNUMBER('Dekor 4'!J24),'Dekor 4'!$AF$23,\"\")","v":""},{"$f":"IF(ISNUMBER('Dekor 4'!J24),'Dekor 4'!$AF$24,\"\")","v":""},{"$f":"'Dekor 4'!Y24","v":0}]
[{"$f":"'Dekor 4'!A25","v":""},{"$f":"'Dekor 4'!B25","v":{"$error":"#NAME?"}},{"$f":"IF(ISNUMBER('Dekor 4'!J25),('Dekor 4'!D25 & \".\" & 'Dekor 4'!U25 & \".\" & 'Dekor 4'!F25 & \".\" & 'Dekor 4'!V25 & \".\" & 'Dekor 4'!H25 & \".\" & 'Dekor 4'!I25),\"\")","v":""},{"$f":"'Dekor 4'!W25","v":0},{"$f":"'Dekor 4'!K25","v":0},{"$f":"'Dekor 4'!M25","v":0},{"$f":"'Dekor 4'!O25","v":0},{"$f":"'Dekor 4'!Q25","v":0},{"$f":"IF(ISNUMBER('Dekor 4'!J25),'Dekor 4'!E25 & \"x\" & 'Dekor 4'!G25,\"\")","v":""},{"$f":"'Dekor 4'!L25","v":0},{"$f":"'Dekor 4'!N25","v":0},{"$f":"'Dekor 4'!P25","v":0},{"$f":"'Dekor 4'!R25","v":0},{"$f":"'Dekor 4'!X25","v":0},{"$f":"IF(ISNUMBER('Dekor 4'!J25),'Dekor 4'!$AF$20,\"\")","v":""},{"$f":"IF(ISNUMBER('Dekor 4'!J25),'Dekor 4'!$AF$21,\"\")","v":""},{"$f":"IF(ISNUMBER('Dekor 4'!J25),'Dekor 4'!$AF$22,\"\")","v":""},{"$f":"IF(ISNUMBER('Dekor 4'!J25),'Dekor 4'!$AF$23,\"\")","v":""},{"$f":"IF(ISNUMBER('Dekor 4'!J25),'Dekor 4'!$AF$24,\"\")","v":""},{"$f":"'Dekor 4'!Y25","v":0}]
[{"$f":"'Dekor 4'!A26","v":""},{"$f":"'Dekor 4'!B26","v":{"$error":"#NAME?"}},{"$f":"IF(ISNUMBER('Dekor 4'!J26),('Dekor 4'!D26 & \".\" & 'Dekor 4'!U26 & \".\" & 'Dekor 4'!F26 & \".\" & 'Dekor 4'!V26 & \".\" & 'Dekor 4'!H26 & \".\" & 'Dekor 4'!I26),\"\")","v":""},{"$f":"'Dekor 4'!W26","v":0},{"$f":"'Dekor 4'!K26","v":0},{"$f":"'Dekor 4'!M26","v":0},{"$f":"'Dekor 4'!O26","v":0},{"$f":"'Dekor 4'!Q26","v":0},{"$f":"IF(ISNUMBER('Dekor 4'!J26),'Dekor 4'!E26 & \"x\" & 'Dekor 4'!G26,\"\")","v":""},{"$f":"'Dekor 4'!L26","v":0},{"$f":"'Dekor 4'!N26","v":0},{"$f":"'Dekor 4'!P26","v":0},{"$f":"'Dekor 4'!R26","v":0},{"$f":"'Dekor 4'!X26","v":0},{"$f":"IF(ISNUMBER('Dekor 4'!J26),'Dekor 4'!$AF$20,\"\")","v":""},{"$f":"IF(ISNUMBER('Dekor 4'!J26),'Dekor 4'!$AF$21,\"\")","v":""},{"$f":"IF(ISNUMBER('Dekor 4'!J26),'Dekor 4'!$AF$22,\"\")","v":""},{"$f":"IF(ISNUMBER('Dekor 4'!J26),'Dekor 4'!$AF$23,\"\")","v":""},{"$f":"IF(ISNUMBER('Dekor 4'!J26),'Dekor 4'!$AF$24,\"\")","v":""},{"$f":"'Dekor 4'!Y26","v":0}]
[{"$f":"'Dekor 4'!A27","v":""},{"$f":"'Dekor 4'!B27","v":{"$error":"#NAME?"}},{"$f":"IF(ISNUMBER('Dekor 4'!J27),('Dekor 4'!D27 & \".\" & 'Dekor 4'!U27 & \".\" & 'Dekor 4'!F27 & \".\" & 'Dekor 4'!V27 & \".\" & 'Dekor 4'!H27 & \".\" & 'Dekor 4'!I27),\"\")","v":""},{"$f":"'Dekor 4'!W27","v":0},{"$f":"'Dekor 4'!K27","v":0},{"$f":"'Dekor 4'!M27","v":0},{"$f":"'Dekor 4'!O27","v":0},{"$f":"'Dekor 4'!Q27","v":0},{"$f":"IF(ISNUMBER('Dekor 4'!J27),'Dekor 4'!E27 & \"x\" & 'Dekor 4'!G27,\"\")","v":""},{"$f":"'Dekor 4'!L27","v":0},{"$f":"'Dekor 4'!N27","v":0},{"$f":"'Dekor 4'!P27","v":0},{"$f":"'Dekor 4'!R27","v":0},{"$f":"'Dekor 4'!X27","v":0},{"$f":"IF(ISNUMBER('Dekor 4'!J27),'Dekor 4'!$AF$20,\"\")","v":""},{"$f":"IF(ISNUMBER('Dekor 4'!J27),'Dekor 4'!$AF$21,\"\")","v":""},{"$f":"IF(ISNUMBER('Dekor 4'!J27),'Dekor 4'!$AF$22,\"\")","v":""},{"$f":"IF(ISNUMBER('Dekor 4'!J27),'Dekor 4'!$AF$23,\"\")","v":""},{"$f":"IF(ISNUMBER('Dekor 4'!J27),'Dekor 4'!$AF$24,\"\")","v":""},{"$f":"'Dekor 4'!Y27","v":0}]
[{"$f":"'Dekor 4'!A28","v":""},{"$f":"'Dekor 4'!B28","v":{"$error":"#NAME?"}},{"$f":"IF(ISNUMBER('Dekor 4'!J28),('Dekor 4'!D28 & \".\" & 'Dekor 4'!U28 & \".\" & 'Dekor 4'!F28 & \".\" & 'Dekor 4'!V28 & \".\" & 'Dekor 4'!H28 & \".\" & 'Dekor 4'!I28),\"\")","v":""},{"$f":"'Dekor 4'!W28","v":0},{"$f":"'Dekor 4'!K28","v":0},{"$f":"'Dekor 4'!M28","v":0},{"$f":"'Dekor 4'!O28","v":0},{"$f":"'Dekor 4'!Q28","v":0},{"$f":"IF(ISNUMBER('Dekor 4'!J28),'Dekor 4'!E28 & \"x\" & 'Dekor 4'!G28,\"\")","v":""},{"$f":"'Dekor 4'!L28","v":0},{"$f":"'Dekor 4'!N28","v":0},{"$f":"'Dekor 4'!P28","v":0},{"$f":"'Dekor 4'!R28","v":0},{"$f":"'Dekor 4'!X28","v":0},{"$f":"IF(ISNUMBER('Dekor 4'!J28),'Dekor 4'!$AF$20,\"\")","v":""},{"$f":"IF(ISNUMBER('Dekor 4'!J28),'Dekor 4'!$AF$21,\"\")","v":""},{"$f":"IF(ISNUMBER('Dekor 4'!J28),'Dekor 4'!$AF$22,\"\")","v":""},{"$f":"IF(ISNUMBER('Dekor 4'!J28),'Dekor 4'!$AF$23,\"\")","v":""},{"$f":"IF(ISNUMBER('Dekor 4'!J28),'Dekor 4'!$AF$24,\"\")","v":""},{"$f":"'Dekor 4'!Y28","v":0}]
[{"$f":"'Dekor 4'!A29","v":""},{"$f":"'Dekor 4'!B29","v":{"$error":"#NAME?"}},{"$f":"IF(ISNUMBER('Dekor 4'!J29),('Dekor 4'!D29 & \".\" & 'Dekor 4'!U29 & \".\" & 'Dekor 4'!F29 & \".\" & 'Dekor 4'!V29 & \".\" & 'Dekor 4'!H29 & \".\" & 'Dekor 4'!I29),\"\")","v":""},{"$f":"'Dekor 4'!W29","v":0},{"$f":"'Dekor 4'!K29","v":0},{"$f":"'Dekor 4'!M29","v":0},{"$f":"'Dekor 4'!O29","v":0},{"$f":"'Dekor 4'!Q29","v":0},{"$f":"IF(ISNUMBER('Dekor 4'!J29),'Dekor 4'!E29 & \"x\" & 'Dekor 4'!G29,\"\")","v":""},{"$f":"'Dekor 4'!L29","v":0},{"$f":"'Dekor 4'!N29","v":0},{"$f":"'Dekor 4'!P29","v":0},{"$f":"'Dekor 4'!R29","v":0},{"$f":"'Dekor 4'!X29","v":0},{"$f":"IF(ISNUMBER('Dekor 4'!J29),'Dekor 4'!$AF$20,\"\")","v":""},{"$f":"IF(ISNUMBER('Dekor 4'!J29),'Dekor 4'!$AF$21,\"\")","v":""},{"$f":"IF(ISNUMBER('Dekor 4'!J29),'Dekor 4'!$AF$22,\"\")","v":""},{"$f":"IF(ISNUMBER('Dekor 4'!J29),'Dekor 4'!$AF$23,\"\")","v":""},{"$f":"IF(ISNUMBER('Dekor 4'!J29),'Dekor 4'!$AF$24,\"\")","v":""},{"$f":"'Dekor 4'!Y29","v":0}]
[{"$f":"'Dekor 4'!A30","v":""},{"$f":"'Dekor 4'!B30","v":{"$error":"#NAME?"}},{"$f":"IF(ISNUMBER('Dekor 4'!J30),('Dekor 4'!D30 & \".\" & 'Dekor 4'!U30 & \".\" & 'Dekor 4'!F30 & \".\" & 'Dekor 4'!V30 & \".\" & 'Dekor 4'!H30 & \".\" & 'Dekor 4'!I30),\"\")","v":""},{"$f":"'Dekor 4'!W30","v":0},{"$f":"'Dekor 4'!K30","v":0},{"$f":"'Dekor 4'!M30","v":0},{"$f":"'Dekor 4'!O30","v":0},{"$f":"'Dekor 4'!Q30","v":0},{"$f":"IF(ISNUMBER('Dekor 4'!J30),'Dekor 4'!E30 & \"x\" & 'Dekor 4'!G30,\"\")","v":""},{"$f":"'Dekor 4'!L30","v":0},{"$f":"'Dekor 4'!N30","v":0},{"$f":"'Dekor 4'!P30","v":0},{"$f":"'Dekor 4'!R30","v":0},{"$f":"'Dekor 4'!X30","v":0},{"$f":"IF(ISNUMBER('Dekor 4'!J30),'Dekor 4'!$AF$20,\"\")","v":""},{"$f":"IF(ISNUMBER('Dekor 4'!J30),'Dekor 4'!$AF$21,\"\")","v":""},{"$f":"IF(ISNUMBER('Dekor 4'!J30),'Dekor 4'!$AF$22,\"\")","v":""},{"$f":"IF(ISNUMBER('Dekor 4'!J30),'Dekor 4'!$AF$23,\"\")","v":""},{"$f":"IF(ISNUMBER('Dekor 4'!J30),'Dekor 4'!$AF$24,\"\")","v":""},{"$f":"'Dekor 4'!Y30","v":0}]
[{"$f":"'Dekor 4'!A31","v":""},{"$f":"'Dekor 4'!B31","v":{"$error":"#NAME?"}},{"$f":"IF(ISNUMBER('Dekor 4'!J31),('Dekor 4'!D31 & \".\" & 'Dekor 4'!U31 & \".\" & 'Dekor 4'!F31 & \".\" & 'Dekor 4'!V31 & \".\" & 'Dekor 4'!H31 & \".\" & 'Dekor 4'!I31),\"\")","v":""},{"$f":"'Dekor 4'!W31","v":0},{"$f":"'Dekor 4'!K31","v":0},{"$f":"'Dekor 4'!M31","v":0},{"$f":"'Dekor 4'!O31","v":0},{"$f":"'Dekor 4'!Q31","v":0},{"$f":"IF(ISNUMBER('Dekor 4'!J31),'Dekor 4'!E31 & \"x\" & 'Dekor 4'!G31,\"\")","v":""},{"$f":"'Dekor 4'!L31","v":0},{"$f":"'Dekor 4'!N31","v":0},{"$f":"'Dekor 4'!P31","v":0},{"$f":"'Dekor 4'!R31","v":0},{"$f":"'Dekor 4'!X31","v":0},{"$f":"IF(ISNUMBER('Dekor 4'!J31),'Dekor 4'!$AF$20,\"\")","v":""},{"$f":"IF(ISNUMBER('Dekor 4'!J31),'Dekor 4'!$AF$21,\"\")","v":""},{"$f":"IF(ISNUMBER('Dekor 4'!J31),'Dekor 4'!$AF$22,\"\")","v":""},{"$f":"IF(ISNUMBER('Dekor 4'!J31),'Dekor 4'!$AF$23,\"\")","v":""},{"$f":"IF(ISNUMBER('Dekor 4'!J31),'Dekor 4'!$AF$24,\"\")","v":""},{"$f":"'Dekor 4'!Y31","v":0}]
[{"$f":"'Dekor 4'!A32","v":""},{"$f":"'Dekor 4'!B32","v":{"$error":"#NAME?"}},{"$f":"IF(ISNUMBER('Dekor 4'!J32),('Dekor 4'!D32 & \".\" & 'Dekor 4'!U32 & \".\" & 'Dekor 4'!F32 & \".\" & 'Dekor 4'!V32 & \".\" & 'Dekor 4'!H32 & \".\" & 'Dekor 4'!I32),\"\")","v":""},{"$f":"'Dekor 4'!W32","v":0},{"$f":"'Dekor 4'!K32","v":0},{"$f":"'Dekor 4'!M32","v":0},{"$f":"'Dekor 4'!O32","v":0},{"$f":"'Dekor 4'!Q32","v":0},{"$f":"IF(ISNUMBER('Dekor 4'!J32),'Dekor 4'!E32 & \"x\" & 'Dekor 4'!G32,\"\")","v":""},{"$f":"'Dekor 4'!L32","v":0},{"$f":"'Dekor 4'!N32","v":0},{"$f":"'Dekor 4'!P32","v":0},{"$f":"'Dekor 4'!R32","v":0},{"$f":"'Dekor 4'!X32","v":0},{"$f":"IF(ISNUMBER('Dekor 4'!J32),'Dekor 4'!$AF$20,\"\")","v":""},{"$f":"IF(ISNUMBER('Dekor 4'!J32),'Dekor 4'!$AF$21,\"\")","v":""},{"$f":"IF(ISNUMBER('Dekor 4'!J32),'Dekor 4'!$AF$22,\"\")","v":""},{"$f":"IF(ISNUMBER('Dekor 4'!J32),'Dekor 4'!$AF$23,\"\")","v":""},{"$f":"IF(ISNUMBER('Dekor 4'!J32),'Dekor 4'!$AF$24,\"\")","v":""},{"$f":"'Dekor 4'!Y32","v":0}]
[{"$f":"'Dekor 4'!A33","v":""},{"$f":"'Dekor 4'!B33","v":{"$error":"#NAME?"}},{"$f":"IF(ISNUMBER('Dekor 4'!J33),('Dekor 4'!D33 & \".\" & 'Dekor 4'!U33 & \".\" & 'Dekor 4'!F33 & \".\" & 'Dekor 4'!V33 & \".\" & 'Dekor 4'!H33 & \".\" & 'Dekor 4'!I33),\"\")","v":""},{"$f":"'Dekor 4'!W33","v":0},{"$f":"'Dekor 4'!K33","v":0},{"$f":"'Dekor 4'!M33","v":0},{"$f":"'Dekor 4'!O33","v":0},{"$f":"'Dekor 4'!Q33","v":0},{"$f":"IF(ISNUMBER('Dekor 4'!J33),'Dekor 4'!E33 & \"x\" & 'Dekor 4'!G33,\"\")","v":""},{"$f":"'Dekor 4'!L33","v":0},{"$f":"'Dekor 4'!N33","v":0},{"$f":"'Dekor 4'!P33","v":0},{"$f":"'Dekor 4'!R33","v":0},{"$f":"'Dekor 4'!X33","v":0},{"$f":"IF(ISNUMBER('Dekor 4'!J33),'Dekor 4'!$AF$20,\"\")","v":""},{"$f":"IF(ISNUMBER('Dekor 4'!J33),'Dekor 4'!$AF$21,\"\")","v":""},{"$f":"IF(ISNUMBER('Dekor 4'!J33),'Dekor 4'!$AF$22,\"\")","v":""},{"$f":"IF(ISNUMBER('Dekor 4'!J33),'Dekor 4'!$AF$23,\"\")","v":""},{"$f":"IF(ISNUMBER('Dekor 4'!J33),'Dekor 4'!$AF$24,\"\")","v":""},{"$f":"'Dekor 4'!Y33","v":0}]
[{"$f":"'Dekor 4'!A34","v":""},{"$f":"'Dekor 4'!B34","v":{"$error":"#NAME?"}},{"$f":"IF(ISNUMBER('Dekor 4'!J34),('Dekor 4'!D34 & \".\" & 'Dekor 4'!U34 & \".\" & 'Dekor 4'!F34 & \".\" & 'Dekor 4'!V34 & \".\" & 'Dekor 4'!H34 & \".\" & 'Dekor 4'!I34),\"\")","v":""},{"$f":"'Dekor 4'!W34","v":0},{"$f":"'Dekor 4'!K34","v":0},{"$f":"'Dekor 4'!M34","v":0},{"$f":"'Dekor 4'!O34","v":0},{"$f":"'Dekor 4'!Q34","v":0},{"$f":"IF(ISNUMBER('Dekor 4'!J34),'Dekor 4'!E34 & \"x\" & 'Dekor 4'!G34,\"\")","v":""},{"$f":"'Dekor 4'!L34","v":0},{"$f":"'Dekor 4'!N34","v":0},{"$f":"'Dekor 4'!P34","v":0},{"$f":"'Dekor 4'!R34","v":0},{"$f":"'Dekor 4'!X34","v":0},{"$f":"IF(ISNUMBER('Dekor 4'!J34),'Dekor 4'!$AF$20,\"\")","v":""},{"$f":"IF(ISNUMBER('Dekor 4'!J34),'Dekor 4'!$AF$21,\"\")","v":""},{"$f":"IF(ISNUMBER('Dekor 4'!J34),'Dekor 4'!$AF$22,\"\")","v":""},{"$f":"IF(ISNUMBER('Dekor 4'!J34),'Dekor 4'!$AF$23,\"\")","v":""},{"$f":"IF(ISNUMBER('Dekor 4'!J34),'Dekor 4'!$AF$24,\"\")","v":""},{"$f":"'Dekor 4'!Y34","v":0}]
[{"$f":"'Dekor 4'!A35","v":""},{"$f":"'Dekor 4'!B35","v":{"$error":"#NAME?"}},{"$f":"IF(ISNUMBER('Dekor 4'!J35),('Dekor 4'!D35 & \".\" & 'Dekor 4'!U35 & \".\" & 'Dekor 4'!F35 & \".\" & 'Dekor 4'!V35 & \".\" & 'Dekor 4'!H35 & \".\" & 'Dekor 4'!I35),\"\")","v":""},{"$f":"'Dekor 4'!W35","v":0},{"$f":"'Dekor 4'!K35","v":0},{"$f":"'Dekor 4'!M35","v":0},{"$f":"'Dekor 4'!O35","v":0},{"$f":"'Dekor 4'!Q35","v":0},{"$f":"IF(ISNUMBER('Dekor 4'!J35),'Dekor 4'!E35 & \"x\" & 'Dekor 4'!G35,\"\")","v":""},{"$f":"'Dekor 4'!L35","v":0},{"$f":"'Dekor 4'!N35","v":0},{"$f":"'Dekor 4'!P35","v":0},{"$f":"'Dekor 4'!R35","v":0},{"$f":"'Dekor 4'!X35","v":0},{"$f":"IF(ISNUMBER('Dekor 4'!J35),'Dekor 4'!$AF$20,\"\")","v":""},{"$f":"IF(ISNUMBER('Dekor 4'!J35),'Dekor 4'!$AF$21,\"\")","v":""},{"$f":"IF(ISNUMBER('Dekor 4'!J35),'Dekor 4'!$AF$22,\"\")","v":""},{"$f":"IF(ISNUMBER('Dekor 4'!J35),'Dekor 4'!$AF$23,\"\")","v":""},{"$f":"IF(ISNUMBER('Dekor 4'!J35),'Dekor 4'!$AF$24,\"\")","v":""},{"$f":"'Dekor 4'!Y35","v":0}]
[{"$f":"'Dekor 4'!A36","v":""},{"$f":"'Dekor 4'!B36","v":{"$error":"#NAME?"}},{"$f":"IF(ISNUMBER('Dekor 4'!J36),('Dekor 4'!D36 & \".\" & 'Dekor 4'!U36 & \".\" & 'Dekor 4'!F36 & \".\" & 'Dekor 4'!V36 & \".\" & 'Dekor 4'!H36 & \".\" & 'Dekor 4'!I36),\"\")","v":""},{"$f":"'Dekor 4'!W36","v":0},{"$f":"'Dekor 4'!K36","v":0},{"$f":"'Dekor 4'!M36","v":0},{"$f":"'Dekor 4'!O36","v":0},{"$f":"'Dekor 4'!Q36","v":0},{"$f":"IF(ISNUMBER('Dekor 4'!J36),'Dekor 4'!E36 & \"x\" & 'Dekor 4'!G36,\"\")","v":""},{"$f":"'Dekor 4'!L36","v":0},{"$f":"'Dekor 4'!N36","v":0},{"$f":"'Dekor 4'!P36","v":0},{"$f":"'Dekor 4'!R36","v":0},{"$f":"'Dekor 4'!X36","v":0},{"$f":"IF(ISNUMBER('Dekor 4'!J36),'Dekor 4'!$AF$20,\"\")","v":""},{"$f":"IF(ISNUMBER('Dekor 4'!J36),'Dekor 4'!$AF$21,\"\")","v":""},{"$f":"IF(ISNUMBER('Dekor 4'!J36),'Dekor 4'!$AF$22,\"\")","v":""},{"$f":"IF(ISNUMBER('Dekor 4'!J36),'Dekor 4'!$AF$23,\"\")","v":""},{"$f":"IF(ISNUMBER('Dekor 4'!J36),'Dekor 4'!$AF$24,\"\")","v":""},{"$f":"'Dekor 4'!Y36","v":0}]
[{"$f":"'Dekor 4'!A37","v":""},{"$f":"'Dekor 4'!B37","v":{"$error":"#NAME?"}},{"$f":"IF(ISNUMBER('Dekor 4'!J37),('Dekor 4'!D37 & \".\" & 'Dekor 4'!U37 & \".\" & 'Dekor 4'!F37 & \".\" & 'Dekor 4'!V37 & \".\" & 'Dekor 4'!H37 & \".\" & 'Dekor 4'!I37),\"\")","v":""},{"$f":"'Dekor 4'!W37","v":0},{"$f":"'Dekor 4'!K37","v":0},{"$f":"'Dekor 4'!M37","v":0},{"$f":"'Dekor 4'!O37","v":0},{"$f":"'Dekor 4'!Q37","v":0},{"$f":"IF(ISNUMBER('Dekor 4'!J37),'Dekor 4'!E37 & \"x\" & 'Dekor 4'!G37,\"\")","v":""},{"$f":"'Dekor 4'!L37","v":0},{"$f":"'Dekor 4'!N37","v":0},{"$f":"'Dekor 4'!P37","v":0},{"$f":"'Dekor 4'!R37","v":0},{"$f":"'Dekor 4'!X37","v":0},{"$f":"IF(ISNUMBER('Dekor 4'!J37),'Dekor 4'!$AF$20,\"\")","v":""},{"$f":"IF(ISNUMBER('Dekor 4'!J37),'Dekor 4'!$AF$21,\"\")","v":""},{"$f":"IF(ISNUMBER('Dekor 4'!J37),'Dekor 4'!$AF$22,\"\")","v":""},{"$f":"IF(ISNUMBER('Dekor 4'!J37),'Dekor 4'!$AF$23,\"\")","v":""},{"$f":"IF(ISNUMBER('Dekor 4'!J37),'Dekor 4'!$AF$24,\"\")","v":""},{"$f":"'Dekor 4'!Y37","v":0}]
[{"$f":"'Dekor 4'!A38","v":""},{"$f":"'Dekor 4'!B38","v":{"$error":"#NAME?"}},{"$f":"IF(ISNUMBER('Dekor 4'!J38),('Dekor 4'!D38 & \".\" & 'Dekor 4'!U38 & \".\" & 'Dekor 4'!F38 & \".\" & 'Dekor 4'!V38 & \".\" & 'Dekor 4'!H38 & \".\" & 'Dekor 4'!I38),\"\")","v":""},{"$f":"'Dekor 4'!W38","v":0},{"$f":"'Dekor 4'!K38","v":0},{"$f":"'Dekor 4'!M38","v":0},{"$f":"'Dekor 4'!O38","v":0},{"$f":"'Dekor 4'!Q38","v":0},{"$f":"IF(ISNUMBER('Dekor 4'!J38),'Dekor 4'!E38 & \"x\" & 'Dekor 4'!G38,\"\")","v":""},{"$f":"'Dekor 4'!L38","v":0},{"$f":"'Dekor 4'!N38","v":0},{"$f":"'Dekor 4'!P38","v":0},{"$f":"'Dekor 4'!R38","v":0},{"$f":"'Dekor 4'!X38","v":0},{"$f":"IF(ISNUMBER('Dekor 4'!J38),'Dekor 4'!$AF$20,\"\")","v":""},{"$f":"IF(ISNUMBER('Dekor 4'!J38),'Dekor 4'!$AF$21,\"\")","v":""},{"$f":"IF(ISNUMBER('Dekor 4'!J38),'Dekor 4'!$AF$22,\"\")","v":""},{"$f":"IF(ISNUMBER('Dekor 4'!J38),'Dekor 4'!$AF$23,\"\")","v":""},{"$f":"IF(ISNUMBER('Dekor 4'!J38),'Dekor 4'!$AF$24,\"\")","v":""},{"$f":"'Dekor 4'!Y38","v":0}]
[{"$f":"'Dekor 4'!A39","v":""},{"$f":"'Dekor 4'!B39","v":{"$error":"#NAME?"}},{"$f":"IF(ISNUMBER('Dekor 4'!J39),('Dekor 4'!D39 & \".\" & 'Dekor 4'!U39 & \".\" & 'Dekor 4'!F39 & \".\" & 'Dekor 4'!V39 & \".\" & 'Dekor 4'!H39 & \".\" & 'Dekor 4'!I39),\"\")","v":""},{"$f":"'Dekor 4'!W39","v":0},{"$f":"'Dekor 4'!K39","v":0},{"$f":"'Dekor 4'!M39","v":0},{"$f":"'Dekor 4'!O39","v":0},{"$f":"'Dekor 4'!Q39","v":0},{"$f":"IF(ISNUMBER('Dekor 4'!J39),'Dekor 4'!E39 & \"x\" & 'Dekor 4'!G39,\"\")","v":""},{"$f":"'Dekor 4'!L39","v":0},{"$f":"'Dekor 4'!N39","v":0},{"$f":"'Dekor 4'!P39","v":0},{"$f":"'Dekor 4'!R39","v":0},{"$f":"'Dekor 4'!X39","v":0},{"$f":"IF(ISNUMBER('Dekor 4'!J39),'Dekor 4'!$AF$20,\"\")","v":""},{"$f":"IF(ISNUMBER('Dekor 4'!J39),'Dekor 4'!$AF$21,\"\")","v":""},{"$f":"IF(ISNUMBER('Dekor 4'!J39),'Dekor 4'!$AF$22,\"\")","v":""},{"$f":"IF(ISNUMBER('Dekor 4'!J39),'Dekor 4'!$AF$23,\"\")","v":""},{"$f":"IF(ISNUMBER('Dekor 4'!J39),'Dekor 4'!$AF$24,\"\")","v":""},{"$f":"'Dekor 4'!Y39","v":0}]
[{"$f":"'Dekor 4'!A40","v":""},{"$f":"'Dekor 4'!B40","v":{"$error":"#NAME?"}},{"$f":"IF(ISNUMBER('Dekor 4'!J40),('Dekor 4'!D40 & \".\" & 'Dekor 4'!U40 & \".\" & 'Dekor 4'!F40 & \".\" & 'Dekor 4'!V40 & \".\" & 'Dekor 4'!H40 & \".\" & 'Dekor 4'!I40),\"\")","v":""},{"$f":"'Dekor 4'!W40","v":0},{"$f":"'Dekor 4'!K40","v":0},{"$f":"'Dekor 4'!M40","v":0},{"$f":"'Dekor 4'!O40","v":0},{"$f":"'Dekor 4'!Q40","v":0},{"$f":"IF(ISNUMBER('Dekor 4'!J40),'Dekor 4'!E40 & \"x\" & 'Dekor 4'!G40,\"\")","v":""},{"$f":"'Dekor 4'!L40","v":0},{"$f":"'Dekor 4'!N40","v":0},{"$f":"'Dekor 4'!P40","v":0},{"$f":"'Dekor 4'!R40","v":0},{"$f":"'Dekor 4'!X40","v":0},{"$f":"IF(ISNUMBER('Dekor 4'!J40),'Dekor 4'!$AF$20,\"\")","v":""},{"$f":"IF(ISNUMBER('Dekor 4'!J40),'Dekor 4'!$AF$21,\"\")","v":""},{"$f":"IF(ISNUMBER('Dekor 4'!J40),'Dekor 4'!$AF$22,\"\")","v":""},{"$f":"IF(ISNUMBER('Dekor 4'!J40),'Dekor 4'!$AF$23,\"\")","v":""},{"$f":"IF(ISNUMBER('Dekor 4'!J40),'Dekor 4'!$AF$24,\"\")","v":""},{"$f":"'Dekor 4'!Y40","v":0}]
[{"$f":"'Dekor 4'!A41","v":""},{"$f":"'Dekor 4'!B41","v":{"$error":"#NAME?"}},{"$f":"IF(ISNUMBER('Dekor 4'!J41),('Dekor 4'!D41 & \".\" & 'Dekor 4'!U41 & \".\" & 'Dekor 4'!F41 & \".\" & 'Dekor 4'!V41 & \".\" & 'Dekor 4'!H41 & \".\" & 'Dekor 4'!I41),\"\")","v":""},{"$f":"'Dekor 4'!W41","v":0},{"$f":"'Dekor 4'!K41","v":0},{"$f":"'Dekor 4'!M41","v":0},{"$f":"'Dekor 4'!O41","v":0},{"$f":"'Dekor 4'!Q41","v":0},{"$f":"IF(ISNUMBER('Dekor 4'!J41),'Dekor 4'!E41 & \"x\" & 'Dekor 4'!G41,\"\")","v":""},{"$f":"'Dekor 4'!L41","v":0},{"$f":"'Dekor 4'!N41","v":0},{"$f":"'Dekor 4'!P41","v":0},{"$f":"'Dekor 4'!R41","v":0},{"$f":"'Dekor 4'!X41","v":0},{"$f":"IF(ISNUMBER('Dekor 4'!J41),'Dekor 4'!$AF$20,\"\")","v":""},{"$f":"IF(ISNUMBER('Dekor 4'!J41),'Dekor 4'!$AF$21,\"\")","v":""},{"$f":"IF(ISNUMBER('Dekor 4'!J41),'Dekor 4'!$AF$22,\"\")","v":""},{"$f":"IF(ISNUMBER('Dekor 4'!J41),'Dekor 4'!$AF$23,\"\")","v":""},{"$f":"IF(ISNUMBER('Dekor 4'!J41),'Dekor 4'!$AF$24,\"\")","v":""},{"$f":"'Dekor 4'!Y41","v":0}]
[{"$f":"'Dekor 4'!A42","v":""},{"$f":"'Dekor 4'!B42","v":{"$error":"#NAME?"}},{"$f":"IF(ISNUMBER('Dekor 4'!J42),('Dekor 4'!D42 & \".\" & 'Dekor 4'!U42 & \".\" & 'Dekor 4'!F42 & \".\" & 'Dekor 4'!V42 & \".\" & 'Dekor 4'!H42 & \".\" & 'Dekor 4'!I42),\"\")","v":""},{"$f":"'Dekor 4'!W42","v":0},{"$f":"'Dekor 4'!K42","v":0},{"$f":"'Dekor 4'!M42","v":0},{"$f":"'Dekor 4'!O42","v":0},{"$f":"'Dekor 4'!Q42","v":0},{"$f":"IF(ISNUMBER('Dekor 4'!J42),'Dekor 4'!E42 & \"x\" & 'Dekor 4'!G42,\"\")","v":""},{"$f":"'Dekor 4'!L42","v":0},{"$f":"'Dekor 4'!N42","v":0},{"$f":"'Dekor 4'!P42","v":0},{"$f":"'Dekor 4'!R42","v":0},{"$f":"'Dekor 4'!X42","v":0},{"$f":"IF(ISNUMBER('Dekor 4'!J42),'Dekor 4'!$AF$20,\"\")","v":""},{"$f":"IF(ISNUMBER('Dekor 4'!J42),'Dekor 4'!$AF$21,\"\")","v":""},{"$f":"IF(ISNUMBER('Dekor 4'!J42),'Dekor 4'!$AF$22,\"\")","v":""},{"$f":"IF(ISNUMBER('Dekor 4'!J42),'Dekor 4'!$AF$23,\"\")","v":""},{"$f":"IF(ISNUMBER('Dekor 4'!J42),'Dekor 4'!$AF$24,\"\")","v":""},{"$f":"'Dekor 4'!Y42","v":0}]
[{"$f":"'Dekor 4'!A43","v":""},{"$f":"'Dekor 4'!B43","v":{"$error":"#NAME?"}},{"$f":"IF(ISNUMBER('Dekor 4'!J43),('Dekor 4'!D43 & \".\" & 'Dekor 4'!U43 & \".\" & 'Dekor 4'!F43 & \".\" & 'Dekor 4'!V43 & \".\" & 'Dekor 4'!H43 & \".\" & 'Dekor 4'!I43),\"\")","v":""},{"$f":"'Dekor 4'!W43","v":0},{"$f":"'Dekor 4'!K43","v":0},{"$f":"'Dekor 4'!M43","v":0},{"$f":"'Dekor 4'!O43","v":0},{"$f":"'Dekor 4'!Q43","v":0},{"$f":"IF(ISNUMBER('Dekor 4'!J43),'Dekor 4'!E43 & \"x\" & 'Dekor 4'!G43,\"\")","v":""},{"$f":"'Dekor 4'!L43","v":0},{"$f":"'Dekor 4'!N43","v":0},{"$f":"'Dekor 4'!P43","v":0},{"$f":"'Dekor 4'!R43","v":0},{"$f":"'Dekor 4'!X43","v":0},{"$f":"IF(ISNUMBER('Dekor 4'!J43),'Dekor 4'!$AF$20,\"\")","v":""},{"$f":"IF(ISNUMBER('Dekor 4'!J43),'Dekor 4'!$AF$21,\"\")","v":""},{"$f":"IF(ISNUMBER('Dekor 4'!J43),'Dekor 4'!$AF$22,\"\")","v":""},{"$f":"IF(ISNUMBER('Dekor 4'!J43),'Dekor 4'!$AF$23,\"\")","v":""},{"$f":"IF(ISNUMBER('Dekor 4'!J43),'Dekor 4'!$AF$24,\"\")","v":""},{"$f":"'Dekor 4'!Y43","v":0}]
[{"$f":"'Dekor 4'!A44","v":""},{"$f":"'Dekor 4'!B44","v":{"$error":"#NAME?"}},{"$f":"IF(ISNUMBER('Dekor 4'!J44),('Dekor 4'!D44 & \".\" & 'Dekor 4'!U44 & \".\" & 'Dekor 4'!F44 & \".\" & 'Dekor 4'!V44 & \".\" & 'Dekor 4'!H44 & \".\" & 'Dekor 4'!I44),\"\")","v":""},{"$f":"'Dekor 4'!W44","v":0},{"$f":"'Dekor 4'!K44","v":0},{"$f":"'Dekor 4'!M44","v":0},{"$f":"'Dekor 4'!O44","v":0},{"$f":"'Dekor 4'!Q44","v":0},{"$f":"IF(ISNUMBER('Dekor 4'!J44),'Dekor 4'!E44 & \"x\" & 'Dekor 4'!G44,\"\")","v":""},{"$f":"'Dekor 4'!L44","v":0},{"$f":"'Dekor 4'!N44","v":0},{"$f":"'Dekor 4'!P44","v":0},{"$f":"'Dekor 4'!R44","v":0},{"$f":"'Dekor 4'!X44","v":0},{"$f":"IF(ISNUMBER('Dekor 4'!J44),'Dekor 4'!$AF$20,\"\")","v":""},{"$f":"IF(ISNUMBER('Dekor 4'!J44),'Dekor 4'!$AF$21,\"\")","v":""},{"$f":"IF(ISNUMBER('Dekor 4'!J44),'Dekor 4'!$AF$22,\"\")","v":""},{"$f":"IF(ISNUMBER('Dekor 4'!J44),'Dekor 4'!$AF$23,\"\")","v":""},{"$f":"IF(ISNUMBER('Dekor 4'!J44),'Dekor 4'!$AF$24,\"\")","v":""},{"$f":"'Dekor 4'!Y44","v":0}]
[{"$f":"'Dekor 4'!A45","v":""},{"$f":"'Dekor 4'!B45","v":{"$error":"#NAME?"}},{"$f":"IF(ISNUMBER('Dekor 4'!J45),('Dekor 4'!D45 & \".\" & 'Dekor 4'!U45 & \".\" & 'Dekor 4'!F45 & \".\" & 'Dekor 4'!V45 & \".\" & 'Dekor 4'!H45 & \".\" & 'Dekor 4'!I45),\"\")","v":""},{"$f":"'Dekor 4'!W45","v":0},{"$f":"'Dekor 4'!K45","v":0},{"$f":"'Dekor 4'!M45","v":0},{"$f":"'Dekor 4'!O45","v":0},{"$f":"'Dekor 4'!Q45","v":0},{"$f":"IF(ISNUMBER('Dekor 4'!J45),'Dekor 4'!E45 & \"x\" & 'Dekor 4'!G45,\"\")","v":""},{"$f":"'Dekor 4'!L45","v":0},{"$f":"'Dekor 4'!N45","v":0},{"$f":"'Dekor 4'!P45","v":0},{"$f":"'Dekor 4'!R45","v":0},{"$f":"'Dekor 4'!X45","v":0},{"$f":"IF(ISNUMBER('Dekor 4'!J45),'Dekor 4'!$AF$20,\"\")","v":""},{"$f":"IF(ISNUMBER('Dekor 4'!J45),'Dekor 4'!$AF$21,\"\")","v":""},{"$f":"IF(ISNUMBER('Dekor 4'!J45),'Dekor 4'!$AF$22,\"\")","v":""},{"$f":"IF(ISNUMBER('Dekor 4'!J45),'Dekor 4'!$AF$23,\"\")","v":""},{"$f":"IF(ISNUMBER('Dekor 4'!J45),'Dekor 4'!$AF$24,\"\")","v":""},{"$f":"'Dekor 4'!Y45","v":0}]
[{"$f":"'Dekor 4'!A46","v":""},{"$f":"'Dekor 4'!B46","v":{"$error":"#NAME?"}},{"$f":"IF(ISNUMBER('Dekor 4'!J46),('Dekor 4'!D46 & \".\" & 'Dekor 4'!U46 & \".\" & 'Dekor 4'!F46 & \".\" & 'Dekor 4'!V46 & \".\" & 'Dekor 4'!H46 & \".\" & 'Dekor 4'!I46),\"\")","v":""},{"$f":"'Dekor 4'!W46","v":0},{"$f":"'Dekor 4'!K46","v":0},{"$f":"'Dekor 4'!M46","v":0},{"$f":"'Dekor 4'!O46","v":0},{"$f":"'Dekor 4'!Q46","v":0},{"$f":"IF(ISNUMBER('Dekor 4'!J46),'Dekor 4'!E46 & \"x\" & 'Dekor 4'!G46,\"\")","v":""},{"$f":"'Dekor 4'!L46","v":0},{"$f":"'Dekor 4'!N46","v":0},{"$f":"'Dekor 4'!P46","v":0},{"$f":"'Dekor 4'!R46","v":0},{"$f":"'Dekor 4'!X46","v":0},{"$f":"IF(ISNUMBER('Dekor 4'!J46),'Dekor 4'!$AF$20,\"\")","v":""},{"$f":"IF(ISNUMBER('Dekor 4'!J46),'Dekor 4'!$AF$21,\"\")","v":""},{"$f":"IF(ISNUMBER('Dekor 4'!J46),'Dekor 4'!$AF$22,\"\")","v":""},{"$f":"IF(ISNUMBER('Dekor 4'!J46),'Dekor 4'!$AF$23,\"\")","v":""},{"$f":"IF(ISNUMBER('Dekor 4'!J46),'Dekor 4'!$AF$24,\"\")","v":""},{"$f":"'Dekor 4'!Y46","v":0}]
[{"$f":"'Dekor 4'!A47","v":""},{"$f":"'Dekor 4'!B47","v":{"$error":"#NAME?"}},{"$f":"IF(ISNUMBER('Dekor 4'!J47),('Dekor 4'!D47 & \".\" & 'Dekor 4'!U47 & \".\" & 'Dekor 4'!F47 & \".\" & 'Dekor 4'!V47 & \".\" & 'Dekor 4'!H47 & \".\" & 'Dekor 4'!I47),\"\")","v":""},{"$f":"'Dekor 4'!W47","v":0},{"$f":"'Dekor 4'!K47","v":0},{"$f":"'Dekor 4'!M47","v":0},{"$f":"'Dekor 4'!O47","v":0},{"$f":"'Dekor 4'!Q47","v":0},{"$f":"IF(ISNUMBER('Dekor 4'!J47),'Dekor 4'!E47 & \"x\" & 'Dekor 4'!G47,\"\")","v":""},{"$f":"'Dekor 4'!L47","v":0},{"$f":"'Dekor 4'!N47","v":0},{"$f":"'Dekor 4'!P47","v":0},{"$f":"'Dekor 4'!R47","v":0},{"$f":"'Dekor 4'!X47","v":0},{"$f":"IF(ISNUMBER('Dekor 4'!J47),'Dekor 4'!$AF$20,\"\")","v":""},{"$f":"IF(ISNUMBER('Dekor 4'!J47),'Dekor 4'!$AF$21,\"\")","v":""},{"$f":"IF(ISNUMBER('Dekor 4'!J47),'Dekor 4'!$AF$22,\"\")","v":""},{"$f":"IF(ISNUMBER('Dekor 4'!J47),'Dekor 4'!$AF$23,\"\")","v":""},{"$f":"IF(ISNUMBER('Dekor 4'!J47),'Dekor 4'!$AF$24,\"\")","v":""},{"$f":"'Dekor 4'!Y47","v":0}]
[{"$f":"'Dekor 4'!A48","v":""},{"$f":"'Dekor 4'!B48","v":{"$error":"#NAME?"}},{"$f":"IF(ISNUMBER('Dekor 4'!J48),('Dekor 4'!D48 & \".\" & 'Dekor 4'!U48 & \".\" & 'Dekor 4'!F48 & \".\" & 'Dekor 4'!V48 & \".\" & 'Dekor 4'!H48 & \".\" & 'Dekor 4'!I48),\"\")","v":""},{"$f":"'Dekor 4'!W48","v":0},{"$f":"'Dekor 4'!K48","v":0},{"$f":"'Dekor 4'!M48","v":0},{"$f":"'Dekor 4'!O48","v":0},{"$f":"'Dekor 4'!Q48","v":0},{"$f":"IF(ISNUMBER('Dekor 4'!J48),'Dekor 4'!E48 & \"x\" & 'Dekor 4'!G48,\"\")","v":""},{"$f":"'Dekor 4'!L48","v":0},{"$f":"'Dekor 4'!N48","v":0},{"$f":"'Dekor 4'!P48","v":0},{"$f":"'Dekor 4'!R48","v":0},{"$f":"'Dekor 4'!X48","v":0},{"$f":"IF(ISNUMBER('Dekor 4'!J48),'Dekor 4'!$AF$20,\"\")","v":""},{"$f":"IF(ISNUMBER('Dekor 4'!J48),'Dekor 4'!$AF$21,\"\")","v":""},{"$f":"IF(ISNUMBER('Dekor 4'!J48),'Dekor 4'!$AF$22,\"\")","v":""},{"$f":"IF(ISNUMBER('Dekor 4'!J48),'Dekor 4'!$AF$23,\"\")","v":""},{"$f":"IF(ISNUMBER('Dekor 4'!J48),'Dekor 4'!$AF$24,\"\")","v":""},{"$f":"'Dekor 4'!Y48","v":0}]
[{"$f":"'Dekor 4'!A49","v":""},{"$f":"'Dekor 4'!B49","v":{"$error":"#NAME?"}},{"$f":"IF(ISNUMBER('Dekor 4'!J49),('Dekor 4'!D49 & \".\" & 'Dekor 4'!U49 & \".\" & 'Dekor 4'!F49 & \".\" & 'Dekor 4'!V49 & \".\" & 'Dekor 4'!H49 & \".\" & 'Dekor 4'!I49),\"\")","v":""},{"$f":"'Dekor 4'!W49","v":0},{"$f":"'Dekor 4'!K49","v":0},{"$f":"'Dekor 4'!M49","v":0},{"$f":"'Dekor 4'!O49","v":0},{"$f":"'Dekor 4'!Q49","v":0},{"$f":"IF(ISNUMBER('Dekor 4'!J49),'Dekor 4'!E49 & \"x\" & 'Dekor 4'!G49,\"\")","v":""},{"$f":"'Dekor 4'!L49","v":0},{"$f":"'Dekor 4'!N49","v":0},{"$f":"'Dekor 4'!P49","v":0},{"$f":"'Dekor 4'!R49","v":0},{"$f":"'Dekor 4'!X49","v":0},{"$f":"IF(ISNUMBER('Dekor 4'!J49),'Dekor 4'!$AF$20,\"\")","v":""},{"$f":"IF(ISNUMBER('Dekor 4'!J49),'Dekor 4'!$AF$21,\"\")","v":""},{"$f":"IF(ISNUMBER('Dekor 4'!J49),'Dekor 4'!$AF$22,\"\")","v":""},{"$f":"IF(ISNUMBER('Dekor 4'!J49),'Dekor 4'!$AF$23,\"\")","v":""},{"$f":"IF(ISNUMBER('Dekor 4'!J49),'Dekor 4'!$AF$24,\"\")","v":""},{"$f":"'Dekor 4'!Y49","v":0}]
[{"$f":"'Dekor 4'!A50","v":""},{"$f":"'Dekor 4'!B50","v":{"$error":"#NAME?"}},{"$f":"IF(ISNUMBER('Dekor 4'!J50),('Dekor 4'!D50 & \".\" & 'Dekor 4'!U50 & \".\" & 'Dekor 4'!F50 & \".\" & 'Dekor 4'!V50 & \".\" & 'Dekor 4'!H50 & \".\" & 'Dekor 4'!I50),\"\")","v":""},{"$f":"'Dekor 4'!W50","v":0},{"$f":"'Dekor 4'!K50","v":0},{"$f":"'Dekor 4'!M50","v":0},{"$f":"'Dekor 4'!O50","v":0},{"$f":"'Dekor 4'!Q50","v":0},{"$f":"IF(ISNUMBER('Dekor 4'!J50),'Dekor 4'!E50 & \"x\" & 'Dekor 4'!G50,\"\")","v":""},{"$f":"'Dekor 4'!L50","v":0},{"$f":"'Dekor 4'!N50","v":0},{"$f":"'Dekor 4'!P50","v":0},{"$f":"'Dekor 4'!R50","v":0},{"$f":"'Dekor 4'!X50","v":0},{"$f":"IF(ISNUMBER('Dekor 4'!J50),'Dekor 4'!$AF$20,\"\")","v":""},{"$f":"IF(ISNUMBER('Dekor 4'!J50),'Dekor 4'!$AF$21,\"\")","v":""},{"$f":"IF(ISNUMBER('Dekor 4'!J50),'Dekor 4'!$AF$22,\"\")","v":""},{"$f":"IF(ISNUMBER('Dekor 4'!J50),'Dekor 4'!$AF$23,\"\")","v":""},{"$f":"IF(ISNUMBER('Dekor 4'!J50),'Dekor 4'!$AF$24,\"\")","v":""},{"$f":"'Dekor 4'!Y50","v":0}]
[{"$f":"'Dekor 4'!A51","v":""},{"$f":"'Dekor 4'!B51","v":{"$error":"#NAME?"}},{"$f":"IF(ISNUMBER('Dekor 4'!J51),('Dekor 4'!D51 & \".\" & 'Dekor 4'!U51 & \".\" & 'Dekor 4'!F51 & \".\" & 'Dekor 4'!V51 & \".\" & 'Dekor 4'!H51 & \".\" & 'Dekor 4'!I51),\"\")","v":""},{"$f":"'Dekor 4'!W51","v":0},{"$f":"'Dekor 4'!K51","v":0},{"$f":"'Dekor 4'!M51","v":0},{"$f":"'Dekor 4'!O51","v":0},{"$f":"'Dekor 4'!Q51","v":0},{"$f":"IF(ISNUMBER('Dekor 4'!J51),'Dekor 4'!E51 & \"x\" & 'Dekor 4'!G51,\"\")","v":""},{"$f":"'Dekor 4'!L51","v":0},{"$f":"'Dekor 4'!N51","v":0},{"$f":"'Dekor 4'!P51","v":0},{"$f":"'Dekor 4'!R51","v":0},{"$f":"'Dekor 4'!X51","v":0},{"$f":"IF(ISNUMBER('Dekor 4'!J51),'Dekor 4'!$AF$20,\"\")","v":""},{"$f":"IF(ISNUMBER('Dekor 4'!J51),'Dekor 4'!$AF$21,\"\")","v":""},{"$f":"IF(ISNUMBER('Dekor 4'!J51),'Dekor 4'!$AF$22,\"\")","v":""},{"$f":"IF(ISNUMBER('Dekor 4'!J51),'Dekor 4'!$AF$23,\"\")","v":""},{"$f":"IF(ISNUMBER('Dekor 4'!J51),'Dekor 4'!$AF$24,\"\")","v":""},{"$f":"'Dekor 4'!Y51","v":0}]
[{"$f":"'Dekor 4'!A52","v":""},{"$f":"'Dekor 4'!B52","v":{"$error":"#NAME?"}},{"$f":"IF(ISNUMBER('Dekor 4'!J52),('Dekor 4'!D52 & \".\" & 'Dekor 4'!U52 & \".\" & 'Dekor 4'!F52 & \".\" & 'Dekor 4'!V52 & \".\" & 'Dekor 4'!H52 & \".\" & 'Dekor 4'!I52),\"\")","v":""},{"$f":"'Dekor 4'!W52","v":0},{"$f":"'Dekor 4'!K52","v":0},{"$f":"'Dekor 4'!M52","v":0},{"$f":"'Dekor 4'!O52","v":0},{"$f":"'Dekor 4'!Q52","v":0},{"$f":"IF(ISNUMBER('Dekor 4'!J52),'Dekor 4'!E52 & \"x\" & 'Dekor 4'!G52,\"\")","v":""},{"$f":"'Dekor 4'!L52","v":0},{"$f":"'Dekor 4'!N52","v":0},{"$f":"'Dekor 4'!P52","v":0},{"$f":"'Dekor 4'!R52","v":0},{"$f":"'Dekor 4'!X52","v":0},{"$f":"IF(ISNUMBER('Dekor 4'!J52),'Dekor 4'!$AF$20,\"\")","v":""},{"$f":"IF(ISNUMBER('Dekor 4'!J52),'Dekor 4'!$AF$21,\"\")","v":""},{"$f":"IF(ISNUMBER('Dekor 4'!J52),'Dekor 4'!$AF$22,\"\")","v":""},{"$f":"IF(ISNUMBER('Dekor 4'!J52),'Dekor 4'!$AF$23,\"\")","v":""},{"$f":"IF(ISNUMBER('Dekor 4'!J52),'Dekor 4'!$AF$24,\"\")","v":""},{"$f":"'Dekor 4'!Y52","v":0}]
[{"$f":"'Dekor 4'!A53","v":""},{"$f":"'Dekor 4'!B53","v":{"$error":"#NAME?"}},{"$f":"IF(ISNUMBER('Dekor 4'!J53),('Dekor 4'!D53 & \".\" & 'Dekor 4'!U53 & \".\" & 'Dekor 4'!F53 & \".\" & 'Dekor 4'!V53 & \".\" & 'Dekor 4'!H53 & \".\" & 'Dekor 4'!I53),\"\")","v":""},{"$f":"'Dekor 4'!W53","v":0},{"$f":"'Dekor 4'!K53","v":0},{"$f":"'Dekor 4'!M53","v":0},{"$f":"'Dekor 4'!O53","v":0},{"$f":"'Dekor 4'!Q53","v":0},{"$f":"IF(ISNUMBER('Dekor 4'!J53),'Dekor 4'!E53 & \"x\" & 'Dekor 4'!G53,\"\")","v":""},{"$f":"'Dekor 4'!L53","v":0},{"$f":"'Dekor 4'!N53","v":0},{"$f":"'Dekor 4'!P53","v":0},{"$f":"'Dekor 4'!R53","v":0},{"$f":"'Dekor 4'!X53","v":0},{"$f":"IF(ISNUMBER('Dekor 4'!J53),'Dekor 4'!$AF$20,\"\")","v":""},{"$f":"IF(ISNUMBER('Dekor 4'!J53),'Dekor 4'!$AF$21,\"\")","v":""},{"$f":"IF(ISNUMBER('Dekor 4'!J53),'Dekor 4'!$AF$22,\"\")","v":""},{"$f":"IF(ISNUMBER('Dekor 4'!J53),'Dekor 4'!$AF$23,\"\")","v":""},{"$f":"IF(ISNUMBER('Dekor 4'!J53),'Dekor 4'!$AF$24,\"\")","v":""},{"$f":"'Dekor 4'!Y53","v":0}]
[{"$f":"'Dekor 4'!A54","v":""},{"$f":"'Dekor 4'!B54","v":{"$error":"#NAME?"}},{"$f":"IF(ISNUMBER('Dekor 4'!J54),('Dekor 4'!D54 & \".\" & 'Dekor 4'!U54 & \".\" & 'Dekor 4'!F54 & \".\" & 'Dekor 4'!V54 & \".\" & 'Dekor 4'!H54 & \".\" & 'Dekor 4'!I54),\"\")","v":""},{"$f":"'Dekor 4'!W54","v":0},{"$f":"'Dekor 4'!K54","v":0},{"$f":"'Dekor 4'!M54","v":0},{"$f":"'Dekor 4'!O54","v":0},{"$f":"'Dekor 4'!Q54","v":0},{"$f":"IF(ISNUMBER('Dekor 4'!J54),'Dekor 4'!E54 & \"x\" & 'Dekor 4'!G54,\"\")","v":""},{"$f":"'Dekor 4'!L54","v":0},{"$f":"'Dekor 4'!N54","v":0},{"$f":"'Dekor 4'!P54","v":0},{"$f":"'Dekor 4'!R54","v":0},{"$f":"'Dekor 4'!X54","v":0},{"$f":"IF(ISNUMBER('Dekor 4'!J54),'Dekor 4'!$AF$20,\"\")","v":""},{"$f":"IF(ISNUMBER('Dekor 4'!J54),'Dekor 4'!$AF$21,\"\")","v":""},{"$f":"IF(ISNUMBER('Dekor 4'!J54),'Dekor 4'!$AF$22,\"\")","v":""},{"$f":"IF(ISNUMBER('Dekor 4'!J54),'Dekor 4'!$AF$23,\"\")","v":""},{"$f":"IF(ISNUMBER('Dekor 4'!J54),'Dekor 4'!$AF$24,\"\")","v":""},{"$f":"'Dekor 4'!Y54","v":0}]
[{"$f":"'Dekor 4'!A55","v":""},{"$f":"'Dekor 4'!B55","v":{"$error":"#NAME?"}},{"$f":"IF(ISNUMBER('Dekor 4'!J55),('Dekor 4'!D55 & \".\" & 'Dekor 4'!U55 & \".\" & 'Dekor 4'!F55 & \".\" & 'Dekor 4'!V55 & \".\" & 'Dekor 4'!H55 & \".\" & 'Dekor 4'!I55),\"\")","v":""},{"$f":"'Dekor 4'!W55","v":0},{"$f":"'Dekor 4'!K55","v":0},{"$f":"'Dekor 4'!M55","v":0},{"$f":"'Dekor 4'!O55","v":0},{"$f":"'Dekor 4'!Q55","v":0},{"$f":"IF(ISNUMBER('Dekor 4'!J55),'Dekor 4'!E55 & \"x\" & 'Dekor 4'!G55,\"\")","v":""},{"$f":"'Dekor 4'!L55","v":0},{"$f":"'Dekor 4'!N55","v":0},{"$f":"'Dekor 4'!P55","v":0},{"$f":"'Dekor 4'!R55","v":0},{"$f":"'Dekor 4'!X55","v":0},{"$f":"IF(ISNUMBER('Dekor 4'!J55),'Dekor 4'!$AF$20,\"\")","v":""},{"$f":"IF(ISNUMBER('Dekor 4'!J55),'Dekor 4'!$AF$21,\"\")","v":""},{"$f":"IF(ISNUMBER('Dekor 4'!J55),'Dekor 4'!$AF$22,\"\")","v":""},{"$f":"IF(ISNUMBER('Dekor 4'!J55),'Dekor 4'!$AF$23,\"\")","v":""},{"$f":"IF(ISNUMBER('Dekor 4'!J55),'Dekor 4'!$AF$24,\"\")","v":""},{"$f":"'Dekor 4'!Y55","v":0}]
[{"$f":"'Dekor 4'!A56","v":""},{"$f":"'Dekor 4'!B56","v":{"$error":"#NAME?"}},{"$f":"IF(ISNUMBER('Dekor 4'!J56),('Dekor 4'!D56 & \".\" & 'Dekor 4'!U56 & \".\" & 'Dekor 4'!F56 & \".\" & 'Dekor 4'!V56 & \".\" & 'Dekor 4'!H56 & \".\" & 'Dekor 4'!I56),\"\")","v":""},{"$f":"'Dekor 4'!W56","v":0},{"$f":"'Dekor 4'!K56","v":0},{"$f":"'Dekor 4'!M56","v":0},{"$f":"'Dekor 4'!O56","v":0},{"$f":"'Dekor 4'!Q56","v":0},{"$f":"IF(ISNUMBER('Dekor 4'!J56),'Dekor 4'!E56 & \"x\" & 'Dekor 4'!G56,\"\")","v":""},{"$f":"'Dekor 4'!L56","v":0},{"$f":"'Dekor 4'!N56","v":0},{"$f":"'Dekor 4'!P56","v":0},{"$f":"'Dekor 4'!R56","v":0},{"$f":"'Dekor 4'!X56","v":0},{"$f":"IF(ISNUMBER('Dekor 4'!J56),'Dekor 4'!$AF$20,\"\")","v":""},{"$f":"IF(ISNUMBER('Dekor 4'!J56),'Dekor 4'!$AF$21,\"\")","v":""},{"$f":"IF(ISNUMBER('Dekor 4'!J56),'Dekor 4'!$AF$22,\"\")","v":""},{"$f":"IF(ISNUMBER('Dekor 4'!J56),'Dekor 4'!$AF$23,\"\")","v":""},{"$f":"IF(ISNUMBER('Dekor 4'!J56),'Dekor 4'!$AF$24,\"\")","v":""},{"$f":"'Dekor 4'!Y56","v":0}]
[{"$f":"'Dekor 4'!A57","v":""},{"$f":"'Dekor 4'!B57","v":{"$error":"#NAME?"}},{"$f":"IF(ISNUMBER('Dekor 4'!J57),('Dekor 4'!D57 & \".\" & 'Dekor 4'!U57 & \".\" & 'Dekor 4'!F57 & \".\" & 'Dekor 4'!V57 & \".\" & 'Dekor 4'!H57 & \".\" & 'Dekor 4'!I57),\"\")","v":""},{"$f":"'Dekor 4'!W57","v":0},{"$f":"'Dekor 4'!K57","v":0},{"$f":"'Dekor 4'!M57","v":0},{"$f":"'Dekor 4'!O57","v":0},{"$f":"'Dekor 4'!Q57","v":0},{"$f":"IF(ISNUMBER('Dekor 4'!J57),'Dekor 4'!E57 & \"x\" & 'Dekor 4'!G57,\"\")","v":""},{"$f":"'Dekor 4'!L57","v":0},{"$f":"'Dekor 4'!N57","v":0},{"$f":"'Dekor 4'!P57","v":0},{"$f":"'Dekor 4'!R57","v":0},{"$f":"'Dekor 4'!X57","v":0},{"$f":"IF(ISNUMBER('Dekor 4'!J57),'Dekor 4'!$AF$20,\"\")","v":""},{"$f":"IF(ISNUMBER('Dekor 4'!J57),'Dekor 4'!$AF$21,\"\")","v":""},{"$f":"IF(ISNUMBER('Dekor 4'!J57),'Dekor 4'!$AF$22,\"\")","v":""},{"$f":"IF(ISNUMBER('Dekor 4'!J57),'Dekor 4'!$AF$23,\"\")","v":""},{"$f":"IF(ISNUMBER('Dekor 4'!J57),'Dekor 4'!$AF$24,\"\")","v":""},{"$f":"'Dekor 4'!Y57","v":0}]
[{"$f":"'Dekor 4'!A58","v":""},{"$f":"'Dekor 4'!B58","v":{"$error":"#NAME?"}},{"$f":"IF(ISNUMBER('Dekor 4'!J58),('Dekor 4'!D58 & \".\" & 'Dekor 4'!U58 & \".\" & 'Dekor 4'!F58 & \".\" & 'Dekor 4'!V58 & \".\" & 'Dekor 4'!H58 & \".\" & 'Dekor 4'!I58),\"\")","v":""},{"$f":"'Dekor 4'!W58","v":0},{"$f":"'Dekor 4'!K58","v":0},{"$f":"'Dekor 4'!M58","v":0},{"$f":"'Dekor 4'!O58","v":0},{"$f":"'Dekor 4'!Q58","v":0},{"$f":"IF(ISNUMBER('Dekor 4'!J58),'Dekor 4'!E58 & \"x\" & 'Dekor 4'!G58,\"\")","v":""},{"$f":"'Dekor 4'!L58","v":0},{"$f":"'Dekor 4'!N58","v":0},{"$f":"'Dekor 4'!P58","v":0},{"$f":"'Dekor 4'!R58","v":0},{"$f":"'Dekor 4'!X58","v":0},{"$f":"IF(ISNUMBER('Dekor 4'!J58),'Dekor 4'!$AF$20,\"\")","v":""},{"$f":"IF(ISNUMBER('Dekor 4'!J58),'Dekor 4'!$AF$21,\"\")","v":""},{"$f":"IF(ISNUMBER('Dekor 4'!J58),'Dekor 4'!$AF$22,\"\")","v":""},{"$f":"IF(ISNUMBER('Dekor 4'!J58),'Dekor 4'!$AF$23,\"\")","v":""},{"$f":"IF(ISNUMBER('Dekor 4'!J58),'Dekor 4'!$AF$24,\"\")","v":""},{"$f":"'Dekor 4'!Y58","v":0}]
[{"$f":"'Dekor 4'!A59","v":""},{"$f":"'Dekor 4'!B59","v":{"$error":"#NAME?"}},{"$f":"IF(ISNUMBER('Dekor 4'!J59),('Dekor 4'!D59 & \".\" & 'Dekor 4'!U59 & \".\" & 'Dekor 4'!F59 & \".\" & 'Dekor 4'!V59 & \".\" & 'Dekor 4'!H59 & \".\" & 'Dekor 4'!I59),\"\")","v":""},{"$f":"'Dekor 4'!W59","v":0},{"$f":"'Dekor 4'!K59","v":0},{"$f":"'Dekor 4'!M59","v":0},{"$f":"'Dekor 4'!O59","v":0},{"$f":"'Dekor 4'!Q59","v":0},{"$f":"IF(ISNUMBER('Dekor 4'!J59),'Dekor 4'!E59 & \"x\" & 'Dekor 4'!G59,\"\")","v":""},{"$f":"'Dekor 4'!L59","v":0},{"$f":"'Dekor 4'!N59","v":0},{"$f":"'Dekor 4'!P59","v":0},{"$f":"'Dekor 4'!R59","v":0},{"$f":"'Dekor 4'!X59","v":0},{"$f":"IF(ISNUMBER('Dekor 4'!J59),'Dekor 4'!$AF$20,\"\")","v":""},{"$f":"IF(ISNUMBER('Dekor 4'!J59),'Dekor 4'!$AF$21,\"\")","v":""},{"$f":"IF(ISNUMBER('Dekor 4'!J59),'Dekor 4'!$AF$22,\"\")","v":""},{"$f":"IF(ISNUMBER('Dekor 4'!J59),'Dekor 4'!$AF$23,\"\")","v":""},{"$f":"IF(ISNUMBER('Dekor 4'!J59),'Dekor 4'!$AF$24,\"\")","v":""},{"$f":"'Dekor 4'!Y59","v":0}]
[{"$f":"'Dekor 4'!A60","v":""},{"$f":"'Dekor 4'!B60","v":{"$error":"#NAME?"}},{"$f":"IF(ISNUMBER('Dekor 4'!J60),('Dekor 4'!D60 & \".\" & 'Dekor 4'!U60 & \".\" & 'Dekor 4'!F60 & \".\" & 'Dekor 4'!V60 & \".\" & 'Dekor 4'!H60 & \".\" & 'Dekor 4'!I60),\"\")","v":""},{"$f":"'Dekor 4'!W60","v":0},{"$f":"'Dekor 4'!K60","v":0},{"$f":"'Dekor 4'!M60","v":0},{"$f":"'Dekor 4'!O60","v":0},{"$f":"'Dekor 4'!Q60","v":0},{"$f":"IF(ISNUMBER('Dekor 4'!J60),'Dekor 4'!E60 & \"x\" & 'Dekor 4'!G60,\"\")","v":""},{"$f":"'Dekor 4'!L60","v":0},{"$f":"'Dekor 4'!N60","v":0},{"$f":"'Dekor 4'!P60","v":0},{"$f":"'Dekor 4'!R60","v":0},{"$f":"'Dekor 4'!X60","v":0},{"$f":"IF(ISNUMBER('Dekor 4'!J60),'Dekor 4'!$AF$20,\"\")","v":""},{"$f":"IF(ISNUMBER('Dekor 4'!J60),'Dekor 4'!$AF$21,\"\")","v":""},{"$f":"IF(ISNUMBER('Dekor 4'!J60),'Dekor 4'!$AF$22,\"\")","v":""},{"$f":"IF(ISNUMBER('Dekor 4'!J60),'Dekor 4'!$AF$23,\"\")","v":""},{"$f":"IF(ISNUMBER('Dekor 4'!J60),'Dekor 4'!$AF$24,\"\")","v":""},{"$f":"'Dekor 4'!Y60","v":0}]
[{"$f":"'Dekor 4'!A61","v":""},{"$f":"'Dekor 4'!B61","v":{"$error":"#NAME?"}},{"$f":"IF(ISNUMBER('Dekor 4'!J61),('Dekor 4'!D61 & \".\" & 'Dekor 4'!U61 & \".\" & 'Dekor 4'!F61 & \".\" & 'Dekor 4'!V61 & \".\" & 'Dekor 4'!H61 & \".\" & 'Dekor 4'!I61),\"\")","v":""},{"$f":"'Dekor 4'!W61","v":0},{"$f":"'Dekor 4'!K61","v":0},{"$f":"'Dekor 4'!M61","v":0},{"$f":"'Dekor 4'!O61","v":0},{"$f":"'Dekor 4'!Q61","v":0},{"$f":"IF(ISNUMBER('Dekor 4'!J61),'Dekor 4'!E61 & \"x\" & 'Dekor 4'!G61,\"\")","v":""},{"$f":"'Dekor 4'!L61","v":0},{"$f":"'Dekor 4'!N61","v":0},{"$f":"'Dekor 4'!P61","v":0},{"$f":"'Dekor 4'!R61","v":0},{"$f":"'Dekor 4'!X61","v":0},{"$f":"IF(ISNUMBER('Dekor 4'!J61),'Dekor 4'!$AF$20,\"\")","v":""},{"$f":"IF(ISNUMBER('Dekor 4'!J61),'Dekor 4'!$AF$21,\"\")","v":""},{"$f":"IF(ISNUMBER('Dekor 4'!J61),'Dekor 4'!$AF$22,\"\")","v":""},{"$f":"IF(ISNUMBER('Dekor 4'!J61),'Dekor 4'!$AF$23,\"\")","v":""},{"$f":"IF(ISNUMBER('Dekor 4'!J61),'Dekor 4'!$AF$24,\"\")","v":""},{"$f":"'Dekor 4'!Y61","v":0}]
[{"$f":"'Dekor 4'!A62","v":""},{"$f":"'Dekor 4'!B62","v":{"$error":"#NAME?"}},{"$f":"IF(ISNUMBER('Dekor 4'!J62),('Dekor 4'!D62 & \".\" & 'Dekor 4'!U62 & \".\" & 'Dekor 4'!F62 & \".\" & 'Dekor 4'!V62 & \".\" & 'Dekor 4'!H62 & \".\" & 'Dekor 4'!I62),\"\")","v":""},{"$f":"'Dekor 4'!W62","v":0},{"$f":"'Dekor 4'!K62","v":0},{"$f":"'Dekor 4'!M62","v":0},{"$f":"'Dekor 4'!O62","v":0},{"$f":"'Dekor 4'!Q62","v":0},{"$f":"IF(ISNUMBER('Dekor 4'!J62),'Dekor 4'!E62 & \"x\" & 'Dekor 4'!G62,\"\")","v":""},{"$f":"'Dekor 4'!L62","v":0},{"$f":"'Dekor 4'!N62","v":0},{"$f":"'Dekor 4'!P62","v":0},{"$f":"'Dekor 4'!R62","v":0},{"$f":"'Dekor 4'!X62","v":0},{"$f":"IF(ISNUMBER('Dekor 4'!J62),'Dekor 4'!$AF$20,\"\")","v":""},{"$f":"IF(ISNUMBER('Dekor 4'!J62),'Dekor 4'!$AF$21,\"\")","v":""},{"$f":"IF(ISNUMBER('Dekor 4'!J62),'Dekor 4'!$AF$22,\"\")","v":""},{"$f":"IF(ISNUMBER('Dekor 4'!J62),'Dekor 4'!$AF$23,\"\")","v":""},{"$f":"IF(ISNUMBER('Dekor 4'!J62),'Dekor 4'!$AF$24,\"\")","v":""},{"$f":"'Dekor 4'!Y62","v":0}]
[{"$f":"'Dekor 4'!A63","v":""},{"$f":"'Dekor 4'!B63","v":{"$error":"#NAME?"}},{"$f":"IF(ISNUMBER('Dekor 4'!J63),('Dekor 4'!D63 & \".\" & 'Dekor 4'!U63 & \".\" & 'Dekor 4'!F63 & \".\" & 'Dekor 4'!V63 & \".\" & 'Dekor 4'!H63 & \".\" & 'Dekor 4'!I63),\"\")","v":""},{"$f":"'Dekor 4'!W63","v":0},{"$f":"'Dekor 4'!K63","v":0},{"$f":"'Dekor 4'!M63","v":0},{"$f":"'Dekor 4'!O63","v":0},{"$f":"'Dekor 4'!Q63","v":0},{"$f":"IF(ISNUMBER('Dekor 4'!J63),'Dekor 4'!E63 & \"x\" & 'Dekor 4'!G63,\"\")","v":""},{"$f":"'Dekor 4'!L63","v":0},{"$f":"'Dekor 4'!N63","v":0},{"$f":"'Dekor 4'!P63","v":0},{"$f":"'Dekor 4'!R63","v":0},{"$f":"'Dekor 4'!X63","v":0},{"$f":"IF(ISNUMBER('Dekor 4'!J63),'Dekor 4'!$AF$20,\"\")","v":""},{"$f":"IF(ISNUMBER('Dekor 4'!J63),'Dekor 4'!$AF$21,\"\")","v":""},{"$f":"IF(ISNUMBER('Dekor 4'!J63),'Dekor 4'!$AF$22,\"\")","v":""},{"$f":"IF(ISNUMBER('Dekor 4'!J63),'Dekor 4'!$AF$23,\"\")","v":""},{"$f":"IF(ISNUMBER('Dekor 4'!J63),'Dekor 4'!$AF$24,\"\")","v":""},{"$f":"'Dekor 4'!Y63","v":0}]
[{"$f":"'Dekor 4'!A64","v":""},{"$f":"'Dekor 4'!B64","v":{"$error":"#NAME?"}},{"$f":"IF(ISNUMBER('Dekor 4'!J64),('Dekor 4'!D64 & \".\" & 'Dekor 4'!U64 & \".\" & 'Dekor 4'!F64 & \".\" & 'Dekor 4'!V64 & \".\" & 'Dekor 4'!H64 & \".\" & 'Dekor 4'!I64),\"\")","v":""},{"$f":"'Dekor 4'!W64","v":0},{"$f":"'Dekor 4'!K64","v":0},{"$f":"'Dekor 4'!M64","v":0},{"$f":"'Dekor 4'!O64","v":0},{"$f":"'Dekor 4'!Q64","v":0},{"$f":"IF(ISNUMBER('Dekor 4'!J64),'Dekor 4'!E64 & \"x\" & 'Dekor 4'!G64,\"\")","v":""},{"$f":"'Dekor 4'!L64","v":0},{"$f":"'Dekor 4'!N64","v":0},{"$f":"'Dekor 4'!P64","v":0},{"$f":"'Dekor 4'!R64","v":0},{"$f":"'Dekor 4'!X64","v":0},{"$f":"IF(ISNUMBER('Dekor 4'!J64),'Dekor 4'!$AF$20,\"\")","v":""},{"$f":"IF(ISNUMBER('Dekor 4'!J64),'Dekor 4'!$AF$21,\"\")","v":""},{"$f":"IF(ISNUMBER('Dekor 4'!J64),'Dekor 4'!$AF$22,\"\")","v":""},{"$f":"IF(ISNUMBER('Dekor 4'!J64),'Dekor 4'!$AF$23,\"\")","v":""},{"$f":"IF(ISNUMBER('Dekor 4'!J64),'Dekor 4'!$AF$24,\"\")","v":""},{"$f":"'Dekor 4'!Y64","v":0}]
[{"$f":"'Dekor 4'!A65","v":""},{"$f":"'Dekor 4'!B65","v":{"$error":"#NAME?"}},{"$f":"IF(ISNUMBER('Dekor 4'!J65),('Dekor 4'!D65 & \".\" & 'Dekor 4'!U65 & \".\" & 'Dekor 4'!F65 & \".\" & 'Dekor 4'!V65 & \".\" & 'Dekor 4'!H65 & \".\" & 'Dekor 4'!I65),\"\")","v":""},{"$f":"'Dekor 4'!W65","v":0},{"$f":"'Dekor 4'!K65","v":0},{"$f":"'Dekor 4'!M65","v":0},{"$f":"'Dekor 4'!O65","v":0},{"$f":"'Dekor 4'!Q65","v":0},{"$f":"IF(ISNUMBER('Dekor 4'!J65),'Dekor 4'!E65 & \"x\" & 'Dekor 4'!G65,\"\")","v":""},{"$f":"'Dekor 4'!L65","v":0},{"$f":"'Dekor 4'!N65","v":0},{"$f":"'Dekor 4'!P65","v":0},{"$f":"'Dekor 4'!R65","v":0},{"$f":"'Dekor 4'!X65","v":0},{"$f":"IF(ISNUMBER('Dekor 4'!J65),'Dekor 4'!$AF$20,\"\")","v":""},{"$f":"IF(ISNUMBER('Dekor 4'!J65),'Dekor 4'!$AF$21,\"\")","v":""},{"$f":"IF(ISNUMBER('Dekor 4'!J65),'Dekor 4'!$AF$22,\"\")","v":""},{"$f":"IF(ISNUMBER('Dekor 4'!J65),'Dekor 4'!$AF$23,\"\")","v":""},{"$f":"IF(ISNUMBER('Dekor 4'!J65),'Dekor 4'!$AF$24,\"\")","v":""},{"$f":"'Dekor 4'!Y65","v":0}]
[{"$f":"'Dekor 4'!A66","v":""},{"$f":"'Dekor 4'!B66","v":{"$error":"#NAME?"}},{"$f":"IF(ISNUMBER('Dekor 4'!J66),('Dekor 4'!D66 & \".\" & 'Dekor 4'!U66 & \".\" & 'Dekor 4'!F66 & \".\" & 'Dekor 4'!V66 & \".\" & 'Dekor 4'!H66 & \".\" & 'Dekor 4'!I66),\"\")","v":""},{"$f":"'Dekor 4'!W66","v":0},{"$f":"'Dekor 4'!K66","v":0},{"$f":"'Dekor 4'!M66","v":0},{"$f":"'Dekor 4'!O66","v":0},{"$f":"'Dekor 4'!Q66","v":0},{"$f":"IF(ISNUMBER('Dekor 4'!J66),'Dekor 4'!E66 & \"x\" & 'Dekor 4'!G66,\"\")","v":""},{"$f":"'Dekor 4'!L66","v":0},{"$f":"'Dekor 4'!N66","v":0},{"$f":"'Dekor 4'!P66","v":0},{"$f":"'Dekor 4'!R66","v":0},{"$f":"'Dekor 4'!X66","v":0},{"$f":"IF(ISNUMBER('Dekor 4'!J66),'Dekor 4'!$AF$20,\"\")","v":""},{"$f":"IF(ISNUMBER('Dekor 4'!J66),'Dekor 4'!$AF$21,\"\")","v":""},{"$f":"IF(ISNUMBER('Dekor 4'!J66),'Dekor 4'!$AF$22,\"\")","v":""},{"$f":"IF(ISNUMBER('Dekor 4'!J66),'Dekor 4'!$AF$23,\"\")","v":""},{"$f":"IF(ISNUMBER('Dekor 4'!J66),'Dekor 4'!$AF$24,\"\")","v":""},{"$f":"'Dekor 4'!Y66","v":0}]
[{"$f":"'Dekor 4'!A67","v":""},{"$f":"'Dekor 4'!B67","v":{"$error":"#NAME?"}},{"$f":"IF(ISNUMBER('Dekor 4'!J67),('Dekor 4'!D67 & \".\" & 'Dekor 4'!U67 & \".\" & 'Dekor 4'!F67 & \".\" & 'Dekor 4'!V67 & \".\" & 'Dekor 4'!H67 & \".\" & 'Dekor 4'!I67),\"\")","v":""},{"$f":"'Dekor 4'!W67","v":0},{"$f":"'Dekor 4'!K67","v":0},{"$f":"'Dekor 4'!M67","v":0},{"$f":"'Dekor 4'!O67","v":0},{"$f":"'Dekor 4'!Q67","v":0},{"$f":"IF(ISNUMBER('Dekor 4'!J67),'Dekor 4'!E67 & \"x\" & 'Dekor 4'!G67,\"\")","v":""},{"$f":"'Dekor 4'!L67","v":0},{"$f":"'Dekor 4'!N67","v":0},{"$f":"'Dekor 4'!P67","v":0},{"$f":"'Dekor 4'!R67","v":0},{"$f":"'Dekor 4'!X67","v":0},{"$f":"IF(ISNUMBER('Dekor 4'!J67),'Dekor 4'!$AF$20,\"\")","v":""},{"$f":"IF(ISNUMBER('Dekor 4'!J67),'Dekor 4'!$AF$21,\"\")","v":""},{"$f":"IF(ISNUMBER('Dekor 4'!J67),'Dekor 4'!$AF$22,\"\")","v":""},{"$f":"IF(ISNUMBER('Dekor 4'!J67),'Dekor 4'!$AF$23,\"\")","v":""},{"$f":"IF(ISNUMBER('Dekor 4'!J67),'Dekor 4'!$AF$24,\"\")","v":""},{"$f":"'Dekor 4'!Y67","v":0}]
[{"$f":"'Dekor 4'!A68","v":""},{"$f":"'Dekor 4'!B68","v":{"$error":"#NAME?"}},{"$f":"IF(ISNUMBER('Dekor 4'!J68),('Dekor 4'!D68 & \".\" & 'Dekor 4'!U68 & \".\" & 'Dekor 4'!F68 & \".\" & 'Dekor 4'!V68 & \".\" & 'Dekor 4'!H68 & \".\" & 'Dekor 4'!I68),\"\")","v":""},{"$f":"'Dekor 4'!W68","v":0},{"$f":"'Dekor 4'!K68","v":0},{"$f":"'Dekor 4'!M68","v":0},{"$f":"'Dekor 4'!O68","v":0},{"$f":"'Dekor 4'!Q68","v":0},{"$f":"IF(ISNUMBER('Dekor 4'!J68),'Dekor 4'!E68 & \"x\" & 'Dekor 4'!G68,\"\")","v":""},{"$f":"'Dekor 4'!L68","v":0},{"$f":"'Dekor 4'!N68","v":0},{"$f":"'Dekor 4'!P68","v":0},{"$f":"'Dekor 4'!R68","v":0},{"$f":"'Dekor 4'!X68","v":0},{"$f":"IF(ISNUMBER('Dekor 4'!J68),'Dekor 4'!$AF$20,\"\")","v":""},{"$f":"IF(ISNUMBER('Dekor 4'!J68),'Dekor 4'!$AF$21,\"\")","v":""},{"$f":"IF(ISNUMBER('Dekor 4'!J68),'Dekor 4'!$AF$22,\"\")","v":""},{"$f":"IF(ISNUMBER('Dekor 4'!J68),'Dekor 4'!$AF$23,\"\")","v":""},{"$f":"IF(ISNUMBER('Dekor 4'!J68),'Dekor 4'!$AF$24,\"\")","v":""},{"$f":"'Dekor 4'!Y68","v":0}]
[{"$f":"'Dekor 4'!A69","v":""},{"$f":"'Dekor 4'!B69","v":{"$error":"#NAME?"}},{"$f":"IF(ISNUMBER('Dekor 4'!J69),('Dekor 4'!D69 & \".\" & 'Dekor 4'!U69 & \".\" & 'Dekor 4'!F69 & \".\" & 'Dekor 4'!V69 & \".\" & 'Dekor 4'!H69 & \".\" & 'Dekor 4'!I69),\"\")","v":""},{"$f":"'Dekor 4'!W69","v":0},{"$f":"'Dekor 4'!K69","v":0},{"$f":"'Dekor 4'!M69","v":0},{"$f":"'Dekor 4'!O69","v":0},{"$f":"'Dekor 4'!Q69","v":0},{"$f":"IF(ISNUMBER('Dekor 4'!J69),'Dekor 4'!E69 & \"x\" & 'Dekor 4'!G69,\"\")","v":""},{"$f":"'Dekor 4'!L69","v":0},{"$f":"'Dekor 4'!N69","v":0},{"$f":"'Dekor 4'!P69","v":0},{"$f":"'Dekor 4'!R69","v":0},{"$f":"'Dekor 4'!X69","v":0},{"$f":"IF(ISNUMBER('Dekor 4'!J69),'Dekor 4'!$AF$20,\"\")","v":""},{"$f":"IF(ISNUMBER('Dekor 4'!J69),'Dekor 4'!$AF$21,\"\")","v":""},{"$f":"IF(ISNUMBER('Dekor 4'!J69),'Dekor 4'!$AF$22,\"\")","v":""},{"$f":"IF(ISNUMBER('Dekor 4'!J69),'Dekor 4'!$AF$23,\"\")","v":""},{"$f":"IF(ISNUMBER('Dekor 4'!J69),'Dekor 4'!$AF$24,\"\")","v":""},{"$f":"'Dekor 4'!Y69","v":0}]
[{"$f":"'Dekor 4'!A70","v":""},{"$f":"'Dekor 4'!B70","v":{"$error":"#NAME?"}},{"$f":"IF(ISNUMBER('Dekor 4'!J70),('Dekor 4'!D70 & \".\" & 'Dekor 4'!U70 & \".\" & 'Dekor 4'!F70 & \".\" & 'Dekor 4'!V70 & \".\" & 'Dekor 4'!H70 & \".\" & 'Dekor 4'!I70),\"\")","v":""},{"$f":"'Dekor 4'!W70","v":0},{"$f":"'Dekor 4'!K70","v":0},{"$f":"'Dekor 4'!M70","v":0},{"$f":"'Dekor 4'!O70","v":0},{"$f":"'Dekor 4'!Q70","v":0},{"$f":"IF(ISNUMBER('Dekor 4'!J70),'Dekor 4'!E70 & \"x\" & 'Dekor 4'!G70,\"\")","v":""},{"$f":"'Dekor 4'!L70","v":0},{"$f":"'Dekor 4'!N70","v":0},{"$f":"'Dekor 4'!P70","v":0},{"$f":"'Dekor 4'!R70","v":0},{"$f":"'Dekor 4'!X70","v":0},{"$f":"IF(ISNUMBER('Dekor 4'!J70),'Dekor 4'!$AF$20,\"\")","v":""},{"$f":"IF(ISNUMBER('Dekor 4'!J70),'Dekor 4'!$AF$21,\"\")","v":""},{"$f":"IF(ISNUMBER('Dekor 4'!J70),'Dekor 4'!$AF$22,\"\")","v":""},{"$f":"IF(ISNUMBER('Dekor 4'!J70),'Dekor 4'!$AF$23,\"\")","v":""},{"$f":"IF(ISNUMBER('Dekor 4'!J70),'Dekor 4'!$AF$24,\"\")","v":""},{"$f":"'Dekor 4'!Y70","v":0}]
[{"$f":"'Dekor 4'!A71","v":""},{"$f":"'Dekor 4'!B71","v":{"$error":"#NAME?"}},{"$f":"IF(ISNUMBER('Dekor 4'!J71),('Dekor 4'!D71 & \".\" & 'Dekor 4'!U71 & \".\" & 'Dekor 4'!F71 & \".\" & 'Dekor 4'!V71 & \".\" & 'Dekor 4'!H71 & \".\" & 'Dekor 4'!I71),\"\")","v":""},{"$f":"'Dekor 4'!W71","v":0},{"$f":"'Dekor 4'!K71","v":0},{"$f":"'Dekor 4'!M71","v":0},{"$f":"'Dekor 4'!O71","v":0},{"$f":"'Dekor 4'!Q71","v":0},{"$f":"IF(ISNUMBER('Dekor 4'!J71),'Dekor 4'!E71 & \"x\" & 'Dekor 4'!G71,\"\")","v":""},{"$f":"'Dekor 4'!L71","v":0},{"$f":"'Dekor 4'!N71","v":0},{"$f":"'Dekor 4'!P71","v":0},{"$f":"'Dekor 4'!R71","v":0},{"$f":"'Dekor 4'!X71","v":0},{"$f":"IF(ISNUMBER('Dekor 4'!J71),'Dekor 4'!$AF$20,\"\")","v":""},{"$f":"IF(ISNUMBER('Dekor 4'!J71),'Dekor 4'!$AF$21,\"\")","v":""},{"$f":"IF(ISNUMBER('Dekor 4'!J71),'Dekor 4'!$AF$22,\"\")","v":""},{"$f":"IF(ISNUMBER('Dekor 4'!J71),'Dekor 4'!$AF$23,\"\")","v":""},{"$f":"IF(ISNUMBER('Dekor 4'!J71),'Dekor 4'!$AF$24,\"\")","v":""},{"$f":"'Dekor 4'!Y71","v":0}]
[{"$f":"'Dekor 4'!A72","v":""},{"$f":"'Dekor 4'!B72","v":{"$error":"#NAME?"}},{"$f":"IF(ISNUMBER('Dekor 4'!J72),('Dekor 4'!D72 & \".\" & 'Dekor 4'!U72 & \".\" & 'Dekor 4'!F72 & \".\" & 'Dekor 4'!V72 & \".\" & 'Dekor 4'!H72 & \".\" & 'Dekor 4'!I72),\"\")","v":""},{"$f":"'Dekor 4'!W72","v":0},{"$f":"'Dekor 4'!K72","v":0},{"$f":"'Dekor 4'!M72","v":0},{"$f":"'Dekor 4'!O72","v":0},{"$f":"'Dekor 4'!Q72","v":0},{"$f":"IF(ISNUMBER('Dekor 4'!J72),'Dekor 4'!E72 & \"x\" & 'Dekor 4'!G72,\"\")","v":""},{"$f":"'Dekor 4'!L72","v":0},{"$f":"'Dekor 4'!N72","v":0},{"$f":"'Dekor 4'!P72","v":0},{"$f":"'Dekor 4'!R72","v":0},{"$f":"'Dekor 4'!X72","v":0},{"$f":"IF(ISNUMBER('Dekor 4'!J72),'Dekor 4'!$AF$20,\"\")","v":""},{"$f":"IF(ISNUMBER('Dekor 4'!J72),'Dekor 4'!$AF$21,\"\")","v":""},{"$f":"IF(ISNUMBER('Dekor 4'!J72),'Dekor 4'!$AF$22,\"\")","v":""},{"$f":"IF(ISNUMBER('Dekor 4'!J72),'Dekor 4'!$AF$23,\"\")","v":""},{"$f":"IF(ISNUMBER('Dekor 4'!J72),'Dekor 4'!$AF$24,\"\")","v":""},{"$f":"'Dekor 4'!Y72","v":0}]
[{"$f":"'Dekor 4'!A73","v":""},{"$f":"'Dekor 4'!B73","v":{"$error":"#NAME?"}},{"$f":"IF(ISNUMBER('Dekor 4'!J73),('Dekor 4'!D73 & \".\" & 'Dekor 4'!U73 & \".\" & 'Dekor 4'!F73 & \".\" & 'Dekor 4'!V73 & \".\" & 'Dekor 4'!H73 & \".\" & 'Dekor 4'!I73),\"\")","v":""},{"$f":"'Dekor 4'!W73","v":0},{"$f":"'Dekor 4'!K73","v":0},{"$f":"'Dekor 4'!M73","v":0},{"$f":"'Dekor 4'!O73","v":0},{"$f":"'Dekor 4'!Q73","v":0},{"$f":"IF(ISNUMBER('Dekor 4'!J73),'Dekor 4'!E73 & \"x\" & 'Dekor 4'!G73,\"\")","v":""},{"$f":"'Dekor 4'!L73","v":0},{"$f":"'Dekor 4'!N73","v":0},{"$f":"'Dekor 4'!P73","v":0},{"$f":"'Dekor 4'!R73","v":0},{"$f":"'Dekor 4'!X73","v":0},{"$f":"IF(ISNUMBER('Dekor 4'!J73),'Dekor 4'!$AF$20,\"\")","v":""},{"$f":"IF(ISNUMBER('Dekor 4'!J73),'Dekor 4'!$AF$21,\"\")","v":""},{"$f":"IF(ISNUMBER('Dekor 4'!J73),'Dekor 4'!$AF$22,\"\")","v":""},{"$f":"IF(ISNUMBER('Dekor 4'!J73),'Dekor 4'!$AF$23,\"\")","v":""},{"$f":"IF(ISNUMBER('Dekor 4'!J73),'Dekor 4'!$AF$24,\"\")","v":""},{"$f":"'Dekor 4'!Y73","v":0}]
[{"$f":"'Dekor 4'!A74","v":""},{"$f":"'Dekor 4'!B74","v":{"$error":"#NAME?"}},{"$f":"IF(ISNUMBER('Dekor 4'!J74),('Dekor 4'!D74 & \".\" & 'Dekor 4'!U74 & \".\" & 'Dekor 4'!F74 & \".\" & 'Dekor 4'!V74 & \".\" & 'Dekor 4'!H74 & \".\" & 'Dekor 4'!I74),\"\")","v":""},{"$f":"'Dekor 4'!W74","v":0},{"$f":"'Dekor 4'!K74","v":0},{"$f":"'Dekor 4'!M74","v":0},{"$f":"'Dekor 4'!O74","v":0},{"$f":"'Dekor 4'!Q74","v":0},{"$f":"IF(ISNUMBER('Dekor 4'!J74),'Dekor 4'!E74 & \"x\" & 'Dekor 4'!G74,\"\")","v":""},{"$f":"'Dekor 4'!L74","v":0},{"$f":"'Dekor 4'!N74","v":0},{"$f":"'Dekor 4'!P74","v":0},{"$f":"'Dekor 4'!R74","v":0},{"$f":"'Dekor 4'!X74","v":0},{"$f":"IF(ISNUMBER('Dekor 4'!J74),'Dekor 4'!$AF$20,\"\")","v":""},{"$f":"IF(ISNUMBER('Dekor 4'!J74),'Dekor 4'!$AF$21,\"\")","v":""},{"$f":"IF(ISNUMBER('Dekor 4'!J74),'Dekor 4'!$AF$22,\"\")","v":""},{"$f":"IF(ISNUMBER('Dekor 4'!J74),'Dekor 4'!$AF$23,\"\")","v":""},{"$f":"IF(ISNUMBER('Dekor 4'!J74),'Dekor 4'!$AF$24,\"\")","v":""},{"$f":"'Dekor 4'!Y74","v":0}]
[{"$f":"'Dekor 4'!A75","v":""},{"$f":"'Dekor 4'!B75","v":{"$error":"#NAME?"}},{"$f":"IF(ISNUMBER('Dekor 4'!J75),('Dekor 4'!D75 & \".\" & 'Dekor 4'!U75 & \".\" & 'Dekor 4'!F75 & \".\" & 'Dekor 4'!V75 & \".\" & 'Dekor 4'!H75 & \".\" & 'Dekor 4'!I75),\"\")","v":""},{"$f":"'Dekor 4'!W75","v":0},{"$f":"'Dekor 4'!K75","v":0},{"$f":"'Dekor 4'!M75","v":0},{"$f":"'Dekor 4'!O75","v":0},{"$f":"'Dekor 4'!Q75","v":0},{"$f":"IF(ISNUMBER('Dekor 4'!J75),'Dekor 4'!E75 & \"x\" & 'Dekor 4'!G75,\"\")","v":""},{"$f":"'Dekor 4'!L75","v":0},{"$f":"'Dekor 4'!N75","v":0},{"$f":"'Dekor 4'!P75","v":0},{"$f":"'Dekor 4'!R75","v":0},{"$f":"'Dekor 4'!X75","v":0},{"$f":"IF(ISNUMBER('Dekor 4'!J75),'Dekor 4'!$AF$20,\"\")","v":""},{"$f":"IF(ISNUMBER('Dekor 4'!J75),'Dekor 4'!$AF$21,\"\")","v":""},{"$f":"IF(ISNUMBER('Dekor 4'!J75),'Dekor 4'!$AF$22,\"\")","v":""},{"$f":"IF(ISNUMBER('Dekor 4'!J75),'Dekor 4'!$AF$23,\"\")","v":""},{"$f":"IF(ISNUMBER('Dekor 4'!J75),'Dekor 4'!$AF$24,\"\")","v":""},{"$f":"'Dekor 4'!Y75","v":0}]
[{"$f":"'Dekor 4'!A76","v":""},{"$f":"'Dekor 4'!B76","v":{"$error":"#NAME?"}},{"$f":"IF(ISNUMBER('Dekor 4'!J76),('Dekor 4'!D76 & \".\" & 'Dekor 4'!U76 & \".\" & 'Dekor 4'!F76 & \".\" & 'Dekor 4'!V76 & \".\" & 'Dekor 4'!H76 & \".\" & 'Dekor 4'!I76),\"\")","v":""},{"$f":"'Dekor 4'!W76","v":0},{"$f":"'Dekor 4'!K76","v":0},{"$f":"'Dekor 4'!M76","v":0},{"$f":"'Dekor 4'!O76","v":0},{"$f":"'Dekor 4'!Q76","v":0},{"$f":"IF(ISNUMBER('Dekor 4'!J76),'Dekor 4'!E76 & \"x\" & 'Dekor 4'!G76,\"\")","v":""},{"$f":"'Dekor 4'!L76","v":0},{"$f":"'Dekor 4'!N76","v":0},{"$f":"'Dekor 4'!P76","v":0},{"$f":"'Dekor 4'!R76","v":0},{"$f":"'Dekor 4'!X76","v":0},{"$f":"IF(ISNUMBER('Dekor 4'!J76),'Dekor 4'!$AF$20,\"\")","v":""},{"$f":"IF(ISNUMBER('Dekor 4'!J76),'Dekor 4'!$AF$21,\"\")","v":""},{"$f":"IF(ISNUMBER('Dekor 4'!J76),'Dekor 4'!$AF$22,\"\")","v":""},{"$f":"IF(ISNUMBER('Dekor 4'!J76),'Dekor 4'!$AF$23,\"\")","v":""},{"$f":"IF(ISNUMBER('Dekor 4'!J76),'Dekor 4'!$AF$24,\"\")","v":""},{"$f":"'Dekor 4'!Y76","v":0}]
[{"$f":"'Dekor 4'!A77","v":""},{"$f":"'Dekor 4'!B77","v":{"$error":"#NAME?"}},{"$f":"IF(ISNUMBER('Dekor 4'!J77),('Dekor 4'!D77 & \".\" & 'Dekor 4'!U77 & \".\" & 'Dekor 4'!F77 & \".\" & 'Dekor 4'!V77 & \".\" & 'Dekor 4'!H77 & \".\" & 'Dekor 4'!I77),\"\")","v":""},{"$f":"'Dekor 4'!W77","v":0},{"$f":"'Dekor 4'!K77","v":0},{"$f":"'Dekor 4'!M77","v":0},{"$f":"'Dekor 4'!O77","v":0},{"$f":"'Dekor 4'!Q77","v":0},{"$f":"IF(ISNUMBER('Dekor 4'!J77),'Dekor 4'!E77 & \"x\" & 'Dekor 4'!G77,\"\")","v":""},{"$f":"'Dekor 4'!L77","v":0},{"$f":"'Dekor 4'!N77","v":0},{"$f":"'Dekor 4'!P77","v":0},{"$f":"'Dekor 4'!R77","v":0},{"$f":"'Dekor 4'!X77","v":0},{"$f":"IF(ISNUMBER('Dekor 4'!J77),'Dekor 4'!$AF$20,\"\")","v":""},{"$f":"IF(ISNUMBER('Dekor 4'!J77),'Dekor 4'!$AF$21,\"\")","v":""},{"$f":"IF(ISNUMBER('Dekor 4'!J77),'Dekor 4'!$AF$22,\"\")","v":""},{"$f":"IF(ISNUMBER('Dekor 4'!J77),'Dekor 4'!$AF$23,\"\")","v":""},{"$f":"IF(ISNUMBER('Dekor 4'!J77),'Dekor 4'!$AF$24,\"\")","v":""},{"$f":"'Dekor 4'!Y77","v":0}]
[{"$f":"'Dekor 4'!A78","v":""},{"$f":"'Dekor 4'!B78","v":{"$error":"#NAME?"}},{"$f":"IF(ISNUMBER('Dekor 4'!J78),('Dekor 4'!D78 & \".\" & 'Dekor 4'!U78 & \".\" & 'Dekor 4'!F78 & \".\" & 'Dekor 4'!V78 & \".\" & 'Dekor 4'!H78 & \".\" & 'Dekor 4'!I78),\"\")","v":""},{"$f":"'Dekor 4'!W78","v":0},{"$f":"'Dekor 4'!K78","v":0},{"$f":"'Dekor 4'!M78","v":0},{"$f":"'Dekor 4'!O78","v":0},{"$f":"'Dekor 4'!Q78","v":0},{"$f":"IF(ISNUMBER('Dekor 4'!J78),'Dekor 4'!E78 & \"x\" & 'Dekor 4'!G78,\"\")","v":""},{"$f":"'Dekor 4'!L78","v":0},{"$f":"'Dekor 4'!N78","v":0},{"$f":"'Dekor 4'!P78","v":0},{"$f":"'Dekor 4'!R78","v":0},{"$f":"'Dekor 4'!X78","v":0},{"$f":"IF(ISNUMBER('Dekor 4'!J78),'Dekor 4'!$AF$20,\"\")","v":""},{"$f":"IF(ISNUMBER('Dekor 4'!J78),'Dekor 4'!$AF$21,\"\")","v":""},{"$f":"IF(ISNUMBER('Dekor 4'!J78),'Dekor 4'!$AF$22,\"\")","v":""},{"$f":"IF(ISNUMBER('Dekor 4'!J78),'Dekor 4'!$AF$23,\"\")","v":""},{"$f":"IF(ISNUMBER('Dekor 4'!J78),'Dekor 4'!$AF$24,\"\")","v":""},{"$f":"'Dekor 4'!Y78","v":0}]
[{"$f":"'Dekor 4'!A79","v":""},{"$f":"'Dekor 4'!B79","v":{"$error":"#NAME?"}},{"$f":"IF(ISNUMBER('Dekor 4'!J79),('Dekor 4'!D79 & \".\" & 'Dekor 4'!U79 & \".\" & 'Dekor 4'!F79 & \".\" & 'Dekor 4'!V79 & \".\" & 'Dekor 4'!H79 & \".\" & 'Dekor 4'!I79),\"\")","v":""},{"$f":"'Dekor 4'!W79","v":0},{"$f":"'Dekor 4'!K79","v":0},{"$f":"'Dekor 4'!M79","v":0},{"$f":"'Dekor 4'!O79","v":0},{"$f":"'Dekor 4'!Q79","v":0},{"$f":"IF(ISNUMBER('Dekor 4'!J79),'Dekor 4'!E79 & \"x\" & 'Dekor 4'!G79,\"\")","v":""},{"$f":"'Dekor 4'!L79","v":0},{"$f":"'Dekor 4'!N79","v":0},{"$f":"'Dekor 4'!P79","v":0},{"$f":"'Dekor 4'!R79","v":0},{"$f":"'Dekor 4'!X79","v":0},{"$f":"IF(ISNUMBER('Dekor 4'!J79),'Dekor 4'!$AF$20,\"\")","v":""},{"$f":"IF(ISNUMBER('Dekor 4'!J79),'Dekor 4'!$AF$21,\"\")","v":""},{"$f":"IF(ISNUMBER('Dekor 4'!J79),'Dekor 4'!$AF$22,\"\")","v":""},{"$f":"IF(ISNUMBER('Dekor 4'!J79),'Dekor 4'!$AF$23,\"\")","v":""},{"$f":"IF(ISNUMBER('Dekor 4'!J79),'Dekor 4'!$AF$24,\"\")","v":""},{"$f":"'Dekor 4'!Y79","v":0}]
[{"$f":"'Dekor 4'!A80","v":""},{"$f":"'Dekor 4'!B80","v":{"$error":"#NAME?"}},{"$f":"IF(ISNUMBER('Dekor 4'!J80),('Dekor 4'!D80 & \".\" & 'Dekor 4'!U80 & \".\" & 'Dekor 4'!F80 & \".\" & 'Dekor 4'!V80 & \".\" & 'Dekor 4'!H80 & \".\" & 'Dekor 4'!I80),\"\")","v":""},{"$f":"'Dekor 4'!W80","v":0},{"$f":"'Dekor 4'!K80","v":0},{"$f":"'Dekor 4'!M80","v":0},{"$f":"'Dekor 4'!O80","v":0},{"$f":"'Dekor 4'!Q80","v":0},{"$f":"IF(ISNUMBER('Dekor 4'!J80),'Dekor 4'!E80 & \"x\" & 'Dekor 4'!G80,\"\")","v":""},{"$f":"'Dekor 4'!L80","v":0},{"$f":"'Dekor 4'!N80","v":0},{"$f":"'Dekor 4'!P80","v":0},{"$f":"'Dekor 4'!R80","v":0},{"$f":"'Dekor 4'!X80","v":0},{"$f":"IF(ISNUMBER('Dekor 4'!J80),'Dekor 4'!$AF$20,\"\")","v":""},{"$f":"IF(ISNUMBER('Dekor 4'!J80),'Dekor 4'!$AF$21,\"\")","v":""},{"$f":"IF(ISNUMBER('Dekor 4'!J80),'Dekor 4'!$AF$22,\"\")","v":""},{"$f":"IF(ISNUMBER('Dekor 4'!J80),'Dekor 4'!$AF$23,\"\")","v":""},{"$f":"IF(ISNUMBER('Dekor 4'!J80),'Dekor 4'!$AF$24,\"\")","v":""},{"$f":"'Dekor 4'!Y80","v":0}]
[{"$f":"'Dekor 4'!A81","v":""},{"$f":"'Dekor 4'!B81","v":{"$error":"#NAME?"}},{"$f":"IF(ISNUMBER('Dekor 4'!J81),('Dekor 4'!D81 & \".\" & 'Dekor 4'!U81 & \".\" & 'Dekor 4'!F81 & \".\" & 'Dekor 4'!V81 & \".\" & 'Dekor 4'!H81 & \".\" & 'Dekor 4'!I81),\"\")","v":""},{"$f":"'Dekor 4'!W81","v":0},{"$f":"'Dekor 4'!K81","v":0},{"$f":"'Dekor 4'!M81","v":0},{"$f":"'Dekor 4'!O81","v":0},{"$f":"'Dekor 4'!Q81","v":0},{"$f":"IF(ISNUMBER('Dekor 4'!J81),'Dekor 4'!E81 & \"x\" & 'Dekor 4'!G81,\"\")","v":""},{"$f":"'Dekor 4'!L81","v":0},{"$f":"'Dekor 4'!N81","v":0},{"$f":"'Dekor 4'!P81","v":0},{"$f":"'Dekor 4'!R81","v":0},{"$f":"'Dekor 4'!X81","v":0},{"$f":"IF(ISNUMBER('Dekor 4'!J81),'Dekor 4'!$AF$20,\"\")","v":""},{"$f":"IF(ISNUMBER('Dekor 4'!J81),'Dekor 4'!$AF$21,\"\")","v":""},{"$f":"IF(ISNUMBER('Dekor 4'!J81),'Dekor 4'!$AF$22,\"\")","v":""},{"$f":"IF(ISNUMBER('Dekor 4'!J81),'Dekor 4'!$AF$23,\"\")","v":""},{"$f":"IF(ISNUMBER('Dekor 4'!J81),'Dekor 4'!$AF$24,\"\")","v":""},{"$f":"'Dekor 4'!Y81","v":0}]
[{"$f":"'Dekor 4'!A82","v":""},{"$f":"'Dekor 4'!B82","v":{"$error":"#NAME?"}},{"$f":"IF(ISNUMBER('Dekor 4'!J82),('Dekor 4'!D82 & \".\" & 'Dekor 4'!U82 & \".\" & 'Dekor 4'!F82 & \".\" & 'Dekor 4'!V82 & \".\" & 'Dekor 4'!H82 & \".\" & 'Dekor 4'!I82),\"\")","v":""},{"$f":"'Dekor 4'!W82","v":0},{"$f":"'Dekor 4'!K82","v":0},{"$f":"'Dekor 4'!M82","v":0},{"$f":"'Dekor 4'!O82","v":0},{"$f":"'Dekor 4'!Q82","v":0},{"$f":"IF(ISNUMBER('Dekor 4'!J82),'Dekor 4'!E82 & \"x\" & 'Dekor 4'!G82,\"\")","v":""},{"$f":"'Dekor 4'!L82","v":0},{"$f":"'Dekor 4'!N82","v":0},{"$f":"'Dekor 4'!P82","v":0},{"$f":"'Dekor 4'!R82","v":0},{"$f":"'Dekor 4'!X82","v":0},{"$f":"IF(ISNUMBER('Dekor 4'!J82),'Dekor 4'!$AF$20,\"\")","v":""},{"$f":"IF(ISNUMBER('Dekor 4'!J82),'Dekor 4'!$AF$21,\"\")","v":""},{"$f":"IF(ISNUMBER('Dekor 4'!J82),'Dekor 4'!$AF$22,\"\")","v":""},{"$f":"IF(ISNUMBER('Dekor 4'!J82),'Dekor 4'!$AF$23,\"\")","v":""},{"$f":"IF(ISNUMBER('Dekor 4'!J82),'Dekor 4'!$AF$24,\"\")","v":""},{"$f":"'Dekor 4'!Y82","v":0}]
[{"$f":"'Dekor 4'!A83","v":""},{"$f":"'Dekor 4'!B83","v":{"$error":"#NAME?"}},{"$f":"IF(ISNUMBER('Dekor 4'!J83),('Dekor 4'!D83 & \".\" & 'Dekor 4'!U83 & \".\" & 'Dekor 4'!F83 & \".\" & 'Dekor 4'!V83 & \".\" & 'Dekor 4'!H83 & \".\" & 'Dekor 4'!I83),\"\")","v":""},{"$f":"'Dekor 4'!W83","v":0},{"$f":"'Dekor 4'!K83","v":0},{"$f":"'Dekor 4'!M83","v":0},{"$f":"'Dekor 4'!O83","v":0},{"$f":"'Dekor 4'!Q83","v":0},{"$f":"IF(ISNUMBER('Dekor 4'!J83),'Dekor 4'!E83 & \"x\" & 'Dekor 4'!G83,\"\")","v":""},{"$f":"'Dekor 4'!L83","v":0},{"$f":"'Dekor 4'!N83","v":0},{"$f":"'Dekor 4'!P83","v":0},{"$f":"'Dekor 4'!R83","v":0},{"$f":"'Dekor 4'!X83","v":0},{"$f":"IF(ISNUMBER('Dekor 4'!J83),'Dekor 4'!$AF$20,\"\")","v":""},{"$f":"IF(ISNUMBER('Dekor 4'!J83),'Dekor 4'!$AF$21,\"\")","v":""},{"$f":"IF(ISNUMBER('Dekor 4'!J83),'Dekor 4'!$AF$22,\"\")","v":""},{"$f":"IF(ISNUMBER('Dekor 4'!J83),'Dekor 4'!$AF$23,\"\")","v":""},{"$f":"IF(ISNUMBER('Dekor 4'!J83),'Dekor 4'!$AF$24,\"\")","v":""},{"$f":"'Dekor 4'!Y83","v":0}]
[{"$f":"'Dekor 4'!A84","v":""},{"$f":"'Dekor 4'!B84","v":{"$error":"#NAME?"}},{"$f":"IF(ISNUMBER('Dekor 4'!J84),('Dekor 4'!D84 & \".\" & 'Dekor 4'!U84 & \".\" & 'Dekor 4'!F84 & \".\" & 'Dekor 4'!V84 & \".\" & 'Dekor 4'!H84 & \".\" & 'Dekor 4'!I84),\"\")","v":""},{"$f":"'Dekor 4'!W84","v":0},{"$f":"'Dekor 4'!K84","v":0},{"$f":"'Dekor 4'!M84","v":0},{"$f":"'Dekor 4'!O84","v":0},{"$f":"'Dekor 4'!Q84","v":0},{"$f":"IF(ISNUMBER('Dekor 4'!J84),'Dekor 4'!E84 & \"x\" & 'Dekor 4'!G84,\"\")","v":""},{"$f":"'Dekor 4'!L84","v":0},{"$f":"'Dekor 4'!N84","v":0},{"$f":"'Dekor 4'!P84","v":0},{"$f":"'Dekor 4'!R84","v":0},{"$f":"'Dekor 4'!X84","v":0},{"$f":"IF(ISNUMBER('Dekor 4'!J84),'Dekor 4'!$AF$20,\"\")","v":""},{"$f":"IF(ISNUMBER('Dekor 4'!J84),'Dekor 4'!$AF$21,\"\")","v":""},{"$f":"IF(ISNUMBER('Dekor 4'!J84),'Dekor 4'!$AF$22,\"\")","v":""},{"$f":"IF(ISNUMBER('Dekor 4'!J84),'Dekor 4'!$AF$23,\"\")","v":""},{"$f":"IF(ISNUMBER('Dekor 4'!J84),'Dekor 4'!$AF$24,\"\")","v":""},{"$f":"'Dekor 4'!Y84","v":0}]
[{"$f":"'Dekor 4'!A85","v":""},{"$f":"'Dekor 4'!B85","v":{"$error":"#NAME?"}},{"$f":"IF(ISNUMBER('Dekor 4'!J85),('Dekor 4'!D85 & \".\" & 'Dekor 4'!U85 & \".\" & 'Dekor 4'!F85 & \".\" & 'Dekor 4'!V85 & \".\" & 'Dekor 4'!H85 & \".\" & 'Dekor 4'!I85),\"\")","v":""},{"$f":"'Dekor 4'!W85","v":0},{"$f":"'Dekor 4'!K85","v":0},{"$f":"'Dekor 4'!M85","v":0},{"$f":"'Dekor 4'!O85","v":0},{"$f":"'Dekor 4'!Q85","v":0},{"$f":"IF(ISNUMBER('Dekor 4'!J85),'Dekor 4'!E85 & \"x\" & 'Dekor 4'!G85,\"\")","v":""},{"$f":"'Dekor 4'!L85","v":0},{"$f":"'Dekor 4'!N85","v":0},{"$f":"'Dekor 4'!P85","v":0},{"$f":"'Dekor 4'!R85","v":0},{"$f":"'Dekor 4'!X85","v":0},{"$f":"IF(ISNUMBER('Dekor 4'!J85),'Dekor 4'!$AF$20,\"\")","v":""},{"$f":"IF(ISNUMBER('Dekor 4'!J85),'Dekor 4'!$AF$21,\"\")","v":""},{"$f":"IF(ISNUMBER('Dekor 4'!J85),'Dekor 4'!$AF$22,\"\")","v":""},{"$f":"IF(ISNUMBER('Dekor 4'!J85),'Dekor 4'!$AF$23,\"\")","v":""},{"$f":"IF(ISNUMBER('Dekor 4'!J85),'Dekor 4'!$AF$24,\"\")","v":""},{"$f":"'Dekor 4'!Y85","v":0}]
[{"$f":"'Dekor 4'!A86","v":""},{"$f":"'Dekor 4'!B86","v":{"$error":"#NAME?"}},{"$f":"IF(ISNUMBER('Dekor 4'!J86),('Dekor 4'!D86 & \".\" & 'Dekor 4'!U86 & \".\" & 'Dekor 4'!F86 & \".\" & 'Dekor 4'!V86 & \".\" & 'Dekor 4'!H86 & \".\" & 'Dekor 4'!I86),\"\")","v":""},{"$f":"'Dekor 4'!W86","v":0},{"$f":"'Dekor 4'!K86","v":0},{"$f":"'Dekor 4'!M86","v":0},{"$f":"'Dekor 4'!O86","v":0},{"$f":"'Dekor 4'!Q86","v":0},{"$f":"IF(ISNUMBER('Dekor 4'!J86),'Dekor 4'!E86 & \"x\" & 'Dekor 4'!G86,\"\")","v":""},{"$f":"'Dekor 4'!L86","v":0},{"$f":"'Dekor 4'!N86","v":0},{"$f":"'Dekor 4'!P86","v":0},{"$f":"'Dekor 4'!R86","v":0},{"$f":"'Dekor 4'!X86","v":0},{"$f":"IF(ISNUMBER('Dekor 4'!J86),'Dekor 4'!$AF$20,\"\")","v":""},{"$f":"IF(ISNUMBER('Dekor 4'!J86),'Dekor 4'!$AF$21,\"\")","v":""},{"$f":"IF(ISNUMBER('Dekor 4'!J86),'Dekor 4'!$AF$22,\"\")","v":""},{"$f":"IF(ISNUMBER('Dekor 4'!J86),'Dekor 4'!$AF$23,\"\")","v":""},{"$f":"IF(ISNUMBER('Dekor 4'!J86),'Dekor 4'!$AF$24,\"\")","v":""},{"$f":"'Dekor 4'!Y86","v":0}]
[{"$f":"'Dekor 4'!A87","v":""},{"$f":"'Dekor 4'!B87","v":{"$error":"#NAME?"}},{"$f":"IF(ISNUMBER('Dekor 4'!J87),('Dekor 4'!D87 & \".\" & 'Dekor 4'!U87 & \".\" & 'Dekor 4'!F87 & \".\" & 'Dekor 4'!V87 & \".\" & 'Dekor 4'!H87 & \".\" & 'Dekor 4'!I87),\"\")","v":""},{"$f":"'Dekor 4'!W87","v":0},{"$f":"'Dekor 4'!K87","v":0},{"$f":"'Dekor 4'!M87","v":0},{"$f":"'Dekor 4'!O87","v":0},{"$f":"'Dekor 4'!Q87","v":0},{"$f":"IF(ISNUMBER('Dekor 4'!J87),'Dekor 4'!E87 & \"x\" & 'Dekor 4'!G87,\"\")","v":""},{"$f":"'Dekor 4'!L87","v":0},{"$f":"'Dekor 4'!N87","v":0},{"$f":"'Dekor 4'!P87","v":0},{"$f":"'Dekor 4'!R87","v":0},{"$f":"'Dekor 4'!X87","v":0},{"$f":"IF(ISNUMBER('Dekor 4'!J87),'Dekor 4'!$AF$20,\"\")","v":""},{"$f":"IF(ISNUMBER('Dekor 4'!J87),'Dekor 4'!$AF$21,\"\")","v":""},{"$f":"IF(ISNUMBER('Dekor 4'!J87),'Dekor 4'!$AF$22,\"\")","v":""},{"$f":"IF(ISNUMBER('Dekor 4'!J87),'Dekor 4'!$AF$23,\"\")","v":""},{"$f":"IF(ISNUMBER('Dekor 4'!J87),'Dekor 4'!$AF$24,\"\")","v":""},{"$f":"'Dekor 4'!Y87","v":0}]
[{"$f":"'Dekor 4'!A88","v":""},{"$f":"'Dekor 4'!B88","v":{"$error":"#NAME?"}},{"$f":"IF(ISNUMBER('Dekor 4'!J88),('Dekor 4'!D88 & \".\" & 'Dekor 4'!U88 & \".\" & 'Dekor 4'!F88 & \".\" & 'Dekor 4'!V88 & \".\" & 'Dekor 4'!H88 & \".\" & 'Dekor 4'!I88),\"\")","v":""},{"$f":"'Dekor 4'!W88","v":0},{"$f":"'Dekor 4'!K88","v":0},{"$f":"'Dekor 4'!M88","v":0},{"$f":"'Dekor 4'!O88","v":0},{"$f":"'Dekor 4'!Q88","v":0},{"$f":"IF(ISNUMBER('Dekor 4'!J88),'Dekor 4'!E88 & \"x\" & 'Dekor 4'!G88,\"\")","v":""},{"$f":"'Dekor 4'!L88","v":0},{"$f":"'Dekor 4'!N88","v":0},{"$f":"'Dekor 4'!P88","v":0},{"$f":"'Dekor 4'!R88","v":0},{"$f":"'Dekor 4'!X88","v":0},{"$f":"IF(ISNUMBER('Dekor 4'!J88),'Dekor 4'!$AF$20,\"\")","v":""},{"$f":"IF(ISNUMBER('Dekor 4'!J88),'Dekor 4'!$AF$21,\"\")","v":""},{"$f":"IF(ISNUMBER('Dekor 4'!J88),'Dekor 4'!$AF$22,\"\")","v":""},{"$f":"IF(ISNUMBER('Dekor 4'!J88),'Dekor 4'!$AF$23,\"\")","v":""},{"$f":"IF(ISNUMBER('Dekor 4'!J88),'Dekor 4'!$AF$24,\"\")","v":""},{"$f":"'Dekor 4'!Y88","v":0}]
[{"$f":"'Dekor 4'!A89","v":""},{"$f":"'Dekor 4'!B89","v":{"$error":"#NAME?"}},{"$f":"IF(ISNUMBER('Dekor 4'!J89),('Dekor 4'!D89 & \".\" & 'Dekor 4'!U89 & \".\" & 'Dekor 4'!F89 & \".\" & 'Dekor 4'!V89 & \".\" & 'Dekor 4'!H89 & \".\" & 'Dekor 4'!I89),\"\")","v":""},{"$f":"'Dekor 4'!W89","v":0},{"$f":"'Dekor 4'!K89","v":0},{"$f":"'Dekor 4'!M89","v":0},{"$f":"'Dekor 4'!O89","v":0},{"$f":"'Dekor 4'!Q89","v":0},{"$f":"IF(ISNUMBER('Dekor 4'!J89),'Dekor 4'!E89 & \"x\" & 'Dekor 4'!G89,\"\")","v":""},{"$f":"'Dekor 4'!L89","v":0},{"$f":"'Dekor 4'!N89","v":0},{"$f":"'Dekor 4'!P89","v":0},{"$f":"'Dekor 4'!R89","v":0},{"$f":"'Dekor 4'!X89","v":0},{"$f":"IF(ISNUMBER('Dekor 4'!J89),'Dekor 4'!$AF$20,\"\")","v":""},{"$f":"IF(ISNUMBER('Dekor 4'!J89),'Dekor 4'!$AF$21,\"\")","v":""},{"$f":"IF(ISNUMBER('Dekor 4'!J89),'Dekor 4'!$AF$22,\"\")","v":""},{"$f":"IF(ISNUMBER('Dekor 4'!J89),'Dekor 4'!$AF$23,\"\")","v":""},{"$f":"IF(ISNUMBER('Dekor 4'!J89),'Dekor 4'!$AF$24,\"\")","v":""},{"$f":"'Dekor 4'!Y89","v":0}]
[{"$f":"'Dekor 4'!A90","v":""},{"$f":"'Dekor 4'!B90","v":{"$error":"#NAME?"}},{"$f":"IF(ISNUMBER('Dekor 4'!J90),('Dekor 4'!D90 & \".\" & 'Dekor 4'!U90 & \".\" & 'Dekor 4'!F90 & \".\" & 'Dekor 4'!V90 & \".\" & 'Dekor 4'!H90 & \".\" & 'Dekor 4'!I90),\"\")","v":""},{"$f":"'Dekor 4'!W90","v":0},{"$f":"'Dekor 4'!K90","v":0},{"$f":"'Dekor 4'!M90","v":0},{"$f":"'Dekor 4'!O90","v":0},{"$f":"'Dekor 4'!Q90","v":0},{"$f":"IF(ISNUMBER('Dekor 4'!J90),'Dekor 4'!E90 & \"x\" & 'Dekor 4'!G90,\"\")","v":""},{"$f":"'Dekor 4'!L90","v":0},{"$f":"'Dekor 4'!N90","v":0},{"$f":"'Dekor 4'!P90","v":0},{"$f":"'Dekor 4'!R90","v":0},{"$f":"'Dekor 4'!X90","v":0},{"$f":"IF(ISNUMBER('Dekor 4'!J90),'Dekor 4'!$AF$20,\"\")","v":""},{"$f":"IF(ISNUMBER('Dekor 4'!J90),'Dekor 4'!$AF$21,\"\")","v":""},{"$f":"IF(ISNUMBER('Dekor 4'!J90),'Dekor 4'!$AF$22,\"\")","v":""},{"$f":"IF(ISNUMBER('Dekor 4'!J90),'Dekor 4'!$AF$23,\"\")","v":""},{"$f":"IF(ISNUMBER('Dekor 4'!J90),'Dekor 4'!$AF$24,\"\")","v":""},{"$f":"'Dekor 4'!Y90","v":0}]
[{"$f":"'Dekor 4'!A91","v":""},{"$f":"'Dekor 4'!B91","v":{"$error":"#NAME?"}},{"$f":"IF(ISNUMBER('Dekor 4'!J91),('Dekor 4'!D91 & \".\" & 'Dekor 4'!U91 & \".\" & 'Dekor 4'!F91 & \".\" & 'Dekor 4'!V91 & \".\" & 'Dekor 4'!H91 & \".\" & 'Dekor 4'!I91),\"\")","v":""},{"$f":"'Dekor 4'!W91","v":0},{"$f":"'Dekor 4'!K91","v":0},{"$f":"'Dekor 4'!M91","v":0},{"$f":"'Dekor 4'!O91","v":0},{"$f":"'Dekor 4'!Q91","v":0},{"$f":"IF(ISNUMBER('Dekor 4'!J91),'Dekor 4'!E91 & \"x\" & 'Dekor 4'!G91,\"\")","v":""},{"$f":"'Dekor 4'!L91","v":0},{"$f":"'Dekor 4'!N91","v":0},{"$f":"'Dekor 4'!P91","v":0},{"$f":"'Dekor 4'!R91","v":0},{"$f":"'Dekor 4'!X91","v":0},{"$f":"IF(ISNUMBER('Dekor 4'!J91),'Dekor 4'!$AF$20,\"\")","v":""},{"$f":"IF(ISNUMBER('Dekor 4'!J91),'Dekor 4'!$AF$21,\"\")","v":""},{"$f":"IF(ISNUMBER('Dekor 4'!J91),'Dekor 4'!$AF$22,\"\")","v":""},{"$f":"IF(ISNUMBER('Dekor 4'!J91),'Dekor 4'!$AF$23,\"\")","v":""},{"$f":"IF(ISNUMBER('Dekor 4'!J91),'Dekor 4'!$AF$24,\"\")","v":""},{"$f":"'Dekor 4'!Y91","v":0}]
[{"$f":"'Dekor 4'!A92","v":""},{"$f":"'Dekor 4'!B92","v":{"$error":"#NAME?"}},{"$f":"IF(ISNUMBER('Dekor 4'!J92),('Dekor 4'!D92 & \".\" & 'Dekor 4'!U92 & \".\" & 'Dekor 4'!F92 & \".\" & 'Dekor 4'!V92 & \".\" & 'Dekor 4'!H92 & \".\" & 'Dekor 4'!I92),\"\")","v":""},{"$f":"'Dekor 4'!W92","v":0},{"$f":"'Dekor 4'!K92","v":0},{"$f":"'Dekor 4'!M92","v":0},{"$f":"'Dekor 4'!O92","v":0},{"$f":"'Dekor 4'!Q92","v":0},{"$f":"IF(ISNUMBER('Dekor 4'!J92),'Dekor 4'!E92 & \"x\" & 'Dekor 4'!G92,\"\")","v":""},{"$f":"'Dekor 4'!L92","v":0},{"$f":"'Dekor 4'!N92","v":0},{"$f":"'Dekor 4'!P92","v":0},{"$f":"'Dekor 4'!R92","v":0},{"$f":"'Dekor 4'!X92","v":0},{"$f":"IF(ISNUMBER('Dekor 4'!J92),'Dekor 4'!$AF$20,\"\")","v":""},{"$f":"IF(ISNUMBER('Dekor 4'!J92),'Dekor 4'!$AF$21,\"\")","v":""},{"$f":"IF(ISNUMBER('Dekor 4'!J92),'Dekor 4'!$AF$22,\"\")","v":""},{"$f":"IF(ISNUMBER('Dekor 4'!J92),'Dekor 4'!$AF$23,\"\")","v":""},{"$f":"IF(ISNUMBER('Dekor 4'!J92),'Dekor 4'!$AF$24,\"\")","v":""},{"$f":"'Dekor 4'!Y92","v":0}]
[{"$f":"'Dekor 4'!A93","v":""},{"$f":"'Dekor 4'!B93","v":{"$error":"#NAME?"}},{"$f":"IF(ISNUMBER('Dekor 4'!J93),('Dekor 4'!D93 & \".\" & 'Dekor 4'!U93 & \".\" & 'Dekor 4'!F93 & \".\" & 'Dekor 4'!V93 & \".\" & 'Dekor 4'!H93 & \".\" & 'Dekor 4'!I93),\"\")","v":""},{"$f":"'Dekor 4'!W93","v":0},{"$f":"'Dekor 4'!K93","v":0},{"$f":"'Dekor 4'!M93","v":0},{"$f":"'Dekor 4'!O93","v":0},{"$f":"'Dekor 4'!Q93","v":0},{"$f":"IF(ISNUMBER('Dekor 4'!J93),'Dekor 4'!E93 & \"x\" & 'Dekor 4'!G93,\"\")","v":""},{"$f":"'Dekor 4'!L93","v":0},{"$f":"'Dekor 4'!N93","v":0},{"$f":"'Dekor 4'!P93","v":0},{"$f":"'Dekor 4'!R93","v":0},{"$f":"'Dekor 4'!X93","v":0},{"$f":"IF(ISNUMBER('Dekor 4'!J93),'Dekor 4'!$AF$20,\"\")","v":""},{"$f":"IF(ISNUMBER('Dekor 4'!J93),'Dekor 4'!$AF$21,\"\")","v":""},{"$f":"IF(ISNUMBER('Dekor 4'!J93),'Dekor 4'!$AF$22,\"\")","v":""},{"$f":"IF(ISNUMBER('Dekor 4'!J93),'Dekor 4'!$AF$23,\"\")","v":""},{"$f":"IF(ISNUMBER('Dekor 4'!J93),'Dekor 4'!$AF$24,\"\")","v":""},{"$f":"'Dekor 4'!Y93","v":0}]
[{"$f":"'Dekor 4'!A94","v":""},{"$f":"'Dekor 4'!B94","v":{"$error":"#NAME?"}},{"$f":"IF(ISNUMBER('Dekor 4'!J94),('Dekor 4'!D94 & \".\" & 'Dekor 4'!U94 & \".\" & 'Dekor 4'!F94 & \".\" & 'Dekor 4'!V94 & \".\" & 'Dekor 4'!H94 & \".\" & 'Dekor 4'!I94),\"\")","v":""},{"$f":"'Dekor 4'!W94","v":0},{"$f":"'Dekor 4'!K94","v":0},{"$f":"'Dekor 4'!M94","v":0},{"$f":"'Dekor 4'!O94","v":0},{"$f":"'Dekor 4'!Q94","v":0},{"$f":"IF(ISNUMBER('Dekor 4'!J94),'Dekor 4'!E94 & \"x\" & 'Dekor 4'!G94,\"\")","v":""},{"$f":"'Dekor 4'!L94","v":0},{"$f":"'Dekor 4'!N94","v":0},{"$f":"'Dekor 4'!P94","v":0},{"$f":"'Dekor 4'!R94","v":0},{"$f":"'Dekor 4'!X94","v":0},{"$f":"IF(ISNUMBER('Dekor 4'!J94),'Dekor 4'!$AF$20,\"\")","v":""},{"$f":"IF(ISNUMBER('Dekor 4'!J94),'Dekor 4'!$AF$21,\"\")","v":""},{"$f":"IF(ISNUMBER('Dekor 4'!J94),'Dekor 4'!$AF$22,\"\")","v":""},{"$f":"IF(ISNUMBER('Dekor 4'!J94),'Dekor 4'!$AF$23,\"\")","v":""},{"$f":"IF(ISNUMBER('Dekor 4'!J94),'Dekor 4'!$AF$24,\"\")","v":""},{"$f":"'Dekor 4'!Y94","v":0}]
[{"$f":"'Dekor 4'!A95","v":""},{"$f":"'Dekor 4'!B95","v":{"$error":"#NAME?"}},{"$f":"IF(ISNUMBER('Dekor 4'!J95),('Dekor 4'!D95 & \".\" & 'Dekor 4'!U95 & \".\" & 'Dekor 4'!F95 & \".\" & 'Dekor 4'!V95 & \".\" & 'Dekor 4'!H95 & \".\" & 'Dekor 4'!I95),\"\")","v":""},{"$f":"'Dekor 4'!W95","v":0},{"$f":"'Dekor 4'!K95","v":0},{"$f":"'Dekor 4'!M95","v":0},{"$f":"'Dekor 4'!O95","v":0},{"$f":"'Dekor 4'!Q95","v":0},{"$f":"IF(ISNUMBER('Dekor 4'!J95),'Dekor 4'!E95 & \"x\" & 'Dekor 4'!G95,\"\")","v":""},{"$f":"'Dekor 4'!L95","v":0},{"$f":"'Dekor 4'!N95","v":0},{"$f":"'Dekor 4'!P95","v":0},{"$f":"'Dekor 4'!R95","v":0},{"$f":"'Dekor 4'!X95","v":0},{"$f":"IF(ISNUMBER('Dekor 4'!J95),'Dekor 4'!$AF$20,\"\")","v":""},{"$f":"IF(ISNUMBER('Dekor 4'!J95),'Dekor 4'!$AF$21,\"\")","v":""},{"$f":"IF(ISNUMBER('Dekor 4'!J95),'Dekor 4'!$AF$22,\"\")","v":""},{"$f":"IF(ISNUMBER('Dekor 4'!J95),'Dekor 4'!$AF$23,\"\")","v":""},{"$f":"IF(ISNUMBER('Dekor 4'!J95),'Dekor 4'!$AF$24,\"\")","v":""},{"$f":"'Dekor 4'!Y95","v":0}]
[{"$f":"'Dekor 4'!A96","v":""},{"$f":"'Dekor 4'!B96","v":{"$error":"#NAME?"}},{"$f":"IF(ISNUMBER('Dekor 4'!J96),('Dekor 4'!D96 & \".\" & 'Dekor 4'!U96 & \".\" & 'Dekor 4'!F96 & \".\" & 'Dekor 4'!V96 & \".\" & 'Dekor 4'!H96 & \".\" & 'Dekor 4'!I96),\"\")","v":""},{"$f":"'Dekor 4'!W96","v":0},{"$f":"'Dekor 4'!K96","v":0},{"$f":"'Dekor 4'!M96","v":0},{"$f":"'Dekor 4'!O96","v":0},{"$f":"'Dekor 4'!Q96","v":0},{"$f":"IF(ISNUMBER('Dekor 4'!J96),'Dekor 4'!E96 & \"x\" & 'Dekor 4'!G96,\"\")","v":""},{"$f":"'Dekor 4'!L96","v":0},{"$f":"'Dekor 4'!N96","v":0},{"$f":"'Dekor 4'!P96","v":0},{"$f":"'Dekor 4'!R96","v":0},{"$f":"'Dekor 4'!X96","v":0},{"$f":"IF(ISNUMBER('Dekor 4'!J96),'Dekor 4'!$AF$20,\"\")","v":""},{"$f":"IF(ISNUMBER('Dekor 4'!J96),'Dekor 4'!$AF$21,\"\")","v":""},{"$f":"IF(ISNUMBER('Dekor 4'!J96),'Dekor 4'!$AF$22,\"\")","v":""},{"$f":"IF(ISNUMBER('Dekor 4'!J96),'Dekor 4'!$AF$23,\"\")","v":""},{"$f":"IF(ISNUMBER('Dekor 4'!J96),'Dekor 4'!$AF$24,\"\")","v":""},{"$f":"'Dekor 4'!Y96","v":0}]
[{"$f":"'Dekor 4'!A97","v":""},{"$f":"'Dekor 4'!B97","v":{"$error":"#NAME?"}},{"$f":"IF(ISNUMBER('Dekor 4'!J97),('Dekor 4'!D97 & \".\" & 'Dekor 4'!U97 & \".\" & 'Dekor 4'!F97 & \".\" & 'Dekor 4'!V97 & \".\" & 'Dekor 4'!H97 & \".\" & 'Dekor 4'!I97),\"\")","v":""},{"$f":"'Dekor 4'!W97","v":0},{"$f":"'Dekor 4'!K97","v":0},{"$f":"'Dekor 4'!M97","v":0},{"$f":"'Dekor 4'!O97","v":0},{"$f":"'Dekor 4'!Q97","v":0},{"$f":"IF(ISNUMBER('Dekor 4'!J97),'Dekor 4'!E97 & \"x\" & 'Dekor 4'!G97,\"\")","v":""},{"$f":"'Dekor 4'!L97","v":0},{"$f":"'Dekor 4'!N97","v":0},{"$f":"'Dekor 4'!P97","v":0},{"$f":"'Dekor 4'!R97","v":0},{"$f":"'Dekor 4'!X97","v":0},{"$f":"IF(ISNUMBER('Dekor 4'!J97),'Dekor 4'!$AF$20,\"\")","v":""},{"$f":"IF(ISNUMBER('Dekor 4'!J97),'Dekor 4'!$AF$21,\"\")","v":""},{"$f":"IF(ISNUMBER('Dekor 4'!J97),'Dekor 4'!$AF$22,\"\")","v":""},{"$f":"IF(ISNUMBER('Dekor 4'!J97),'Dekor 4'!$AF$23,\"\")","v":""},{"$f":"IF(ISNUMBER('Dekor 4'!J97),'Dekor 4'!$AF$24,\"\")","v":""},{"$f":"'Dekor 4'!Y97","v":0}]
[{"$f":"'Dekor 4'!A98","v":""},{"$f":"'Dekor 4'!B98","v":{"$error":"#NAME?"}},{"$f":"IF(ISNUMBER('Dekor 4'!J98),('Dekor 4'!D98 & \".\" & 'Dekor 4'!U98 & \".\" & 'Dekor 4'!F98 & \".\" & 'Dekor 4'!V98 & \".\" & 'Dekor 4'!H98 & \".\" & 'Dekor 4'!I98),\"\")","v":""},{"$f":"'Dekor 4'!W98","v":0},{"$f":"'Dekor 4'!K98","v":0},{"$f":"'Dekor 4'!M98","v":0},{"$f":"'Dekor 4'!O98","v":0},{"$f":"'Dekor 4'!Q98","v":0},{"$f":"IF(ISNUMBER('Dekor 4'!J98),'Dekor 4'!E98 & \"x\" & 'Dekor 4'!G98,\"\")","v":""},{"$f":"'Dekor 4'!L98","v":0},{"$f":"'Dekor 4'!N98","v":0},{"$f":"'Dekor 4'!P98","v":0},{"$f":"'Dekor 4'!R98","v":0},{"$f":"'Dekor 4'!X98","v":0},{"$f":"IF(ISNUMBER('Dekor 4'!J98),'Dekor 4'!$AF$20,\"\")","v":""},{"$f":"IF(ISNUMBER('Dekor 4'!J98),'Dekor 4'!$AF$21,\"\")","v":""},{"$f":"IF(ISNUMBER('Dekor 4'!J98),'Dekor 4'!$AF$22,\"\")","v":""},{"$f":"IF(ISNUMBER('Dekor 4'!J98),'Dekor 4'!$AF$23,\"\")","v":""},{"$f":"IF(ISNUMBER('Dekor 4'!J98),'Dekor 4'!$AF$24,\"\")","v":""},{"$f":"'Dekor 4'!Y98","v":0}]
[{"$f":"'Dekor 4'!A99","v":""},{"$f":"'Dekor 4'!B99","v":{"$error":"#NAME?"}},{"$f":"IF(ISNUMBER('Dekor 4'!J99),('Dekor 4'!D99 & \".\" & 'Dekor 4'!U99 & \".\" & 'Dekor 4'!F99 & \".\" & 'Dekor 4'!V99 & \".\" & 'Dekor 4'!H99 & \".\" & 'Dekor 4'!I99),\"\")","v":""},{"$f":"'Dekor 4'!W99","v":0},{"$f":"'Dekor 4'!K99","v":0},{"$f":"'Dekor 4'!M99","v":0},{"$f":"'Dekor 4'!O99","v":0},{"$f":"'Dekor 4'!Q99","v":0},{"$f":"IF(ISNUMBER('Dekor 4'!J99),'Dekor 4'!E99 & \"x\" & 'Dekor 4'!G99,\"\")","v":""},{"$f":"'Dekor 4'!L99","v":0},{"$f":"'Dekor 4'!N99","v":0},{"$f":"'Dekor 4'!P99","v":0},{"$f":"'Dekor 4'!R99","v":0},{"$f":"'Dekor 4'!X99","v":0},{"$f":"IF(ISNUMBER('Dekor 4'!J99),'Dekor 4'!$AF$20,\"\")","v":""},{"$f":"IF(ISNUMBER('Dekor 4'!J99),'Dekor 4'!$AF$21,\"\")","v":""},{"$f":"IF(ISNUMBER('Dekor 4'!J99),'Dekor 4'!$AF$22,\"\")","v":""},{"$f":"IF(ISNUMBER('Dekor 4'!J99),'Dekor 4'!$AF$23,\"\")","v":""},{"$f":"IF(ISNUMBER('Dekor 4'!J99),'Dekor 4'!$AF$24,\"\")","v":""},{"$f":"'Dekor 4'!Y99","v":0}]
[{"$f":"'Dekor 4'!A100","v":""},{"$f":"'Dekor 4'!B100","v":{"$error":"#NAME?"}},{"$f":"IF(ISNUMBER('Dekor 4'!J100),('Dekor 4'!D100 & \".\" & 'Dekor 4'!U100 & \".\" & 'Dekor 4'!F100 & \".\" & 'Dekor 4'!V100 & \".\" & 'Dekor 4'!H100 & \".\" & 'Dekor 4'!I100),\"\")","v":""},{"$f":"'Dekor 4'!W100","v":0},{"$f":"'Dekor 4'!K100","v":0},{"$f":"'Dekor 4'!M100","v":0},{"$f":"'Dekor 4'!O100","v":0},{"$f":"'Dekor 4'!Q100","v":0},{"$f":"IF(ISNUMBER('Dekor 4'!J100),'Dekor 4'!E100 & \"x\" & 'Dekor 4'!G100,\"\")","v":""},{"$f":"'Dekor 4'!L100","v":0},{"$f":"'Dekor 4'!N100","v":0},{"$f":"'Dekor 4'!P100","v":0},{"$f":"'Dekor 4'!R100","v":0},{"$f":"'Dekor 4'!X100","v":0},{"$f":"IF(ISNUMBER('Dekor 4'!J100),'Dekor 4'!$AF$20,\"\")","v":""},{"$f":"IF(ISNUMBER('Dekor 4'!J100),'Dekor 4'!$AF$21,\"\")","v":""},{"$f":"IF(ISNUMBER('Dekor 4'!J100),'Dekor 4'!$AF$22,\"\")","v":""},{"$f":"IF(ISNUMBER('Dekor 4'!J100),'Dekor 4'!$AF$23,\"\")","v":""},{"$f":"IF(ISNUMBER('Dekor 4'!J100),'Dekor 4'!$AF$24,\"\")","v":""},{"$f":"'Dekor 4'!Y100","v":0}]
[{"$f":"'Dekor 4'!A101","v":""},{"$f":"'Dekor 4'!B101","v":{"$error":"#NAME?"}},{"$f":"IF(ISNUMBER('Dekor 4'!J101),('Dekor 4'!D101 & \".\" & 'Dekor 4'!U101 & \".\" & 'Dekor 4'!F101 & \".\" & 'Dekor 4'!V101 & \".\" & 'Dekor 4'!H101 & \".\" & 'Dekor 4'!I101),\"\")","v":""},{"$f":"'Dekor 4'!W101","v":0},{"$f":"'Dekor 4'!K101","v":0},{"$f":"'Dekor 4'!M101","v":0},{"$f":"'Dekor 4'!O101","v":0},{"$f":"'Dekor 4'!Q101","v":0},{"$f":"IF(ISNUMBER('Dekor 4'!J101),'Dekor 4'!E101 & \"x\" & 'Dekor 4'!G101,\"\")","v":""},{"$f":"'Dekor 4'!L101","v":0},{"$f":"'Dekor 4'!N101","v":0},{"$f":"'Dekor 4'!P101","v":0},{"$f":"'Dekor 4'!R101","v":0},{"$f":"'Dekor 4'!X101","v":0},{"$f":"IF(ISNUMBER('Dekor 4'!J101),'Dekor 4'!$AF$20,\"\")","v":""},{"$f":"IF(ISNUMBER('Dekor 4'!J101),'Dekor 4'!$AF$21,\"\")","v":""},{"$f":"IF(ISNUMBER('Dekor 4'!J101),'Dekor 4'!$AF$22,\"\")","v":""},{"$f":"IF(ISNUMBER('Dekor 4'!J101),'Dekor 4'!$AF$23,\"\")","v":""},{"$f":"IF(ISNUMBER('Dekor 4'!J101),'Dekor 4'!$AF$24,\"\")","v":""},{"$f":"'Dekor 4'!Y101","v":0}]
[{"$f":"'Dekor 4'!A102","v":""},{"$f":"'Dekor 4'!B102","v":{"$error":"#NAME?"}},{"$f":"IF(ISNUMBER('Dekor 4'!J102),('Dekor 4'!D102 & \".\" & 'Dekor 4'!U102 & \".\" & 'Dekor 4'!F102 & \".\" & 'Dekor 4'!V102 & \".\" & 'Dekor 4'!H102 & \".\" & 'Dekor 4'!I102),\"\")","v":""},{"$f":"'Dekor 4'!W102","v":0},{"$f":"'Dekor 4'!K102","v":0},{"$f":"'Dekor 4'!M102","v":0},{"$f":"'Dekor 4'!O102","v":0},{"$f":"'Dekor 4'!Q102","v":0},{"$f":"IF(ISNUMBER('Dekor 4'!J102),'Dekor 4'!E102 & \"x\" & 'Dekor 4'!G102,\"\")","v":""},{"$f":"'Dekor 4'!L102","v":0},{"$f":"'Dekor 4'!N102","v":0},{"$f":"'Dekor 4'!P102","v":0},{"$f":"'Dekor 4'!R102","v":0},{"$f":"'Dekor 4'!X102","v":0},{"$f":"IF(ISNUMBER('Dekor 4'!J102),'Dekor 4'!$AF$20,\"\")","v":""},{"$f":"IF(ISNUMBER('Dekor 4'!J102),'Dekor 4'!$AF$21,\"\")","v":""},{"$f":"IF(ISNUMBER('Dekor 4'!J102),'Dekor 4'!$AF$22,\"\")","v":""},{"$f":"IF(ISNUMBER('Dekor 4'!J102),'Dekor 4'!$AF$23,\"\")","v":""},{"$f":"IF(ISNUMBER('Dekor 4'!J102),'Dekor 4'!$AF$24,\"\")","v":""},{"$f":"'Dekor 4'!Y102","v":0}]
[{"$f":"'Dekor 4'!A103","v":""},{"$f":"'Dekor 4'!B103","v":{"$error":"#NAME?"}},{"$f":"IF(ISNUMBER('Dekor 4'!J103),('Dekor 4'!D103 & \".\" & 'Dekor 4'!U103 & \".\" & 'Dekor 4'!F103 & \".\" & 'Dekor 4'!V103 & \".\" & 'Dekor 4'!H103 & \".\" & 'Dekor 4'!I103),\"\")","v":""},{"$f":"'Dekor 4'!W103","v":0},{"$f":"'Dekor 4'!K103","v":0},{"$f":"'Dekor 4'!M103","v":0},{"$f":"'Dekor 4'!O103","v":0},{"$f":"'Dekor 4'!Q103","v":0},{"$f":"IF(ISNUMBER('Dekor 4'!J103),'Dekor 4'!E103 & \"x\" & 'Dekor 4'!G103,\"\")","v":""},{"$f":"'Dekor 4'!L103","v":0},{"$f":"'Dekor 4'!N103","v":0},{"$f":"'Dekor 4'!P103","v":0},{"$f":"'Dekor 4'!R103","v":0},{"$f":"'Dekor 4'!X103","v":0},{"$f":"IF(ISNUMBER('Dekor 4'!J103),'Dekor 4'!$AF$20,\"\")","v":""},{"$f":"IF(ISNUMBER('Dekor 4'!J103),'Dekor 4'!$AF$21,\"\")","v":""},{"$f":"IF(ISNUMBER('Dekor 4'!J103),'Dekor 4'!$AF$22,\"\")","v":""},{"$f":"IF(ISNUMBER('Dekor 4'!J103),'Dekor 4'!$AF$23,\"\")","v":""},{"$f":"IF(ISNUMBER('Dekor 4'!J103),'Dekor 4'!$AF$24,\"\")","v":""},{"$f":"'Dekor 4'!Y103","v":0}]
[{"$f":"'Dekor 4'!A104","v":""},{"$f":"'Dekor 4'!B104","v":{"$error":"#NAME?"}},{"$f":"IF(ISNUMBER('Dekor 4'!J104),('Dekor 4'!D104 & \".\" & 'Dekor 4'!U104 & \".\" & 'Dekor 4'!F104 & \".\" & 'Dekor 4'!V104 & \".\" & 'Dekor 4'!H104 & \".\" & 'Dekor 4'!I104),\"\")","v":""},{"$f":"'Dekor 4'!W104","v":0},{"$f":"'Dekor 4'!K104","v":0},{"$f":"'Dekor 4'!M104","v":0},{"$f":"'Dekor 4'!O104","v":0},{"$f":"'Dekor 4'!Q104","v":0},{"$f":"IF(ISNUMBER('Dekor 4'!J104),'Dekor 4'!E104 & \"x\" & 'Dekor 4'!G104,\"\")","v":""},{"$f":"'Dekor 4'!L104","v":0},{"$f":"'Dekor 4'!N104","v":0},{"$f":"'Dekor 4'!P104","v":0},{"$f":"'Dekor 4'!R104","v":0},{"$f":"'Dekor 4'!X104","v":0},{"$f":"IF(ISNUMBER('Dekor 4'!J104),'Dekor 4'!$AF$20,\"\")","v":""},{"$f":"IF(ISNUMBER('Dekor 4'!J104),'Dekor 4'!$AF$21,\"\")","v":""},{"$f":"IF(ISNUMBER('Dekor 4'!J104),'Dekor 4'!$AF$22,\"\")","v":""},{"$f":"IF(ISNUMBER('Dekor 4'!J104),'Dekor 4'!$AF$23,\"\")","v":""},{"$f":"IF(ISNUMBER('Dekor 4'!J104),'Dekor 4'!$AF$24,\"\")","v":""},{"$f":"'Dekor 4'!Y104","v":0}]
[{"$f":"'Dekor 4'!A105","v":""},{"$f":"'Dekor 4'!B105","v":{"$error":"#NAME?"}},{"$f":"IF(ISNUMBER('Dekor 4'!J105),('Dekor 4'!D105 & \".\" & 'Dekor 4'!U105 & \".\" & 'Dekor 4'!F105 & \".\" & 'Dekor 4'!V105 & \".\" & 'Dekor 4'!H105 & \".\" & 'Dekor 4'!I105),\"\")","v":""},{"$f":"'Dekor 4'!W105","v":0},{"$f":"'Dekor 4'!K105","v":0},{"$f":"'Dekor 4'!M105","v":0},{"$f":"'Dekor 4'!O105","v":0},{"$f":"'Dekor 4'!Q105","v":0},{"$f":"IF(ISNUMBER('Dekor 4'!J105),'Dekor 4'!E105 & \"x\" & 'Dekor 4'!G105,\"\")","v":""},{"$f":"'Dekor 4'!L105","v":0},{"$f":"'Dekor 4'!N105","v":0},{"$f":"'Dekor 4'!P105","v":0},{"$f":"'Dekor 4'!R105","v":0},{"$f":"'Dekor 4'!X105","v":0},{"$f":"IF(ISNUMBER('Dekor 4'!J105),'Dekor 4'!$AF$20,\"\")","v":""},{"$f":"IF(ISNUMBER('Dekor 4'!J105),'Dekor 4'!$AF$21,\"\")","v":""},{"$f":"IF(ISNUMBER('Dekor 4'!J105),'Dekor 4'!$AF$22,\"\")","v":""},{"$f":"IF(ISNUMBER('Dekor 4'!J105),'Dekor 4'!$AF$23,\"\")","v":""},{"$f":"IF(ISNUMBER('Dekor 4'!J105),'Dekor 4'!$AF$24,\"\")","v":""},{"$f":"'Dekor 4'!Y105","v":0}]
[{"$f":"'Dekor 4'!A106","v":""},{"$f":"'Dekor 4'!B106","v":{"$error":"#NAME?"}},{"$f":"IF(ISNUMBER('Dekor 4'!J106),('Dekor 4'!D106 & \".\" & 'Dekor 4'!U106 & \".\" & 'Dekor 4'!F106 & \".\" & 'Dekor 4'!V106 & \".\" & 'Dekor 4'!H106 & \".\" & 'Dekor 4'!I106),\"\")","v":""},{"$f":"'Dekor 4'!W106","v":0},{"$f":"'Dekor 4'!K106","v":0},{"$f":"'Dekor 4'!M106","v":0},{"$f":"'Dekor 4'!O106","v":0},{"$f":"'Dekor 4'!Q106","v":0},{"$f":"IF(ISNUMBER('Dekor 4'!J106),'Dekor 4'!E106 & \"x\" & 'Dekor 4'!G106,\"\")","v":""},{"$f":"'Dekor 4'!L106","v":0},{"$f":"'Dekor 4'!N106","v":0},{"$f":"'Dekor 4'!P106","v":0},{"$f":"'Dekor 4'!R106","v":0},{"$f":"'Dekor 4'!X106","v":0},{"$f":"IF(ISNUMBER('Dekor 4'!J106),'Dekor 4'!$AF$20,\"\")","v":""},{"$f":"IF(ISNUMBER('Dekor 4'!J106),'Dekor 4'!$AF$21,\"\")","v":""},{"$f":"IF(ISNUMBER('Dekor 4'!J106),'Dekor 4'!$AF$22,\"\")","v":""},{"$f":"IF(ISNUMBER('Dekor 4'!J106),'Dekor 4'!$AF$23,\"\")","v":""},{"$f":"IF(ISNUMBER('Dekor 4'!J106),'Dekor 4'!$AF$24,\"\")","v":""},{"$f":"'Dekor 4'!Y106","v":0}]
[{"$f":"'Dekor 4'!A107","v":""},{"$f":"'Dekor 4'!B107","v":{"$error":"#NAME?"}},{"$f":"IF(ISNUMBER('Dekor 4'!J107),('Dekor 4'!D107 & \".\" & 'Dekor 4'!U107 & \".\" & 'Dekor 4'!F107 & \".\" & 'Dekor 4'!V107 & \".\" & 'Dekor 4'!H107 & \".\" & 'Dekor 4'!I107),\"\")","v":""},{"$f":"'Dekor 4'!W107","v":0},{"$f":"'Dekor 4'!K107","v":0},{"$f":"'Dekor 4'!M107","v":0},{"$f":"'Dekor 4'!O107","v":0},{"$f":"'Dekor 4'!Q107","v":0},{"$f":"IF(ISNUMBER('Dekor 4'!J107),'Dekor 4'!E107 & \"x\" & 'Dekor 4'!G107,\"\")","v":""},{"$f":"'Dekor 4'!L107","v":0},{"$f":"'Dekor 4'!N107","v":0},{"$f":"'Dekor 4'!P107","v":0},{"$f":"'Dekor 4'!R107","v":0},{"$f":"'Dekor 4'!X107","v":0},{"$f":"IF(ISNUMBER('Dekor 4'!J107),'Dekor 4'!$AF$20,\"\")","v":""},{"$f":"IF(ISNUMBER('Dekor 4'!J107),'Dekor 4'!$AF$21,\"\")","v":""},{"$f":"IF(ISNUMBER('Dekor 4'!J107),'Dekor 4'!$AF$22,\"\")","v":""},{"$f":"IF(ISNUMBER('Dekor 4'!J107),'Dekor 4'!$AF$23,\"\")","v":""},{"$f":"IF(ISNUMBER('Dekor 4'!J107),'Dekor 4'!$AF$24,\"\")","v":""},{"$f":"'Dekor 4'!Y107","v":0}]
[{"$f":"'Dekor 4'!A108","v":""},{"$f":"'Dekor 4'!B108","v":{"$error":"#NAME?"}},{"$f":"IF(ISNUMBER('Dekor 4'!J108),('Dekor 4'!D108 & \".\" & 'Dekor 4'!U108 & \".\" & 'Dekor 4'!F108 & \".\" & 'Dekor 4'!V108 & \".\" & 'Dekor 4'!H108 & \".\" & 'Dekor 4'!I108),\"\")","v":""},{"$f":"'Dekor 4'!W108","v":0},{"$f":"'Dekor 4'!K108","v":0},{"$f":"'Dekor 4'!M108","v":0},{"$f":"'Dekor 4'!O108","v":0},{"$f":"'Dekor 4'!Q108","v":0},{"$f":"IF(ISNUMBER('Dekor 4'!J108),'Dekor 4'!E108 & \"x\" & 'Dekor 4'!G108,\"\")","v":""},{"$f":"'Dekor 4'!L108","v":0},{"$f":"'Dekor 4'!N108","v":0},{"$f":"'Dekor 4'!P108","v":0},{"$f":"'Dekor 4'!R108","v":0},{"$f":"'Dekor 4'!X108","v":0},{"$f":"IF(ISNUMBER('Dekor 4'!J108),'Dekor 4'!$AF$20,\"\")","v":""},{"$f":"IF(ISNUMBER('Dekor 4'!J108),'Dekor 4'!$AF$21,\"\")","v":""},{"$f":"IF(ISNUMBER('Dekor 4'!J108),'Dekor 4'!$AF$22,\"\")","v":""},{"$f":"IF(ISNUMBER('Dekor 4'!J108),'Dekor 4'!$AF$23,\"\")","v":""},{"$f":"IF(ISNUMBER('Dekor 4'!J108),'Dekor 4'!$AF$24,\"\")","v":""},{"$f":"'Dekor 4'!Y108","v":0}]
[{"$f":"'Dekor 4'!A109","v":""},{"$f":"'Dekor 4'!B109","v":{"$error":"#NAME?"}},{"$f":"IF(ISNUMBER('Dekor 4'!J109),('Dekor 4'!D109 & \".\" & 'Dekor 4'!U109 & \".\" & 'Dekor 4'!F109 & \".\" & 'Dekor 4'!V109 & \".\" & 'Dekor 4'!H109 & \".\" & 'Dekor 4'!I109),\"\")","v":""},{"$f":"'Dekor 4'!W109","v":0},{"$f":"'Dekor 4'!K109","v":0},{"$f":"'Dekor 4'!M109","v":0},{"$f":"'Dekor 4'!O109","v":0},{"$f":"'Dekor 4'!Q109","v":0},{"$f":"IF(ISNUMBER('Dekor 4'!J109),'Dekor 4'!E109 & \"x\" & 'Dekor 4'!G109,\"\")","v":""},{"$f":"'Dekor 4'!L109","v":0},{"$f":"'Dekor 4'!N109","v":0},{"$f":"'Dekor 4'!P109","v":0},{"$f":"'Dekor 4'!R109","v":0},{"$f":"'Dekor 4'!X109","v":0},{"$f":"IF(ISNUMBER('Dekor 4'!J109),'Dekor 4'!$AF$20,\"\")","v":""},{"$f":"IF(ISNUMBER('Dekor 4'!J109),'Dekor 4'!$AF$21,\"\")","v":""},{"$f":"IF(ISNUMBER('Dekor 4'!J109),'Dekor 4'!$AF$22,\"\")","v":""},{"$f":"IF(ISNUMBER('Dekor 4'!J109),'Dekor 4'!$AF$23,\"\")","v":""},{"$f":"IF(ISNUMBER('Dekor 4'!J109),'Dekor 4'!$AF$24,\"\")","v":""},{"$f":"'Dekor 4'!Y109","v":0}]
[{"$f":"'Dekor 4'!A110","v":""},{"$f":"'Dekor 4'!B110","v":{"$error":"#NAME?"}},{"$f":"IF(ISNUMBER('Dekor 4'!J110),('Dekor 4'!D110 & \".\" & 'Dekor 4'!U110 & \".\" & 'Dekor 4'!F110 & \".\" & 'Dekor 4'!V110 & \".\" & 'Dekor 4'!H110 & \".\" & 'Dekor 4'!I110),\"\")","v":""},{"$f":"'Dekor 4'!W110","v":0},{"$f":"'Dekor 4'!K110","v":0},{"$f":"'Dekor 4'!M110","v":0},{"$f":"'Dekor 4'!O110","v":0},{"$f":"'Dekor 4'!Q110","v":0},{"$f":"IF(ISNUMBER('Dekor 4'!J110),'Dekor 4'!E110 & \"x\" & 'Dekor 4'!G110,\"\")","v":""},{"$f":"'Dekor 4'!L110","v":0},{"$f":"'Dekor 4'!N110","v":0},{"$f":"'Dekor 4'!P110","v":0},{"$f":"'Dekor 4'!R110","v":0},{"$f":"'Dekor 4'!X110","v":0},{"$f":"IF(ISNUMBER('Dekor 4'!J110),'Dekor 4'!$AF$20,\"\")","v":""},{"$f":"IF(ISNUMBER('Dekor 4'!J110),'Dekor 4'!$AF$21,\"\")","v":""},{"$f":"IF(ISNUMBER('Dekor 4'!J110),'Dekor 4'!$AF$22,\"\")","v":""},{"$f":"IF(ISNUMBER('Dekor 4'!J110),'Dekor 4'!$AF$23,\"\")","v":""},{"$f":"IF(ISNUMBER('Dekor 4'!J110),'Dekor 4'!$AF$24,\"\")","v":""},{"$f":"'Dekor 4'!Y110","v":0}]
[{"$f":"'Dekor 4'!A111","v":""},{"$f":"'Dekor 4'!B111","v":{"$error":"#NAME?"}},{"$f":"IF(ISNUMBER('Dekor 4'!J111),('Dekor 4'!D111 & \".\" & 'Dekor 4'!U111 & \".\" & 'Dekor 4'!F111 & \".\" & 'Dekor 4'!V111 & \".\" & 'Dekor 4'!H111 & \".\" & 'Dekor 4'!I111),\"\")","v":""},{"$f":"'Dekor 4'!W111","v":0},{"$f":"'Dekor 4'!K111","v":0},{"$f":"'Dekor 4'!M111","v":0},{"$f":"'Dekor 4'!O111","v":0},{"$f":"'Dekor 4'!Q111","v":0},{"$f":"IF(ISNUMBER('Dekor 4'!J111),'Dekor 4'!E111 & \"x\" & 'Dekor 4'!G111,\"\")","v":""},{"$f":"'Dekor 4'!L111","v":0},{"$f":"'Dekor 4'!N111","v":0},{"$f":"'Dekor 4'!P111","v":0},{"$f":"'Dekor 4'!R111","v":0},{"$f":"'Dekor 4'!X111","v":0},{"$f":"IF(ISNUMBER('Dekor 4'!J111),'Dekor 4'!$AF$20,\"\")","v":""},{"$f":"IF(ISNUMBER('Dekor 4'!J111),'Dekor 4'!$AF$21,\"\")","v":""},{"$f":"IF(ISNUMBER('Dekor 4'!J111),'Dekor 4'!$AF$22,\"\")","v":""},{"$f":"IF(ISNUMBER('Dekor 4'!J111),'Dekor 4'!$AF$23,\"\")","v":""},{"$f":"IF(ISNUMBER('Dekor 4'!J111),'Dekor 4'!$AF$24,\"\")","v":""},{"$f":"'Dekor 4'!Y111","v":0}]
[{"$f":"'Dekor 4'!A112","v":""},{"$f":"'Dekor 4'!B112","v":{"$error":"#NAME?"}},{"$f":"IF(ISNUMBER('Dekor 4'!J112),('Dekor 4'!D112 & \".\" & 'Dekor 4'!U112 & \".\" & 'Dekor 4'!F112 & \".\" & 'Dekor 4'!V112 & \".\" & 'Dekor 4'!H112 & \".\" & 'Dekor 4'!I112),\"\")","v":""},{"$f":"'Dekor 4'!W112","v":0},{"$f":"'Dekor 4'!K112","v":0},{"$f":"'Dekor 4'!M112","v":0},{"$f":"'Dekor 4'!O112","v":0},{"$f":"'Dekor 4'!Q112","v":0},{"$f":"IF(ISNUMBER('Dekor 4'!J112),'Dekor 4'!E112 & \"x\" & 'Dekor 4'!G112,\"\")","v":""},{"$f":"'Dekor 4'!L112","v":0},{"$f":"'Dekor 4'!N112","v":0},{"$f":"'Dekor 4'!P112","v":0},{"$f":"'Dekor 4'!R112","v":0},{"$f":"'Dekor 4'!X112","v":0},{"$f":"IF(ISNUMBER('Dekor 4'!J112),'Dekor 4'!$AF$20,\"\")","v":""},{"$f":"IF(ISNUMBER('Dekor 4'!J112),'Dekor 4'!$AF$21,\"\")","v":""},{"$f":"IF(ISNUMBER('Dekor 4'!J112),'Dekor 4'!$AF$22,\"\")","v":""},{"$f":"IF(ISNUMBER('Dekor 4'!J112),'Dekor 4'!$AF$23,\"\")","v":""},{"$f":"IF(ISNUMBER('Dekor 4'!J112),'Dekor 4'!$AF$24,\"\")","v":""},{"$f":"'Dekor 4'!Y112","v":0}]
[{"$f":"'Dekor 4'!A113","v":""},{"$f":"'Dekor 4'!B113","v":{"$error":"#NAME?"}},{"$f":"IF(ISNUMBER('Dekor 4'!J113),('Dekor 4'!D113 & \".\" & 'Dekor 4'!U113 & \".\" & 'Dekor 4'!F113 & \".\" & 'Dekor 4'!V113 & \".\" & 'Dekor 4'!H113 & \".\" & 'Dekor 4'!I113),\"\")","v":""},{"$f":"'Dekor 4'!W113","v":0},{"$f":"'Dekor 4'!K113","v":0},{"$f":"'Dekor 4'!M113","v":0},{"$f":"'Dekor 4'!O113","v":0},{"$f":"'Dekor 4'!Q113","v":0},{"$f":"IF(ISNUMBER('Dekor 4'!J113),'Dekor 4'!E113 & \"x\" & 'Dekor 4'!G113,\"\")","v":""},{"$f":"'Dekor 4'!L113","v":0},{"$f":"'Dekor 4'!N113","v":0},{"$f":"'Dekor 4'!P113","v":0},{"$f":"'Dekor 4'!R113","v":0},{"$f":"'Dekor 4'!X113","v":0},{"$f":"IF(ISNUMBER('Dekor 4'!J113),'Dekor 4'!$AF$20,\"\")","v":""},{"$f":"IF(ISNUMBER('Dekor 4'!J113),'Dekor 4'!$AF$21,\"\")","v":""},{"$f":"IF(ISNUMBER('Dekor 4'!J113),'Dekor 4'!$AF$22,\"\")","v":""},{"$f":"IF(ISNUMBER('Dekor 4'!J113),'Dekor 4'!$AF$23,\"\")","v":""},{"$f":"IF(ISNUMBER('Dekor 4'!J113),'Dekor 4'!$AF$24,\"\")","v":""},{"$f":"'Dekor 4'!Y113","v":0}]
[{"$f":"'Dekor 4'!A114","v":""},{"$f":"'Dekor 4'!B114","v":{"$error":"#NAME?"}},{"$f":"IF(ISNUMBER('Dekor 4'!J114),('Dekor 4'!D114 & \".\" & 'Dekor 4'!U114 & \".\" & 'Dekor 4'!F114 & \".\" & 'Dekor 4'!V114 & \".\" & 'Dekor 4'!H114 & \".\" & 'Dekor 4'!I114),\"\")","v":""},{"$f":"'Dekor 4'!W114","v":0},{"$f":"'Dekor 4'!K114","v":0},{"$f":"'Dekor 4'!M114","v":0},{"$f":"'Dekor 4'!O114","v":0},{"$f":"'Dekor 4'!Q114","v":0},{"$f":"IF(ISNUMBER('Dekor 4'!J114),'Dekor 4'!E114 & \"x\" & 'Dekor 4'!G114,\"\")","v":""},{"$f":"'Dekor 4'!L114","v":0},{"$f":"'Dekor 4'!N114","v":0},{"$f":"'Dekor 4'!P114","v":0},{"$f":"'Dekor 4'!R114","v":0},{"$f":"'Dekor 4'!X114","v":0},{"$f":"IF(ISNUMBER('Dekor 4'!J114),'Dekor 4'!$AF$20,\"\")","v":""},{"$f":"IF(ISNUMBER('Dekor 4'!J114),'Dekor 4'!$AF$21,\"\")","v":""},{"$f":"IF(ISNUMBER('Dekor 4'!J114),'Dekor 4'!$AF$22,\"\")","v":""},{"$f":"IF(ISNUMBER('Dekor 4'!J114),'Dekor 4'!$AF$23,\"\")","v":""},{"$f":"IF(ISNUMBER('Dekor 4'!J114),'Dekor 4'!$AF$24,\"\")","v":""},{"$f":"'Dekor 4'!Y114","v":0}]
[{"$f":"'Dekor 4'!A115","v":""},{"$f":"'Dekor 4'!B115","v":{"$error":"#NAME?"}},{"$f":"IF(ISNUMBER('Dekor 4'!J115),('Dekor 4'!D115 & \".\" & 'Dekor 4'!U115 & \".\" & 'Dekor 4'!F115 & \".\" & 'Dekor 4'!V115 & \".\" & 'Dekor 4'!H115 & \".\" & 'Dekor 4'!I115),\"\")","v":""},{"$f":"'Dekor 4'!W115","v":0},{"$f":"'Dekor 4'!K115","v":0},{"$f":"'Dekor 4'!M115","v":0},{"$f":"'Dekor 4'!O115","v":0},{"$f":"'Dekor 4'!Q115","v":0},{"$f":"IF(ISNUMBER('Dekor 4'!J115),'Dekor 4'!E115 & \"x\" & 'Dekor 4'!G115,\"\")","v":""},{"$f":"'Dekor 4'!L115","v":0},{"$f":"'Dekor 4'!N115","v":0},{"$f":"'Dekor 4'!P115","v":0},{"$f":"'Dekor 4'!R115","v":0},{"$f":"'Dekor 4'!X115","v":0},{"$f":"IF(ISNUMBER('Dekor 4'!J115),'Dekor 4'!$AF$20,\"\")","v":""},{"$f":"IF(ISNUMBER('Dekor 4'!J115),'Dekor 4'!$AF$21,\"\")","v":""},{"$f":"IF(ISNUMBER('Dekor 4'!J115),'Dekor 4'!$AF$22,\"\")","v":""},{"$f":"IF(ISNUMBER('Dekor 4'!J115),'Dekor 4'!$AF$23,\"\")","v":""},{"$f":"IF(ISNUMBER('Dekor 4'!J115),'Dekor 4'!$AF$24,\"\")","v":""},{"$f":"'Dekor 4'!Y115","v":0}]
[{"$f":"'Dekor 4'!A116","v":""},{"$f":"'Dekor 4'!B116","v":{"$error":"#NAME?"}},{"$f":"IF(ISNUMBER('Dekor 4'!J116),('Dekor 4'!D116 & \".\" & 'Dekor 4'!U116 & \".\" & 'Dekor 4'!F116 & \".\" & 'Dekor 4'!V116 & \".\" & 'Dekor 4'!H116 & \".\" & 'Dekor 4'!I116),\"\")","v":""},{"$f":"'Dekor 4'!W116","v":0},{"$f":"'Dekor 4'!K116","v":0},{"$f":"'Dekor 4'!M116","v":0},{"$f":"'Dekor 4'!O116","v":0},{"$f":"'Dekor 4'!Q116","v":0},{"$f":"IF(ISNUMBER('Dekor 4'!J116),'Dekor 4'!E116 & \"x\" & 'Dekor 4'!G116,\"\")","v":""},{"$f":"'Dekor 4'!L116","v":0},{"$f":"'Dekor 4'!N116","v":0},{"$f":"'Dekor 4'!P116","v":0},{"$f":"'Dekor 4'!R116","v":0},{"$f":"'Dekor 4'!X116","v":0},{"$f":"IF(ISNUMBER('Dekor 4'!J116),'Dekor 4'!$AF$20,\"\")","v":""},{"$f":"IF(ISNUMBER('Dekor 4'!J116),'Dekor 4'!$AF$21,\"\")","v":""},{"$f":"IF(ISNUMBER('Dekor 4'!J116),'Dekor 4'!$AF$22,\"\")","v":""},{"$f":"IF(ISNUMBER('Dekor 4'!J116),'Dekor 4'!$AF$23,\"\")","v":""},{"$f":"IF(ISNUMBER('Dekor 4'!J116),'Dekor 4'!$AF$24,\"\")","v":""},{"$f":"'Dekor 4'!Y116","v":0}]
[{"$f":"'Dekor 4'!A117","v":""},{"$f":"'Dekor 4'!B117","v":{"$error":"#NAME?"}},{"$f":"IF(ISNUMBER('Dekor 4'!J117),('Dekor 4'!D117 & \".\" & 'Dekor 4'!U117 & \".\" & 'Dekor 4'!F117 & \".\" & 'Dekor 4'!V117 & \".\" & 'Dekor 4'!H117 & \".\" & 'Dekor 4'!I117),\"\")","v":""},{"$f":"'Dekor 4'!W117","v":0},{"$f":"'Dekor 4'!K117","v":0},{"$f":"'Dekor 4'!M117","v":0},{"$f":"'Dekor 4'!O117","v":0},{"$f":"'Dekor 4'!Q117","v":0},{"$f":"IF(ISNUMBER('Dekor 4'!J117),'Dekor 4'!E117 & \"x\" & 'Dekor 4'!G117,\"\")","v":""},{"$f":"'Dekor 4'!L117","v":0},{"$f":"'Dekor 4'!N117","v":0},{"$f":"'Dekor 4'!P117","v":0},{"$f":"'Dekor 4'!R117","v":0},{"$f":"'Dekor 4'!X117","v":0},{"$f":"IF(ISNUMBER('Dekor 4'!J117),'Dekor 4'!$AF$20,\"\")","v":""},{"$f":"IF(ISNUMBER('Dekor 4'!J117),'Dekor 4'!$AF$21,\"\")","v":""},{"$f":"IF(ISNUMBER('Dekor 4'!J117),'Dekor 4'!$AF$22,\"\")","v":""},{"$f":"IF(ISNUMBER('Dekor 4'!J117),'Dekor 4'!$AF$23,\"\")","v":""},{"$f":"IF(ISNUMBER('Dekor 4'!J117),'Dekor 4'!$AF$24,\"\")","v":""},{"$f":"'Dekor 4'!Y117","v":0}]
[{"$f":"'Dekor 4'!A118","v":0},{"$f":"'Dekor 4'!B118","v":0},{"$f":"IF(ISNUMBER('Dekor 4'!J118),('Dekor 4'!D118 & \".\" & 'Dekor 4'!U118 & \".\" & 'Dekor 4'!F118 & \".\" & 'Dekor 4'!V118 & \".\" & 'Dekor 4'!H118 & \".\" & 'Dekor 4'!I118),\"\")","v":""},{"$f":"'Dekor 4'!W118","v":0},{"$f":"'Dekor 4'!K118","v":0},{"$f":"'Dekor 4'!M118","v":0},{"$f":"'Dekor 4'!O118","v":0},{"$f":"'Dekor 4'!Q118","v":0},{"$f":"IF(ISNUMBER('Dekor 4'!J118),'Dekor 4'!E118 & \"x\" & 'Dekor 4'!G118,\"\")","v":""},{"$f":"'Dekor 4'!L118","v":0},{"$f":"'Dekor 4'!N118","v":0},{"$f":"'Dekor 4'!P118","v":0},{"$f":"'Dekor 4'!R118","v":0},{"$f":"'Dekor 4'!X118","v":0},{"$f":"IF(ISNUMBER('Dekor 4'!J118),'Dekor 4'!$AF$20,\"\")","v":""},{"$f":"IF(ISNUMBER('Dekor 4'!J118),'Dekor 4'!$AF$21,\"\")","v":""},{"$f":"IF(ISNUMBER('Dekor 4'!J118),'Dekor 4'!$AF$22,\"\")","v":""},{"$f":"IF(ISNUMBER('Dekor 4'!J118),'Dekor 4'!$AF$23,\"\")","v":""},{"$f":"IF(ISNUMBER('Dekor 4'!J118),'Dekor 4'!$AF$24,\"\")","v":""},{"$f":"'Dekor 4'!Y118","v":0}]

{"sheet":"CSV 5","index":10,"n_rows":101,"n_cols":20,"rows_kept":101,"cut":false,"hidden":true,"merged":[]}
[{"$f":"'Dekor 1'!A19","v":"CestaSouboru"},{"$f":"'Dekor 1'!B19","v":"nazev"},"Parametricka pravidla",{"$f":"'Dekor 1'!J19","v":"pocet"},"ohr x1","ohr x2","ohr y1","ohr y2","rozměr","Pozn X1","Pozn X2","Pozn Y1","Pozn Y2","Vysledny rozmer tuplu","22/1","22/0.5","22/2","42/1","42/2","Poznámka"]
[{"$f":"'Dekor 5'!A20","v":""},{"$f":"'Dekor 5'!B20","v":{"$error":"#NAME?"}},{"$f":"IF(ISNUMBER('Dekor 5'!J20),('Dekor 5'!D20 & \".\" & 'Dekor 5'!U20 & \".\" & 'Dekor 5'!F20 & \".\" & 'Dekor 5'!V20 & \".\" & 'Dekor 5'!H20 & \".\" & 'Dekor 5'!I20),\"\")","v":""},{"$f":"'Dekor 5'!W20","v":0},{"$f":"'Dekor 5'!K20","v":0},{"$f":"'Dekor 5'!M20","v":0},{"$f":"'Dekor 5'!O20","v":0},{"$f":"'Dekor 5'!Q20","v":0},{"$f":"IF(ISNUMBER('Dekor 5'!J20),'Dekor 5'!E20 & \"x\" & 'Dekor 5'!G20,\"\")","v":""},{"$f":"'Dekor 5'!L20","v":0},{"$f":"'Dekor 5'!N20","v":0},{"$f":"'Dekor 5'!P20","v":0},{"$f":"'Dekor 5'!R20","v":0},{"$f":"'Dekor 5'!X20","v":0},{"$f":"IF(ISNUMBER('Dekor 5'!J20),'Dekor 5'!$AF$20,\"\")","v":""},{"$f":"IF(ISNUMBER('Dekor 5'!J20),'Dekor 5'!$AF$21,\"\")","v":""},{"$f":"IF(ISNUMBER('Dekor 5'!J20),'Dekor 5'!$AF$22,\"\")","v":""},{"$f":"IF(ISNUMBER('Dekor 5'!J20),'Dekor 5'!$AF$23,\"\")","v":""},{"$f":"IF(ISNUMBER('Dekor 5'!J20),'Dekor 5'!$AF$24,\"\")","v":""},{"$f":"'Dekor 5'!Y20","v":0}]
[{"$f":"'Dekor 5'!A21","v":""},{"$f":"'Dekor 5'!B21","v":{"$error":"#NAME?"}},{"$f":"IF(ISNUMBER('Dekor 5'!J21),('Dekor 5'!D21 & \".\" & 'Dekor 5'!U21 & \".\" & 'Dekor 5'!F21 & \".\" & 'Dekor 5'!V21 & \".\" & 'Dekor 5'!H21 & \".\" & 'Dekor 5'!I21),\"\")","v":""},{"$f":"'Dekor 5'!W21","v":0},{"$f":"'Dekor 5'!K21","v":0},{"$f":"'Dekor 5'!M21","v":0},{"$f":"'Dekor 5'!O21","v":0},{"$f":"'Dekor 5'!Q21","v":0},{"$f":"IF(ISNUMBER('Dekor 5'!J21),'Dekor 5'!E21 & \"x\" & 'Dekor 5'!G21,\"\")","v":""},{"$f":"'Dekor 5'!L21","v":0},{"$f":"'Dekor 5'!N21","v":0},{"$f":"'Dekor 5'!P21","v":0},{"$f":"'Dekor 5'!R21","v":0},{"$f":"'Dekor 5'!X21","v":0},{"$f":"IF(ISNUMBER('Dekor 5'!J21),'Dekor 5'!$AF$20,\"\")","v":""},{"$f":"IF(ISNUMBER('Dekor 5'!J21),'Dekor 5'!$AF$21,\"\")","v":""},{"$f":"IF(ISNUMBER('Dekor 5'!J21),'Dekor 5'!$AF$22,\"\")","v":""},{"$f":"IF(ISNUMBER('Dekor 5'!J21),'Dekor 5'!$AF$23,\"\")","v":""},{"$f":"IF(ISNUMBER('Dekor 5'!J21),'Dekor 5'!$AF$24,\"\")","v":""},{"$f":"'Dekor 5'!Y21","v":0}]
[{"$f":"'Dekor 5'!A22","v":""},{"$f":"'Dekor 5'!B22","v":{"$error":"#NAME?"}},{"$f":"IF(ISNUMBER('Dekor 5'!J22),('Dekor 5'!D22 & \".\" & 'Dekor 5'!U22 & \".\" & 'Dekor 5'!F22 & \".\" & 'Dekor 5'!V22 & \".\" & 'Dekor 5'!H22 & \".\" & 'Dekor 5'!I22),\"\")","v":""},{"$f":"'Dekor 5'!W22","v":0},{"$f":"'Dekor 5'!K22","v":0},{"$f":"'Dekor 5'!M22","v":0},{"$f":"'Dekor 5'!O22","v":0},{"$f":"'Dekor 5'!Q22","v":0},{"$f":"IF(ISNUMBER('Dekor 5'!J22),'Dekor 5'!E22 & \"x\" & 'Dekor 5'!G22,\"\")","v":""},{"$f":"'Dekor 5'!L22","v":0},{"$f":"'Dekor 5'!N22","v":0},{"$f":"'Dekor 5'!P22","v":0},{"$f":"'Dekor 5'!R22","v":0},{"$f":"'Dekor 5'!X22","v":0},{"$f":"IF(ISNUMBER('Dekor 5'!J22),'Dekor 5'!$AF$20,\"\")","v":""},{"$f":"IF(ISNUMBER('Dekor 5'!J22),'Dekor 5'!$AF$21,\"\")","v":""},{"$f":"IF(ISNUMBER('Dekor 5'!J22),'Dekor 5'!$AF$22,\"\")","v":""},{"$f":"IF(ISNUMBER('Dekor 5'!J22),'Dekor 5'!$AF$23,\"\")","v":""},{"$f":"IF(ISNUMBER('Dekor 5'!J22),'Dekor 5'!$AF$24,\"\")","v":""},{"$f":"'Dekor 5'!Y22","v":0}]
[{"$f":"'Dekor 5'!A23","v":""},{"$f":"'Dekor 5'!B23","v":{"$error":"#NAME?"}},{"$f":"IF(ISNUMBER('Dekor 5'!J23),('Dekor 5'!D23 & \".\" & 'Dekor 5'!U23 & \".\" & 'Dekor 5'!F23 & \".\" & 'Dekor 5'!V23 & \".\" & 'Dekor 5'!H23 & \".\" & 'Dekor 5'!I23),\"\")","v":""},{"$f":"'Dekor 5'!W23","v":0},{"$f":"'Dekor 5'!K23","v":0},{"$f":"'Dekor 5'!M23","v":0},{"$f":"'Dekor 5'!O23","v":0},{"$f":"'Dekor 5'!Q23","v":0},{"$f":"IF(ISNUMBER('Dekor 5'!J23),'Dekor 5'!E23 & \"x\" & 'Dekor 5'!G23,\"\")","v":""},{"$f":"'Dekor 5'!L23","v":0},{"$f":"'Dekor 5'!N23","v":0},{"$f":"'Dekor 5'!P23","v":0},{"$f":"'Dekor 5'!R23","v":0},{"$f":"'Dekor 5'!X23","v":0},{"$f":"IF(ISNUMBER('Dekor 5'!J23),'Dekor 5'!$AF$20,\"\")","v":""},{"$f":"IF(ISNUMBER('Dekor 5'!J23),'Dekor 5'!$AF$21,\"\")","v":""},{"$f":"IF(ISNUMBER('Dekor 5'!J23),'Dekor 5'!$AF$22,\"\")","v":""},{"$f":"IF(ISNUMBER('Dekor 5'!J23),'Dekor 5'!$AF$23,\"\")","v":""},{"$f":"IF(ISNUMBER('Dekor 5'!J23),'Dekor 5'!$AF$24,\"\")","v":""},{"$f":"'Dekor 5'!Y23","v":0}]
[{"$f":"'Dekor 5'!A24","v":""},{"$f":"'Dekor 5'!B24","v":{"$error":"#NAME?"}},{"$f":"IF(ISNUMBER('Dekor 5'!J24),('Dekor 5'!D24 & \".\" & 'Dekor 5'!U24 & \".\" & 'Dekor 5'!F24 & \".\" & 'Dekor 5'!V24 & \".\" & 'Dekor 5'!H24 & \".\" & 'Dekor 5'!I24),\"\")","v":""},{"$f":"'Dekor 5'!W24","v":0},{"$f":"'Dekor 5'!K24","v":0},{"$f":"'Dekor 5'!M24","v":0},{"$f":"'Dekor 5'!O24","v":0},{"$f":"'Dekor 5'!Q24","v":0},{"$f":"IF(ISNUMBER('Dekor 5'!J24),'Dekor 5'!E24 & \"x\" & 'Dekor 5'!G24,\"\")","v":""},{"$f":"'Dekor 5'!L24","v":0},{"$f":"'Dekor 5'!N24","v":0},{"$f":"'Dekor 5'!P24","v":0},{"$f":"'Dekor 5'!R24","v":0},{"$f":"'Dekor 5'!X24","v":0},{"$f":"IF(ISNUMBER('Dekor 5'!J24),'Dekor 5'!$AF$20,\"\")","v":""},{"$f":"IF(ISNUMBER('Dekor 5'!J24),'Dekor 5'!$AF$21,\"\")","v":""},{"$f":"IF(ISNUMBER('Dekor 5'!J24),'Dekor 5'!$AF$22,\"\")","v":""},{"$f":"IF(ISNUMBER('Dekor 5'!J24),'Dekor 5'!$AF$23,\"\")","v":""},{"$f":"IF(ISNUMBER('Dekor 5'!J24),'Dekor 5'!$AF$24,\"\")","v":""},{"$f":"'Dekor 5'!Y24","v":0}]
[{"$f":"'Dekor 5'!A25","v":""},{"$f":"'Dekor 5'!B25","v":{"$error":"#NAME?"}},{"$f":"IF(ISNUMBER('Dekor 5'!J25),('Dekor 5'!D25 & \".\" & 'Dekor 5'!U25 & \".\" & 'Dekor 5'!F25 & \".\" & 'Dekor 5'!V25 & \".\" & 'Dekor 5'!H25 & \".\" & 'Dekor 5'!I25),\"\")","v":""},{"$f":"'Dekor 5'!W25","v":0},{"$f":"'Dekor 5'!K25","v":0},{"$f":"'Dekor 5'!M25","v":0},{"$f":"'Dekor 5'!O25","v":0},{"$f":"'Dekor 5'!Q25","v":0},{"$f":"IF(ISNUMBER('Dekor 5'!J25),'Dekor 5'!E25 & \"x\" & 'Dekor 5'!G25,\"\")","v":""},{"$f":"'Dekor 5'!L25","v":0},{"$f":"'Dekor 5'!N25","v":0},{"$f":"'Dekor 5'!P25","v":0},{"$f":"'Dekor 5'!R25","v":0},{"$f":"'Dekor 5'!X25","v":0},{"$f":"IF(ISNUMBER('Dekor 5'!J25),'Dekor 5'!$AF$20,\"\")","v":""},{"$f":"IF(ISNUMBER('Dekor 5'!J25),'Dekor 5'!$AF$21,\"\")","v":""},{"$f":"IF(ISNUMBER('Dekor 5'!J25),'Dekor 5'!$AF$22,\"\")","v":""},{"$f":"IF(ISNUMBER('Dekor 5'!J25),'Dekor 5'!$AF$23,\"\")","v":""},{"$f":"IF(ISNUMBER('Dekor 5'!J25),'Dekor 5'!$AF$24,\"\")","v":""},{"$f":"'Dekor 5'!Y25","v":0}]
[{"$f":"'Dekor 5'!A26","v":""},{"$f":"'Dekor 5'!B26","v":{"$error":"#NAME?"}},{"$f":"IF(ISNUMBER('Dekor 5'!J26),('Dekor 5'!D26 & \".\" & 'Dekor 5'!U26 & \".\" & 'Dekor 5'!F26 & \".\" & 'Dekor 5'!V26 & \".\" & 'Dekor 5'!H26 & \".\" & 'Dekor 5'!I26),\"\")","v":""},{"$f":"'Dekor 5'!W26","v":0},{"$f":"'Dekor 5'!K26","v":0},{"$f":"'Dekor 5'!M26","v":0},{"$f":"'Dekor 5'!O26","v":0},{"$f":"'Dekor 5'!Q26","v":0},{"$f":"IF(ISNUMBER('Dekor 5'!J26),'Dekor 5'!E26 & \"x\" & 'Dekor 5'!G26,\"\")","v":""},{"$f":"'Dekor 5'!L26","v":0},{"$f":"'Dekor 5'!N26","v":0},{"$f":"'Dekor 5'!P26","v":0},{"$f":"'Dekor 5'!R26","v":0},{"$f":"'Dekor 5'!X26","v":0},{"$f":"IF(ISNUMBER('Dekor 5'!J26),'Dekor 5'!$AF$20,\"\")","v":""},{"$f":"IF(ISNUMBER('Dekor 5'!J26),'Dekor 5'!$AF$21,\"\")","v":""},{"$f":"IF(ISNUMBER('Dekor 5'!J26),'Dekor 5'!$AF$22,\"\")","v":""},{"$f":"IF(ISNUMBER('Dekor 5'!J26),'Dekor 5'!$AF$23,\"\")","v":""},{"$f":"IF(ISNUMBER('Dekor 5'!J26),'Dekor 5'!$AF$24,\"\")","v":""},{"$f":"'Dekor 5'!Y26","v":0}]
[{"$f":"'Dekor 5'!A27","v":""},{"$f":"'Dekor 5'!B27","v":{"$error":"#NAME?"}},{"$f":"IF(ISNUMBER('Dekor 5'!J27),('Dekor 5'!D27 & \".\" & 'Dekor 5'!U27 & \".\" & 'Dekor 5'!F27 & \".\" & 'Dekor 5'!V27 & \".\" & 'Dekor 5'!H27 & \".\" & 'Dekor 5'!I27),\"\")","v":""},{"$f":"'Dekor 5'!W27","v":0},{"$f":"'Dekor 5'!K27","v":0},{"$f":"'Dekor 5'!M27","v":0},{"$f":"'Dekor 5'!O27","v":0},{"$f":"'Dekor 5'!Q27","v":0},{"$f":"IF(ISNUMBER('Dekor 5'!J27),'Dekor 5'!E27 & \"x\" & 'Dekor 5'!G27,\"\")","v":""},{"$f":"'Dekor 5'!L27","v":0},{"$f":"'Dekor 5'!N27","v":0},{"$f":"'Dekor 5'!P27","v":0},{"$f":"'Dekor 5'!R27","v":0},{"$f":"'Dekor 5'!X27","v":0},{"$f":"IF(ISNUMBER('Dekor 5'!J27),'Dekor 5'!$AF$20,\"\")","v":""},{"$f":"IF(ISNUMBER('Dekor 5'!J27),'Dekor 5'!$AF$21,\"\")","v":""},{"$f":"IF(ISNUMBER('Dekor 5'!J27),'Dekor 5'!$AF$22,\"\")","v":""},{"$f":"IF(ISNUMBER('Dekor 5'!J27),'Dekor 5'!$AF$23,\"\")","v":""},{"$f":"IF(ISNUMBER('Dekor 5'!J27),'Dekor 5'!$AF$24,\"\")","v":""},{"$f":"'Dekor 5'!Y27","v":0}]
[{"$f":"'Dekor 5'!A28","v":""},{"$f":"'Dekor 5'!B28","v":{"$error":"#NAME?"}},{"$f":"IF(ISNUMBER('Dekor 5'!J28),('Dekor 5'!D28 & \".\" & 'Dekor 5'!U28 & \".\" & 'Dekor 5'!F28 & \".\" & 'Dekor 5'!V28 & \".\" & 'Dekor 5'!H28 & \".\" & 'Dekor 5'!I28),\"\")","v":""},{"$f":"'Dekor 5'!W28","v":0},{"$f":"'Dekor 5'!K28","v":0},{"$f":"'Dekor 5'!M28","v":0},{"$f":"'Dekor 5'!O28","v":0},{"$f":"'Dekor 5'!Q28","v":0},{"$f":"IF(ISNUMBER('Dekor 5'!J28),'Dekor 5'!E28 & \"x\" & 'Dekor 5'!G28,\"\")","v":""},{"$f":"'Dekor 5'!L28","v":0},{"$f":"'Dekor 5'!N28","v":0},{"$f":"'Dekor 5'!P28","v":0},{"$f":"'Dekor 5'!R28","v":0},{"$f":"'Dekor 5'!X28","v":0},{"$f":"IF(ISNUMBER('Dekor 5'!J28),'Dekor 5'!$AF$20,\"\")","v":""},{"$f":"IF(ISNUMBER('Dekor 5'!J28),'Dekor 5'!$AF$21,\"\")","v":""},{"$f":"IF(ISNUMBER('Dekor 5'!J28),'Dekor 5'!$AF$22,\"\")","v":""},{"$f":"IF(ISNUMBER('Dekor 5'!J28),'Dekor 5'!$AF$23,\"\")","v":""},{"$f":"IF(ISNUMBER('Dekor 5'!J28),'Dekor 5'!$AF$24,\"\")","v":""},{"$f":"'Dekor 5'!Y28","v":0}]
[{"$f":"'Dekor 5'!A29","v":""},{"$f":"'Dekor 5'!B29","v":{"$error":"#NAME?"}},{"$f":"IF(ISNUMBER('Dekor 5'!J29),('Dekor 5'!D29 & \".\" & 'Dekor 5'!U29 & \".\" & 'Dekor 5'!F29 & \".\" & 'Dekor 5'!V29 & \".\" & 'Dekor 5'!H29 & \".\" & 'Dekor 5'!I29),\"\")","v":""},{"$f":"'Dekor 5'!W29","v":0},{"$f":"'Dekor 5'!K29","v":0},{"$f":"'Dekor 5'!M29","v":0},{"$f":"'Dekor 5'!O29","v":0},{"$f":"'Dekor 5'!Q29","v":0},{"$f":"IF(ISNUMBER('Dekor 5'!J29),'Dekor 5'!E29 & \"x\" & 'Dekor 5'!G29,\"\")","v":""},{"$f":"'Dekor 5'!L29","v":0},{"$f":"'Dekor 5'!N29","v":0},{"$f":"'Dekor 5'!P29","v":0},{"$f":"'Dekor 5'!R29","v":0},{"$f":"'Dekor 5'!X29","v":0},{"$f":"IF(ISNUMBER('Dekor 5'!J29),'Dekor 5'!$AF$20,\"\")","v":""},{"$f":"IF(ISNUMBER('Dekor 5'!J29),'Dekor 5'!$AF$21,\"\")","v":""},{"$f":"IF(ISNUMBER('Dekor 5'!J29),'Dekor 5'!$AF$22,\"\")","v":""},{"$f":"IF(ISNUMBER('Dekor 5'!J29),'Dekor 5'!$AF$23,\"\")","v":""},{"$f":"IF(ISNUMBER('Dekor 5'!J29),'Dekor 5'!$AF$24,\"\")","v":""},{"$f":"'Dekor 5'!Y29","v":0}]
[{"$f":"'Dekor 5'!A30","v":""},{"$f":"'Dekor 5'!B30","v":{"$error":"#NAME?"}},{"$f":"IF(ISNUMBER('Dekor 5'!J30),('Dekor 5'!D30 & \".\" & 'Dekor 5'!U30 & \".\" & 'Dekor 5'!F30 & \".\" & 'Dekor 5'!V30 & \".\" & 'Dekor 5'!H30 & \".\" & 'Dekor 5'!I30),\"\")","v":""},{"$f":"'Dekor 5'!W30","v":0},{"$f":"'Dekor 5'!K30","v":0},{"$f":"'Dekor 5'!M30","v":0},{"$f":"'Dekor 5'!O30","v":0},{"$f":"'Dekor 5'!Q30","v":0},{"$f":"IF(ISNUMBER('Dekor 5'!J30),'Dekor 5'!E30 & \"x\" & 'Dekor 5'!G30,\"\")","v":""},{"$f":"'Dekor 5'!L30","v":0},{"$f":"'Dekor 5'!N30","v":0},{"$f":"'Dekor 5'!P30","v":0},{"$f":"'Dekor 5'!R30","v":0},{"$f":"'Dekor 5'!X30","v":0},{"$f":"IF(ISNUMBER('Dekor 5'!J30),'Dekor 5'!$AF$20,\"\")","v":""},{"$f":"IF(ISNUMBER('Dekor 5'!J30),'Dekor 5'!$AF$21,\"\")","v":""},{"$f":"IF(ISNUMBER('Dekor 5'!J30),'Dekor 5'!$AF$22,\"\")","v":""},{"$f":"IF(ISNUMBER('Dekor 5'!J30),'Dekor 5'!$AF$23,\"\")","v":""},{"$f":"IF(ISNUMBER('Dekor 5'!J30),'Dekor 5'!$AF$24,\"\")","v":""},{"$f":"'Dekor 5'!Y30","v":0}]
[{"$f":"'Dekor 5'!A31","v":""},{"$f":"'Dekor 5'!B31","v":{"$error":"#NAME?"}},{"$f":"IF(ISNUMBER('Dekor 5'!J31),('Dekor 5'!D31 & \".\" & 'Dekor 5'!U31 & \".\" & 'Dekor 5'!F31 & \".\" & 'Dekor 5'!V31 & \".\" & 'Dekor 5'!H31 & \".\" & 'Dekor 5'!I31),\"\")","v":""},{"$f":"'Dekor 5'!W31","v":0},{"$f":"'Dekor 5'!K31","v":0},{"$f":"'Dekor 5'!M31","v":0},{"$f":"'Dekor 5'!O31","v":0},{"$f":"'Dekor 5'!Q31","v":0},{"$f":"IF(ISNUMBER('Dekor 5'!J31),'Dekor 5'!E31 & \"x\" & 'Dekor 5'!G31,\"\")","v":""},{"$f":"'Dekor 5'!L31","v":0},{"$f":"'Dekor 5'!N31","v":0},{"$f":"'Dekor 5'!P31","v":0},{"$f":"'Dekor 5'!R31","v":0},{"$f":"'Dekor 5'!X31","v":0},{"$f":"IF(ISNUMBER('Dekor 5'!J31),'Dekor 5'!$AF$20,\"\")","v":""},{"$f":"IF(ISNUMBER('Dekor 5'!J31),'Dekor 5'!$AF$21,\"\")","v":""},{"$f":"IF(ISNUMBER('Dekor 5'!J31),'Dekor 5'!$AF$22,\"\")","v":""},{"$f":"IF(ISNUMBER('Dekor 5'!J31),'Dekor 5'!$AF$23,\"\")","v":""},{"$f":"IF(ISNUMBER('Dekor 5'!J31),'Dekor 5'!$AF$24,\"\")","v":""},{"$f":"'Dekor 5'!Y31","v":0}]
[{"$f":"'Dekor 5'!A32","v":""},{"$f":"'Dekor 5'!B32","v":{"$error":"#NAME?"}},{"$f":"IF(ISNUMBER('Dekor 5'!J32),('Dekor 5'!D32 & \".\" & 'Dekor 5'!U32 & \".\" & 'Dekor 5'!F32 & \".\" & 'Dekor 5'!V32 & \".\" & 'Dekor 5'!H32 & \".\" & 'Dekor 5'!I32),\"\")","v":""},{"$f":"'Dekor 5'!W32","v":0},{"$f":"'Dekor 5'!K32","v":0},{"$f":"'Dekor 5'!M32","v":0},{"$f":"'Dekor 5'!O32","v":0},{"$f":"'Dekor 5'!Q32","v":0},{"$f":"IF(ISNUMBER('Dekor 5'!J32),'Dekor 5'!E32 & \"x\" & 'Dekor 5'!G32,\"\")","v":""},{"$f":"'Dekor 5'!L32","v":0},{"$f":"'Dekor 5'!N32","v":0},{"$f":"'Dekor 5'!P32","v":0},{"$f":"'Dekor 5'!R32","v":0},{"$f":"'Dekor 5'!X32","v":0},{"$f":"IF(ISNUMBER('Dekor 5'!J32),'Dekor 5'!$AF$20,\"\")","v":""},{"$f":"IF(ISNUMBER('Dekor 5'!J32),'Dekor 5'!$AF$21,\"\")","v":""},{"$f":"IF(ISNUMBER('Dekor 5'!J32),'Dekor 5'!$AF$22,\"\")","v":""},{"$f":"IF(ISNUMBER('Dekor 5'!J32),'Dekor 5'!$AF$23,\"\")","v":""},{"$f":"IF(ISNUMBER('Dekor 5'!J32),'Dekor 5'!$AF$24,\"\")","v":""},{"$f":"'Dekor 5'!Y32","v":0}]
[{"$f":"'Dekor 5'!A33","v":""},{"$f":"'Dekor 5'!B33","v":{"$error":"#NAME?"}},{"$f":"IF(ISNUMBER('Dekor 5'!J33),('Dekor 5'!D33 & \".\" & 'Dekor 5'!U33 & \".\" & 'Dekor 5'!F33 & \".\" & 'Dekor 5'!V33 & \".\" & 'Dekor 5'!H33 & \".\" & 'Dekor 5'!I33),\"\")","v":""},{"$f":"'Dekor 5'!W33","v":0},{"$f":"'Dekor 5'!K33","v":0},{"$f":"'Dekor 5'!M33","v":0},{"$f":"'Dekor 5'!O33","v":0},{"$f":"'Dekor 5'!Q33","v":0},{"$f":"IF(ISNUMBER('Dekor 5'!J33),'Dekor 5'!E33 & \"x\" & 'Dekor 5'!G33,\"\")","v":""},{"$f":"'Dekor 5'!L33","v":0},{"$f":"'Dekor 5'!N33","v":0},{"$f":"'Dekor 5'!P33","v":0},{"$f":"'Dekor 5'!R33","v":0},{"$f":"'Dekor 5'!X33","v":0},{"$f":"IF(ISNUMBER('Dekor 5'!J33),'Dekor 5'!$AF$20,\"\")","v":""},{"$f":"IF(ISNUMBER('Dekor 5'!J33),'Dekor 5'!$AF$21,\"\")","v":""},{"$f":"IF(ISNUMBER('Dekor 5'!J33),'Dekor 5'!$AF$22,\"\")","v":""},{"$f":"IF(ISNUMBER('Dekor 5'!J33),'Dekor 5'!$AF$23,\"\")","v":""},{"$f":"IF(ISNUMBER('Dekor 5'!J33),'Dekor 5'!$AF$24,\"\")","v":""},{"$f":"'Dekor 5'!Y33","v":0}]
[{"$f":"'Dekor 5'!A34","v":""},{"$f":"'Dekor 5'!B34","v":{"$error":"#NAME?"}},{"$f":"IF(ISNUMBER('Dekor 5'!J34),('Dekor 5'!D34 & \".\" & 'Dekor 5'!U34 & \".\" & 'Dekor 5'!F34 & \".\" & 'Dekor 5'!V34 & \".\" & 'Dekor 5'!H34 & \".\" & 'Dekor 5'!I34),\"\")","v":""},{"$f":"'Dekor 5'!W34","v":0},{"$f":"'Dekor 5'!K34","v":0},{"$f":"'Dekor 5'!M34","v":0},{"$f":"'Dekor 5'!O34","v":0},{"$f":"'Dekor 5'!Q34","v":0},{"$f":"IF(ISNUMBER('Dekor 5'!J34),'Dekor 5'!E34 & \"x\" & 'Dekor 5'!G34,\"\")","v":""},{"$f":"'Dekor 5'!L34","v":0},{"$f":"'Dekor 5'!N34","v":0},{"$f":"'Dekor 5'!P34","v":0},{"$f":"'Dekor 5'!R34","v":0},{"$f":"'Dekor 5'!X34","v":0},{"$f":"IF(ISNUMBER('Dekor 5'!J34),'Dekor 5'!$AF$20,\"\")","v":""},{"$f":"IF(ISNUMBER('Dekor 5'!J34),'Dekor 5'!$AF$21,\"\")","v":""},{"$f":"IF(ISNUMBER('Dekor 5'!J34),'Dekor 5'!$AF$22,\"\")","v":""},{"$f":"IF(ISNUMBER('Dekor 5'!J34),'Dekor 5'!$AF$23,\"\")","v":""},{"$f":"IF(ISNUMBER('Dekor 5'!J34),'Dekor 5'!$AF$24,\"\")","v":""},{"$f":"'Dekor 5'!Y34","v":0}]
[{"$f":"'Dekor 5'!A35","v":""},{"$f":"'Dekor 5'!B35","v":{"$error":"#NAME?"}},{"$f":"IF(ISNUMBER('Dekor 5'!J35),('Dekor 5'!D35 & \".\" & 'Dekor 5'!U35 & \".\" & 'Dekor 5'!F35 & \".\" & 'Dekor 5'!V35 & \".\" & 'Dekor 5'!H35 & \".\" & 'Dekor 5'!I35),\"\")","v":""},{"$f":"'Dekor 5'!W35","v":0},{"$f":"'Dekor 5'!K35","v":0},{"$f":"'Dekor 5'!M35","v":0},{"$f":"'Dekor 5'!O35","v":0},{"$f":"'Dekor 5'!Q35","v":0},{"$f":"IF(ISNUMBER('Dekor 5'!J35),'Dekor 5'!E35 & \"x\" & 'Dekor 5'!G35,\"\")","v":""},{"$f":"'Dekor 5'!L35","v":0},{"$f":"'Dekor 5'!N35","v":0},{"$f":"'Dekor 5'!P35","v":0},{"$f":"'Dekor 5'!R35","v":0},{"$f":"'Dekor 5'!X35","v":0},{"$f":"IF(ISNUMBER('Dekor 5'!J35),'Dekor 5'!$AF$20,\"\")","v":""},{"$f":"IF(ISNUMBER('Dekor 5'!J35),'Dekor 5'!$AF$21,\"\")","v":""},{"$f":"IF(ISNUMBER('Dekor 5'!J35),'Dekor 5'!$AF$22,\"\")","v":""},{"$f":"IF(ISNUMBER('Dekor 5'!J35),'Dekor 5'!$AF$23,\"\")","v":""},{"$f":"IF(ISNUMBER('Dekor 5'!J35),'Dekor 5'!$AF$24,\"\")","v":""},{"$f":"'Dekor 5'!Y35","v":0}]
[{"$f":"'Dekor 5'!A36","v":""},{"$f":"'Dekor 5'!B36","v":{"$error":"#NAME?"}},{"$f":"IF(ISNUMBER('Dekor 5'!J36),('Dekor 5'!D36 & \".\" & 'Dekor 5'!U36 & \".\" & 'Dekor 5'!F36 & \".\" & 'Dekor 5'!V36 & \".\" & 'Dekor 5'!H36 & \".\" & 'Dekor 5'!I36),\"\")","v":""},{"$f":"'Dekor 5'!W36","v":0},{"$f":"'Dekor 5'!K36","v":0},{"$f":"'Dekor 5'!M36","v":0},{"$f":"'Dekor 5'!O36","v":0},{"$f":"'Dekor 5'!Q36","v":0},{"$f":"IF(ISNUMBER('Dekor 5'!J36),'Dekor 5'!E36 & \"x\" & 'Dekor 5'!G36,\"\")","v":""},{"$f":"'Dekor 5'!L36","v":0},{"$f":"'Dekor 5'!N36","v":0},{"$f":"'Dekor 5'!P36","v":0},{"$f":"'Dekor 5'!R36","v":0},{"$f":"'Dekor 5'!X36","v":0},{"$f":"IF(ISNUMBER('Dekor 5'!J36),'Dekor 5'!$AF$20,\"\")","v":""},{"$f":"IF(ISNUMBER('Dekor 5'!J36),'Dekor 5'!$AF$21,\"\")","v":""},{"$f":"IF(ISNUMBER('Dekor 5'!J36),'Dekor 5'!$AF$22,\"\")","v":""},{"$f":"IF(ISNUMBER('Dekor 5'!J36),'Dekor 5'!$AF$23,\"\")","v":""},{"$f":"IF(ISNUMBER('Dekor 5'!J36),'Dekor 5'!$AF$24,\"\")","v":""},{"$f":"'Dekor 5'!Y36","v":0}]
[{"$f":"'Dekor 5'!A37","v":""},{"$f":"'Dekor 5'!B37","v":{"$error":"#NAME?"}},{"$f":"IF(ISNUMBER('Dekor 5'!J37),('Dekor 5'!D37 & \".\" & 'Dekor 5'!U37 & \".\" & 'Dekor 5'!F37 & \".\" & 'Dekor 5'!V37 & \".\" & 'Dekor 5'!H37 & \".\" & 'Dekor 5'!I37),\"\")","v":""},{"$f":"'Dekor 5'!W37","v":0},{"$f":"'Dekor 5'!K37","v":0},{"$f":"'Dekor 5'!M37","v":0},{"$f":"'Dekor 5'!O37","v":0},{"$f":"'Dekor 5'!Q37","v":0},{"$f":"IF(ISNUMBER('Dekor 5'!J37),'Dekor 5'!E37 & \"x\" & 'Dekor 5'!G37,\"\")","v":""},{"$f":"'Dekor 5'!L37","v":0},{"$f":"'Dekor 5'!N37","v":0},{"$f":"'Dekor 5'!P37","v":0},{"$f":"'Dekor 5'!R37","v":0},{"$f":"'Dekor 5'!X37","v":0},{"$f":"IF(ISNUMBER('Dekor 5'!J37),'Dekor 5'!$AF$20,\"\")","v":""},{"$f":"IF(ISNUMBER('Dekor 5'!J37),'Dekor 5'!$AF$21,\"\")","v":""},{"$f":"IF(ISNUMBER('Dekor 5'!J37),'Dekor 5'!$AF$22,\"\")","v":""},{"$f":"IF(ISNUMBER('Dekor 5'!J37),'Dekor 5'!$AF$23,\"\")","v":""},{"$f":"IF(ISNUMBER('Dekor 5'!J37),'Dekor 5'!$AF$24,\"\")","v":""},{"$f":"'Dekor 5'!Y37","v":0}]
[{"$f":"'Dekor 5'!A38","v":""},{"$f":"'Dekor 5'!B38","v":{"$error":"#NAME?"}},{"$f":"IF(ISNUMBER('Dekor 5'!J38),('Dekor 5'!D38 & \".\" & 'Dekor 5'!U38 & \".\" & 'Dekor 5'!F38 & \".\" & 'Dekor 5'!V38 & \".\" & 'Dekor 5'!H38 & \".\" & 'Dekor 5'!I38),\"\")","v":""},{"$f":"'Dekor 5'!W38","v":0},{"$f":"'Dekor 5'!K38","v":0},{"$f":"'Dekor 5'!M38","v":0},{"$f":"'Dekor 5'!O38","v":0},{"$f":"'Dekor 5'!Q38","v":0},{"$f":"IF(ISNUMBER('Dekor 5'!J38),'Dekor 5'!E38 & \"x\" & 'Dekor 5'!G38,\"\")","v":""},{"$f":"'Dekor 5'!L38","v":0},{"$f":"'Dekor 5'!N38","v":0},{"$f":"'Dekor 5'!P38","v":0},{"$f":"'Dekor 5'!R38","v":0},{"$f":"'Dekor 5'!X38","v":0},{"$f":"IF(ISNUMBER('Dekor 5'!J38),'Dekor 5'!$AF$20,\"\")","v":""},{"$f":"IF(ISNUMBER('Dekor 5'!J38),'Dekor 5'!$AF$21,\"\")","v":""},{"$f":"IF(ISNUMBER('Dekor 5'!J38),'Dekor 5'!$AF$22,\"\")","v":""},{"$f":"IF(ISNUMBER('Dekor 5'!J38),'Dekor 5'!$AF$23,\"\")","v":""},{"$f":"IF(ISNUMBER('Dekor 5'!J38),'Dekor 5'!$AF$24,\"\")","v":""},{"$f":"'Dekor 5'!Y38","v":0}]
[{"$f":"'Dekor 5'!A39","v":""},{"$f":"'Dekor 5'!B39","v":{"$error":"#NAME?"}},{"$f":"IF(ISNUMBER('Dekor 5'!J39),('Dekor 5'!D39 & \".\" & 'Dekor 5'!U39 & \".\" & 'Dekor 5'!F39 & \".\" & 'Dekor 5'!V39 & \".\" & 'Dekor 5'!H39 & \".\" & 'Dekor 5'!I39),\"\")","v":""},{"$f":"'Dekor 5'!W39","v":0},{"$f":"'Dekor 5'!K39","v":0},{"$f":"'Dekor 5'!M39","v":0},{"$f":"'Dekor 5'!O39","v":0},{"$f":"'Dekor 5'!Q39","v":0},{"$f":"IF(ISNUMBER('Dekor 5'!J39),'Dekor 5'!E39 & \"x\" & 'Dekor 5'!G39,\"\")","v":""},{"$f":"'Dekor 5'!L39","v":0},{"$f":"'Dekor 5'!N39","v":0},{"$f":"'Dekor 5'!P39","v":0},{"$f":"'Dekor 5'!R39","v":0},{"$f":"'Dekor 5'!X39","v":0},{"$f":"IF(ISNUMBER('Dekor 5'!J39),'Dekor 5'!$AF$20,\"\")","v":""},{"$f":"IF(ISNUMBER('Dekor 5'!J39),'Dekor 5'!$AF$21,\"\")","v":""},{"$f":"IF(ISNUMBER('Dekor 5'!J39),'Dekor 5'!$AF$22,\"\")","v":""},{"$f":"IF(ISNUMBER('Dekor 5'!J39),'Dekor 5'!$AF$23,\"\")","v":""},{"$f":"IF(ISNUMBER('Dekor 5'!J39),'Dekor 5'!$AF$24,\"\")","v":""},{"$f":"'Dekor 5'!Y39","v":0}]
[{"$f":"'Dekor 5'!A40","v":""},{"$f":"'Dekor 5'!B40","v":{"$error":"#NAME?"}},{"$f":"IF(ISNUMBER('Dekor 5'!J40),('Dekor 5'!D40 & \".\" & 'Dekor 5'!U40 & \".\" & 'Dekor 5'!F40 & \".\" & 'Dekor 5'!V40 & \".\" & 'Dekor 5'!H40 & \".\" & 'Dekor 5'!I40),\"\")","v":""},{"$f":"'Dekor 5'!W40","v":0},{"$f":"'Dekor 5'!K40","v":0},{"$f":"'Dekor 5'!M40","v":0},{"$f":"'Dekor 5'!O40","v":0},{"$f":"'Dekor 5'!Q40","v":0},{"$f":"IF(ISNUMBER('Dekor 5'!J40),'Dekor 5'!E40 & \"x\" & 'Dekor 5'!G40,\"\")","v":""},{"$f":"'Dekor 5'!L40","v":0},{"$f":"'Dekor 5'!N40","v":0},{"$f":"'Dekor 5'!P40","v":0},{"$f":"'Dekor 5'!R40","v":0},{"$f":"'Dekor 5'!X40","v":0},{"$f":"IF(ISNUMBER('Dekor 5'!J40),'Dekor 5'!$AF$20,\"\")","v":""},{"$f":"IF(ISNUMBER('Dekor 5'!J40),'Dekor 5'!$AF$21,\"\")","v":""},{"$f":"IF(ISNUMBER('Dekor 5'!J40),'Dekor 5'!$AF$22,\"\")","v":""},{"$f":"IF(ISNUMBER('Dekor 5'!J40),'Dekor 5'!$AF$23,\"\")","v":""},{"$f":"IF(ISNUMBER('Dekor 5'!J40),'Dekor 5'!$AF$24,\"\")","v":""},{"$f":"'Dekor 5'!Y40","v":0}]
[{"$f":"'Dekor 5'!A41","v":""},{"$f":"'Dekor 5'!B41","v":{"$error":"#NAME?"}},{"$f":"IF(ISNUMBER('Dekor 5'!J41),('Dekor 5'!D41 & \".\" & 'Dekor 5'!U41 & \".\" & 'Dekor 5'!F41 & \".\" & 'Dekor 5'!V41 & \".\" & 'Dekor 5'!H41 & \".\" & 'Dekor 5'!I41),\"\")","v":""},{"$f":"'Dekor 5'!W41","v":0},{"$f":"'Dekor 5'!K41","v":0},{"$f":"'Dekor 5'!M41","v":0},{"$f":"'Dekor 5'!O41","v":0},{"$f":"'Dekor 5'!Q41","v":0},{"$f":"IF(ISNUMBER('Dekor 5'!J41),'Dekor 5'!E41 & \"x\" & 'Dekor 5'!G41,\"\")","v":""},{"$f":"'Dekor 5'!L41","v":0},{"$f":"'Dekor 5'!N41","v":0},{"$f":"'Dekor 5'!P41","v":0},{"$f":"'Dekor 5'!R41","v":0},{"$f":"'Dekor 5'!X41","v":0},{"$f":"IF(ISNUMBER('Dekor 5'!J41),'Dekor 5'!$AF$20,\"\")","v":""},{"$f":"IF(ISNUMBER('Dekor 5'!J41),'Dekor 5'!$AF$21,\"\")","v":""},{"$f":"IF(ISNUMBER('Dekor 5'!J41),'Dekor 5'!$AF$22,\"\")","v":""},{"$f":"IF(ISNUMBER('Dekor 5'!J41),'Dekor 5'!$AF$23,\"\")","v":""},{"$f":"IF(ISNUMBER('Dekor 5'!J41),'Dekor 5'!$AF$24,\"\")","v":""},{"$f":"'Dekor 5'!Y41","v":0}]
[{"$f":"'Dekor 5'!A42","v":""},{"$f":"'Dekor 5'!B42","v":{"$error":"#NAME?"}},{"$f":"IF(ISNUMBER('Dekor 5'!J42),('Dekor 5'!D42 & \".\" & 'Dekor 5'!U42 & \".\" & 'Dekor 5'!F42 & \".\" & 'Dekor 5'!V42 & \".\" & 'Dekor 5'!H42 & \".\" & 'Dekor 5'!I42),\"\")","v":""},{"$f":"'Dekor 5'!W42","v":0},{"$f":"'Dekor 5'!K42","v":0},{"$f":"'Dekor 5'!M42","v":0},{"$f":"'Dekor 5'!O42","v":0},{"$f":"'Dekor 5'!Q42","v":0},{"$f":"IF(ISNUMBER('Dekor 5'!J42),'Dekor 5'!E42 & \"x\" & 'Dekor 5'!G42,\"\")","v":""},{"$f":"'Dekor 5'!L42","v":0},{"$f":"'Dekor 5'!N42","v":0},{"$f":"'Dekor 5'!P42","v":0},{"$f":"'Dekor 5'!R42","v":0},{"$f":"'Dekor 5'!X42","v":0},{"$f":"IF(ISNUMBER('Dekor 5'!J42),'Dekor 5'!$AF$20,\"\")","v":""},{"$f":"IF(ISNUMBER('Dekor 5'!J42),'Dekor 5'!$AF$21,\"\")","v":""},{"$f":"IF(ISNUMBER('Dekor 5'!J42),'Dekor 5'!$AF$22,\"\")","v":""},{"$f":"IF(ISNUMBER('Dekor 5'!J42),'Dekor 5'!$AF$23,\"\")","v":""},{"$f":"IF(ISNUMBER('Dekor 5'!J42),'Dekor 5'!$AF$24,\"\")","v":""},{"$f":"'Dekor 5'!Y42","v":0}]
[{"$f":"'Dekor 5'!A43","v":""},{"$f":"'Dekor 5'!B43","v":{"$error":"#NAME?"}},{"$f":"IF(ISNUMBER('Dekor 5'!J43),('Dekor 5'!D43 & \".\" & 'Dekor 5'!U43 & \".\" & 'Dekor 5'!F43 & \".\" & 'Dekor 5'!V43 & \".\" & 'Dekor 5'!H43 & \".\" & 'Dekor 5'!I43),\"\")","v":""},{"$f":"'Dekor 5'!W43","v":0},{"$f":"'Dekor 5'!K43","v":0},{"$f":"'Dekor 5'!M43","v":0},{"$f":"'Dekor 5'!O43","v":0},{"$f":"'Dekor 5'!Q43","v":0},{"$f":"IF(ISNUMBER('Dekor 5'!J43),'Dekor 5'!E43 & \"x\" & 'Dekor 5'!G43,\"\")","v":""},{"$f":"'Dekor 5'!L43","v":0},{"$f":"'Dekor 5'!N43","v":0},{"$f":"'Dekor 5'!P43","v":0},{"$f":"'Dekor 5'!R43","v":0},{"$f":"'Dekor 5'!X43","v":0},{"$f":"IF(ISNUMBER('Dekor 5'!J43),'Dekor 5'!$AF$20,\"\")","v":""},{"$f":"IF(ISNUMBER('Dekor 5'!J43),'Dekor 5'!$AF$21,\"\")","v":""},{"$f":"IF(ISNUMBER('Dekor 5'!J43),'Dekor 5'!$AF$22,\"\")","v":""},{"$f":"IF(ISNUMBER('Dekor 5'!J43),'Dekor 5'!$AF$23,\"\")","v":""},{"$f":"IF(ISNUMBER('Dekor 5'!J43),'Dekor 5'!$AF$24,\"\")","v":""},{"$f":"'Dekor 5'!Y43","v":0}]
[{"$f":"'Dekor 5'!A44","v":""},{"$f":"'Dekor 5'!B44","v":{"$error":"#NAME?"}},{"$f":"IF(ISNUMBER('Dekor 5'!J44),('Dekor 5'!D44 & \".\" & 'Dekor 5'!U44 & \".\" & 'Dekor 5'!F44 & \".\" & 'Dekor 5'!V44 & \".\" & 'Dekor 5'!H44 & \".\" & 'Dekor 5'!I44),\"\")","v":""},{"$f":"'Dekor 5'!W44","v":0},{"$f":"'Dekor 5'!K44","v":0},{"$f":"'Dekor 5'!M44","v":0},{"$f":"'Dekor 5'!O44","v":0},{"$f":"'Dekor 5'!Q44","v":0},{"$f":"IF(ISNUMBER('Dekor 5'!J44),'Dekor 5'!E44 & \"x\" & 'Dekor 5'!G44,\"\")","v":""},{"$f":"'Dekor 5'!L44","v":0},{"$f":"'Dekor 5'!N44","v":0},{"$f":"'Dekor 5'!P44","v":0},{"$f":"'Dekor 5'!R44","v":0},{"$f":"'Dekor 5'!X44","v":0},{"$f":"IF(ISNUMBER('Dekor 5'!J44),'Dekor 5'!$AF$20,\"\")","v":""},{"$f":"IF(ISNUMBER('Dekor 5'!J44),'Dekor 5'!$AF$21,\"\")","v":""},{"$f":"IF(ISNUMBER('Dekor 5'!J44),'Dekor 5'!$AF$22,\"\")","v":""},{"$f":"IF(ISNUMBER('Dekor 5'!J44),'Dekor 5'!$AF$23,\"\")","v":""},{"$f":"IF(ISNUMBER('Dekor 5'!J44),'Dekor 5'!$AF$24,\"\")","v":""},{"$f":"'Dekor 5'!Y44","v":0}]
[{"$f":"'Dekor 5'!A45","v":""},{"$f":"'Dekor 5'!B45","v":{"$error":"#NAME?"}},{"$f":"IF(ISNUMBER('Dekor 5'!J45),('Dekor 5'!D45 & \".\" & 'Dekor 5'!U45 & \".\" & 'Dekor 5'!F45 & \".\" & 'Dekor 5'!V45 & \".\" & 'Dekor 5'!H45 & \".\" & 'Dekor 5'!I45),\"\")","v":""},{"$f":"'Dekor 5'!W45","v":0},{"$f":"'Dekor 5'!K45","v":0},{"$f":"'Dekor 5'!M45","v":0},{"$f":"'Dekor 5'!O45","v":0},{"$f":"'Dekor 5'!Q45","v":0},{"$f":"IF(ISNUMBER('Dekor 5'!J45),'Dekor 5'!E45 & \"x\" & 'Dekor 5'!G45,\"\")","v":""},{"$f":"'Dekor 5'!L45","v":0},{"$f":"'Dekor 5'!N45","v":0},{"$f":"'Dekor 5'!P45","v":0},{"$f":"'Dekor 5'!R45","v":0},{"$f":"'Dekor 5'!X45","v":0},{"$f":"IF(ISNUMBER('Dekor 5'!J45),'Dekor 5'!$AF$20,\"\")","v":""},{"$f":"IF(ISNUMBER('Dekor 5'!J45),'Dekor 5'!$AF$21,\"\")","v":""},{"$f":"IF(ISNUMBER('Dekor 5'!J45),'Dekor 5'!$AF$22,\"\")","v":""},{"$f":"IF(ISNUMBER('Dekor 5'!J45),'Dekor 5'!$AF$23,\"\")","v":""},{"$f":"IF(ISNUMBER('Dekor 5'!J45),'Dekor 5'!$AF$24,\"\")","v":""},{"$f":"'Dekor 5'!Y45","v":0}]
[{"$f":"'Dekor 5'!A46","v":""},{"$f":"'Dekor 5'!B46","v":{"$error":"#NAME?"}},{"$f":"IF(ISNUMBER('Dekor 5'!J46),('Dekor 5'!D46 & \".\" & 'Dekor 5'!U46 & \".\" & 'Dekor 5'!F46 & \".\" & 'Dekor 5'!V46 & \".\" & 'Dekor 5'!H46 & \".\" & 'Dekor 5'!I46),\"\")","v":""},{"$f":"'Dekor 5'!W46","v":0},{"$f":"'Dekor 5'!K46","v":0},{"$f":"'Dekor 5'!M46","v":0},{"$f":"'Dekor 5'!O46","v":0},{"$f":"'Dekor 5'!Q46","v":0},{"$f":"IF(ISNUMBER('Dekor 5'!J46),'Dekor 5'!E46 & \"x\" & 'Dekor 5'!G46,\"\")","v":""},{"$f":"'Dekor 5'!L46","v":0},{"$f":"'Dekor 5'!N46","v":0},{"$f":"'Dekor 5'!P46","v":0},{"$f":"'Dekor 5'!R46","v":0},{"$f":"'Dekor 5'!X46","v":0},{"$f":"IF(ISNUMBER('Dekor 5'!J46),'Dekor 5'!$AF$20,\"\")","v":""},{"$f":"IF(ISNUMBER('Dekor 5'!J46),'Dekor 5'!$AF$21,\"\")","v":""},{"$f":"IF(ISNUMBER('Dekor 5'!J46),'Dekor 5'!$AF$22,\"\")","v":""},{"$f":"IF(ISNUMBER('Dekor 5'!J46),'Dekor 5'!$AF$23,\"\")","v":""},{"$f":"IF(ISNUMBER('Dekor 5'!J46),'Dekor 5'!$AF$24,\"\")","v":""},{"$f":"'Dekor 5'!Y46","v":0}]
[{"$f":"'Dekor 5'!A47","v":""},{"$f":"'Dekor 5'!B47","v":{"$error":"#NAME?"}},{"$f":"IF(ISNUMBER('Dekor 5'!J47),('Dekor 5'!D47 & \".\" & 'Dekor 5'!U47 & \".\" & 'Dekor 5'!F47 & \".\" & 'Dekor 5'!V47 & \".\" & 'Dekor 5'!H47 & \".\" & 'Dekor 5'!I47),\"\")","v":""},{"$f":"'Dekor 5'!W47","v":0},{"$f":"'Dekor 5'!K47","v":0},{"$f":"'Dekor 5'!M47","v":0},{"$f":"'Dekor 5'!O47","v":0},{"$f":"'Dekor 5'!Q47","v":0},{"$f":"IF(ISNUMBER('Dekor 5'!J47),'Dekor 5'!E47 & \"x\" & 'Dekor 5'!G47,\"\")","v":""},{"$f":"'Dekor 5'!L47","v":0},{"$f":"'Dekor 5'!N47","v":0},{"$f":"'Dekor 5'!P47","v":0},{"$f":"'Dekor 5'!R47","v":0},{"$f":"'Dekor 5'!X47","v":0},{"$f":"IF(ISNUMBER('Dekor 5'!J47),'Dekor 5'!$AF$20,\"\")","v":""},{"$f":"IF(ISNUMBER('Dekor 5'!J47),'Dekor 5'!$AF$21,\"\")","v":""},{"$f":"IF(ISNUMBER('Dekor 5'!J47),'Dekor 5'!$AF$22,\"\")","v":""},{"$f":"IF(ISNUMBER('Dekor 5'!J47),'Dekor 5'!$AF$23,\"\")","v":""},{"$f":"IF(ISNUMBER('Dekor 5'!J47),'Dekor 5'!$AF$24,\"\")","v":""},{"$f":"'Dekor 5'!Y47","v":0}]
[{"$f":"'Dekor 5'!A48","v":""},{"$f":"'Dekor 5'!B48","v":{"$error":"#NAME?"}},{"$f":"IF(ISNUMBER('Dekor 5'!J48),('Dekor 5'!D48 & \".\" & 'Dekor 5'!U48 & \".\" & 'Dekor 5'!F48 & \".\" & 'Dekor 5'!V48 & \".\" & 'Dekor 5'!H48 & \".\" & 'Dekor 5'!I48),\"\")","v":""},{"$f":"'Dekor 5'!W48","v":0},{"$f":"'Dekor 5'!K48","v":0},{"$f":"'Dekor 5'!M48","v":0},{"$f":"'Dekor 5'!O48","v":0},{"$f":"'Dekor 5'!Q48","v":0},{"$f":"IF(ISNUMBER('Dekor 5'!J48),'Dekor 5'!E48 & \"x\" & 'Dekor 5'!G48,\"\")","v":""},{"$f":"'Dekor 5'!L48","v":0},{"$f":"'Dekor 5'!N48","v":0},{"$f":"'Dekor 5'!P48","v":0},{"$f":"'Dekor 5'!R48","v":0},{"$f":"'Dekor 5'!X48","v":0},{"$f":"IF(ISNUMBER('Dekor 5'!J48),'Dekor 5'!$AF$20,\"\")","v":""},{"$f":"IF(ISNUMBER('Dekor 5'!J48),'Dekor 5'!$AF$21,\"\")","v":""},{"$f":"IF(ISNUMBER('Dekor 5'!J48),'Dekor 5'!$AF$22,\"\")","v":""},{"$f":"IF(ISNUMBER('Dekor 5'!J48),'Dekor 5'!$AF$23,\"\")","v":""},{"$f":"IF(ISNUMBER('Dekor 5'!J48),'Dekor 5'!$AF$24,\"\")","v":""},{"$f":"'Dekor 5'!Y48","v":0}]
[{"$f":"'Dekor 5'!A49","v":""},{"$f":"'Dekor 5'!B49","v":{"$error":"#NAME?"}},{"$f":"IF(ISNUMBER('Dekor 5'!J49),('Dekor 5'!D49 & \".\" & 'Dekor 5'!U49 & \".\" & 'Dekor 5'!F49 & \".\" & 'Dekor 5'!V49 & \".\" & 'Dekor 5'!H49 & \".\" & 'Dekor 5'!I49),\"\")","v":""},{"$f":"'Dekor 5'!W49","v":0},{"$f":"'Dekor 5'!K49","v":0},{"$f":"'Dekor 5'!M49","v":0},{"$f":"'Dekor 5'!O49","v":0},{"$f":"'Dekor 5'!Q49","v":0},{"$f":"IF(ISNUMBER('Dekor 5'!J49),'Dekor 5'!E49 & \"x\" & 'Dekor 5'!G49,\"\")","v":""},{"$f":"'Dekor 5'!L49","v":0},{"$f":"'Dekor 5'!N49","v":0},{"$f":"'Dekor 5'!P49","v":0},{"$f":"'Dekor 5'!R49","v":0},{"$f":"'Dekor 5'!X49","v":0},{"$f":"IF(ISNUMBER('Dekor 5'!J49),'Dekor 5'!$AF$20,\"\")","v":""},{"$f":"IF(ISNUMBER('Dekor 5'!J49),'Dekor 5'!$AF$21,\"\")","v":""},{"$f":"IF(ISNUMBER('Dekor 5'!J49),'Dekor 5'!$AF$22,\"\")","v":""},{"$f":"IF(ISNUMBER('Dekor 5'!J49),'Dekor 5'!$AF$23,\"\")","v":""},{"$f":"IF(ISNUMBER('Dekor 5'!J49),'Dekor 5'!$AF$24,\"\")","v":""},{"$f":"'Dekor 5'!Y49","v":0}]
[{"$f":"'Dekor 5'!A50","v":""},{"$f":"'Dekor 5'!B50","v":{"$error":"#NAME?"}},{"$f":"IF(ISNUMBER('Dekor 5'!J50),('Dekor 5'!D50 & \".\" & 'Dekor 5'!U50 & \".\" & 'Dekor 5'!F50 & \".\" & 'Dekor 5'!V50 & \".\" & 'Dekor 5'!H50 & \".\" & 'Dekor 5'!I50),\"\")","v":""},{"$f":"'Dekor 5'!W50","v":0},{"$f":"'Dekor 5'!K50","v":0},{"$f":"'Dekor 5'!M50","v":0},{"$f":"'Dekor 5'!O50","v":0},{"$f":"'Dekor 5'!Q50","v":0},{"$f":"IF(ISNUMBER('Dekor 5'!J50),'Dekor 5'!E50 & \"x\" & 'Dekor 5'!G50,\"\")","v":""},{"$f":"'Dekor 5'!L50","v":0},{"$f":"'Dekor 5'!N50","v":0},{"$f":"'Dekor 5'!P50","v":0},{"$f":"'Dekor 5'!R50","v":0},{"$f":"'Dekor 5'!X50","v":0},{"$f":"IF(ISNUMBER('Dekor 5'!J50),'Dekor 5'!$AF$20,\"\")","v":""},{"$f":"IF(ISNUMBER('Dekor 5'!J50),'Dekor 5'!$AF$21,\"\")","v":""},{"$f":"IF(ISNUMBER('Dekor 5'!J50),'Dekor 5'!$AF$22,\"\")","v":""},{"$f":"IF(ISNUMBER('Dekor 5'!J50),'Dekor 5'!$AF$23,\"\")","v":""},{"$f":"IF(ISNUMBER('Dekor 5'!J50),'Dekor 5'!$AF$24,\"\")","v":""},{"$f":"'Dekor 5'!Y50","v":0}]
[{"$f":"'Dekor 5'!A51","v":""},{"$f":"'Dekor 5'!B51","v":{"$error":"#NAME?"}},{"$f":"IF(ISNUMBER('Dekor 5'!J51),('Dekor 5'!D51 & \".\" & 'Dekor 5'!U51 & \".\" & 'Dekor 5'!F51 & \".\" & 'Dekor 5'!V51 & \".\" & 'Dekor 5'!H51 & \".\" & 'Dekor 5'!I51),\"\")","v":""},{"$f":"'Dekor 5'!W51","v":0},{"$f":"'Dekor 5'!K51","v":0},{"$f":"'Dekor 5'!M51","v":0},{"$f":"'Dekor 5'!O51","v":0},{"$f":"'Dekor 5'!Q51","v":0},{"$f":"IF(ISNUMBER('Dekor 5'!J51),'Dekor 5'!E51 & \"x\" & 'Dekor 5'!G51,\"\")","v":""},{"$f":"'Dekor 5'!L51","v":0},{"$f":"'Dekor 5'!N51","v":0},{"$f":"'Dekor 5'!P51","v":0},{"$f":"'Dekor 5'!R51","v":0},{"$f":"'Dekor 5'!X51","v":0},{"$f":"IF(ISNUMBER('Dekor 5'!J51),'Dekor 5'!$AF$20,\"\")","v":""},{"$f":"IF(ISNUMBER('Dekor 5'!J51),'Dekor 5'!$AF$21,\"\")","v":""},{"$f":"IF(ISNUMBER('Dekor 5'!J51),'Dekor 5'!$AF$22,\"\")","v":""},{"$f":"IF(ISNUMBER('Dekor 5'!J51),'Dekor 5'!$AF$23,\"\")","v":""},{"$f":"IF(ISNUMBER('Dekor 5'!J51),'Dekor 5'!$AF$24,\"\")","v":""},{"$f":"'Dekor 5'!Y51","v":0}]
[{"$f":"'Dekor 5'!A52","v":""},{"$f":"'Dekor 5'!B52","v":{"$error":"#NAME?"}},{"$f":"IF(ISNUMBER('Dekor 5'!J52),('Dekor 5'!D52 & \".\" & 'Dekor 5'!U52 & \".\" & 'Dekor 5'!F52 & \".\" & 'Dekor 5'!V52 & \".\" & 'Dekor 5'!H52 & \".\" & 'Dekor 5'!I52),\"\")","v":""},{"$f":"'Dekor 5'!W52","v":0},{"$f":"'Dekor 5'!K52","v":0},{"$f":"'Dekor 5'!M52","v":0},{"$f":"'Dekor 5'!O52","v":0},{"$f":"'Dekor 5'!Q52","v":0},{"$f":"IF(ISNUMBER('Dekor 5'!J52),'Dekor 5'!E52 & \"x\" & 'Dekor 5'!G52,\"\")","v":""},{"$f":"'Dekor 5'!L52","v":0},{"$f":"'Dekor 5'!N52","v":0},{"$f":"'Dekor 5'!P52","v":0},{"$f":"'Dekor 5'!R52","v":0},{"$f":"'Dekor 5'!X52","v":0},{"$f":"IF(ISNUMBER('Dekor 5'!J52),'Dekor 5'!$AF$20,\"\")","v":""},{"$f":"IF(ISNUMBER('Dekor 5'!J52),'Dekor 5'!$AF$21,\"\")","v":""},{"$f":"IF(ISNUMBER('Dekor 5'!J52),'Dekor 5'!$AF$22,\"\")","v":""},{"$f":"IF(ISNUMBER('Dekor 5'!J52),'Dekor 5'!$AF$23,\"\")","v":""},{"$f":"IF(ISNUMBER('Dekor 5'!J52),'Dekor 5'!$AF$24,\"\")","v":""},{"$f":"'Dekor 5'!Y52","v":0}]
[{"$f":"'Dekor 5'!A53","v":""},{"$f":"'Dekor 5'!B53","v":{"$error":"#NAME?"}},{"$f":"IF(ISNUMBER('Dekor 5'!J53),('Dekor 5'!D53 & \".\" & 'Dekor 5'!U53 & \".\" & 'Dekor 5'!F53 & \".\" & 'Dekor 5'!V53 & \".\" & 'Dekor 5'!H53 & \".\" & 'Dekor 5'!I53),\"\")","v":""},{"$f":"'Dekor 5'!W53","v":0},{"$f":"'Dekor 5'!K53","v":0},{"$f":"'Dekor 5'!M53","v":0},{"$f":"'Dekor 5'!O53","v":0},{"$f":"'Dekor 5'!Q53","v":0},{"$f":"IF(ISNUMBER('Dekor 5'!J53),'Dekor 5'!E53 & \"x\" & 'Dekor 5'!G53,\"\")","v":""},{"$f":"'Dekor 5'!L53","v":0},{"$f":"'Dekor 5'!N53","v":0},{"$f":"'Dekor 5'!P53","v":0},{"$f":"'Dekor 5'!R53","v":0},{"$f":"'Dekor 5'!X53","v":0},{"$f":"IF(ISNUMBER('Dekor 5'!J53),'Dekor 5'!$AF$20,\"\")","v":""},{"$f":"IF(ISNUMBER('Dekor 5'!J53),'Dekor 5'!$AF$21,\"\")","v":""},{"$f":"IF(ISNUMBER('Dekor 5'!J53),'Dekor 5'!$AF$22,\"\")","v":""},{"$f":"IF(ISNUMBER('Dekor 5'!J53),'Dekor 5'!$AF$23,\"\")","v":""},{"$f":"IF(ISNUMBER('Dekor 5'!J53),'Dekor 5'!$AF$24,\"\")","v":""},{"$f":"'Dekor 5'!Y53","v":0}]
[{"$f":"'Dekor 5'!A54","v":""},{"$f":"'Dekor 5'!B54","v":{"$error":"#NAME?"}},{"$f":"IF(ISNUMBER('Dekor 5'!J54),('Dekor 5'!D54 & \".\" & 'Dekor 5'!U54 & \".\" & 'Dekor 5'!F54 & \".\" & 'Dekor 5'!V54 & \".\" & 'Dekor 5'!H54 & \".\" & 'Dekor 5'!I54),\"\")","v":""},{"$f":"'Dekor 5'!W54","v":0},{"$f":"'Dekor 5'!K54","v":0},{"$f":"'Dekor 5'!M54","v":0},{"$f":"'Dekor 5'!O54","v":0},{"$f":"'Dekor 5'!Q54","v":0},{"$f":"IF(ISNUMBER('Dekor 5'!J54),'Dekor 5'!E54 & \"x\" & 'Dekor 5'!G54,\"\")","v":""},{"$f":"'Dekor 5'!L54","v":0},{"$f":"'Dekor 5'!N54","v":0},{"$f":"'Dekor 5'!P54","v":0},{"$f":"'Dekor 5'!R54","v":0},{"$f":"'Dekor 5'!X54","v":0},{"$f":"IF(ISNUMBER('Dekor 5'!J54),'Dekor 5'!$AF$20,\"\")","v":""},{"$f":"IF(ISNUMBER('Dekor 5'!J54),'Dekor 5'!$AF$21,\"\")","v":""},{"$f":"IF(ISNUMBER('Dekor 5'!J54),'Dekor 5'!$AF$22,\"\")","v":""},{"$f":"IF(ISNUMBER('Dekor 5'!J54),'Dekor 5'!$AF$23,\"\")","v":""},{"$f":"IF(ISNUMBER('Dekor 5'!J54),'Dekor 5'!$AF$24,\"\")","v":""},{"$f":"'Dekor 5'!Y54","v":0}]
[{"$f":"'Dekor 5'!A55","v":""},{"$f":"'Dekor 5'!B55","v":{"$error":"#NAME?"}},{"$f":"IF(ISNUMBER('Dekor 5'!J55),('Dekor 5'!D55 & \".\" & 'Dekor 5'!U55 & \".\" & 'Dekor 5'!F55 & \".\" & 'Dekor 5'!V55 & \".\" & 'Dekor 5'!H55 & \".\" & 'Dekor 5'!I55),\"\")","v":""},{"$f":"'Dekor 5'!W55","v":0},{"$f":"'Dekor 5'!K55","v":0},{"$f":"'Dekor 5'!M55","v":0},{"$f":"'Dekor 5'!O55","v":0},{"$f":"'Dekor 5'!Q55","v":0},{"$f":"IF(ISNUMBER('Dekor 5'!J55),'Dekor 5'!E55 & \"x\" & 'Dekor 5'!G55,\"\")","v":""},{"$f":"'Dekor 5'!L55","v":0},{"$f":"'Dekor 5'!N55","v":0},{"$f":"'Dekor 5'!P55","v":0},{"$f":"'Dekor 5'!R55","v":0},{"$f":"'Dekor 5'!X55","v":0},{"$f":"IF(ISNUMBER('Dekor 5'!J55),'Dekor 5'!$AF$20,\"\")","v":""},{"$f":"IF(ISNUMBER('Dekor 5'!J55),'Dekor 5'!$AF$21,\"\")","v":""},{"$f":"IF(ISNUMBER('Dekor 5'!J55),'Dekor 5'!$AF$22,\"\")","v":""},{"$f":"IF(ISNUMBER('Dekor 5'!J55),'Dekor 5'!$AF$23,\"\")","v":""},{"$f":"IF(ISNUMBER('Dekor 5'!J55),'Dekor 5'!$AF$24,\"\")","v":""},{"$f":"'Dekor 5'!Y55","v":0}]
[{"$f":"'Dekor 5'!A56","v":""},{"$f":"'Dekor 5'!B56","v":{"$error":"#NAME?"}},{"$f":"IF(ISNUMBER('Dekor 5'!J56),('Dekor 5'!D56 & \".\" & 'Dekor 5'!U56 & \".\" & 'Dekor 5'!F56 & \".\" & 'Dekor 5'!V56 & \".\" & 'Dekor 5'!H56 & \".\" & 'Dekor 5'!I56),\"\")","v":""},{"$f":"'Dekor 5'!W56","v":0},{"$f":"'Dekor 5'!K56","v":0},{"$f":"'Dekor 5'!M56","v":0},{"$f":"'Dekor 5'!O56","v":0},{"$f":"'Dekor 5'!Q56","v":0},{"$f":"IF(ISNUMBER('Dekor 5'!J56),'Dekor 5'!E56 & \"x\" & 'Dekor 5'!G56,\"\")","v":""},{"$f":"'Dekor 5'!L56","v":0},{"$f":"'Dekor 5'!N56","v":0},{"$f":"'Dekor 5'!P56","v":0},{"$f":"'Dekor 5'!R56","v":0},{"$f":"'Dekor 5'!X56","v":0},{"$f":"IF(ISNUMBER('Dekor 5'!J56),'Dekor 5'!$AF$20,\"\")","v":""},{"$f":"IF(ISNUMBER('Dekor 5'!J56),'Dekor 5'!$AF$21,\"\")","v":""},{"$f":"IF(ISNUMBER('Dekor 5'!J56),'Dekor 5'!$AF$22,\"\")","v":""},{"$f":"IF(ISNUMBER('Dekor 5'!J56),'Dekor 5'!$AF$23,\"\")","v":""},{"$f":"IF(ISNUMBER('Dekor 5'!J56),'Dekor 5'!$AF$24,\"\")","v":""},{"$f":"'Dekor 5'!Y56","v":0}]
[{"$f":"'Dekor 5'!A57","v":""},{"$f":"'Dekor 5'!B57","v":{"$error":"#NAME?"}},{"$f":"IF(ISNUMBER('Dekor 5'!J57),('Dekor 5'!D57 & \".\" & 'Dekor 5'!U57 & \".\" & 'Dekor 5'!F57 & \".\" & 'Dekor 5'!V57 & \".\" & 'Dekor 5'!H57 & \".\" & 'Dekor 5'!I57),\"\")","v":""},{"$f":"'Dekor 5'!W57","v":0},{"$f":"'Dekor 5'!K57","v":0},{"$f":"'Dekor 5'!M57","v":0},{"$f":"'Dekor 5'!O57","v":0},{"$f":"'Dekor 5'!Q57","v":0},{"$f":"IF(ISNUMBER('Dekor 5'!J57),'Dekor 5'!E57 & \"x\" & 'Dekor 5'!G57,\"\")","v":""},{"$f":"'Dekor 5'!L57","v":0},{"$f":"'Dekor 5'!N57","v":0},{"$f":"'Dekor 5'!P57","v":0},{"$f":"'Dekor 5'!R57","v":0},{"$f":"'Dekor 5'!X57","v":0},{"$f":"IF(ISNUMBER('Dekor 5'!J57),'Dekor 5'!$AF$20,\"\")","v":""},{"$f":"IF(ISNUMBER('Dekor 5'!J57),'Dekor 5'!$AF$21,\"\")","v":""},{"$f":"IF(ISNUMBER('Dekor 5'!J57),'Dekor 5'!$AF$22,\"\")","v":""},{"$f":"IF(ISNUMBER('Dekor 5'!J57),'Dekor 5'!$AF$23,\"\")","v":""},{"$f":"IF(ISNUMBER('Dekor 5'!J57),'Dekor 5'!$AF$24,\"\")","v":""},{"$f":"'Dekor 5'!Y57","v":0}]
[{"$f":"'Dekor 5'!A58","v":""},{"$f":"'Dekor 5'!B58","v":{"$error":"#NAME?"}},{"$f":"IF(ISNUMBER('Dekor 5'!J58),('Dekor 5'!D58 & \".\" & 'Dekor 5'!U58 & \".\" & 'Dekor 5'!F58 & \".\" & 'Dekor 5'!V58 & \".\" & 'Dekor 5'!H58 & \".\" & 'Dekor 5'!I58),\"\")","v":""},{"$f":"'Dekor 5'!W58","v":0},{"$f":"'Dekor 5'!K58","v":0},{"$f":"'Dekor 5'!M58","v":0},{"$f":"'Dekor 5'!O58","v":0},{"$f":"'Dekor 5'!Q58","v":0},{"$f":"IF(ISNUMBER('Dekor 5'!J58),'Dekor 5'!E58 & \"x\" & 'Dekor 5'!G58,\"\")","v":""},{"$f":"'Dekor 5'!L58","v":0},{"$f":"'Dekor 5'!N58","v":0},{"$f":"'Dekor 5'!P58","v":0},{"$f":"'Dekor 5'!R58","v":0},{"$f":"'Dekor 5'!X58","v":0},{"$f":"IF(ISNUMBER('Dekor 5'!J58),'Dekor 5'!$AF$20,\"\")","v":""},{"$f":"IF(ISNUMBER('Dekor 5'!J58),'Dekor 5'!$AF$21,\"\")","v":""},{"$f":"IF(ISNUMBER('Dekor 5'!J58),'Dekor 5'!$AF$22,\"\")","v":""},{"$f":"IF(ISNUMBER('Dekor 5'!J58),'Dekor 5'!$AF$23,\"\")","v":""},{"$f":"IF(ISNUMBER('Dekor 5'!J58),'Dekor 5'!$AF$24,\"\")","v":""},{"$f":"'Dekor 5'!Y58","v":0}]
[{"$f":"'Dekor 5'!A59","v":""},{"$f":"'Dekor 5'!B59","v":{"$error":"#NAME?"}},{"$f":"IF(ISNUMBER('Dekor 5'!J59),('Dekor 5'!D59 & \".\" & 'Dekor 5'!U59 & \".\" & 'Dekor 5'!F59 & \".\" & 'Dekor 5'!V59 & \".\" & 'Dekor 5'!H59 & \".\" & 'Dekor 5'!I59),\"\")","v":""},{"$f":"'Dekor 5'!W59","v":0},{"$f":"'Dekor 5'!K59","v":0},{"$f":"'Dekor 5'!M59","v":0},{"$f":"'Dekor 5'!O59","v":0},{"$f":"'Dekor 5'!Q59","v":0},{"$f":"IF(ISNUMBER('Dekor 5'!J59),'Dekor 5'!E59 & \"x\" & 'Dekor 5'!G59,\"\")","v":""},{"$f":"'Dekor 5'!L59","v":0},{"$f":"'Dekor 5'!N59","v":0},{"$f":"'Dekor 5'!P59","v":0},{"$f":"'Dekor 5'!R59","v":0},{"$f":"'Dekor 5'!X59","v":0},{"$f":"IF(ISNUMBER('Dekor 5'!J59),'Dekor 5'!$AF$20,\"\")","v":""},{"$f":"IF(ISNUMBER('Dekor 5'!J59),'Dekor 5'!$AF$21,\"\")","v":""},{"$f":"IF(ISNUMBER('Dekor 5'!J59),'Dekor 5'!$AF$22,\"\")","v":""},{"$f":"IF(ISNUMBER('Dekor 5'!J59),'Dekor 5'!$AF$23,\"\")","v":""},{"$f":"IF(ISNUMBER('Dekor 5'!J59),'Dekor 5'!$AF$24,\"\")","v":""},{"$f":"'Dekor 5'!Y59","v":0}]
[{"$f":"'Dekor 5'!A60","v":""},{"$f":"'Dekor 5'!B60","v":{"$error":"#NAME?"}},{"$f":"IF(ISNUMBER('Dekor 5'!J60),('Dekor 5'!D60 & \".\" & 'Dekor 5'!U60 & \".\" & 'Dekor 5'!F60 & \".\" & 'Dekor 5'!V60 & \".\" & 'Dekor 5'!H60 & \".\" & 'Dekor 5'!I60),\"\")","v":""},{"$f":"'Dekor 5'!W60","v":0},{"$f":"'Dekor 5'!K60","v":0},{"$f":"'Dekor 5'!M60","v":0},{"$f":"'Dekor 5'!O60","v":0},{"$f":"'Dekor 5'!Q60","v":0},{"$f":"IF(ISNUMBER('Dekor 5'!J60),'Dekor 5'!E60 & \"x\" & 'Dekor 5'!G60,\"\")","v":""},{"$f":"'Dekor 5'!L60","v":0},{"$f":"'Dekor 5'!N60","v":0},{"$f":"'Dekor 5'!P60","v":0},{"$f":"'Dekor 5'!R60","v":0},{"$f":"'Dekor 5'!X60","v":0},{"$f":"IF(ISNUMBER('Dekor 5'!J60),'Dekor 5'!$AF$20,\"\")","v":""},{"$f":"IF(ISNUMBER('Dekor 5'!J60),'Dekor 5'!$AF$21,\"\")","v":""},{"$f":"IF(ISNUMBER('Dekor 5'!J60),'Dekor 5'!$AF$22,\"\")","v":""},{"$f":"IF(ISNUMBER('Dekor 5'!J60),'Dekor 5'!$AF$23,\"\")","v":""},{"$f":"IF(ISNUMBER('Dekor 5'!J60),'Dekor 5'!$AF$24,\"\")","v":""},{"$f":"'Dekor 5'!Y60","v":0}]
[{"$f":"'Dekor 5'!A61","v":""},{"$f":"'Dekor 5'!B61","v":{"$error":"#NAME?"}},{"$f":"IF(ISNUMBER('Dekor 5'!J61),('Dekor 5'!D61 & \".\" & 'Dekor 5'!U61 & \".\" & 'Dekor 5'!F61 & \".\" & 'Dekor 5'!V61 & \".\" & 'Dekor 5'!H61 & \".\" & 'Dekor 5'!I61),\"\")","v":""},{"$f":"'Dekor 5'!W61","v":0},{"$f":"'Dekor 5'!K61","v":0},{"$f":"'Dekor 5'!M61","v":0},{"$f":"'Dekor 5'!O61","v":0},{"$f":"'Dekor 5'!Q61","v":0},{"$f":"IF(ISNUMBER('Dekor 5'!J61),'Dekor 5'!E61 & \"x\" & 'Dekor 5'!G61,\"\")","v":""},{"$f":"'Dekor 5'!L61","v":0},{"$f":"'Dekor 5'!N61","v":0},{"$f":"'Dekor 5'!P61","v":0},{"$f":"'Dekor 5'!R61","v":0},{"$f":"'Dekor 5'!X61","v":0},{"$f":"IF(ISNUMBER('Dekor 5'!J61),'Dekor 5'!$AF$20,\"\")","v":""},{"$f":"IF(ISNUMBER('Dekor 5'!J61),'Dekor 5'!$AF$21,\"\")","v":""},{"$f":"IF(ISNUMBER('Dekor 5'!J61),'Dekor 5'!$AF$22,\"\")","v":""},{"$f":"IF(ISNUMBER('Dekor 5'!J61),'Dekor 5'!$AF$23,\"\")","v":""},{"$f":"IF(ISNUMBER('Dekor 5'!J61),'Dekor 5'!$AF$24,\"\")","v":""},{"$f":"'Dekor 5'!Y61","v":0}]
[{"$f":"'Dekor 5'!A62","v":""},{"$f":"'Dekor 5'!B62","v":{"$error":"#NAME?"}},{"$f":"IF(ISNUMBER('Dekor 5'!J62),('Dekor 5'!D62 & \".\" & 'Dekor 5'!U62 & \".\" & 'Dekor 5'!F62 & \".\" & 'Dekor 5'!V62 & \".\" & 'Dekor 5'!H62 & \".\" & 'Dekor 5'!I62),\"\")","v":""},{"$f":"'Dekor 5'!W62","v":0},{"$f":"'Dekor 5'!K62","v":0},{"$f":"'Dekor 5'!M62","v":0},{"$f":"'Dekor 5'!O62","v":0},{"$f":"'Dekor 5'!Q62","v":0},{"$f":"IF(ISNUMBER('Dekor 5'!J62),'Dekor 5'!E62 & \"x\" & 'Dekor 5'!G62,\"\")","v":""},{"$f":"'Dekor 5'!L62","v":0},{"$f":"'Dekor 5'!N62","v":0},{"$f":"'Dekor 5'!P62","v":0},{"$f":"'Dekor 5'!R62","v":0},{"$f":"'Dekor 5'!X62","v":0},{"$f":"IF(ISNUMBER('Dekor 5'!J62),'Dekor 5'!$AF$20,\"\")","v":""},{"$f":"IF(ISNUMBER('Dekor 5'!J62),'Dekor 5'!$AF$21,\"\")","v":""},{"$f":"IF(ISNUMBER('Dekor 5'!J62),'Dekor 5'!$AF$22,\"\")","v":""},{"$f":"IF(ISNUMBER('Dekor 5'!J62),'Dekor 5'!$AF$23,\"\")","v":""},{"$f":"IF(ISNUMBER('Dekor 5'!J62),'Dekor 5'!$AF$24,\"\")","v":""},{"$f":"'Dekor 5'!Y62","v":0}]
[{"$f":"'Dekor 5'!A63","v":""},{"$f":"'Dekor 5'!B63","v":{"$error":"#NAME?"}},{"$f":"IF(ISNUMBER('Dekor 5'!J63),('Dekor 5'!D63 & \".\" & 'Dekor 5'!U63 & \".\" & 'Dekor 5'!F63 & \".\" & 'Dekor 5'!V63 & \".\" & 'Dekor 5'!H63 & \".\" & 'Dekor 5'!I63),\"\")","v":""},{"$f":"'Dekor 5'!W63","v":0},{"$f":"'Dekor 5'!K63","v":0},{"$f":"'Dekor 5'!M63","v":0},{"$f":"'Dekor 5'!O63","v":0},{"$f":"'Dekor 5'!Q63","v":0},{"$f":"IF(ISNUMBER('Dekor 5'!J63),'Dekor 5'!E63 & \"x\" & 'Dekor 5'!G63,\"\")","v":""},{"$f":"'Dekor 5'!L63","v":0},{"$f":"'Dekor 5'!N63","v":0},{"$f":"'Dekor 5'!P63","v":0},{"$f":"'Dekor 5'!R63","v":0},{"$f":"'Dekor 5'!X63","v":0},{"$f":"IF(ISNUMBER('Dekor 5'!J63),'Dekor 5'!$AF$20,\"\")","v":""},{"$f":"IF(ISNUMBER('Dekor 5'!J63),'Dekor 5'!$AF$21,\"\")","v":""},{"$f":"IF(ISNUMBER('Dekor 5'!J63),'Dekor 5'!$AF$22,\"\")","v":""},{"$f":"IF(ISNUMBER('Dekor 5'!J63),'Dekor 5'!$AF$23,\"\")","v":""},{"$f":"IF(ISNUMBER('Dekor 5'!J63),'Dekor 5'!$AF$24,\"\")","v":""},{"$f":"'Dekor 5'!Y63","v":0}]
[{"$f":"'Dekor 5'!A64","v":""},{"$f":"'Dekor 5'!B64","v":{"$error":"#NAME?"}},{"$f":"IF(ISNUMBER('Dekor 5'!J64),('Dekor 5'!D64 & \".\" & 'Dekor 5'!U64 & \".\" & 'Dekor 5'!F64 & \".\" & 'Dekor 5'!V64 & \".\" & 'Dekor 5'!H64 & \".\" & 'Dekor 5'!I64),\"\")","v":""},{"$f":"'Dekor 5'!W64","v":0},{"$f":"'Dekor 5'!K64","v":0},{"$f":"'Dekor 5'!M64","v":0},{"$f":"'Dekor 5'!O64","v":0},{"$f":"'Dekor 5'!Q64","v":0},{"$f":"IF(ISNUMBER('Dekor 5'!J64),'Dekor 5'!E64 & \"x\" & 'Dekor 5'!G64,\"\")","v":""},{"$f":"'Dekor 5'!L64","v":0},{"$f":"'Dekor 5'!N64","v":0},{"$f":"'Dekor 5'!P64","v":0},{"$f":"'Dekor 5'!R64","v":0},{"$f":"'Dekor 5'!X64","v":0},{"$f":"IF(ISNUMBER('Dekor 5'!J64),'Dekor 5'!$AF$20,\"\")","v":""},{"$f":"IF(ISNUMBER('Dekor 5'!J64),'Dekor 5'!$AF$21,\"\")","v":""},{"$f":"IF(ISNUMBER('Dekor 5'!J64),'Dekor 5'!$AF$22,\"\")","v":""},{"$f":"IF(ISNUMBER('Dekor 5'!J64),'Dekor 5'!$AF$23,\"\")","v":""},{"$f":"IF(ISNUMBER('Dekor 5'!J64),'Dekor 5'!$AF$24,\"\")","v":""},{"$f":"'Dekor 5'!Y64","v":0}]
[{"$f":"'Dekor 5'!A65","v":""},{"$f":"'Dekor 5'!B65","v":{"$error":"#NAME?"}},{"$f":"IF(ISNUMBER('Dekor 5'!J65),('Dekor 5'!D65 & \".\" & 'Dekor 5'!U65 & \".\" & 'Dekor 5'!F65 & \".\" & 'Dekor 5'!V65 & \".\" & 'Dekor 5'!H65 & \".\" & 'Dekor 5'!I65),\"\")","v":""},{"$f":"'Dekor 5'!W65","v":0},{"$f":"'Dekor 5'!K65","v":0},{"$f":"'Dekor 5'!M65","v":0},{"$f":"'Dekor 5'!O65","v":0},{"$f":"'Dekor 5'!Q65","v":0},{"$f":"IF(ISNUMBER('Dekor 5'!J65),'Dekor 5'!E65 & \"x\" & 'Dekor 5'!G65,\"\")","v":""},{"$f":"'Dekor 5'!L65","v":0},{"$f":"'Dekor 5'!N65","v":0},{"$f":"'Dekor 5'!P65","v":0},{"$f":"'Dekor 5'!R65","v":0},{"$f":"'Dekor 5'!X65","v":0},{"$f":"IF(ISNUMBER('Dekor 5'!J65),'Dekor 5'!$AF$20,\"\")","v":""},{"$f":"IF(ISNUMBER('Dekor 5'!J65),'Dekor 5'!$AF$21,\"\")","v":""},{"$f":"IF(ISNUMBER('Dekor 5'!J65),'Dekor 5'!$AF$22,\"\")","v":""},{"$f":"IF(ISNUMBER('Dekor 5'!J65),'Dekor 5'!$AF$23,\"\")","v":""},{"$f":"IF(ISNUMBER('Dekor 5'!J65),'Dekor 5'!$AF$24,\"\")","v":""},{"$f":"'Dekor 5'!Y65","v":0}]
[{"$f":"'Dekor 5'!A66","v":""},{"$f":"'Dekor 5'!B66","v":{"$error":"#NAME?"}},{"$f":"IF(ISNUMBER('Dekor 5'!J66),('Dekor 5'!D66 & \".\" & 'Dekor 5'!U66 & \".\" & 'Dekor 5'!F66 & \".\" & 'Dekor 5'!V66 & \".\" & 'Dekor 5'!H66 & \".\" & 'Dekor 5'!I66),\"\")","v":""},{"$f":"'Dekor 5'!W66","v":0},{"$f":"'Dekor 5'!K66","v":0},{"$f":"'Dekor 5'!M66","v":0},{"$f":"'Dekor 5'!O66","v":0},{"$f":"'Dekor 5'!Q66","v":0},{"$f":"IF(ISNUMBER('Dekor 5'!J66),'Dekor 5'!E66 & \"x\" & 'Dekor 5'!G66,\"\")","v":""},{"$f":"'Dekor 5'!L66","v":0},{"$f":"'Dekor 5'!N66","v":0},{"$f":"'Dekor 5'!P66","v":0},{"$f":"'Dekor 5'!R66","v":0},{"$f":"'Dekor 5'!X66","v":0},{"$f":"IF(ISNUMBER('Dekor 5'!J66),'Dekor 5'!$AF$20,\"\")","v":""},{"$f":"IF(ISNUMBER('Dekor 5'!J66),'Dekor 5'!$AF$21,\"\")","v":""},{"$f":"IF(ISNUMBER('Dekor 5'!J66),'Dekor 5'!$AF$22,\"\")","v":""},{"$f":"IF(ISNUMBER('Dekor 5'!J66),'Dekor 5'!$AF$23,\"\")","v":""},{"$f":"IF(ISNUMBER('Dekor 5'!J66),'Dekor 5'!$AF$24,\"\")","v":""},{"$f":"'Dekor 5'!Y66","v":0}]
[{"$f":"'Dekor 5'!A67","v":""},{"$f":"'Dekor 5'!B67","v":{"$error":"#NAME?"}},{"$f":"IF(ISNUMBER('Dekor 5'!J67),('Dekor 5'!D67 & \".\" & 'Dekor 5'!U67 & \".\" & 'Dekor 5'!F67 & \".\" & 'Dekor 5'!V67 & \".\" & 'Dekor 5'!H67 & \".\" & 'Dekor 5'!I67),\"\")","v":""},{"$f":"'Dekor 5'!W67","v":0},{"$f":"'Dekor 5'!K67","v":0},{"$f":"'Dekor 5'!M67","v":0},{"$f":"'Dekor 5'!O67","v":0},{"$f":"'Dekor 5'!Q67","v":0},{"$f":"IF(ISNUMBER('Dekor 5'!J67),'Dekor 5'!E67 & \"x\" & 'Dekor 5'!G67,\"\")","v":""},{"$f":"'Dekor 5'!L67","v":0},{"$f":"'Dekor 5'!N67","v":0},{"$f":"'Dekor 5'!P67","v":0},{"$f":"'Dekor 5'!R67","v":0},{"$f":"'Dekor 5'!X67","v":0},{"$f":"IF(ISNUMBER('Dekor 5'!J67),'Dekor 5'!$AF$20,\"\")","v":""},{"$f":"IF(ISNUMBER('Dekor 5'!J67),'Dekor 5'!$AF$21,\"\")","v":""},{"$f":"IF(ISNUMBER('Dekor 5'!J67),'Dekor 5'!$AF$22,\"\")","v":""},{"$f":"IF(ISNUMBER('Dekor 5'!J67),'Dekor 5'!$AF$23,\"\")","v":""},{"$f":"IF(ISNUMBER('Dekor 5'!J67),'Dekor 5'!$AF$24,\"\")","v":""},{"$f":"'Dekor 5'!Y67","v":0}]
[{"$f":"'Dekor 5'!A68","v":""},{"$f":"'Dekor 5'!B68","v":{"$error":"#NAME?"}},{"$f":"IF(ISNUMBER('Dekor 5'!J68),('Dekor 5'!D68 & \".\" & 'Dekor 5'!U68 & \".\" & 'Dekor 5'!F68 & \".\" & 'Dekor 5'!V68 & \".\" & 'Dekor 5'!H68 & \".\" & 'Dekor 5'!I68),\"\")","v":""},{"$f":"'Dekor 5'!W68","v":0},{"$f":"'Dekor 5'!K68","v":0},{"$f":"'Dekor 5'!M68","v":0},{"$f":"'Dekor 5'!O68","v":0},{"$f":"'Dekor 5'!Q68","v":0},{"$f":"IF(ISNUMBER('Dekor 5'!J68),'Dekor 5'!E68 & \"x\" & 'Dekor 5'!G68,\"\")","v":""},{"$f":"'Dekor 5'!L68","v":0},{"$f":"'Dekor 5'!N68","v":0},{"$f":"'Dekor 5'!P68","v":0},{"$f":"'Dekor 5'!R68","v":0},{"$f":"'Dekor 5'!X68","v":0},{"$f":"IF(ISNUMBER('Dekor 5'!J68),'Dekor 5'!$AF$20,\"\")","v":""},{"$f":"IF(ISNUMBER('Dekor 5'!J68),'Dekor 5'!$AF$21,\"\")","v":""},{"$f":"IF(ISNUMBER('Dekor 5'!J68),'Dekor 5'!$AF$22,\"\")","v":""},{"$f":"IF(ISNUMBER('Dekor 5'!J68),'Dekor 5'!$AF$23,\"\")","v":""},{"$f":"IF(ISNUMBER('Dekor 5'!J68),'Dekor 5'!$AF$24,\"\")","v":""},{"$f":"'Dekor 5'!Y68","v":0}]
[{"$f":"'Dekor 5'!A69","v":""},{"$f":"'Dekor 5'!B69","v":{"$error":"#NAME?"}},{"$f":"IF(ISNUMBER('Dekor 5'!J69),('Dekor 5'!D69 & \".\" & 'Dekor 5'!U69 & \".\" & 'Dekor 5'!F69 & \".\" & 'Dekor 5'!V69 & \".\" & 'Dekor 5'!H69 & \".\" & 'Dekor 5'!I69),\"\")","v":""},{"$f":"'Dekor 5'!W69","v":0},{"$f":"'Dekor 5'!K69","v":0},{"$f":"'Dekor 5'!M69","v":0},{"$f":"'Dekor 5'!O69","v":0},{"$f":"'Dekor 5'!Q69","v":0},{"$f":"IF(ISNUMBER('Dekor 5'!J69),'Dekor 5'!E69 & \"x\" & 'Dekor 5'!G69,\"\")","v":""},{"$f":"'Dekor 5'!L69","v":0},{"$f":"'Dekor 5'!N69","v":0},{"$f":"'Dekor 5'!P69","v":0},{"$f":"'Dekor 5'!R69","v":0},{"$f":"'Dekor 5'!X69","v":0},{"$f":"IF(ISNUMBER('Dekor 5'!J69),'Dekor 5'!$AF$20,\"\")","v":""},{"$f":"IF(ISNUMBER('Dekor 5'!J69),'Dekor 5'!$AF$21,\"\")","v":""},{"$f":"IF(ISNUMBER('Dekor 5'!J69),'Dekor 5'!$AF$22,\"\")","v":""},{"$f":"IF(ISNUMBER('Dekor 5'!J69),'Dekor 5'!$AF$23,\"\")","v":""},{"$f":"IF(ISNUMBER('Dekor 5'!J69),'Dekor 5'!$AF$24,\"\")","v":""},{"$f":"'Dekor 5'!Y69","v":0}]
[{"$f":"'Dekor 5'!A70","v":""},{"$f":"'Dekor 5'!B70","v":{"$error":"#NAME?"}},{"$f":"IF(ISNUMBER('Dekor 5'!J70),('Dekor 5'!D70 & \".\" & 'Dekor 5'!U70 & \".\" & 'Dekor 5'!F70 & \".\" & 'Dekor 5'!V70 & \".\" & 'Dekor 5'!H70 & \".\" & 'Dekor 5'!I70),\"\")","v":""},{"$f":"'Dekor 5'!W70","v":0},{"$f":"'Dekor 5'!K70","v":0},{"$f":"'Dekor 5'!M70","v":0},{"$f":"'Dekor 5'!O70","v":0},{"$f":"'Dekor 5'!Q70","v":0},{"$f":"IF(ISNUMBER('Dekor 5'!J70),'Dekor 5'!E70 & \"x\" & 'Dekor 5'!G70,\"\")","v":""},{"$f":"'Dekor 5'!L70","v":0},{"$f":"'Dekor 5'!N70","v":0},{"$f":"'Dekor 5'!P70","v":0},{"$f":"'Dekor 5'!R70","v":0},{"$f":"'Dekor 5'!X70","v":0},{"$f":"IF(ISNUMBER('Dekor 5'!J70),'Dekor 5'!$AF$20,\"\")","v":""},{"$f":"IF(ISNUMBER('Dekor 5'!J70),'Dekor 5'!$AF$21,\"\")","v":""},{"$f":"IF(ISNUMBER('Dekor 5'!J70),'Dekor 5'!$AF$22,\"\")","v":""},{"$f":"IF(ISNUMBER('Dekor 5'!J70),'Dekor 5'!$AF$23,\"\")","v":""},{"$f":"IF(ISNUMBER('Dekor 5'!J70),'Dekor 5'!$AF$24,\"\")","v":""},{"$f":"'Dekor 5'!Y70","v":0}]
[{"$f":"'Dekor 5'!A71","v":""},{"$f":"'Dekor 5'!B71","v":{"$error":"#NAME?"}},{"$f":"IF(ISNUMBER('Dekor 5'!J71),('Dekor 5'!D71 & \".\" & 'Dekor 5'!U71 & \".\" & 'Dekor 5'!F71 & \".\" & 'Dekor 5'!V71 & \".\" & 'Dekor 5'!H71 & \".\" & 'Dekor 5'!I71),\"\")","v":""},{"$f":"'Dekor 5'!W71","v":0},{"$f":"'Dekor 5'!K71","v":0},{"$f":"'Dekor 5'!M71","v":0},{"$f":"'Dekor 5'!O71","v":0},{"$f":"'Dekor 5'!Q71","v":0},{"$f":"IF(ISNUMBER('Dekor 5'!J71),'Dekor 5'!E71 & \"x\" & 'Dekor 5'!G71,\"\")","v":""},{"$f":"'Dekor 5'!L71","v":0},{"$f":"'Dekor 5'!N71","v":0},{"$f":"'Dekor 5'!P71","v":0},{"$f":"'Dekor 5'!R71","v":0},{"$f":"'Dekor 5'!X71","v":0},{"$f":"IF(ISNUMBER('Dekor 5'!J71),'Dekor 5'!$AF$20,\"\")","v":""},{"$f":"IF(ISNUMBER('Dekor 5'!J71),'Dekor 5'!$AF$21,\"\")","v":""},{"$f":"IF(ISNUMBER('Dekor 5'!J71),'Dekor 5'!$AF$22,\"\")","v":""},{"$f":"IF(ISNUMBER('Dekor 5'!J71),'Dekor 5'!$AF$23,\"\")","v":""},{"$f":"IF(ISNUMBER('Dekor 5'!J71),'Dekor 5'!$AF$24,\"\")","v":""},{"$f":"'Dekor 5'!Y71","v":0}]
[{"$f":"'Dekor 5'!A72","v":""},{"$f":"'Dekor 5'!B72","v":{"$error":"#NAME?"}},{"$f":"IF(ISNUMBER('Dekor 5'!J72),('Dekor 5'!D72 & \".\" & 'Dekor 5'!U72 & \".\" & 'Dekor 5'!F72 & \".\" & 'Dekor 5'!V72 & \".\" & 'Dekor 5'!H72 & \".\" & 'Dekor 5'!I72),\"\")","v":""},{"$f":"'Dekor 5'!W72","v":0},{"$f":"'Dekor 5'!K72","v":0},{"$f":"'Dekor 5'!M72","v":0},{"$f":"'Dekor 5'!O72","v":0},{"$f":"'Dekor 5'!Q72","v":0},{"$f":"IF(ISNUMBER('Dekor 5'!J72),'Dekor 5'!E72 & \"x\" & 'Dekor 5'!G72,\"\")","v":""},{"$f":"'Dekor 5'!L72","v":0},{"$f":"'Dekor 5'!N72","v":0},{"$f":"'Dekor 5'!P72","v":0},{"$f":"'Dekor 5'!R72","v":0},{"$f":"'Dekor 5'!X72","v":0},{"$f":"IF(ISNUMBER('Dekor 5'!J72),'Dekor 5'!$AF$20,\"\")","v":""},{"$f":"IF(ISNUMBER('Dekor 5'!J72),'Dekor 5'!$AF$21,\"\")","v":""},{"$f":"IF(ISNUMBER('Dekor 5'!J72),'Dekor 5'!$AF$22,\"\")","v":""},{"$f":"IF(ISNUMBER('Dekor 5'!J72),'Dekor 5'!$AF$23,\"\")","v":""},{"$f":"IF(ISNUMBER('Dekor 5'!J72),'Dekor 5'!$AF$24,\"\")","v":""},{"$f":"'Dekor 5'!Y72","v":0}]
[{"$f":"'Dekor 5'!A73","v":""},{"$f":"'Dekor 5'!B73","v":{"$error":"#NAME?"}},{"$f":"IF(ISNUMBER('Dekor 5'!J73),('Dekor 5'!D73 & \".\" & 'Dekor 5'!U73 & \".\" & 'Dekor 5'!F73 & \".\" & 'Dekor 5'!V73 & \".\" & 'Dekor 5'!H73 & \".\" & 'Dekor 5'!I73),\"\")","v":""},{"$f":"'Dekor 5'!W73","v":0},{"$f":"'Dekor 5'!K73","v":0},{"$f":"'Dekor 5'!M73","v":0},{"$f":"'Dekor 5'!O73","v":0},{"$f":"'Dekor 5'!Q73","v":0},{"$f":"IF(ISNUMBER('Dekor 5'!J73),'Dekor 5'!E73 & \"x\" & 'Dekor 5'!G73,\"\")","v":""},{"$f":"'Dekor 5'!L73","v":0},{"$f":"'Dekor 5'!N73","v":0},{"$f":"'Dekor 5'!P73","v":0},{"$f":"'Dekor 5'!R73","v":0},{"$f":"'Dekor 5'!X73","v":0},{"$f":"IF(ISNUMBER('Dekor 5'!J73),'Dekor 5'!$AF$20,\"\")","v":""},{"$f":"IF(ISNUMBER('Dekor 5'!J73),'Dekor 5'!$AF$21,\"\")","v":""},{"$f":"IF(ISNUMBER('Dekor 5'!J73),'Dekor 5'!$AF$22,\"\")","v":""},{"$f":"IF(ISNUMBER('Dekor 5'!J73),'Dekor 5'!$AF$23,\"\")","v":""},{"$f":"IF(ISNUMBER('Dekor 5'!J73),'Dekor 5'!$AF$24,\"\")","v":""},{"$f":"'Dekor 5'!Y73","v":0}]
[{"$f":"'Dekor 5'!A74","v":""},{"$f":"'Dekor 5'!B74","v":{"$error":"#NAME?"}},{"$f":"IF(ISNUMBER('Dekor 5'!J74),('Dekor 5'!D74 & \".\" & 'Dekor 5'!U74 & \".\" & 'Dekor 5'!F74 & \".\" & 'Dekor 5'!V74 & \".\" & 'Dekor 5'!H74 & \".\" & 'Dekor 5'!I74),\"\")","v":""},{"$f":"'Dekor 5'!W74","v":0},{"$f":"'Dekor 5'!K74","v":0},{"$f":"'Dekor 5'!M74","v":0},{"$f":"'Dekor 5'!O74","v":0},{"$f":"'Dekor 5'!Q74","v":0},{"$f":"IF(ISNUMBER('Dekor 5'!J74),'Dekor 5'!E74 & \"x\" & 'Dekor 5'!G74,\"\")","v":""},{"$f":"'Dekor 5'!L74","v":0},{"$f":"'Dekor 5'!N74","v":0},{"$f":"'Dekor 5'!P74","v":0},{"$f":"'Dekor 5'!R74","v":0},{"$f":"'Dekor 5'!X74","v":0},{"$f":"IF(ISNUMBER('Dekor 5'!J74),'Dekor 5'!$AF$20,\"\")","v":""},{"$f":"IF(ISNUMBER('Dekor 5'!J74),'Dekor 5'!$AF$21,\"\")","v":""},{"$f":"IF(ISNUMBER('Dekor 5'!J74),'Dekor 5'!$AF$22,\"\")","v":""},{"$f":"IF(ISNUMBER('Dekor 5'!J74),'Dekor 5'!$AF$23,\"\")","v":""},{"$f":"IF(ISNUMBER('Dekor 5'!J74),'Dekor 5'!$AF$24,\"\")","v":""},{"$f":"'Dekor 5'!Y74","v":0}]
[{"$f":"'Dekor 5'!A75","v":""},{"$f":"'Dekor 5'!B75","v":{"$error":"#NAME?"}},{"$f":"IF(ISNUMBER('Dekor 5'!J75),('Dekor 5'!D75 & \".\" & 'Dekor 5'!U75 & \".\" & 'Dekor 5'!F75 & \".\" & 'Dekor 5'!V75 & \".\" & 'Dekor 5'!H75 & \".\" & 'Dekor 5'!I75),\"\")","v":""},{"$f":"'Dekor 5'!W75","v":0},{"$f":"'Dekor 5'!K75","v":0},{"$f":"'Dekor 5'!M75","v":0},{"$f":"'Dekor 5'!O75","v":0},{"$f":"'Dekor 5'!Q75","v":0},{"$f":"IF(ISNUMBER('Dekor 5'!J75),'Dekor 5'!E75 & \"x\" & 'Dekor 5'!G75,\"\")","v":""},{"$f":"'Dekor 5'!L75","v":0},{"$f":"'Dekor 5'!N75","v":0},{"$f":"'Dekor 5'!P75","v":0},{"$f":"'Dekor 5'!R75","v":0},{"$f":"'Dekor 5'!X75","v":0},{"$f":"IF(ISNUMBER('Dekor 5'!J75),'Dekor 5'!$AF$20,\"\")","v":""},{"$f":"IF(ISNUMBER('Dekor 5'!J75),'Dekor 5'!$AF$21,\"\")","v":""},{"$f":"IF(ISNUMBER('Dekor 5'!J75),'Dekor 5'!$AF$22,\"\")","v":""},{"$f":"IF(ISNUMBER('Dekor 5'!J75),'Dekor 5'!$AF$23,\"\")","v":""},{"$f":"IF(ISNUMBER('Dekor 5'!J75),'Dekor 5'!$AF$24,\"\")","v":""},{"$f":"'Dekor 5'!Y75","v":0}]
[{"$f":"'Dekor 5'!A76","v":""},{"$f":"'Dekor 5'!B76","v":{"$error":"#NAME?"}},{"$f":"IF(ISNUMBER('Dekor 5'!J76),('Dekor 5'!D76 & \".\" & 'Dekor 5'!U76 & \".\" & 'Dekor 5'!F76 & \".\" & 'Dekor 5'!V76 & \".\" & 'Dekor 5'!H76 & \".\" & 'Dekor 5'!I76),\"\")","v":""},{"$f":"'Dekor 5'!W76","v":0},{"$f":"'Dekor 5'!K76","v":0},{"$f":"'Dekor 5'!M76","v":0},{"$f":"'Dekor 5'!O76","v":0},{"$f":"'Dekor 5'!Q76","v":0},{"$f":"IF(ISNUMBER('Dekor 5'!J76),'Dekor 5'!E76 & \"x\" & 'Dekor 5'!G76,\"\")","v":""},{"$f":"'Dekor 5'!L76","v":0},{"$f":"'Dekor 5'!N76","v":0},{"$f":"'Dekor 5'!P76","v":0},{"$f":"'Dekor 5'!R76","v":0},{"$f":"'Dekor 5'!X76","v":0},{"$f":"IF(ISNUMBER('Dekor 5'!J76),'Dekor 5'!$AF$20,\"\")","v":""},{"$f":"IF(ISNUMBER('Dekor 5'!J76),'Dekor 5'!$AF$21,\"\")","v":""},{"$f":"IF(ISNUMBER('Dekor 5'!J76),'Dekor 5'!$AF$22,\"\")","v":""},{"$f":"IF(ISNUMBER('Dekor 5'!J76),'Dekor 5'!$AF$23,\"\")","v":""},{"$f":"IF(ISNUMBER('Dekor 5'!J76),'Dekor 5'!$AF$24,\"\")","v":""},{"$f":"'Dekor 5'!Y76","v":0}]
[{"$f":"'Dekor 5'!A77","v":""},{"$f":"'Dekor 5'!B77","v":{"$error":"#NAME?"}},{"$f":"IF(ISNUMBER('Dekor 5'!J77),('Dekor 5'!D77 & \".\" & 'Dekor 5'!U77 & \".\" & 'Dekor 5'!F77 & \".\" & 'Dekor 5'!V77 & \".\" & 'Dekor 5'!H77 & \".\" & 'Dekor 5'!I77),\"\")","v":""},{"$f":"'Dekor 5'!W77","v":0},{"$f":"'Dekor 5'!K77","v":0},{"$f":"'Dekor 5'!M77","v":0},{"$f":"'Dekor 5'!O77","v":0},{"$f":"'Dekor 5'!Q77","v":0},{"$f":"IF(ISNUMBER('Dekor 5'!J77),'Dekor 5'!E77 & \"x\" & 'Dekor 5'!G77,\"\")","v":""},{"$f":"'Dekor 5'!L77","v":0},{"$f":"'Dekor 5'!N77","v":0},{"$f":"'Dekor 5'!P77","v":0},{"$f":"'Dekor 5'!R77","v":0},{"$f":"'Dekor 5'!X77","v":0},{"$f":"IF(ISNUMBER('Dekor 5'!J77),'Dekor 5'!$AF$20,\"\")","v":""},{"$f":"IF(ISNUMBER('Dekor 5'!J77),'Dekor 5'!$AF$21,\"\")","v":""},{"$f":"IF(ISNUMBER('Dekor 5'!J77),'Dekor 5'!$AF$22,\"\")","v":""},{"$f":"IF(ISNUMBER('Dekor 5'!J77),'Dekor 5'!$AF$23,\"\")","v":""},{"$f":"IF(ISNUMBER('Dekor 5'!J77),'Dekor 5'!$AF$24,\"\")","v":""},{"$f":"'Dekor 5'!Y77","v":0}]
[{"$f":"'Dekor 5'!A78","v":""},{"$f":"'Dekor 5'!B78","v":{"$error":"#NAME?"}},{"$f":"IF(ISNUMBER('Dekor 5'!J78),('Dekor 5'!D78 & \".\" & 'Dekor 5'!U78 & \".\" & 'Dekor 5'!F78 & \".\" & 'Dekor 5'!V78 & \".\" & 'Dekor 5'!H78 & \".\" & 'Dekor 5'!I78),\"\")","v":""},{"$f":"'Dekor 5'!W78","v":0},{"$f":"'Dekor 5'!K78","v":0},{"$f":"'Dekor 5'!M78","v":0},{"$f":"'Dekor 5'!O78","v":0},{"$f":"'Dekor 5'!Q78","v":0},{"$f":"IF(ISNUMBER('Dekor 5'!J78),'Dekor 5'!E78 & \"x\" & 'Dekor 5'!G78,\"\")","v":""},{"$f":"'Dekor 5'!L78","v":0},{"$f":"'Dekor 5'!N78","v":0},{"$f":"'Dekor 5'!P78","v":0},{"$f":"'Dekor 5'!R78","v":0},{"$f":"'Dekor 5'!X78","v":0},{"$f":"IF(ISNUMBER('Dekor 5'!J78),'Dekor 5'!$AF$20,\"\")","v":""},{"$f":"IF(ISNUMBER('Dekor 5'!J78),'Dekor 5'!$AF$21,\"\")","v":""},{"$f":"IF(ISNUMBER('Dekor 5'!J78),'Dekor 5'!$AF$22,\"\")","v":""},{"$f":"IF(ISNUMBER('Dekor 5'!J78),'Dekor 5'!$AF$23,\"\")","v":""},{"$f":"IF(ISNUMBER('Dekor 5'!J78),'Dekor 5'!$AF$24,\"\")","v":""},{"$f":"'Dekor 5'!Y78","v":0}]
[{"$f":"'Dekor 5'!A79","v":""},{"$f":"'Dekor 5'!B79","v":{"$error":"#NAME?"}},{"$f":"IF(ISNUMBER('Dekor 5'!J79),('Dekor 5'!D79 & \".\" & 'Dekor 5'!U79 & \".\" & 'Dekor 5'!F79 & \".\" & 'Dekor 5'!V79 & \".\" & 'Dekor 5'!H79 & \".\" & 'Dekor 5'!I79),\"\")","v":""},{"$f":"'Dekor 5'!W79","v":0},{"$f":"'Dekor 5'!K79","v":0},{"$f":"'Dekor 5'!M79","v":0},{"$f":"'Dekor 5'!O79","v":0},{"$f":"'Dekor 5'!Q79","v":0},{"$f":"IF(ISNUMBER('Dekor 5'!J79),'Dekor 5'!E79 & \"x\" & 'Dekor 5'!G79,\"\")","v":""},{"$f":"'Dekor 5'!L79","v":0},{"$f":"'Dekor 5'!N79","v":0},{"$f":"'Dekor 5'!P79","v":0},{"$f":"'Dekor 5'!R79","v":0},{"$f":"'Dekor 5'!X79","v":0},{"$f":"IF(ISNUMBER('Dekor 5'!J79),'Dekor 5'!$AF$20,\"\")","v":""},{"$f":"IF(ISNUMBER('Dekor 5'!J79),'Dekor 5'!$AF$21,\"\")","v":""},{"$f":"IF(ISNUMBER('Dekor 5'!J79),'Dekor 5'!$AF$22,\"\")","v":""},{"$f":"IF(ISNUMBER('Dekor 5'!J79),'Dekor 5'!$AF$23,\"\")","v":""},{"$f":"IF(ISNUMBER('Dekor 5'!J79),'Dekor 5'!$AF$24,\"\")","v":""},{"$f":"'Dekor 5'!Y79","v":0}]
[{"$f":"'Dekor 5'!A80","v":""},{"$f":"'Dekor 5'!B80","v":{"$error":"#NAME?"}},{"$f":"IF(ISNUMBER('Dekor 5'!J80),('Dekor 5'!D80 & \".\" & 'Dekor 5'!U80 & \".\" & 'Dekor 5'!F80 & \".\" & 'Dekor 5'!V80 & \".\" & 'Dekor 5'!H80 & \".\" & 'Dekor 5'!I80),\"\")","v":""},{"$f":"'Dekor 5'!W80","v":0},{"$f":"'Dekor 5'!K80","v":0},{"$f":"'Dekor 5'!M80","v":0},{"$f":"'Dekor 5'!O80","v":0},{"$f":"'Dekor 5'!Q80","v":0},{"$f":"IF(ISNUMBER('Dekor 5'!J80),'Dekor 5'!E80 & \"x\" & 'Dekor 5'!G80,\"\")","v":""},{"$f":"'Dekor 5'!L80","v":0},{"$f":"'Dekor 5'!N80","v":0},{"$f":"'Dekor 5'!P80","v":0},{"$f":"'Dekor 5'!R80","v":0},{"$f":"'Dekor 5'!X80","v":0},{"$f":"IF(ISNUMBER('Dekor 5'!J80),'Dekor 5'!$AF$20,\"\")","v":""},{"$f":"IF(ISNUMBER('Dekor 5'!J80),'Dekor 5'!$AF$21,\"\")","v":""},{"$f":"IF(ISNUMBER('Dekor 5'!J80),'Dekor 5'!$AF$22,\"\")","v":""},{"$f":"IF(ISNUMBER('Dekor 5'!J80),'Dekor 5'!$AF$23,\"\")","v":""},{"$f":"IF(ISNUMBER('Dekor 5'!J80),'Dekor 5'!$AF$24,\"\")","v":""},{"$f":"'Dekor 5'!Y80","v":0}]
[{"$f":"'Dekor 5'!A81","v":""},{"$f":"'Dekor 5'!B81","v":{"$error":"#NAME?"}},{"$f":"IF(ISNUMBER('Dekor 5'!J81),('Dekor 5'!D81 & \".\" & 'Dekor 5'!U81 & \".\" & 'Dekor 5'!F81 & \".\" & 'Dekor 5'!V81 & \".\" & 'Dekor 5'!H81 & \".\" & 'Dekor 5'!I81),\"\")","v":""},{"$f":"'Dekor 5'!W81","v":0},{"$f":"'Dekor 5'!K81","v":0},{"$f":"'Dekor 5'!M81","v":0},{"$f":"'Dekor 5'!O81","v":0},{"$f":"'Dekor 5'!Q81","v":0},{"$f":"IF(ISNUMBER('Dekor 5'!J81),'Dekor 5'!E81 & \"x\" & 'Dekor 5'!G81,\"\")","v":""},{"$f":"'Dekor 5'!L81","v":0},{"$f":"'Dekor 5'!N81","v":0},{"$f":"'Dekor 5'!P81","v":0},{"$f":"'Dekor 5'!R81","v":0},{"$f":"'Dekor 5'!X81","v":0},{"$f":"IF(ISNUMBER('Dekor 5'!J81),'Dekor 5'!$AF$20,\"\")","v":""},{"$f":"IF(ISNUMBER('Dekor 5'!J81),'Dekor 5'!$AF$21,\"\")","v":""},{"$f":"IF(ISNUMBER('Dekor 5'!J81),'Dekor 5'!$AF$22,\"\")","v":""},{"$f":"IF(ISNUMBER('Dekor 5'!J81),'Dekor 5'!$AF$23,\"\")","v":""},{"$f":"IF(ISNUMBER('Dekor 5'!J81),'Dekor 5'!$AF$24,\"\")","v":""},{"$f":"'Dekor 5'!Y81","v":0}]
[{"$f":"'Dekor 5'!A82","v":""},{"$f":"'Dekor 5'!B82","v":{"$error":"#NAME?"}},{"$f":"IF(ISNUMBER('Dekor 5'!J82),('Dekor 5'!D82 & \".\" & 'Dekor 5'!U82 & \".\" & 'Dekor 5'!F82 & \".\" & 'Dekor 5'!V82 & \".\" & 'Dekor 5'!H82 & \".\" & 'Dekor 5'!I82),\"\")","v":""},{"$f":"'Dekor 5'!W82","v":0},{"$f":"'Dekor 5'!K82","v":0},{"$f":"'Dekor 5'!M82","v":0},{"$f":"'Dekor 5'!O82","v":0},{"$f":"'Dekor 5'!Q82","v":0},{"$f":"IF(ISNUMBER('Dekor 5'!J82),'Dekor 5'!E82 & \"x\" & 'Dekor 5'!G82,\"\")","v":""},{"$f":"'Dekor 5'!L82","v":0},{"$f":"'Dekor 5'!N82","v":0},{"$f":"'Dekor 5'!P82","v":0},{"$f":"'Dekor 5'!R82","v":0},{"$f":"'Dekor 5'!X82","v":0},{"$f":"IF(ISNUMBER('Dekor 5'!J82),'Dekor 5'!$AF$20,\"\")","v":""},{"$f":"IF(ISNUMBER('Dekor 5'!J82),'Dekor 5'!$AF$21,\"\")","v":""},{"$f":"IF(ISNUMBER('Dekor 5'!J82),'Dekor 5'!$AF$22,\"\")","v":""},{"$f":"IF(ISNUMBER('Dekor 5'!J82),'Dekor 5'!$AF$23,\"\")","v":""},{"$f":"IF(ISNUMBER('Dekor 5'!J82),'Dekor 5'!$AF$24,\"\")","v":""},{"$f":"'Dekor 5'!Y82","v":0}]
[{"$f":"'Dekor 5'!A83","v":""},{"$f":"'Dekor 5'!B83","v":{"$error":"#NAME?"}},{"$f":"IF(ISNUMBER('Dekor 5'!J83),('Dekor 5'!D83 & \".\" & 'Dekor 5'!U83 & \".\" & 'Dekor 5'!F83 & \".\" & 'Dekor 5'!V83 & \".\" & 'Dekor 5'!H83 & \".\" & 'Dekor 5'!I83),\"\")","v":""},{"$f":"'Dekor 5'!W83","v":0},{"$f":"'Dekor 5'!K83","v":0},{"$f":"'Dekor 5'!M83","v":0},{"$f":"'Dekor 5'!O83","v":0},{"$f":"'Dekor 5'!Q83","v":0},{"$f":"IF(ISNUMBER('Dekor 5'!J83),'Dekor 5'!E83 & \"x\" & 'Dekor 5'!G83,\"\")","v":""},{"$f":"'Dekor 5'!L83","v":0},{"$f":"'Dekor 5'!N83","v":0},{"$f":"'Dekor 5'!P83","v":0},{"$f":"'Dekor 5'!R83","v":0},{"$f":"'Dekor 5'!X83","v":0},{"$f":"IF(ISNUMBER('Dekor 5'!J83),'Dekor 5'!$AF$20,\"\")","v":""},{"$f":"IF(ISNUMBER('Dekor 5'!J83),'Dekor 5'!$AF$21,\"\")","v":""},{"$f":"IF(ISNUMBER('Dekor 5'!J83),'Dekor 5'!$AF$22,\"\")","v":""},{"$f":"IF(ISNUMBER('Dekor 5'!J83),'Dekor 5'!$AF$23,\"\")","v":""},{"$f":"IF(ISNUMBER('Dekor 5'!J83),'Dekor 5'!$AF$24,\"\")","v":""},{"$f":"'Dekor 5'!Y83","v":0}]
[{"$f":"'Dekor 5'!A84","v":""},{"$f":"'Dekor 5'!B84","v":{"$error":"#NAME?"}},{"$f":"IF(ISNUMBER('Dekor 5'!J84),('Dekor 5'!D84 & \".\" & 'Dekor 5'!U84 & \".\" & 'Dekor 5'!F84 & \".\" & 'Dekor 5'!V84 & \".\" & 'Dekor 5'!H84 & \".\" & 'Dekor 5'!I84),\"\")","v":""},{"$f":"'Dekor 5'!W84","v":0},{"$f":"'Dekor 5'!K84","v":0},{"$f":"'Dekor 5'!M84","v":0},{"$f":"'Dekor 5'!O84","v":0},{"$f":"'Dekor 5'!Q84","v":0},{"$f":"IF(ISNUMBER('Dekor 5'!J84),'Dekor 5'!E84 & \"x\" & 'Dekor 5'!G84,\"\")","v":""},{"$f":"'Dekor 5'!L84","v":0},{"$f":"'Dekor 5'!N84","v":0},{"$f":"'Dekor 5'!P84","v":0},{"$f":"'Dekor 5'!R84","v":0},{"$f":"'Dekor 5'!X84","v":0},{"$f":"IF(ISNUMBER('Dekor 5'!J84),'Dekor 5'!$AF$20,\"\")","v":""},{"$f":"IF(ISNUMBER('Dekor 5'!J84),'Dekor 5'!$AF$21,\"\")","v":""},{"$f":"IF(ISNUMBER('Dekor 5'!J84),'Dekor 5'!$AF$22,\"\")","v":""},{"$f":"IF(ISNUMBER('Dekor 5'!J84),'Dekor 5'!$AF$23,\"\")","v":""},{"$f":"IF(ISNUMBER('Dekor 5'!J84),'Dekor 5'!$AF$24,\"\")","v":""},{"$f":"'Dekor 5'!Y84","v":0}]
[{"$f":"'Dekor 5'!A85","v":""},{"$f":"'Dekor 5'!B85","v":{"$error":"#NAME?"}},{"$f":"IF(ISNUMBER('Dekor 5'!J85),('Dekor 5'!D85 & \".\" & 'Dekor 5'!U85 & \".\" & 'Dekor 5'!F85 & \".\" & 'Dekor 5'!V85 & \".\" & 'Dekor 5'!H85 & \".\" & 'Dekor 5'!I85),\"\")","v":""},{"$f":"'Dekor 5'!W85","v":0},{"$f":"'Dekor 5'!K85","v":0},{"$f":"'Dekor 5'!M85","v":0},{"$f":"'Dekor 5'!O85","v":0},{"$f":"'Dekor 5'!Q85","v":0},{"$f":"IF(ISNUMBER('Dekor 5'!J85),'Dekor 5'!E85 & \"x\" & 'Dekor 5'!G85,\"\")","v":""},{"$f":"'Dekor 5'!L85","v":0},{"$f":"'Dekor 5'!N85","v":0},{"$f":"'Dekor 5'!P85","v":0},{"$f":"'Dekor 5'!R85","v":0},{"$f":"'Dekor 5'!X85","v":0},{"$f":"IF(ISNUMBER('Dekor 5'!J85),'Dekor 5'!$AF$20,\"\")","v":""},{"$f":"IF(ISNUMBER('Dekor 5'!J85),'Dekor 5'!$AF$21,\"\")","v":""},{"$f":"IF(ISNUMBER('Dekor 5'!J85),'Dekor 5'!$AF$22,\"\")","v":""},{"$f":"IF(ISNUMBER('Dekor 5'!J85),'Dekor 5'!$AF$23,\"\")","v":""},{"$f":"IF(ISNUMBER('Dekor 5'!J85),'Dekor 5'!$AF$24,\"\")","v":""},{"$f":"'Dekor 5'!Y85","v":0}]
[{"$f":"'Dekor 5'!A86","v":""},{"$f":"'Dekor 5'!B86","v":{"$error":"#NAME?"}},{"$f":"IF(ISNUMBER('Dekor 5'!J86),('Dekor 5'!D86 & \".\" & 'Dekor 5'!U86 & \".\" & 'Dekor 5'!F86 & \".\" & 'Dekor 5'!V86 & \".\" & 'Dekor 5'!H86 & \".\" & 'Dekor 5'!I86),\"\")","v":""},{"$f":"'Dekor 5'!W86","v":0},{"$f":"'Dekor 5'!K86","v":0},{"$f":"'Dekor 5'!M86","v":0},{"$f":"'Dekor 5'!O86","v":0},{"$f":"'Dekor 5'!Q86","v":0},{"$f":"IF(ISNUMBER('Dekor 5'!J86),'Dekor 5'!E86 & \"x\" & 'Dekor 5'!G86,\"\")","v":""},{"$f":"'Dekor 5'!L86","v":0},{"$f":"'Dekor 5'!N86","v":0},{"$f":"'Dekor 5'!P86","v":0},{"$f":"'Dekor 5'!R86","v":0},{"$f":"'Dekor 5'!X86","v":0},{"$f":"IF(ISNUMBER('Dekor 5'!J86),'Dekor 5'!$AF$20,\"\")","v":""},{"$f":"IF(ISNUMBER('Dekor 5'!J86),'Dekor 5'!$AF$21,\"\")","v":""},{"$f":"IF(ISNUMBER('Dekor 5'!J86),'Dekor 5'!$AF$22,\"\")","v":""},{"$f":"IF(ISNUMBER('Dekor 5'!J86),'Dekor 5'!$AF$23,\"\")","v":""},{"$f":"IF(ISNUMBER('Dekor 5'!J86),'Dekor 5'!$AF$24,\"\")","v":""},{"$f":"'Dekor 5'!Y86","v":0}]
[{"$f":"'Dekor 5'!A87","v":""},{"$f":"'Dekor 5'!B87","v":{"$error":"#NAME?"}},{"$f":"IF(ISNUMBER('Dekor 5'!J87),('Dekor 5'!D87 & \".\" & 'Dekor 5'!U87 & \".\" & 'Dekor 5'!F87 & \".\" & 'Dekor 5'!V87 & \".\" & 'Dekor 5'!H87 & \".\" & 'Dekor 5'!I87),\"\")","v":""},{"$f":"'Dekor 5'!W87","v":0},{"$f":"'Dekor 5'!K87","v":0},{"$f":"'Dekor 5'!M87","v":0},{"$f":"'Dekor 5'!O87","v":0},{"$f":"'Dekor 5'!Q87","v":0},{"$f":"IF(ISNUMBER('Dekor 5'!J87),'Dekor 5'!E87 & \"x\" & 'Dekor 5'!G87,\"\")","v":""},{"$f":"'Dekor 5'!L87","v":0},{"$f":"'Dekor 5'!N87","v":0},{"$f":"'Dekor 5'!P87","v":0},{"$f":"'Dekor 5'!R87","v":0},{"$f":"'Dekor 5'!X87","v":0},{"$f":"IF(ISNUMBER('Dekor 5'!J87),'Dekor 5'!$AF$20,\"\")","v":""},{"$f":"IF(ISNUMBER('Dekor 5'!J87),'Dekor 5'!$AF$21,\"\")","v":""},{"$f":"IF(ISNUMBER('Dekor 5'!J87),'Dekor 5'!$AF$22,\"\")","v":""},{"$f":"IF(ISNUMBER('Dekor 5'!J87),'Dekor 5'!$AF$23,\"\")","v":""},{"$f":"IF(ISNUMBER('Dekor 5'!J87),'Dekor 5'!$AF$24,\"\")","v":""},{"$f":"'Dekor 5'!Y87","v":0}]
[{"$f":"'Dekor 5'!A88","v":""},{"$f":"'Dekor 5'!B88","v":{"$error":"#NAME?"}},{"$f":"IF(ISNUMBER('Dekor 5'!J88),('Dekor 5'!D88 & \".\" & 'Dekor 5'!U88 & \".\" & 'Dekor 5'!F88 & \".\" & 'Dekor 5'!V88 & \".\" & 'Dekor 5'!H88 & \".\" & 'Dekor 5'!I88),\"\")","v":""},{"$f":"'Dekor 5'!W88","v":0},{"$f":"'Dekor 5'!K88","v":0},{"$f":"'Dekor 5'!M88","v":0},{"$f":"'Dekor 5'!O88","v":0},{"$f":"'Dekor 5'!Q88","v":0},{"$f":"IF(ISNUMBER('Dekor 5'!J88),'Dekor 5'!E88 & \"x\" & 'Dekor 5'!G88,\"\")","v":""},{"$f":"'Dekor 5'!L88","v":0},{"$f":"'Dekor 5'!N88","v":0},{"$f":"'Dekor 5'!P88","v":0},{"$f":"'Dekor 5'!R88","v":0},{"$f":"'Dekor 5'!X88","v":0},{"$f":"IF(ISNUMBER('Dekor 5'!J88),'Dekor 5'!$AF$20,\"\")","v":""},{"$f":"IF(ISNUMBER('Dekor 5'!J88),'Dekor 5'!$AF$21,\"\")","v":""},{"$f":"IF(ISNUMBER('Dekor 5'!J88),'Dekor 5'!$AF$22,\"\")","v":""},{"$f":"IF(ISNUMBER('Dekor 5'!J88),'Dekor 5'!$AF$23,\"\")","v":""},{"$f":"IF(ISNUMBER('Dekor 5'!J88),'Dekor 5'!$AF$24,\"\")","v":""},{"$f":"'Dekor 5'!Y88","v":0}]
[{"$f":"'Dekor 5'!A89","v":""},{"$f":"'Dekor 5'!B89","v":{"$error":"#NAME?"}},{"$f":"IF(ISNUMBER('Dekor 5'!J89),('Dekor 5'!D89 & \".\" & 'Dekor 5'!U89 & \".\" & 'Dekor 5'!F89 & \".\" & 'Dekor 5'!V89 & \".\" & 'Dekor 5'!H89 & \".\" & 'Dekor 5'!I89),\"\")","v":""},{"$f":"'Dekor 5'!W89","v":0},{"$f":"'Dekor 5'!K89","v":0},{"$f":"'Dekor 5'!M89","v":0},{"$f":"'Dekor 5'!O89","v":0},{"$f":"'Dekor 5'!Q89","v":0},{"$f":"IF(ISNUMBER('Dekor 5'!J89),'Dekor 5'!E89 & \"x\" & 'Dekor 5'!G89,\"\")","v":""},{"$f":"'Dekor 5'!L89","v":0},{"$f":"'Dekor 5'!N89","v":0},{"$f":"'Dekor 5'!P89","v":0},{"$f":"'Dekor 5'!R89","v":0},{"$f":"'Dekor 5'!X89","v":0},{"$f":"IF(ISNUMBER('Dekor 5'!J89),'Dekor 5'!$AF$20,\"\")","v":""},{"$f":"IF(ISNUMBER('Dekor 5'!J89),'Dekor 5'!$AF$21,\"\")","v":""},{"$f":"IF(ISNUMBER('Dekor 5'!J89),'Dekor 5'!$AF$22,\"\")","v":""},{"$f":"IF(ISNUMBER('Dekor 5'!J89),'Dekor 5'!$AF$23,\"\")","v":""},{"$f":"IF(ISNUMBER('Dekor 5'!J89),'Dekor 5'!$AF$24,\"\")","v":""},{"$f":"'Dekor 5'!Y89","v":0}]
[{"$f":"'Dekor 5'!A90","v":""},{"$f":"'Dekor 5'!B90","v":{"$error":"#NAME?"}},{"$f":"IF(ISNUMBER('Dekor 5'!J90),('Dekor 5'!D90 & \".\" & 'Dekor 5'!U90 & \".\" & 'Dekor 5'!F90 & \".\" & 'Dekor 5'!V90 & \".\" & 'Dekor 5'!H90 & \".\" & 'Dekor 5'!I90),\"\")","v":""},{"$f":"'Dekor 5'!W90","v":0},{"$f":"'Dekor 5'!K90","v":0},{"$f":"'Dekor 5'!M90","v":0},{"$f":"'Dekor 5'!O90","v":0},{"$f":"'Dekor 5'!Q90","v":0},{"$f":"IF(ISNUMBER('Dekor 5'!J90),'Dekor 5'!E90 & \"x\" & 'Dekor 5'!G90,\"\")","v":""},{"$f":"'Dekor 5'!L90","v":0},{"$f":"'Dekor 5'!N90","v":0},{"$f":"'Dekor 5'!P90","v":0},{"$f":"'Dekor 5'!R90","v":0},{"$f":"'Dekor 5'!X90","v":0},{"$f":"IF(ISNUMBER('Dekor 5'!J90),'Dekor 5'!$AF$20,\"\")","v":""},{"$f":"IF(ISNUMBER('Dekor 5'!J90),'Dekor 5'!$AF$21,\"\")","v":""},{"$f":"IF(ISNUMBER('Dekor 5'!J90),'Dekor 5'!$AF$22,\"\")","v":""},{"$f":"IF(ISNUMBER('Dekor 5'!J90),'Dekor 5'!$AF$23,\"\")","v":""},{"$f":"IF(ISNUMBER('Dekor 5'!J90),'Dekor 5'!$AF$24,\"\")","v":""},{"$f":"'Dekor 5'!Y90","v":0}]
[{"$f":"'Dekor 5'!A91","v":""},{"$f":"'Dekor 5'!B91","v":{"$error":"#NAME?"}},{"$f":"IF(ISNUMBER('Dekor 5'!J91),('Dekor 5'!D91 & \".\" & 'Dekor 5'!U91 & \".\" & 'Dekor 5'!F91 & \".\" & 'Dekor 5'!V91 & \".\" & 'Dekor 5'!H91 & \".\" & 'Dekor 5'!I91),\"\")","v":""},{"$f":"'Dekor 5'!W91","v":0},{"$f":"'Dekor 5'!K91","v":0},{"$f":"'Dekor 5'!M91","v":0},{"$f":"'Dekor 5'!O91","v":0},{"$f":"'Dekor 5'!Q91","v":0},{"$f":"IF(ISNUMBER('Dekor 5'!J91),'Dekor 5'!E91 & \"x\" & 'Dekor 5'!G91,\"\")","v":""},{"$f":"'Dekor 5'!L91","v":0},{"$f":"'Dekor 5'!N91","v":0},{"$f":"'Dekor 5'!P91","v":0},{"$f":"'Dekor 5'!R91","v":0},{"$f":"'Dekor 5'!X91","v":0},{"$f":"IF(ISNUMBER('Dekor 5'!J91),'Dekor 5'!$AF$20,\"\")","v":""},{"$f":"IF(ISNUMBER('Dekor 5'!J91),'Dekor 5'!$AF$21,\"\")","v":""},{"$f":"IF(ISNUMBER('Dekor 5'!J91),'Dekor 5'!$AF$22,\"\")","v":""},{"$f":"IF(ISNUMBER('Dekor 5'!J91),'Dekor 5'!$AF$23,\"\")","v":""},{"$f":"IF(ISNUMBER('Dekor 5'!J91),'Dekor 5'!$AF$24,\"\")","v":""},{"$f":"'Dekor 5'!Y91","v":0}]
[{"$f":"'Dekor 5'!A92","v":""},{"$f":"'Dekor 5'!B92","v":{"$error":"#NAME?"}},{"$f":"IF(ISNUMBER('Dekor 5'!J92),('Dekor 5'!D92 & \".\" & 'Dekor 5'!U92 & \".\" & 'Dekor 5'!F92 & \".\" & 'Dekor 5'!V92 & \".\" & 'Dekor 5'!H92 & \".\" & 'Dekor 5'!I92),\"\")","v":""},{"$f":"'Dekor 5'!W92","v":0},{"$f":"'Dekor 5'!K92","v":0},{"$f":"'Dekor 5'!M92","v":0},{"$f":"'Dekor 5'!O92","v":0},{"$f":"'Dekor 5'!Q92","v":0},{"$f":"IF(ISNUMBER('Dekor 5'!J92),'Dekor 5'!E92 & \"x\" & 'Dekor 5'!G92,\"\")","v":""},{"$f":"'Dekor 5'!L92","v":0},{"$f":"'Dekor 5'!N92","v":0},{"$f":"'Dekor 5'!P92","v":0},{"$f":"'Dekor 5'!R92","v":0},{"$f":"'Dekor 5'!X92","v":0},{"$f":"IF(ISNUMBER('Dekor 5'!J92),'Dekor 5'!$AF$20,\"\")","v":""},{"$f":"IF(ISNUMBER('Dekor 5'!J92),'Dekor 5'!$AF$21,\"\")","v":""},{"$f":"IF(ISNUMBER('Dekor 5'!J92),'Dekor 5'!$AF$22,\"\")","v":""},{"$f":"IF(ISNUMBER('Dekor 5'!J92),'Dekor 5'!$AF$23,\"\")","v":""},{"$f":"IF(ISNUMBER('Dekor 5'!J92),'Dekor 5'!$AF$24,\"\")","v":""},{"$f":"'Dekor 5'!Y92","v":0}]
[{"$f":"'Dekor 5'!A93","v":""},{"$f":"'Dekor 5'!B93","v":{"$error":"#NAME?"}},{"$f":"IF(ISNUMBER('Dekor 5'!J93),('Dekor 5'!D93 & \".\" & 'Dekor 5'!U93 & \".\" & 'Dekor 5'!F93 & \".\" & 'Dekor 5'!V93 & \".\" & 'Dekor 5'!H93 & \".\" & 'Dekor 5'!I93),\"\")","v":""},{"$f":"'Dekor 5'!W93","v":0},{"$f":"'Dekor 5'!K93","v":0},{"$f":"'Dekor 5'!M93","v":0},{"$f":"'Dekor 5'!O93","v":0},{"$f":"'Dekor 5'!Q93","v":0},{"$f":"IF(ISNUMBER('Dekor 5'!J93),'Dekor 5'!E93 & \"x\" & 'Dekor 5'!G93,\"\")","v":""},{"$f":"'Dekor 5'!L93","v":0},{"$f":"'Dekor 5'!N93","v":0},{"$f":"'Dekor 5'!P93","v":0},{"$f":"'Dekor 5'!R93","v":0},{"$f":"'Dekor 5'!X93","v":0},{"$f":"IF(ISNUMBER('Dekor 5'!J93),'Dekor 5'!$AF$20,\"\")","v":""},{"$f":"IF(ISNUMBER('Dekor 5'!J93),'Dekor 5'!$AF$21,\"\")","v":""},{"$f":"IF(ISNUMBER('Dekor 5'!J93),'Dekor 5'!$AF$22,\"\")","v":""},{"$f":"IF(ISNUMBER('Dekor 5'!J93),'Dekor 5'!$AF$23,\"\")","v":""},{"$f":"IF(ISNUMBER('Dekor 5'!J93),'Dekor 5'!$AF$24,\"\")","v":""},{"$f":"'Dekor 5'!Y93","v":0}]
[{"$f":"'Dekor 5'!A94","v":""},{"$f":"'Dekor 5'!B94","v":{"$error":"#NAME?"}},{"$f":"IF(ISNUMBER('Dekor 5'!J94),('Dekor 5'!D94 & \".\" & 'Dekor 5'!U94 & \".\" & 'Dekor 5'!F94 & \".\" & 'Dekor 5'!V94 & \".\" & 'Dekor 5'!H94 & \".\" & 'Dekor 5'!I94),\"\")","v":""},{"$f":"'Dekor 5'!W94","v":0},{"$f":"'Dekor 5'!K94","v":0},{"$f":"'Dekor 5'!M94","v":0},{"$f":"'Dekor 5'!O94","v":0},{"$f":"'Dekor 5'!Q94","v":0},{"$f":"IF(ISNUMBER('Dekor 5'!J94),'Dekor 5'!E94 & \"x\" & 'Dekor 5'!G94,\"\")","v":""},{"$f":"'Dekor 5'!L94","v":0},{"$f":"'Dekor 5'!N94","v":0},{"$f":"'Dekor 5'!P94","v":0},{"$f":"'Dekor 5'!R94","v":0},{"$f":"'Dekor 5'!X94","v":0},{"$f":"IF(ISNUMBER('Dekor 5'!J94),'Dekor 5'!$AF$20,\"\")","v":""},{"$f":"IF(ISNUMBER('Dekor 5'!J94),'Dekor 5'!$AF$21,\"\")","v":""},{"$f":"IF(ISNUMBER('Dekor 5'!J94),'Dekor 5'!$AF$22,\"\")","v":""},{"$f":"IF(ISNUMBER('Dekor 5'!J94),'Dekor 5'!$AF$23,\"\")","v":""},{"$f":"IF(ISNUMBER('Dekor 5'!J94),'Dekor 5'!$AF$24,\"\")","v":""},{"$f":"'Dekor 5'!Y94","v":0}]
[{"$f":"'Dekor 5'!A95","v":""},{"$f":"'Dekor 5'!B95","v":{"$error":"#NAME?"}},{"$f":"IF(ISNUMBER('Dekor 5'!J95),('Dekor 5'!D95 & \".\" & 'Dekor 5'!U95 & \".\" & 'Dekor 5'!F95 & \".\" & 'Dekor 5'!V95 & \".\" & 'Dekor 5'!H95 & \".\" & 'Dekor 5'!I95),\"\")","v":""},{"$f":"'Dekor 5'!W95","v":0},{"$f":"'Dekor 5'!K95","v":0},{"$f":"'Dekor 5'!M95","v":0},{"$f":"'Dekor 5'!O95","v":0},{"$f":"'Dekor 5'!Q95","v":0},{"$f":"IF(ISNUMBER('Dekor 5'!J95),'Dekor 5'!E95 & \"x\" & 'Dekor 5'!G95,\"\")","v":""},{"$f":"'Dekor 5'!L95","v":0},{"$f":"'Dekor 5'!N95","v":0},{"$f":"'Dekor 5'!P95","v":0},{"$f":"'Dekor 5'!R95","v":0},{"$f":"'Dekor 5'!X95","v":0},{"$f":"IF(ISNUMBER('Dekor 5'!J95),'Dekor 5'!$AF$20,\"\")","v":""},{"$f":"IF(ISNUMBER('Dekor 5'!J95),'Dekor 5'!$AF$21,\"\")","v":""},{"$f":"IF(ISNUMBER('Dekor 5'!J95),'Dekor 5'!$AF$22,\"\")","v":""},{"$f":"IF(ISNUMBER('Dekor 5'!J95),'Dekor 5'!$AF$23,\"\")","v":""},{"$f":"IF(ISNUMBER('Dekor 5'!J95),'Dekor 5'!$AF$24,\"\")","v":""},{"$f":"'Dekor 5'!Y95","v":0}]
[{"$f":"'Dekor 5'!A96","v":""},{"$f":"'Dekor 5'!B96","v":{"$error":"#NAME?"}},{"$f":"IF(ISNUMBER('Dekor 5'!J96),('Dekor 5'!D96 & \".\" & 'Dekor 5'!U96 & \".\" & 'Dekor 5'!F96 & \".\" & 'Dekor 5'!V96 & \".\" & 'Dekor 5'!H96 & \".\" & 'Dekor 5'!I96),\"\")","v":""},{"$f":"'Dekor 5'!W96","v":0},{"$f":"'Dekor 5'!K96","v":0},{"$f":"'Dekor 5'!M96","v":0},{"$f":"'Dekor 5'!O96","v":0},{"$f":"'Dekor 5'!Q96","v":0},{"$f":"IF(ISNUMBER('Dekor 5'!J96),'Dekor 5'!E96 & \"x\" & 'Dekor 5'!G96,\"\")","v":""},{"$f":"'Dekor 5'!L96","v":0},{"$f":"'Dekor 5'!N96","v":0},{"$f":"'Dekor 5'!P96","v":0},{"$f":"'Dekor 5'!R96","v":0},{"$f":"'Dekor 5'!X96","v":0},{"$f":"IF(ISNUMBER('Dekor 5'!J96),'Dekor 5'!$AF$20,\"\")","v":""},{"$f":"IF(ISNUMBER('Dekor 5'!J96),'Dekor 5'!$AF$21,\"\")","v":""},{"$f":"IF(ISNUMBER('Dekor 5'!J96),'Dekor 5'!$AF$22,\"\")","v":""},{"$f":"IF(ISNUMBER('Dekor 5'!J96),'Dekor 5'!$AF$23,\"\")","v":""},{"$f":"IF(ISNUMBER('Dekor 5'!J96),'Dekor 5'!$AF$24,\"\")","v":""},{"$f":"'Dekor 5'!Y96","v":0}]
[{"$f":"'Dekor 5'!A97","v":""},{"$f":"'Dekor 5'!B97","v":{"$error":"#NAME?"}},{"$f":"IF(ISNUMBER('Dekor 5'!J97),('Dekor 5'!D97 & \".\" & 'Dekor 5'!U97 & \".\" & 'Dekor 5'!F97 & \".\" & 'Dekor 5'!V97 & \".\" & 'Dekor 5'!H97 & \".\" & 'Dekor 5'!I97),\"\")","v":""},{"$f":"'Dekor 5'!W97","v":0},{"$f":"'Dekor 5'!K97","v":0},{"$f":"'Dekor 5'!M97","v":0},{"$f":"'Dekor 5'!O97","v":0},{"$f":"'Dekor 5'!Q97","v":0},{"$f":"IF(ISNUMBER('Dekor 5'!J97),'Dekor 5'!E97 & \"x\" & 'Dekor 5'!G97,\"\")","v":""},{"$f":"'Dekor 5'!L97","v":0},{"$f":"'Dekor 5'!N97","v":0},{"$f":"'Dekor 5'!P97","v":0},{"$f":"'Dekor 5'!R97","v":0},{"$f":"'Dekor 5'!X97","v":0},{"$f":"IF(ISNUMBER('Dekor 5'!J97),'Dekor 5'!$AF$20,\"\")","v":""},{"$f":"IF(ISNUMBER('Dekor 5'!J97),'Dekor 5'!$AF$21,\"\")","v":""},{"$f":"IF(ISNUMBER('Dekor 5'!J97),'Dekor 5'!$AF$22,\"\")","v":""},{"$f":"IF(ISNUMBER('Dekor 5'!J97),'Dekor 5'!$AF$23,\"\")","v":""},{"$f":"IF(ISNUMBER('Dekor 5'!J97),'Dekor 5'!$AF$24,\"\")","v":""},{"$f":"'Dekor 5'!Y97","v":0}]
[{"$f":"'Dekor 5'!A98","v":""},{"$f":"'Dekor 5'!B98","v":{"$error":"#NAME?"}},{"$f":"IF(ISNUMBER('Dekor 5'!J98),('Dekor 5'!D98 & \".\" & 'Dekor 5'!U98 & \".\" & 'Dekor 5'!F98 & \".\" & 'Dekor 5'!V98 & \".\" & 'Dekor 5'!H98 & \".\" & 'Dekor 5'!I98),\"\")","v":""},{"$f":"'Dekor 5'!W98","v":0},{"$f":"'Dekor 5'!K98","v":0},{"$f":"'Dekor 5'!M98","v":0},{"$f":"'Dekor 5'!O98","v":0},{"$f":"'Dekor 5'!Q98","v":0},{"$f":"IF(ISNUMBER('Dekor 5'!J98),'Dekor 5'!E98 & \"x\" & 'Dekor 5'!G98,\"\")","v":""},{"$f":"'Dekor 5'!L98","v":0},{"$f":"'Dekor 5'!N98","v":0},{"$f":"'Dekor 5'!P98","v":0},{"$f":"'Dekor 5'!R98","v":0},{"$f":"'Dekor 5'!X98","v":0},{"$f":"IF(ISNUMBER('Dekor 5'!J98),'Dekor 5'!$AF$20,\"\")","v":""},{"$f":"IF(ISNUMBER('Dekor 5'!J98),'Dekor 5'!$AF$21,\"\")","v":""},{"$f":"IF(ISNUMBER('Dekor 5'!J98),'Dekor 5'!$AF$22,\"\")","v":""},{"$f":"IF(ISNUMBER('Dekor 5'!J98),'Dekor 5'!$AF$23,\"\")","v":""},{"$f":"IF(ISNUMBER('Dekor 5'!J98),'Dekor 5'!$AF$24,\"\")","v":""},{"$f":"'Dekor 5'!Y98","v":0}]
[{"$f":"'Dekor 5'!A99","v":""},{"$f":"'Dekor 5'!B99","v":{"$error":"#NAME?"}},{"$f":"IF(ISNUMBER('Dekor 5'!J99),('Dekor 5'!D99 & \".\" & 'Dekor 5'!U99 & \".\" & 'Dekor 5'!F99 & \".\" & 'Dekor 5'!V99 & \".\" & 'Dekor 5'!H99 & \".\" & 'Dekor 5'!I99),\"\")","v":""},{"$f":"'Dekor 5'!W99","v":0},{"$f":"'Dekor 5'!K99","v":0},{"$f":"'Dekor 5'!M99","v":0},{"$f":"'Dekor 5'!O99","v":0},{"$f":"'Dekor 5'!Q99","v":0},{"$f":"IF(ISNUMBER('Dekor 5'!J99),'Dekor 5'!E99 & \"x\" & 'Dekor 5'!G99,\"\")","v":""},{"$f":"'Dekor 5'!L99","v":0},{"$f":"'Dekor 5'!N99","v":0},{"$f":"'Dekor 5'!P99","v":0},{"$f":"'Dekor 5'!R99","v":0},{"$f":"'Dekor 5'!X99","v":0},{"$f":"IF(ISNUMBER('Dekor 5'!J99),'Dekor 5'!$AF$20,\"\")","v":""},{"$f":"IF(ISNUMBER('Dekor 5'!J99),'Dekor 5'!$AF$21,\"\")","v":""},{"$f":"IF(ISNUMBER('Dekor 5'!J99),'Dekor 5'!$AF$22,\"\")","v":""},{"$f":"IF(ISNUMBER('Dekor 5'!J99),'Dekor 5'!$AF$23,\"\")","v":""},{"$f":"IF(ISNUMBER('Dekor 5'!J99),'Dekor 5'!$AF$24,\"\")","v":""},{"$f":"'Dekor 5'!Y99","v":0}]
[{"$f":"'Dekor 5'!A100","v":""},{"$f":"'Dekor 5'!B100","v":{"$error":"#NAME?"}},{"$f":"IF(ISNUMBER('Dekor 5'!J100),('Dekor 5'!D100 & \".\" & 'Dekor 5'!U100 & \".\" & 'Dekor 5'!F100 & \".\" & 'Dekor 5'!V100 & \".\" & 'Dekor 5'!H100 & \".\" & 'Dekor 5'!I100),\"\")","v":""},{"$f":"'Dekor 5'!W100","v":0},{"$f":"'Dekor 5'!K100","v":0},{"$f":"'Dekor 5'!M100","v":0},{"$f":"'Dekor 5'!O100","v":0},{"$f":"'Dekor 5'!Q100","v":0},{"$f":"IF(ISNUMBER('Dekor 5'!J100),'Dekor 5'!E100 & \"x\" & 'Dekor 5'!G100,\"\")","v":""},{"$f":"'Dekor 5'!L100","v":0},{"$f":"'Dekor 5'!N100","v":0},{"$f":"'Dekor 5'!P100","v":0},{"$f":"'Dekor 5'!R100","v":0},{"$f":"'Dekor 5'!X100","v":0},{"$f":"IF(ISNUMBER('Dekor 5'!J100),'Dekor 5'!$AF$20,\"\")","v":""},{"$f":"IF(ISNUMBER('Dekor 5'!J100),'Dekor 5'!$AF$21,\"\")","v":""},{"$f":"IF(ISNUMBER('Dekor 5'!J100),'Dekor 5'!$AF$22,\"\")","v":""},{"$f":"IF(ISNUMBER('Dekor 5'!J100),'Dekor 5'!$AF$23,\"\")","v":""},{"$f":"IF(ISNUMBER('Dekor 5'!J100),'Dekor 5'!$AF$24,\"\")","v":""},{"$f":"'Dekor 5'!Y100","v":0}]
[{"$f":"'Dekor 5'!A101","v":""},{"$f":"'Dekor 5'!B101","v":{"$error":"#NAME?"}},{"$f":"IF(ISNUMBER('Dekor 5'!J101),('Dekor 5'!D101 & \".\" & 'Dekor 5'!U101 & \".\" & 'Dekor 5'!F101 & \".\" & 'Dekor 5'!V101 & \".\" & 'Dekor 5'!H101 & \".\" & 'Dekor 5'!I101),\"\")","v":""},{"$f":"'Dekor 5'!W101","v":0},{"$f":"'Dekor 5'!K101","v":0},{"$f":"'Dekor 5'!M101","v":0},{"$f":"'Dekor 5'!O101","v":0},{"$f":"'Dekor 5'!Q101","v":0},{"$f":"IF(ISNUMBER('Dekor 5'!J101),'Dekor 5'!E101 & \"x\" & 'Dekor 5'!G101,\"\")","v":""},{"$f":"'Dekor 5'!L101","v":0},{"$f":"'Dekor 5'!N101","v":0},{"$f":"'Dekor 5'!P101","v":0},{"$f":"'Dekor 5'!R101","v":0},{"$f":"'Dekor 5'!X101","v":0},{"$f":"IF(ISNUMBER('Dekor 5'!J101),'Dekor 5'!$AF$20,\"\")","v":""},{"$f":"IF(ISNUMBER('Dekor 5'!J101),'Dekor 5'!$AF$21,\"\")","v":""},{"$f":"IF(ISNUMBER('Dekor 5'!J101),'Dekor 5'!$AF$22,\"\")","v":""},{"$f":"IF(ISNUMBER('Dekor 5'!J101),'Dekor 5'!$AF$23,\"\")","v":""},{"$f":"IF(ISNUMBER('Dekor 5'!J101),'Dekor 5'!$AF$24,\"\")","v":""},{"$f":"'Dekor 5'!Y101","v":0}]
[{"$f":"'Dekor 5'!A102","v":""},{"$f":"'Dekor 5'!B102","v":{"$error":"#NAME?"}},{"$f":"IF(ISNUMBER('Dekor 5'!J102),('Dekor 5'!D102 & \".\" & 'Dekor 5'!U102 & \".\" & 'Dekor 5'!F102 & \".\" & 'Dekor 5'!V102 & \".\" & 'Dekor 5'!H102 & \".\" & 'Dekor 5'!I102),\"\")","v":""},{"$f":"'Dekor 5'!W102","v":0},{"$f":"'Dekor 5'!K102","v":0},{"$f":"'Dekor 5'!M102","v":0},{"$f":"'Dekor 5'!O102","v":0},{"$f":"'Dekor 5'!Q102","v":0},{"$f":"IF(ISNUMBER('Dekor 5'!J102),'Dekor 5'!E102 & \"x\" & 'Dekor 5'!G102,\"\")","v":""},{"$f":"'Dekor 5'!L102","v":0},{"$f":"'Dekor 5'!N102","v":0},{"$f":"'Dekor 5'!P102","v":0},{"$f":"'Dekor 5'!R102","v":0},{"$f":"'Dekor 5'!X102","v":0},{"$f":"IF(ISNUMBER('Dekor 5'!J102),'Dekor 5'!$AF$20,\"\")","v":""},{"$f":"IF(ISNUMBER('Dekor 5'!J102),'Dekor 5'!$AF$21,\"\")","v":""},{"$f":"IF(ISNUMBER('Dekor 5'!J102),'Dekor 5'!$AF$22,\"\")","v":""},{"$f":"IF(ISNUMBER('Dekor 5'!J102),'Dekor 5'!$AF$23,\"\")","v":""},{"$f":"IF(ISNUMBER('Dekor 5'!J102),'Dekor 5'!$AF$24,\"\")","v":""},{"$f":"'Dekor 5'!Y102","v":0}]
[{"$f":"'Dekor 5'!A103","v":""},{"$f":"'Dekor 5'!B103","v":{"$error":"#NAME?"}},{"$f":"IF(ISNUMBER('Dekor 5'!J103),('Dekor 5'!D103 & \".\" & 'Dekor 5'!U103 & \".\" & 'Dekor 5'!F103 & \".\" & 'Dekor 5'!V103 & \".\" & 'Dekor 5'!H103 & \".\" & 'Dekor 5'!I103),\"\")","v":""},{"$f":"'Dekor 5'!W103","v":0},{"$f":"'Dekor 5'!K103","v":0},{"$f":"'Dekor 5'!M103","v":0},{"$f":"'Dekor 5'!O103","v":0},{"$f":"'Dekor 5'!Q103","v":0},{"$f":"IF(ISNUMBER('Dekor 5'!J103),'Dekor 5'!E103 & \"x\" & 'Dekor 5'!G103,\"\")","v":""},{"$f":"'Dekor 5'!L103","v":0},{"$f":"'Dekor 5'!N103","v":0},{"$f":"'Dekor 5'!P103","v":0},{"$f":"'Dekor 5'!R103","v":0},{"$f":"'Dekor 5'!X103","v":0},{"$f":"IF(ISNUMBER('Dekor 5'!J103),'Dekor 5'!$AF$20,\"\")","v":""},{"$f":"IF(ISNUMBER('Dekor 5'!J103),'Dekor 5'!$AF$21,\"\")","v":""},{"$f":"IF(ISNUMBER('Dekor 5'!J103),'Dekor 5'!$AF$22,\"\")","v":""},{"$f":"IF(ISNUMBER('Dekor 5'!J103),'Dekor 5'!$AF$23,\"\")","v":""},{"$f":"IF(ISNUMBER('Dekor 5'!J103),'Dekor 5'!$AF$24,\"\")","v":""},{"$f":"'Dekor 5'!Y103","v":0}]
[{"$f":"'Dekor 5'!A104","v":""},{"$f":"'Dekor 5'!B104","v":{"$error":"#NAME?"}},{"$f":"IF(ISNUMBER('Dekor 5'!J104),('Dekor 5'!D104 & \".\" & 'Dekor 5'!U104 & \".\" & 'Dekor 5'!F104 & \".\" & 'Dekor 5'!V104 & \".\" & 'Dekor 5'!H104 & \".\" & 'Dekor 5'!I104),\"\")","v":""},{"$f":"'Dekor 5'!W104","v":0},{"$f":"'Dekor 5'!K104","v":0},{"$f":"'Dekor 5'!M104","v":0},{"$f":"'Dekor 5'!O104","v":0},{"$f":"'Dekor 5'!Q104","v":0},{"$f":"IF(ISNUMBER('Dekor 5'!J104),'Dekor 5'!E104 & \"x\" & 'Dekor 5'!G104,\"\")","v":""},{"$f":"'Dekor 5'!L104","v":0},{"$f":"'Dekor 5'!N104","v":0},{"$f":"'Dekor 5'!P104","v":0},{"$f":"'Dekor 5'!R104","v":0},{"$f":"'Dekor 5'!X104","v":0},{"$f":"IF(ISNUMBER('Dekor 5'!J104),'Dekor 5'!$AF$20,\"\")","v":""},{"$f":"IF(ISNUMBER('Dekor 5'!J104),'Dekor 5'!$AF$21,\"\")","v":""},{"$f":"IF(ISNUMBER('Dekor 5'!J104),'Dekor 5'!$AF$22,\"\")","v":""},{"$f":"IF(ISNUMBER('Dekor 5'!J104),'Dekor 5'!$AF$23,\"\")","v":""},{"$f":"IF(ISNUMBER('Dekor 5'!J104),'Dekor 5'!$AF$24,\"\")","v":""},{"$f":"'Dekor 5'!Y104","v":0}]
[{"$f":"'Dekor 5'!A105","v":""},{"$f":"'Dekor 5'!B105","v":{"$error":"#NAME?"}},{"$f":"IF(ISNUMBER('Dekor 5'!J105),('Dekor 5'!D105 & \".\" & 'Dekor 5'!U105 & \".\" & 'Dekor 5'!F105 & \".\" & 'Dekor 5'!V105 & \".\" & 'Dekor 5'!H105 & \".\" & 'Dekor 5'!I105),\"\")","v":""},{"$f":"'Dekor 5'!W105","v":0},{"$f":"'Dekor 5'!K105","v":0},{"$f":"'Dekor 5'!M105","v":0},{"$f":"'Dekor 5'!O105","v":0},{"$f":"'Dekor 5'!Q105","v":0},{"$f":"IF(ISNUMBER('Dekor 5'!J105),'Dekor 5'!E105 & \"x\" & 'Dekor 5'!G105,\"\")","v":""},{"$f":"'Dekor 5'!L105","v":0},{"$f":"'Dekor 5'!N105","v":0},{"$f":"'Dekor 5'!P105","v":0},{"$f":"'Dekor 5'!R105","v":0},{"$f":"'Dekor 5'!X105","v":0},{"$f":"IF(ISNUMBER('Dekor 5'!J105),'Dekor 5'!$AF$20,\"\")","v":""},{"$f":"IF(ISNUMBER('Dekor 5'!J105),'Dekor 5'!$AF$21,\"\")","v":""},{"$f":"IF(ISNUMBER('Dekor 5'!J105),'Dekor 5'!$AF$22,\"\")","v":""},{"$f":"IF(ISNUMBER('Dekor 5'!J105),'Dekor 5'!$AF$23,\"\")","v":""},{"$f":"IF(ISNUMBER('Dekor 5'!J105),'Dekor 5'!$AF$24,\"\")","v":""},{"$f":"'Dekor 5'!Y105","v":0}]
[{"$f":"'Dekor 5'!A106","v":""},{"$f":"'Dekor 5'!B106","v":{"$error":"#NAME?"}},{"$f":"IF(ISNUMBER('Dekor 5'!J106),('Dekor 5'!D106 & \".\" & 'Dekor 5'!U106 & \".\" & 'Dekor 5'!F106 & \".\" & 'Dekor 5'!V106 & \".\" & 'Dekor 5'!H106 & \".\" & 'Dekor 5'!I106),\"\")","v":""},{"$f":"'Dekor 5'!W106","v":0},{"$f":"'Dekor 5'!K106","v":0},{"$f":"'Dekor 5'!M106","v":0},{"$f":"'Dekor 5'!O106","v":0},{"$f":"'Dekor 5'!Q106","v":0},{"$f":"IF(ISNUMBER('Dekor 5'!J106),'Dekor 5'!E106 & \"x\" & 'Dekor 5'!G106,\"\")","v":""},{"$f":"'Dekor 5'!L106","v":0},{"$f":"'Dekor 5'!N106","v":0},{"$f":"'Dekor 5'!P106","v":0},{"$f":"'Dekor 5'!R106","v":0},{"$f":"'Dekor 5'!X106","v":0},{"$f":"IF(ISNUMBER('Dekor 5'!J106),'Dekor 5'!$AF$20,\"\")","v":""},{"$f":"IF(ISNUMBER('Dekor 5'!J106),'Dekor 5'!$AF$21,\"\")","v":""},{"$f":"IF(ISNUMBER('Dekor 5'!J106),'Dekor 5'!$AF$22,\"\")","v":""},{"$f":"IF(ISNUMBER('Dekor 5'!J106),'Dekor 5'!$AF$23,\"\")","v":""},{"$f":"IF(ISNUMBER('Dekor 5'!J106),'Dekor 5'!$AF$24,\"\")","v":""},{"$f":"'Dekor 5'!Y106","v":0}]
[{"$f":"'Dekor 5'!A107","v":""},{"$f":"'Dekor 5'!B107","v":{"$error":"#NAME?"}},{"$f":"IF(ISNUMBER('Dekor 5'!J107),('Dekor 5'!D107 & \".\" & 'Dekor 5'!U107 & \".\" & 'Dekor 5'!F107 & \".\" & 'Dekor 5'!V107 & \".\" & 'Dekor 5'!H107 & \".\" & 'Dekor 5'!I107),\"\")","v":""},{"$f":"'Dekor 5'!W107","v":0},{"$f":"'Dekor 5'!K107","v":0},{"$f":"'Dekor 5'!M107","v":0},{"$f":"'Dekor 5'!O107","v":0},{"$f":"'Dekor 5'!Q107","v":0},{"$f":"IF(ISNUMBER('Dekor 5'!J107),'Dekor 5'!E107 & \"x\" & 'Dekor 5'!G107,\"\")","v":""},{"$f":"'Dekor 5'!L107","v":0},{"$f":"'Dekor 5'!N107","v":0},{"$f":"'Dekor 5'!P107","v":0},{"$f":"'Dekor 5'!R107","v":0},{"$f":"'Dekor 5'!X107","v":0},{"$f":"IF(ISNUMBER('Dekor 5'!J107),'Dekor 5'!$AF$20,\"\")","v":""},{"$f":"IF(ISNUMBER('Dekor 5'!J107),'Dekor 5'!$AF$21,\"\")","v":""},{"$f":"IF(ISNUMBER('Dekor 5'!J107),'Dekor 5'!$AF$22,\"\")","v":""},{"$f":"IF(ISNUMBER('Dekor 5'!J107),'Dekor 5'!$AF$23,\"\")","v":""},{"$f":"IF(ISNUMBER('Dekor 5'!J107),'Dekor 5'!$AF$24,\"\")","v":""},{"$f":"'Dekor 5'!Y107","v":0}]
[{"$f":"'Dekor 5'!A108","v":""},{"$f":"'Dekor 5'!B108","v":{"$error":"#NAME?"}},{"$f":"IF(ISNUMBER('Dekor 5'!J108),('Dekor 5'!D108 & \".\" & 'Dekor 5'!U108 & \".\" & 'Dekor 5'!F108 & \".\" & 'Dekor 5'!V108 & \".\" & 'Dekor 5'!H108 & \".\" & 'Dekor 5'!I108),\"\")","v":""},{"$f":"'Dekor 5'!W108","v":0},{"$f":"'Dekor 5'!K108","v":0},{"$f":"'Dekor 5'!M108","v":0},{"$f":"'Dekor 5'!O108","v":0},{"$f":"'Dekor 5'!Q108","v":0},{"$f":"IF(ISNUMBER('Dekor 5'!J108),'Dekor 5'!E108 & \"x\" & 'Dekor 5'!G108,\"\")","v":""},{"$f":"'Dekor 5'!L108","v":0},{"$f":"'Dekor 5'!N108","v":0},{"$f":"'Dekor 5'!P108","v":0},{"$f":"'Dekor 5'!R108","v":0},{"$f":"'Dekor 5'!X108","v":0},{"$f":"IF(ISNUMBER('Dekor 5'!J108),'Dekor 5'!$AF$20,\"\")","v":""},{"$f":"IF(ISNUMBER('Dekor 5'!J108),'Dekor 5'!$AF$21,\"\")","v":""},{"$f":"IF(ISNUMBER('Dekor 5'!J108),'Dekor 5'!$AF$22,\"\")","v":""},{"$f":"IF(ISNUMBER('Dekor 5'!J108),'Dekor 5'!$AF$23,\"\")","v":""},{"$f":"IF(ISNUMBER('Dekor 5'!J108),'Dekor 5'!$AF$24,\"\")","v":""},{"$f":"'Dekor 5'!Y108","v":0}]
[{"$f":"'Dekor 5'!A109","v":""},{"$f":"'Dekor 5'!B109","v":{"$error":"#NAME?"}},{"$f":"IF(ISNUMBER('Dekor 5'!J109),('Dekor 5'!D109 & \".\" & 'Dekor 5'!U109 & \".\" & 'Dekor 5'!F109 & \".\" & 'Dekor 5'!V109 & \".\" & 'Dekor 5'!H109 & \".\" & 'Dekor 5'!I109),\"\")","v":""},{"$f":"'Dekor 5'!W109","v":0},{"$f":"'Dekor 5'!K109","v":0},{"$f":"'Dekor 5'!M109","v":0},{"$f":"'Dekor 5'!O109","v":0},{"$f":"'Dekor 5'!Q109","v":0},{"$f":"IF(ISNUMBER('Dekor 5'!J109),'Dekor 5'!E109 & \"x\" & 'Dekor 5'!G109,\"\")","v":""},{"$f":"'Dekor 5'!L109","v":0},{"$f":"'Dekor 5'!N109","v":0},{"$f":"'Dekor 5'!P109","v":0},{"$f":"'Dekor 5'!R109","v":0},{"$f":"'Dekor 5'!X109","v":0},{"$f":"IF(ISNUMBER('Dekor 5'!J109),'Dekor 5'!$AF$20,\"\")","v":""},{"$f":"IF(ISNUMBER('Dekor 5'!J109),'Dekor 5'!$AF$21,\"\")","v":""},{"$f":"IF(ISNUMBER('Dekor 5'!J109),'Dekor 5'!$AF$22,\"\")","v":""},{"$f":"IF(ISNUMBER('Dekor 5'!J109),'Dekor 5'!$AF$23,\"\")","v":""},{"$f":"IF(ISNUMBER('Dekor 5'!J109),'Dekor 5'!$AF$24,\"\")","v":""},{"$f":"'Dekor 5'!Y109","v":0}]
[{"$f":"'Dekor 5'!A110","v":""},{"$f":"'Dekor 5'!B110","v":{"$error":"#NAME?"}},{"$f":"IF(ISNUMBER('Dekor 5'!J110),('Dekor 5'!D110 & \".\" & 'Dekor 5'!U110 & \".\" & 'Dekor 5'!F110 & \".\" & 'Dekor 5'!V110 & \".\" & 'Dekor 5'!H110 & \".\" & 'Dekor 5'!I110),\"\")","v":""},{"$f":"'Dekor 5'!W110","v":0},{"$f":"'Dekor 5'!K110","v":0},{"$f":"'Dekor 5'!M110","v":0},{"$f":"'Dekor 5'!O110","v":0},{"$f":"'Dekor 5'!Q110","v":0},{"$f":"IF(ISNUMBER('Dekor 5'!J110),'Dekor 5'!E110 & \"x\" & 'Dekor 5'!G110,\"\")","v":""},{"$f":"'Dekor 5'!L110","v":0},{"$f":"'Dekor 5'!N110","v":0},{"$f":"'Dekor 5'!P110","v":0},{"$f":"'Dekor 5'!R110","v":0},{"$f":"'Dekor 5'!X110","v":0},{"$f":"IF(ISNUMBER('Dekor 5'!J110),'Dekor 5'!$AF$20,\"\")","v":""},{"$f":"IF(ISNUMBER('Dekor 5'!J110),'Dekor 5'!$AF$21,\"\")","v":""},{"$f":"IF(ISNUMBER('Dekor 5'!J110),'Dekor 5'!$AF$22,\"\")","v":""},{"$f":"IF(ISNUMBER('Dekor 5'!J110),'Dekor 5'!$AF$23,\"\")","v":""},{"$f":"IF(ISNUMBER('Dekor 5'!J110),'Dekor 5'!$AF$24,\"\")","v":""},{"$f":"'Dekor 5'!Y110","v":0}]
[{"$f":"'Dekor 5'!A111","v":""},{"$f":"'Dekor 5'!B111","v":{"$error":"#NAME?"}},{"$f":"IF(ISNUMBER('Dekor 5'!J111),('Dekor 5'!D111 & \".\" & 'Dekor 5'!U111 & \".\" & 'Dekor 5'!F111 & \".\" & 'Dekor 5'!V111 & \".\" & 'Dekor 5'!H111 & \".\" & 'Dekor 5'!I111),\"\")","v":""},{"$f":"'Dekor 5'!W111","v":0},{"$f":"'Dekor 5'!K111","v":0},{"$f":"'Dekor 5'!M111","v":0},{"$f":"'Dekor 5'!O111","v":0},{"$f":"'Dekor 5'!Q111","v":0},{"$f":"IF(ISNUMBER('Dekor 5'!J111),'Dekor 5'!E111 & \"x\" & 'Dekor 5'!G111,\"\")","v":""},{"$f":"'Dekor 5'!L111","v":0},{"$f":"'Dekor 5'!N111","v":0},{"$f":"'Dekor 5'!P111","v":0},{"$f":"'Dekor 5'!R111","v":0},{"$f":"'Dekor 5'!X111","v":0},{"$f":"IF(ISNUMBER('Dekor 5'!J111),'Dekor 5'!$AF$20,\"\")","v":""},{"$f":"IF(ISNUMBER('Dekor 5'!J111),'Dekor 5'!$AF$21,\"\")","v":""},{"$f":"IF(ISNUMBER('Dekor 5'!J111),'Dekor 5'!$AF$22,\"\")","v":""},{"$f":"IF(ISNUMBER('Dekor 5'!J111),'Dekor 5'!$AF$23,\"\")","v":""},{"$f":"IF(ISNUMBER('Dekor 5'!J111),'Dekor 5'!$AF$24,\"\")","v":""},{"$f":"'Dekor 5'!Y111","v":0}]
[{"$f":"'Dekor 5'!A112","v":""},{"$f":"'Dekor 5'!B112","v":{"$error":"#NAME?"}},{"$f":"IF(ISNUMBER('Dekor 5'!J112),('Dekor 5'!D112 & \".\" & 'Dekor 5'!U112 & \".\" & 'Dekor 5'!F112 & \".\" & 'Dekor 5'!V112 & \".\" & 'Dekor 5'!H112 & \".\" & 'Dekor 5'!I112),\"\")","v":""},{"$f":"'Dekor 5'!W112","v":0},{"$f":"'Dekor 5'!K112","v":0},{"$f":"'Dekor 5'!M112","v":0},{"$f":"'Dekor 5'!O112","v":0},{"$f":"'Dekor 5'!Q112","v":0},{"$f":"IF(ISNUMBER('Dekor 5'!J112),'Dekor 5'!E112 & \"x\" & 'Dekor 5'!G112,\"\")","v":""},{"$f":"'Dekor 5'!L112","v":0},{"$f":"'Dekor 5'!N112","v":0},{"$f":"'Dekor 5'!P112","v":0},{"$f":"'Dekor 5'!R112","v":0},{"$f":"'Dekor 5'!X112","v":0},{"$f":"IF(ISNUMBER('Dekor 5'!J112),'Dekor 5'!$AF$20,\"\")","v":""},{"$f":"IF(ISNUMBER('Dekor 5'!J112),'Dekor 5'!$AF$21,\"\")","v":""},{"$f":"IF(ISNUMBER('Dekor 5'!J112),'Dekor 5'!$AF$22,\"\")","v":""},{"$f":"IF(ISNUMBER('Dekor 5'!J112),'Dekor 5'!$AF$23,\"\")","v":""},{"$f":"IF(ISNUMBER('Dekor 5'!J112),'Dekor 5'!$AF$24,\"\")","v":""},{"$f":"'Dekor 5'!Y112","v":0}]
[{"$f":"'Dekor 5'!A113","v":""},{"$f":"'Dekor 5'!B113","v":{"$error":"#NAME?"}},{"$f":"IF(ISNUMBER('Dekor 5'!J113),('Dekor 5'!D113 & \".\" & 'Dekor 5'!U113 & \".\" & 'Dekor 5'!F113 & \".\" & 'Dekor 5'!V113 & \".\" & 'Dekor 5'!H113 & \".\" & 'Dekor 5'!I113),\"\")","v":""},{"$f":"'Dekor 5'!W113","v":0},{"$f":"'Dekor 5'!K113","v":0},{"$f":"'Dekor 5'!M113","v":0},{"$f":"'Dekor 5'!O113","v":0},{"$f":"'Dekor 5'!Q113","v":0},{"$f":"IF(ISNUMBER('Dekor 5'!J113),'Dekor 5'!E113 & \"x\" & 'Dekor 5'!G113,\"\")","v":""},{"$f":"'Dekor 5'!L113","v":0},{"$f":"'Dekor 5'!N113","v":0},{"$f":"'Dekor 5'!P113","v":0},{"$f":"'Dekor 5'!R113","v":0},{"$f":"'Dekor 5'!X113","v":0},{"$f":"IF(ISNUMBER('Dekor 5'!J113),'Dekor 5'!$AF$20,\"\")","v":""},{"$f":"IF(ISNUMBER('Dekor 5'!J113),'Dekor 5'!$AF$21,\"\")","v":""},{"$f":"IF(ISNUMBER('Dekor 5'!J113),'Dekor 5'!$AF$22,\"\")","v":""},{"$f":"IF(ISNUMBER('Dekor 5'!J113),'Dekor 5'!$AF$23,\"\")","v":""},{"$f":"IF(ISNUMBER('Dekor 5'!J113),'Dekor 5'!$AF$24,\"\")","v":""},{"$f":"'Dekor 5'!Y113","v":0}]
[{"$f":"'Dekor 5'!A114","v":""},{"$f":"'Dekor 5'!B114","v":{"$error":"#NAME?"}},{"$f":"IF(ISNUMBER('Dekor 5'!J114),('Dekor 5'!D114 & \".\" & 'Dekor 5'!U114 & \".\" & 'Dekor 5'!F114 & \".\" & 'Dekor 5'!V114 & \".\" & 'Dekor 5'!H114 & \".\" & 'Dekor 5'!I114),\"\")","v":""},{"$f":"'Dekor 5'!W114","v":0},{"$f":"'Dekor 5'!K114","v":0},{"$f":"'Dekor 5'!M114","v":0},{"$f":"'Dekor 5'!O114","v":0},{"$f":"'Dekor 5'!Q114","v":0},{"$f":"IF(ISNUMBER('Dekor 5'!J114),'Dekor 5'!E114 & \"x\" & 'Dekor 5'!G114,\"\")","v":""},{"$f":"'Dekor 5'!L114","v":0},{"$f":"'Dekor 5'!N114","v":0},{"$f":"'Dekor 5'!P114","v":0},{"$f":"'Dekor 5'!R114","v":0},{"$f":"'Dekor 5'!X114","v":0},{"$f":"IF(ISNUMBER('Dekor 5'!J114),'Dekor 5'!$AF$20,\"\")","v":""},{"$f":"IF(ISNUMBER('Dekor 5'!J114),'Dekor 5'!$AF$21,\"\")","v":""},{"$f":"IF(ISNUMBER('Dekor 5'!J114),'Dekor 5'!$AF$22,\"\")","v":""},{"$f":"IF(ISNUMBER('Dekor 5'!J114),'Dekor 5'!$AF$23,\"\")","v":""},{"$f":"IF(ISNUMBER('Dekor 5'!J114),'Dekor 5'!$AF$24,\"\")","v":""},{"$f":"'Dekor 5'!Y114","v":0}]
[{"$f":"'Dekor 5'!A115","v":""},{"$f":"'Dekor 5'!B115","v":{"$error":"#NAME?"}},{"$f":"IF(ISNUMBER('Dekor 5'!J115),('Dekor 5'!D115 & \".\" & 'Dekor 5'!U115 & \".\" & 'Dekor 5'!F115 & \".\" & 'Dekor 5'!V115 & \".\" & 'Dekor 5'!H115 & \".\" & 'Dekor 5'!I115),\"\")","v":""},{"$f":"'Dekor 5'!W115","v":0},{"$f":"'Dekor 5'!K115","v":0},{"$f":"'Dekor 5'!M115","v":0},{"$f":"'Dekor 5'!O115","v":0},{"$f":"'Dekor 5'!Q115","v":0},{"$f":"IF(ISNUMBER('Dekor 5'!J115),'Dekor 5'!E115 & \"x\" & 'Dekor 5'!G115,\"\")","v":""},{"$f":"'Dekor 5'!L115","v":0},{"$f":"'Dekor 5'!N115","v":0},{"$f":"'Dekor 5'!P115","v":0},{"$f":"'Dekor 5'!R115","v":0},{"$f":"'Dekor 5'!X115","v":0},{"$f":"IF(ISNUMBER('Dekor 5'!J115),'Dekor 5'!$AF$20,\"\")","v":""},{"$f":"IF(ISNUMBER('Dekor 5'!J115),'Dekor 5'!$AF$21,\"\")","v":""},{"$f":"IF(ISNUMBER('Dekor 5'!J115),'Dekor 5'!$AF$22,\"\")","v":""},{"$f":"IF(ISNUMBER('Dekor 5'!J115),'Dekor 5'!$AF$23,\"\")","v":""},{"$f":"IF(ISNUMBER('Dekor 5'!J115),'Dekor 5'!$AF$24,\"\")","v":""},{"$f":"'Dekor 5'!Y115","v":0}]
[{"$f":"'Dekor 5'!A116","v":""},{"$f":"'Dekor 5'!B116","v":{"$error":"#NAME?"}},{"$f":"IF(ISNUMBER('Dekor 5'!J116),('Dekor 5'!D116 & \".\" & 'Dekor 5'!U116 & \".\" & 'Dekor 5'!F116 & \".\" & 'Dekor 5'!V116 & \".\" & 'Dekor 5'!H116 & \".\" & 'Dekor 5'!I116),\"\")","v":""},{"$f":"'Dekor 5'!W116","v":0},{"$f":"'Dekor 5'!K116","v":0},{"$f":"'Dekor 5'!M116","v":0},{"$f":"'Dekor 5'!O116","v":0},{"$f":"'Dekor 5'!Q116","v":0},{"$f":"IF(ISNUMBER('Dekor 5'!J116),'Dekor 5'!E116 & \"x\" & 'Dekor 5'!G116,\"\")","v":""},{"$f":"'Dekor 5'!L116","v":0},{"$f":"'Dekor 5'!N116","v":0},{"$f":"'Dekor 5'!P116","v":0},{"$f":"'Dekor 5'!R116","v":0},{"$f":"'Dekor 5'!X116","v":0},{"$f":"IF(ISNUMBER('Dekor 5'!J116),'Dekor 5'!$AF$20,\"\")","v":""},{"$f":"IF(ISNUMBER('Dekor 5'!J116),'Dekor 5'!$AF$21,\"\")","v":""},{"$f":"IF(ISNUMBER('Dekor 5'!J116),'Dekor 5'!$AF$22,\"\")","v":""},{"$f":"IF(ISNUMBER('Dekor 5'!J116),'Dekor 5'!$AF$23,\"\")","v":""},{"$f":"IF(ISNUMBER('Dekor 5'!J116),'Dekor 5'!$AF$24,\"\")","v":""},{"$f":"'Dekor 5'!Y116","v":0}]
[{"$f":"'Dekor 5'!A117","v":""},{"$f":"'Dekor 5'!B117","v":{"$error":"#NAME?"}},{"$f":"IF(ISNUMBER('Dekor 5'!J117),('Dekor 5'!D117 & \".\" & 'Dekor 5'!U117 & \".\" & 'Dekor 5'!F117 & \".\" & 'Dekor 5'!V117 & \".\" & 'Dekor 5'!H117 & \".\" & 'Dekor 5'!I117),\"\")","v":""},{"$f":"'Dekor 5'!W117","v":0},{"$f":"'Dekor 5'!K117","v":0},{"$f":"'Dekor 5'!M117","v":0},{"$f":"'Dekor 5'!O117","v":0},{"$f":"'Dekor 5'!Q117","v":0},{"$f":"IF(ISNUMBER('Dekor 5'!J117),'Dekor 5'!E117 & \"x\" & 'Dekor 5'!G117,\"\")","v":""},{"$f":"'Dekor 5'!L117","v":0},{"$f":"'Dekor 5'!N117","v":0},{"$f":"'Dekor 5'!P117","v":0},{"$f":"'Dekor 5'!R117","v":0},{"$f":"'Dekor 5'!X117","v":0},{"$f":"IF(ISNUMBER('Dekor 5'!J117),'Dekor 5'!$AF$20,\"\")","v":""},{"$f":"IF(ISNUMBER('Dekor 5'!J117),'Dekor 5'!$AF$21,\"\")","v":""},{"$f":"IF(ISNUMBER('Dekor 5'!J117),'Dekor 5'!$AF$22,\"\")","v":""},{"$f":"IF(ISNUMBER('Dekor 5'!J117),'Dekor 5'!$AF$23,\"\")","v":""},{"$f":"IF(ISNUMBER('Dekor 5'!J117),'Dekor 5'!$AF$24,\"\")","v":""},{"$f":"'Dekor 5'!Y117","v":0}]
[{"$f":"'Dekor 5'!A118","v":0},{"$f":"'Dekor 5'!B118","v":0},{"$f":"IF(ISNUMBER('Dekor 5'!J118),('Dekor 5'!D118 & \".\" & 'Dekor 5'!U118 & \".\" & 'Dekor 5'!F118 & \".\" & 'Dekor 5'!V118 & \".\" & 'Dekor 5'!H118 & \".\" & 'Dekor 5'!I118),\"\")","v":""},{"$f":"'Dekor 5'!W118","v":0},{"$f":"'Dekor 5'!K118","v":0},{"$f":"'Dekor 5'!M118","v":0},{"$f":"'Dekor 5'!O118","v":0},{"$f":"'Dekor 5'!Q118","v":0},{"$f":"IF(ISNUMBER('Dekor 5'!J118),'Dekor 5'!E118 & \"x\" & 'Dekor 5'!G118,\"\")","v":""},{"$f":"'Dekor 5'!L118","v":0},{"$f":"'Dekor 5'!N118","v":0},{"$f":"'Dekor 5'!P118","v":0},{"$f":"'Dekor 5'!R118","v":0},{"$f":"'Dekor 5'!X118","v":0},{"$f":"IF(ISNUMBER('Dekor 5'!J118),'Dekor 5'!$AF$20,\"\")","v":""},{"$f":"IF(ISNUMBER('Dekor 5'!J118),'Dekor 5'!$AF$21,\"\")","v":""},{"$f":"IF(ISNUMBER('Dekor 5'!J118),'Dekor 5'!$AF$22,\"\")","v":""},{"$f":"IF(ISNUMBER('Dekor 5'!J118),'Dekor 5'!$AF$23,\"\")","v":""},{"$f":"IF(ISNUMBER('Dekor 5'!J118),'Dekor 5'!$AF$24,\"\")","v":""},{"$f":"'Dekor 5'!Y118","v":0}]
[{"$f":"'Dekor 5'!A119","v":0},{"$f":"'Dekor 5'!B119","v":0},{"$f":"IF(ISNUMBER('Dekor 5'!J119),('Dekor 5'!D119 & \".\" & 'Dekor 5'!U119 & \".\" & 'Dekor 5'!F119 & \".\" & 'Dekor 5'!V119 & \".\" & 'Dekor 5'!H119 & \".\" & 'Dekor 5'!I119),\"\")","v":""},{"$f":"'Dekor 5'!W119","v":0},{"$f":"'Dekor 5'!K119","v":0},{"$f":"'Dekor 5'!M119","v":0},{"$f":"'Dekor 5'!O119","v":0},{"$f":"'Dekor 5'!Q119","v":0},{"$f":"IF(ISNUMBER('Dekor 5'!J119),'Dekor 5'!E119 & \"x\" & 'Dekor 5'!G119,\"\")","v":""},{"$f":"'Dekor 5'!L119","v":0},{"$f":"'Dekor 5'!N119","v":0},{"$f":"'Dekor 5'!P119","v":0},{"$f":"'Dekor 5'!R119","v":0},{"$f":"'Dekor 5'!X119","v":0},{"$f":"IF(ISNUMBER('Dekor 5'!J119),'Dekor 5'!$AD$20,\"\")","v":""},{"$f":"IF(ISNUMBER('Dekor 5'!J119),'Dekor 5'!$AD$21,\"\")","v":""},{"$f":"IF(ISNUMBER('Dekor 5'!J119),'Dekor 5'!$AD$22,\"\")","v":""},{"$f":"IF(ISNUMBER('Dekor 5'!J119),'Dekor 5'!$AD$23,\"\")","v":""},{"$f":"IF(ISNUMBER('Dekor 5'!J119),'Dekor 5'!$AD$24,\"\")","v":""},{"$f":"'Dekor 5'!Y119","v":0}]